{"text_format":"1","workbook":"xlsx","n_sheets":13,"sheets":["LowH2O DBH","data","NL","EN","FR","DE","NR","SP","SW","TS","ExtraTaal1","ExtraTaal2","ExtraTaal3"],"not_rendered":{"charts":0,"images":8,"macros":1,"external_links":0,"defined_names":21,"comments":1,"pivot_tables":0},"unopened":[],"bounds":{"document_bytes":16777216,"sheet_cells":100000,"rows_first":2000,"rows_last":500,"rows_between":2000,"halvings":0,"cell_chars":16384,"cell_head_chars":4096},"cells_cut":0,"cells_raw":0,"read":"whole","date_system":"1900"}

{"sheet":"LowH2O DBH","index":0,"n_rows":39,"n_cols":13,"rows_kept":39,"cut":false,"hidden":false,"merged":[[11,1,11,3],[5,5,5,8],[12,6,12,8],[11,6,11,8],[9,1,9,3],[9,6,9,8],[10,1,10,3],[10,6,10,8],[20,1,20,2],[21,1,21,2],[17,1,17,2],[1,1,1,10],[16,1,16,12],[3,5,3,8],[3,9,3,10],[6,12,7,12],[6,11,7,11],[6,10,7,10],[3,11,3,12],[4,5,4,8],[4,9,4,10],[4,1,4,2],[9,11,9,12],[10,11,13,12],[33,1,33,2],[6,7,7,9],[27,1,27,2],[28,1,28,2],[29,1,29,2],[30,1,30,2],[32,1,32,2],[31,1,31,2],[22,1,22,2],[23,1,23,2],[24,1,24,2],[25,1,25,2],[26,1,26,2],[15,1,15,2],[19,1,19,2],[18,1,18,2]]}
[]
[null,{"$f":"IF(data!$CC$17=7,\"Effektsimulering Hybridmodeller\",\"Selectiontool LowH2O Hybrids\")","v":"Selectiontool LowH2O Hybrids"}]
[]
[null,null,null,null,null,"Taal/Language/Sprache/Språk/Jazyk",null,null,null,"Nederlands"]
[null,null,null,null,null,{"$f":"IF(data!$CC$17=1,NL!F4,IF(data!$CC$17=2,EN!F4,IF(data!$CC$17=3,FR!F4,IF(data!$CC$17=4,DE!F4,IF(data!$CC$17=5,NR!F4,IF(data!$CC$17=6,SP!F4,IF(data!$CC$17=7,SW!F4,IF(data!$CC$17=8,TS!F4,IF(data!$CC$17=9,ExtraTaal1!F4,IF(data!$CC$17=10,ExtraTaal2!F4,IF(data!$CC$17=11,ExtraTaal3!F4,)))))))))))","v":"Hybrid toestel"},null,null,null,"Strada Hybrid"]
[null,null,null,null,null,{"$f":"IF(data!$CC$17=1,NL!E4,IF(data!$CC$17=2,EN!E4,IF(data!$CC$17=3,FR!E4,IF(data!$CC$17=4,DE!E4,IF(data!$CC$17=5,NR!E4,IF(data!$CC$17=6,SP!E4,IF(data!$CC$17=7,SW!E4,IF(data!$CC$17=8,TS!E4,IF(data!$CC$17=9,ExtraTaal1!E4,IF(data!$CC$17=10,ExtraTaal2!E4,IF(data!$CC$17=11,ExtraTaal38E4,)))))))))))&IF(data!$CC$17=8,\" [centimetr]\",\" [centimeter]\")","v":"Uitvoering [centimeter]"},null,null,null,"30dB(A)",50,16,{"$f":"data!H6","v":16.5}]
[null,null,null,null,null,null,{"$f":"IF($J$4=data!$CC$3,NL!B3,IF($J$4=data!$CC$4,EN!B3,IF($J$4=data!$CC$5,FR!B3,IF($J$4=data!$CC$6,DE!B3,IF($J$4=data!$CC$7,NR!B3,IF($J$4=data!$CC$8,SP!B3,IF($J$4=data!$CC$9,SW!B3,)))))))","v":"Lengte"},{"$f":"IF(data!$CC$17=1,NL!B16,IF(data!$CC$17=2,EN!B16,IF(data!$CC$17=3,FR!B16,IF(data!$CC$17=4,DE!B16,IF(data!$CC$17=5,NR!B16,IF(data!$CC$17=6,SP!B16,IF(data!$CC$17=7,SW!B16,IF(data!$CC$17=8,TS!B16,IF(data!$CC$17=9,ExtraTaal1!B16,IF(data!$CC$17=10,ExtraTaal2!B16,IF(data!$CC$17=11,ExtraTaal3!B16,)))))))))))","v":"Ventilatorsnelheid "},null,null,{"$f":"IF(data!$CC$17=1,NL!B4,IF(data!$CC$17=2,EN!B4,IF(data!$CC$17=3,FR!B4,IF(data!$CC$17=4,DE!B4,IF(data!$CC$17=5,NR!B4,IF(data!$CC$17=6,SP!B4,IF(data!$CC$17=7,SW!B4,IF(data!$CC$17=8,TS!B4,IF(data!$CC$17=9,ExtraTaal1!B4,IF(data!$CC$17=10,ExtraTaal2!B4,IF(data!$CC$17=11,ExtraTaal3!B4,)))))))))))","v":"Hoogte"},{"$f":"IF(data!$CC$17=1,NL!B5,IF(data!$CC$17=2,EN!B5,IF(data!$CC$17=3,FR!B5,IF(data!$CC$17=4,DE!B5,IF(data!$CC$17=5,NR!B5,IF(data!$CC$17=6,SP!B5,IF(data!$CC$17=7,SW!B5,IF(data!$CC$17=8,TS!B5,IF(data!$CC$17=9,ExtraTaal1!B5,IF(data!$CC$17=10,ExtraTaal2!B5,IF(data!$CC$17=11,ExtraTaal3!B5,)))))))))))","v":"Type"},{"$f":"IF(data!$CC$17=1,NL!B6,IF(data!$CC$17=2,EN!B6,IF(data!$CC$17=3,FR!B6,IF(data!$CC$17=4,DE!B6,IF(data!$CC$17=5,NR!B6,IF(data!$CC$17=6,SP!B6,IF(data!$CC$17=7,SW!B6,IF(data!$CC$17=8,TS!B6,IF(data!$CC$17=9,ExtraTaal1!B6,IF(data!$CC$17=10,ExtraTaal2!B6,IF(data!$CC$17=11,ExtraTaal3!B6,)))))))))))","v":"Diepte"}]
[null,{"$f":"IF(data!$CC$17=1,NL!E5,IF(data!$CC$17=2,EN!E5,IF(data!$CC$17=3,FR!E5,IF(data!$CC$17=4,DE!E5,IF(data!$CC$17=5,NR!E5,IF(data!$CC$17=6,SP!E5,IF(data!$CC$17=7,SW!E5,IF(data!$CC$17=8,TS!E5,IF(data!$CC$17=9,ExtraTaal1!E5,IF(data!$CC$17=10,ExtraTaal2!E5,IF(data!$CC$17=11,ExtraTaal3!E5,)))))))))))","v":"Temperaturen"}]
[null,{"$f":"IF(data!$CC$17=1,NL!B8,IF(data!$CC$17=2,EN!B8,IF(data!$CC$17=3,FR!B8,IF(data!$CC$17=4,DE!B8,IF(data!$CC$17=5,NR!B8,IF(data!$CC$17=6,SP!B8,IF(data!$CC$17=7,SW!B8,IF(data!$CC$17=8,TS!B8,IF(data!$CC$17=9,ExtraTaal1!B8,IF(data!$CC$17=10,ExtraTaal2!B8,IF(data!$CC$17=11,ExtraTaal3!B8,)))))))))))","v":"Verwarmen:"},null,null,null,null,{"$f":"IF(data!$CC$17=1,NL!G8,IF(data!$CC$17=2,EN!G8,IF(data!$CC$17=3,FR!G8,IF(data!$CC$17=4,DE!G8,IF(data!$CC$17=5,NR!G8,IF(data!$CC$17=6,SP!G8,IF(data!$CC$17=7,SW!G8,IF(data!$CC$17=8,TS!G8,IF(data!$CC$17=9,ExtraTaal1!G8,IF(data!$CC$17=10,ExtraTaal2!G8,IF(data!$CC$17=11,ExtraTaal3!G8,)))))))))))","v":"Koelen:"}]
[null,{"$f":"IF(data!$CC$17=1,NL!B9,IF(data!$CC$17=2,EN!B9,IF(data!$CC$17=3,FR!B9,IF(data!$CC$17=4,DE!B9,IF(data!$CC$17=5,NR!B9,IF(data!$CC$17=6,SP!B9,IF(data!$CC$17=7,SW!B9,IF(data!$CC$17=8,TS!B9,IF(data!$CC$17=9,ExtraTaal1!B9,IF(data!$CC$17=10,ExtraTaal2!B9,IF(data!$CC$17=11,ExtraTaal3!B9,)))))))))))","v":"Water aanvoer"},0,0,75,{"$f":"IF(data!$BZ$2=1,\"°C\",IF(data!$BZ$2=2,\"°F\",))","v":"°C"},{"$f":"B10","v":"Water aanvoer"},0,0,16,{"$f":"F10","v":"°C"},{"$f":"IF(data!$CC$17=1,NL!G4,IF(data!$CC$17=2,EN!G4,IF(data!$CC$17=3,FR!G4,IF(data!$CC$17=4,DE!G4,IF(data!$CC$17=5,NR!G4,IF(data!$CC$17=6,SP!G4,IF(data!$CC$17=7,SW!G4,IF(data!$CC$17=8,TS!G4,IF(data!$CC$17=9,ExtraTaal1!G4,IF(data!$CC$17=10,ExtraTaal2!G4,IF(data!$CC$17=11,ExtraTaal3!G4,)))))))))))","v":"Eenheidsstelsel"}]
[null,{"$f":"IF(data!$CC$17=1,NL!B10,IF(data!$CC$17=2,EN!B10,IF(data!$CC$17=3,FR!B10,IF(data!$CC$17=4,DE!B10,IF(data!$CC$17=5,NR!B10,IF(data!$CC$17=6,SP!B10,IF(data!$CC$17=7,SW!B10,IF(data!$CC$17=8,TS!B10,IF(data!$CC$17=9,ExtraTaal1!B10,IF(data!$CC$17=10,ExtraTaal2!B10,IF(data!$CC$17=11,ExtraTaal3!B10,)))))))))))","v":"Water retour"},0,0,65,{"$f":"F10","v":"°C"},{"$f":"B11","v":"Water retour"},0,0,18.000000000000004,{"$f":"F10","v":"°C"}]
[null,{"$f":"IF(data!$CC$17=1,NL!B11,IF(data!$CC$17=2,EN!B11,IF(data!$CC$17=3,FR!B11,IF(data!$CC$17=4,DE!B11,IF(data!$CC$17=5,NR!B11,IF(data!$CC$17=6,SP!B11,IF(data!$CC$17=7,SW!B11,IF(data!$CC$17=8,TS!B11,IF(data!$CC$17=9,ExtraTaal1!B11,IF(data!$CC$17=10,ExtraTaal2!B11,IF(data!$CC$17=11,ExtraTaal3!B11,)))))))))))","v":"Ruimte (droge bol)"},0,0,20,{"$f":"F10","v":"°C"},{"$f":"B12","v":"Ruimte (droge bol)"},0,0,27,{"$f":"F10","v":"°C"}]
[null,null,null,null,null,null,{"$f":"IF(data!$CC$17=1,NL!$G$3,IF(data!$CC$17=2,EN!$G$3,IF(data!$CC$17=3,FR!$G$3,IF(data!$CC$17=4,DE!$G$3,IF(data!$CC$17=5,NR!$G$3,IF(data!$CC$17=6,SP!$G$3,IF(data!$CC$17=7,SW!$G$3,IF(data!$CC$17=8,TS!G3,IF(data!$CC$17=9,ExtraTaal1!G3,IF(data!$CC$17=10,ExtraTaal2!G3,IF(data!$CC$17=11,ExtraTaal3!G3,)))))))))))","v":"rel. vocht."},null,null,0.5]
[]
[]
[null,{"$f":"IF(data!$CC$17=1,NL!B3,IF(data!$CC$17=2,EN!B3,IF(data!$CC$17=3,FR!B3,IF(data!$CC$17=4,DE!B3,IF(data!$CC$17=5,NR!B3,IF(data!$CC$17=6,SP!B3,IF(data!$CC$17=7,SW!B3,IF(data!$CC$17=8,TS!B3,IF(data!$CC$17=9,ExtraTaal1!B3,IF(data!$CC$17=10,ExtraTaal2!B3,IF(data!$CC$17=11,ExtraTaal3!B3,)))))))))))&\" [cm]\"","v":"Lengte [cm]"},null,{"$f":"IF(data!$CC$17=1,NL!C14,IF(data!$CC$17=2,EN!C14,IF(data!$CC$17=3,FR!C14,IF(data!$CC$17=4,DE!C14,IF(data!$CC$17=5,NR!C14,IF(data!$CC$17=6,SP!C14,IF(data!$CC$17=7,SW!C14,IF(data!$CC$17=8,TS!C14,IF(data!$CC$17=9,ExtraTaal1!C14,IF(data!$CC$17=10,ExtraTaal2!C14,IF(data!$CC$17=11,ExtraTaal3!C14,)))))))))))&IF(data!BZ2=1,\" [W]\",IF(data!BZ2=2,\" [Btu/h]\",))","v":"Verwarmvermogen [W]"},{"$f":"IF(data!$CC$17=1,NL!D14,IF(data!$CC$17=2,EN!D14,IF(data!$CC$17=3,FR!D14,IF(data!$CC$17=4,DE!D14,IF(data!$CC$17=5,NR!D14,IF(data!$CC$17=6,SP!D14,IF(data!$CC$17=7,SW!D14,IF(data!$CC$17=8,TS!D14,IF(data!$CC$17=9,ExtraTaal1!D14,IF(data!$CC$17=10,ExtraTaal2!D14,IF(data!$CC$17=11,ExtraTaal3!D14,)))))))))))&IF(data!BZ2=1,\" [kg/h]\",IF(data!BZ2=2,\" [GPM]**\",))","v":"Waterdebiet [kg/h]"},{"$f":"IF(data!$CC$17=1,NL!F6,IF(data!$CC$17=2,EN!F6,IF(data!$CC$17=3,FR!F6,IF(data!$CC$17=4,DE!F6,IF(data!$CC$17=5,NR!F6,IF(data!$CC$17=6,SP!F6,IF(data!$CC$17=7,SW!F6,IF(data!$CC$17=8,TS!F6,IF(data!$CC$17=9,ExtraTaal1!F6,IF(data!$CC$17=10,ExtraTaal2!F6,IF(data!$CC$17=11,ExtraTaal3!F6,)))))))))))&\" [\"&IF(data!BZ2=1,\"kPa\",IF(data!BZ2=2,\"ftH2O\"))&\"]\"","v":"Waterzijdig drukverlies [kPa]"},{"$f":"IF(data!$CC$17=1,NL!E14,IF(data!$CC$17=2,EN!E14,IF(data!$CC$17=3,FR!E14,IF(data!$CC$17=4,DE!E14,IF(data!$CC$17=5,NR!E14,IF(data!$CC$17=6,SP!E14,IF(data!$CC$17=7,SW!E14,IF(data!$CC$17=8,TS!E14,IF(data!$CC$17=9,ExtraTaal1!E14,IF(data!$CC$17=10,ExtraTaal2!E14,IF(data!$CC$17=11,ExtraTaal3!E14,)))))))))))&IF(data!BZ2=1,\" [W]**\",IF(data!BZ2=2,\" [Btu/h]*\",))","v":"Koelvermogen [W]**"},{"$f":"E16","v":"Waterdebiet [kg/h]"},{"$f":"F16","v":"Waterzijdig drukverlies [kPa]"},{"$f":"IF(data!$CC$17=1,NL!I13,IF(data!$CC$17=2,EN!I13,IF(data!$CC$17=3,FR!I13,IF(data!$CC$17=4,DE!I13,IF(data!$CC$17=5,NR!I13,IF(data!$CC$17=6,SP!I13,IF(data!$CC$17=7,SW!I13,IF(data!$CC$17=8,TS!I13,IF(data!$CC$17=9,ExtraTaal1!I13,IF(data!$CC$17=10,ExtraTaal2!I13,IF(data!$CC$17=11,ExtraTaal3!I13,)))))))))))","v":"Geluidsdrukniveau [dB(A)]****"},{"$f":"IF(data!$CC$17=1,NL!J13,IF(data!$CC$17=2,EN!J13,IF(data!$CC$17=3,FR!J13,IF(data!$CC$17=4,DE!J13,IF(data!$CC$17=5,NR!J13,IF(data!$CC$17=6,SP!J13,IF(data!$CC$17=7,SW!J13,IF(data!$CC$17=8,TS!J13,IF(data!$CC$17=9,ExtraTaal1!J13,IF(data!$CC$17=10,ExtraTaal2!J13,IF(data!$CC$17=11,ExtraTaal3!J13,)))))))))))","v":"Geluidsvermogen [dB(A)]****"},{"$f":"IF(data!$CC$17=1,NL!H13,IF(data!$CC$17=2,EN!H13,IF(data!$CC$17=3,FR!H13,IF(data!$CC$17=4,DE!H13,IF(data!$CC$17=5,NR!H13,IF(data!$CC$17=6,SP!H13,IF(data!$CC$17=7,SW!H13,IF(data!$CC$17=8,TS!H13,IF(data!$CC$17=9,ExtraTaal1!H13,IF(data!$CC$17=10,ExtraTaal2!H13,IF(data!$CC$17=11,ExtraTaal3!H13,)))))))))))","v":"Elektrisch verbruik [W]"},{"$f":"IF(data!$CC$17=1,NL!G13,IF(data!$CC$17=2,EN!G13,IF(data!$CC$17=3,FR!G13,IF(data!$CC$17=4,DE!G13,IF(data!$CC$17=5,NR!G13,IF(data!$CC$17=6,SP!G13,IF(data!$CC$17=7,SW!G13,IF(data!$CC$17=8,TS!G13,IF(data!$CC$17=9,ExtraTaal1!G13,IF(data!$CC$17=10,ExtraTaal2!G13,IF(data!$CC$17=11,ExtraTaal3!G13,)))))))))))&IF(data!BZ2=1,\" [l]\",IF(data!BZ2=2,\" [Gal]**\",))","v":"Watervolume [l]"}]
[null,{"$f":"CONCATENATE($J$5,\", \",$K$7, \" \",$K$6,\"cm, \",$L$7, \" \",$L$6)","v":"Strada Hybrid, Hoogte 50cm, Type 16"},0,0,0,0,0,0,0,0,0,0,0]
[null,{"$f":"IF($J$6=\"OFF\",data!DF18,IF($J$6=\"26dB(A)\",data!DF19,IF($J$6=\"30dB(A)\",data!DF20,IF($J$6=\"MAX\",data!DF21))))","v":50},null,{"$f":"IF($J$6=\"OFF\",data!DH18,IF($J$6=\"26dB(A)\",data!DH19,IF($J$6=\"30dB(A)\",data!DH20,IF($J$6=\"MAX\",data!DH21))))","v":{"$error":"#N/A"}},{"$f":"IF($J$6=\"OFF\",data!DI18,IF($J$6=\"26dB(A)\",data!DI19,IF($J$6=\"30dB(A)\",data!DI20,IF($J$6=\"MAX\",data!DI21))))","v":{"$error":"#N/A"}},{"$f":"IF($J$6=\"OFF\",data!DJ18,IF($J$6=\"26dB(A)\",data!DJ19,IF($J$6=\"30dB(A)\",data!DJ20,IF($J$6=\"MAX\",data!DJ21))))","v":{"$error":"#N/A"}},{"$f":"IF($J$6=\"OFF\",data!DK18,IF($J$6=\"26dB(A)\",data!DK19,IF($J$6=\"30dB(A)\",data!DK20,IF($J$6=\"MAX\",data!DK21))))","v":{"$error":"#N/A"}},{"$f":"IF($J$6=\"OFF\",data!DL18,IF($J$6=\"26dB(A)\",data!DL19,IF($J$6=\"30dB(A)\",data!DL20,IF($J$6=\"MAX\",data!DL21))))","v":{"$error":"#N/A"}},{"$f":"IF($J$6=\"OFF\",data!DM18,IF($J$6=\"26dB(A)\",data!DM19,IF($J$6=\"30dB(A)\",data!DM20,IF($J$6=\"MAX\",data!DM21))))","v":{"$error":"#N/A"}},{"$f":"IF($J$6=\"OFF\",data!DN18,IF($J$6=\"26dB(A)\",data!DN19,IF($J$6=\"30dB(A)\",data!DN20,IF($J$6=\"MAX\",data!DN21))))","v":{"$error":"#N/A"}},{"$f":"IF($J$6=\"OFF\",data!DO18,IF($J$6=\"26dB(A)\",data!DO19,IF($J$6=\"30dB(A)\",data!DO20,IF($J$6=\"MAX\",data!DO21))))","v":{"$error":"#N/A"}},{"$f":"IF($J$6=\"OFF\",data!DP18,IF($J$6=\"26dB(A)\",data!DP19,IF($J$6=\"30dB(A)\",data!DP20,IF($J$6=\"MAX\",data!DP21))))","v":{"$error":"#N/A"}},{"$f":"IF($J$6=\"OFF\",data!DQ18,IF($J$6=\"26dB(A)\",data!DQ19,IF($J$6=\"30dB(A)\",data!DQ20,IF($J$6=\"MAX\",data!DQ21))))","v":{"$error":"#N/A"}}]
[null,{"$f":"IF($J$6=\"OFF\",data!DF22,IF($J$6=\"26dB(A)\",data!DF23,IF($J$6=\"30dB(A)\",data!DF24,IF($J$6=\"MAX\",data!DF25))))","v":60},null,{"$f":"IF($J$6=\"OFF\",data!DH22,IF($J$6=\"26dB(A)\",data!DH23,IF($J$6=\"30dB(A)\",data!DH24,IF($J$6=\"MAX\",data!DH25))))","v":1503},{"$f":"IF($J$6=\"OFF\",data!DI22,IF($J$6=\"26dB(A)\",data!DI23,IF($J$6=\"30dB(A)\",data!DI24,IF($J$6=\"MAX\",data!DI25))))","v":129},{"$f":"IF($J$6=\"OFF\",data!DJ22,IF($J$6=\"26dB(A)\",data!DJ23,IF($J$6=\"30dB(A)\",data!DJ24,IF($J$6=\"MAX\",data!DJ25))))","v":0.24334273125065864},{"$f":"IF($J$6=\"OFF\",data!DK22,IF($J$6=\"26dB(A)\",data!DK23,IF($J$6=\"30dB(A)\",data!DK24,IF($J$6=\"MAX\",data!DK25))))","v":230},{"$f":"IF($J$6=\"OFF\",data!DL22,IF($J$6=\"26dB(A)\",data!DL23,IF($J$6=\"30dB(A)\",data!DL24,IF($J$6=\"MAX\",data!DL25))))","v":99},{"$f":"IF($J$6=\"OFF\",data!DM22,IF($J$6=\"26dB(A)\",data!DM23,IF($J$6=\"30dB(A)\",data!DM24,IF($J$6=\"MAX\",data!DM25))))","v":0.14404410806926615},{"$f":"IF($J$6=\"OFF\",data!DN22,IF($J$6=\"26dB(A)\",data!DN23,IF($J$6=\"30dB(A)\",data!DN24,IF($J$6=\"MAX\",data!DN25))))","v":30},{"$f":"IF($J$6=\"OFF\",data!DO22,IF($J$6=\"26dB(A)\",data!DO23,IF($J$6=\"30dB(A)\",data!DO24,IF($J$6=\"MAX\",data!DO25))))","v":38},{"$f":"IF($J$6=\"OFF\",data!DP22,IF($J$6=\"26dB(A)\",data!DP23,IF($J$6=\"30dB(A)\",data!DP24,IF($J$6=\"MAX\",data!DP25))))","v":5.5},{"$f":"IF($J$6=\"OFF\",data!DQ22,IF($J$6=\"26dB(A)\",data!DQ23,IF($J$6=\"30dB(A)\",data!DQ24,IF($J$6=\"MAX\",data!DQ25))))","v":1.2}]
[null,{"$f":"IF($J$6=\"OFF\",data!DF26,IF($J$6=\"26dB(A)\",data!DF27,IF($J$6=\"30dB(A)\",data!DF28,IF($J$6=\"MAX\",data!DF29))))","v":70},null,{"$f":"IF($J$6=\"OFF\",data!DH26,IF($J$6=\"26dB(A)\",data!DH27,IF($J$6=\"30dB(A)\",data!DH28,IF($J$6=\"MAX\",data!DH29))))","v":1747},{"$f":"IF($J$6=\"OFF\",data!DI26,IF($J$6=\"26dB(A)\",data!DI27,IF($J$6=\"30dB(A)\",data!DI28,IF($J$6=\"MAX\",data!DI29))))","v":150},{"$f":"IF($J$6=\"OFF\",data!DJ26,IF($J$6=\"26dB(A)\",data!DJ27,IF($J$6=\"30dB(A)\",data!DJ28,IF($J$6=\"MAX\",data!DJ29))))","v":0.33273460547085354},{"$f":"IF($J$6=\"OFF\",data!DK26,IF($J$6=\"26dB(A)\",data!DK27,IF($J$6=\"30dB(A)\",data!DK28,IF($J$6=\"MAX\",data!DK29))))","v":236},{"$f":"IF($J$6=\"OFF\",data!DL26,IF($J$6=\"26dB(A)\",data!DL27,IF($J$6=\"30dB(A)\",data!DL28,IF($J$6=\"MAX\",data!DL29))))","v":101},{"$f":"IF($J$6=\"OFF\",data!DM26,IF($J$6=\"26dB(A)\",data!DM27,IF($J$6=\"30dB(A)\",data!DM28,IF($J$6=\"MAX\",data!DM29))))","v":0.1521944098151945},{"$f":"IF($J$6=\"OFF\",data!DN26,IF($J$6=\"26dB(A)\",data!DN27,IF($J$6=\"30dB(A)\",data!DN28,IF($J$6=\"MAX\",data!DN29))))","v":30},{"$f":"IF($J$6=\"OFF\",data!DO26,IF($J$6=\"26dB(A)\",data!DO27,IF($J$6=\"30dB(A)\",data!DO28,IF($J$6=\"MAX\",data!DO29))))","v":38},{"$f":"IF($J$6=\"OFF\",data!DP26,IF($J$6=\"26dB(A)\",data!DP27,IF($J$6=\"30dB(A)\",data!DP28,IF($J$6=\"MAX\",data!DP29))))","v":5.6},{"$f":"IF($J$6=\"OFF\",data!DQ26,IF($J$6=\"26dB(A)\",data!DQ27,IF($J$6=\"30dB(A)\",data!DQ28,IF($J$6=\"MAX\",data!DQ29))))","v":1.4}]
[null,{"$f":"IF($J$6=\"OFF\",data!DF30,IF($J$6=\"26dB(A)\",data!DF31,IF($J$6=\"30dB(A)\",data!DF32,IF($J$6=\"MAX\",data!DF33))))","v":80},null,{"$f":"IF($J$6=\"OFF\",data!DH30,IF($J$6=\"26dB(A)\",data!DH31,IF($J$6=\"30dB(A)\",data!DH32,IF($J$6=\"MAX\",data!DH33))))","v":2188},{"$f":"IF($J$6=\"OFF\",data!DI30,IF($J$6=\"26dB(A)\",data!DI31,IF($J$6=\"30dB(A)\",data!DI32,IF($J$6=\"MAX\",data!DI33))))","v":188},{"$f":"IF($J$6=\"OFF\",data!DJ30,IF($J$6=\"26dB(A)\",data!DJ31,IF($J$6=\"30dB(A)\",data!DJ32,IF($J$6=\"MAX\",data!DJ33))))","v":0.52704418993994806},{"$f":"IF($J$6=\"OFF\",data!DK30,IF($J$6=\"26dB(A)\",data!DK31,IF($J$6=\"30dB(A)\",data!DK32,IF($J$6=\"MAX\",data!DK33))))","v":335},{"$f":"IF($J$6=\"OFF\",data!DL30,IF($J$6=\"26dB(A)\",data!DL31,IF($J$6=\"30dB(A)\",data!DL32,IF($J$6=\"MAX\",data!DL33))))","v":144},{"$f":"IF($J$6=\"OFF\",data!DM30,IF($J$6=\"26dB(A)\",data!DM31,IF($J$6=\"30dB(A)\",data!DM32,IF($J$6=\"MAX\",data!DM33))))","v":0.31121106327333475},{"$f":"IF($J$6=\"OFF\",data!DN30,IF($J$6=\"26dB(A)\",data!DN31,IF($J$6=\"30dB(A)\",data!DN32,IF($J$6=\"MAX\",data!DN33))))","v":30},{"$f":"IF($J$6=\"OFF\",data!DO30,IF($J$6=\"26dB(A)\",data!DO31,IF($J$6=\"30dB(A)\",data!DO32,IF($J$6=\"MAX\",data!DO33))))","v":38},{"$f":"IF($J$6=\"OFF\",data!DP30,IF($J$6=\"26dB(A)\",data!DP31,IF($J$6=\"30dB(A)\",data!DP32,IF($J$6=\"MAX\",data!DP33))))","v":6.7},{"$f":"IF($J$6=\"OFF\",data!DQ30,IF($J$6=\"26dB(A)\",data!DQ31,IF($J$6=\"30dB(A)\",data!DQ32,IF($J$6=\"MAX\",data!DQ33))))","v":1.6}]
[null,{"$f":"IF($J$6=\"OFF\",data!DF34,IF($J$6=\"26dB(A)\",data!DF35,IF($J$6=\"30dB(A)\",data!DF36,IF($J$6=\"MAX\",data!DF37))))","v":90},null,{"$f":"IF($J$6=\"OFF\",data!DH34,IF($J$6=\"26dB(A)\",data!DH35,IF($J$6=\"30dB(A)\",data!DH36,IF($J$6=\"MAX\",data!DH37))))","v":2503},{"$f":"IF($J$6=\"OFF\",data!DI34,IF($J$6=\"26dB(A)\",data!DI35,IF($J$6=\"30dB(A)\",data!DI36,IF($J$6=\"MAX\",data!DI37))))","v":215},{"$f":"IF($J$6=\"OFF\",data!DJ34,IF($J$6=\"26dB(A)\",data!DJ35,IF($J$6=\"30dB(A)\",data!DJ36,IF($J$6=\"MAX\",data!DJ37))))","v":0.69575042058868541},{"$f":"IF($J$6=\"OFF\",data!DK34,IF($J$6=\"26dB(A)\",data!DK35,IF($J$6=\"30dB(A)\",data!DK36,IF($J$6=\"MAX\",data!DK37))))","v":383},{"$f":"IF($J$6=\"OFF\",data!DL34,IF($J$6=\"26dB(A)\",data!DL35,IF($J$6=\"30dB(A)\",data!DL36,IF($J$6=\"MAX\",data!DL37))))","v":165},{"$f":"IF($J$6=\"OFF\",data!DM34,IF($J$6=\"26dB(A)\",data!DM35,IF($J$6=\"30dB(A)\",data!DM36,IF($J$6=\"MAX\",data!DM37))))","v":0.41266687566708049},{"$f":"IF($J$6=\"OFF\",data!DN34,IF($J$6=\"26dB(A)\",data!DN35,IF($J$6=\"30dB(A)\",data!DN36,IF($J$6=\"MAX\",data!DN37))))","v":30},{"$f":"IF($J$6=\"OFF\",data!DO34,IF($J$6=\"26dB(A)\",data!DO35,IF($J$6=\"30dB(A)\",data!DO36,IF($J$6=\"MAX\",data!DO37))))","v":38},{"$f":"IF($J$6=\"OFF\",data!DP34,IF($J$6=\"26dB(A)\",data!DP35,IF($J$6=\"30dB(A)\",data!DP36,IF($J$6=\"MAX\",data!DP37))))","v":7.7},{"$f":"IF($J$6=\"OFF\",data!DQ34,IF($J$6=\"26dB(A)\",data!DQ35,IF($J$6=\"30dB(A)\",data!DQ36,IF($J$6=\"MAX\",data!DQ37))))","v":1.8}]
[null,{"$f":"IF($J$6=\"OFF\",data!DF38,IF($J$6=\"26dB(A)\",data!DF39,IF($J$6=\"30dB(A)\",data!DF40,IF($J$6=\"MAX\",data!DF41))))","v":100},null,{"$f":"IF($J$6=\"OFF\",data!DH38,IF($J$6=\"26dB(A)\",data!DH39,IF($J$6=\"30dB(A)\",data!DH40,IF($J$6=\"MAX\",data!DH41))))","v":2817},{"$f":"IF($J$6=\"OFF\",data!DI38,IF($J$6=\"26dB(A)\",data!DI39,IF($J$6=\"30dB(A)\",data!DI40,IF($J$6=\"MAX\",data!DI41))))","v":242},{"$f":"IF($J$6=\"OFF\",data!DJ38,IF($J$6=\"26dB(A)\",data!DJ39,IF($J$6=\"30dB(A)\",data!DJ40,IF($J$6=\"MAX\",data!DJ41))))","v":0.88934367498091926},{"$f":"IF($J$6=\"OFF\",data!DK38,IF($J$6=\"26dB(A)\",data!DK39,IF($J$6=\"30dB(A)\",data!DK40,IF($J$6=\"MAX\",data!DK41))))","v":431},{"$f":"IF($J$6=\"OFF\",data!DL38,IF($J$6=\"26dB(A)\",data!DL39,IF($J$6=\"30dB(A)\",data!DL40,IF($J$6=\"MAX\",data!DL41))))","v":185},{"$f":"IF($J$6=\"OFF\",data!DM38,IF($J$6=\"26dB(A)\",data!DM39,IF($J$6=\"30dB(A)\",data!DM40,IF($J$6=\"MAX\",data!DM41))))","v":0.52378160296818432},{"$f":"IF($J$6=\"OFF\",data!DN38,IF($J$6=\"26dB(A)\",data!DN39,IF($J$6=\"30dB(A)\",data!DN40,IF($J$6=\"MAX\",data!DN41))))","v":30},{"$f":"IF($J$6=\"OFF\",data!DO38,IF($J$6=\"26dB(A)\",data!DO39,IF($J$6=\"30dB(A)\",data!DO40,IF($J$6=\"MAX\",data!DO41))))","v":38},{"$f":"IF($J$6=\"OFF\",data!DP38,IF($J$6=\"26dB(A)\",data!DP39,IF($J$6=\"30dB(A)\",data!DP40,IF($J$6=\"MAX\",data!DP41))))","v":7.7},{"$f":"IF($J$6=\"OFF\",data!DQ38,IF($J$6=\"26dB(A)\",data!DQ39,IF($J$6=\"30dB(A)\",data!DQ40,IF($J$6=\"MAX\",data!DQ41))))","v":2}]
[null,{"$f":"IF($J$6=\"OFF\",data!DF42,IF($J$6=\"26dB(A)\",data!DF43,IF($J$6=\"30dB(A)\",data!DF44,IF($J$6=\"MAX\",data!DF45))))","v":110},null,{"$f":"IF($J$6=\"OFF\",data!DH42,IF($J$6=\"26dB(A)\",data!DH43,IF($J$6=\"30dB(A)\",data!DH44,IF($J$6=\"MAX\",data!DH45))))","v":3051},{"$f":"IF($J$6=\"OFF\",data!DI42,IF($J$6=\"26dB(A)\",data!DI43,IF($J$6=\"30dB(A)\",data!DI44,IF($J$6=\"MAX\",data!DI45))))","v":262},{"$f":"IF($J$6=\"OFF\",data!DJ42,IF($J$6=\"26dB(A)\",data!DJ43,IF($J$6=\"30dB(A)\",data!DJ44,IF($J$6=\"MAX\",data!DJ45))))","v":1.0521845346704815},{"$f":"IF($J$6=\"OFF\",data!DK42,IF($J$6=\"26dB(A)\",data!DK43,IF($J$6=\"30dB(A)\",data!DK44,IF($J$6=\"MAX\",data!DK45))))","v":437},{"$f":"IF($J$6=\"OFF\",data!DL42,IF($J$6=\"26dB(A)\",data!DL43,IF($J$6=\"30dB(A)\",data!DL44,IF($J$6=\"MAX\",data!DL45))))","v":188},{"$f":"IF($J$6=\"OFF\",data!DM42,IF($J$6=\"26dB(A)\",data!DM43,IF($J$6=\"30dB(A)\",data!DM44,IF($J$6=\"MAX\",data!DM45))))","v":0.54744957167687558},{"$f":"IF($J$6=\"OFF\",data!DN42,IF($J$6=\"26dB(A)\",data!DN43,IF($J$6=\"30dB(A)\",data!DN44,IF($J$6=\"MAX\",data!DN45))))","v":30},{"$f":"IF($J$6=\"OFF\",data!DO42,IF($J$6=\"26dB(A)\",data!DO43,IF($J$6=\"30dB(A)\",data!DO44,IF($J$6=\"MAX\",data!DO45))))","v":38},{"$f":"IF($J$6=\"OFF\",data!DP42,IF($J$6=\"26dB(A)\",data!DP43,IF($J$6=\"30dB(A)\",data!DP44,IF($J$6=\"MAX\",data!DP45))))","v":8.8000000000000007},{"$f":"IF($J$6=\"OFF\",data!DQ42,IF($J$6=\"26dB(A)\",data!DQ43,IF($J$6=\"30dB(A)\",data!DQ44,IF($J$6=\"MAX\",data!DQ45))))","v":2.2000000000000002}]
[null,{"$f":"IF($J$6=\"OFF\",data!DF46,IF($J$6=\"26dB(A)\",data!DF47,IF($J$6=\"30dB(A)\",data!DF48,IF($J$6=\"MAX\",data!DF49))))","v":120},null,{"$f":"IF($J$6=\"OFF\",data!DH46,IF($J$6=\"26dB(A)\",data!DH47,IF($J$6=\"30dB(A)\",data!DH48,IF($J$6=\"MAX\",data!DH49))))","v":3472},{"$f":"IF($J$6=\"OFF\",data!DI46,IF($J$6=\"26dB(A)\",data!DI47,IF($J$6=\"30dB(A)\",data!DI48,IF($J$6=\"MAX\",data!DI49))))","v":299},{"$f":"IF($J$6=\"OFF\",data!DJ46,IF($J$6=\"26dB(A)\",data!DJ47,IF($J$6=\"30dB(A)\",data!DJ48,IF($J$6=\"MAX\",data!DJ49))))","v":1.3801140974321322},{"$f":"IF($J$6=\"OFF\",data!DK46,IF($J$6=\"26dB(A)\",data!DK47,IF($J$6=\"30dB(A)\",data!DK48,IF($J$6=\"MAX\",data!DK49))))","v":532},{"$f":"IF($J$6=\"OFF\",data!DL46,IF($J$6=\"26dB(A)\",data!DL47,IF($J$6=\"30dB(A)\",data!DL48,IF($J$6=\"MAX\",data!DL49))))","v":229},{"$f":"IF($J$6=\"OFF\",data!DM46,IF($J$6=\"26dB(A)\",data!DM47,IF($J$6=\"30dB(A)\",data!DM48,IF($J$6=\"MAX\",data!DM49))))","v":0.81671249966312653},{"$f":"IF($J$6=\"OFF\",data!DN46,IF($J$6=\"26dB(A)\",data!DN47,IF($J$6=\"30dB(A)\",data!DN48,IF($J$6=\"MAX\",data!DN49))))","v":30},{"$f":"IF($J$6=\"OFF\",data!DO46,IF($J$6=\"26dB(A)\",data!DO47,IF($J$6=\"30dB(A)\",data!DO48,IF($J$6=\"MAX\",data!DO49))))","v":38},{"$f":"IF($J$6=\"OFF\",data!DP46,IF($J$6=\"26dB(A)\",data!DP47,IF($J$6=\"30dB(A)\",data!DP48,IF($J$6=\"MAX\",data!DP49))))","v":9.8000000000000007},{"$f":"IF($J$6=\"OFF\",data!DQ46,IF($J$6=\"26dB(A)\",data!DQ47,IF($J$6=\"30dB(A)\",data!DQ48,IF($J$6=\"MAX\",data!DQ49))))","v":2.4}]
[null,{"$f":"IF($J$6=\"OFF\",data!DF50,IF($J$6=\"26dB(A)\",data!DF51,IF($J$6=\"30dB(A)\",data!DF52,IF($J$6=\"MAX\",data!DF53))))","v":140},null,{"$f":"IF($J$6=\"OFF\",data!DH50,IF($J$6=\"26dB(A)\",data!DH51,IF($J$6=\"30dB(A)\",data!DH52,IF($J$6=\"MAX\",data!DH53))))","v":4117},{"$f":"IF($J$6=\"OFF\",data!DI50,IF($J$6=\"26dB(A)\",data!DI51,IF($J$6=\"30dB(A)\",data!DI52,IF($J$6=\"MAX\",data!DI53))))","v":354},{"$f":"IF($J$6=\"OFF\",data!DJ50,IF($J$6=\"26dB(A)\",data!DJ51,IF($J$6=\"30dB(A)\",data!DJ52,IF($J$6=\"MAX\",data!DJ53))))","v":1.9648470126541058},{"$f":"IF($J$6=\"OFF\",data!DK50,IF($J$6=\"26dB(A)\",data!DK51,IF($J$6=\"30dB(A)\",data!DK52,IF($J$6=\"MAX\",data!DK53))))","v":630},{"$f":"IF($J$6=\"OFF\",data!DL50,IF($J$6=\"26dB(A)\",data!DL51,IF($J$6=\"30dB(A)\",data!DL52,IF($J$6=\"MAX\",data!DL53))))","v":271},{"$f":"IF($J$6=\"OFF\",data!DM50,IF($J$6=\"26dB(A)\",data!DM51,IF($J$6=\"30dB(A)\",data!DM52,IF($J$6=\"MAX\",data!DM53))))","v":1.1628994061160329},{"$f":"IF($J$6=\"OFF\",data!DN50,IF($J$6=\"26dB(A)\",data!DN51,IF($J$6=\"30dB(A)\",data!DN52,IF($J$6=\"MAX\",data!DN53))))","v":30},{"$f":"IF($J$6=\"OFF\",data!DO50,IF($J$6=\"26dB(A)\",data!DO51,IF($J$6=\"30dB(A)\",data!DO52,IF($J$6=\"MAX\",data!DO53))))","v":38},{"$f":"IF($J$6=\"OFF\",data!DP50,IF($J$6=\"26dB(A)\",data!DP51,IF($J$6=\"30dB(A)\",data!DP52,IF($J$6=\"MAX\",data!DP53))))","v":10.5},{"$f":"IF($J$6=\"OFF\",data!DQ50,IF($J$6=\"26dB(A)\",data!DQ51,IF($J$6=\"30dB(A)\",data!DQ52,IF($J$6=\"MAX\",data!DQ53))))","v":2.8}]
[null,{"$f":"IF($J$6=\"OFF\",data!DF54,IF($J$6=\"26dB(A)\",data!DF55,IF($J$6=\"30dB(A)\",data!DF56,IF($J$6=\"MAX\",data!DF57))))","v":160},null,{"$f":"IF($J$6=\"OFF\",data!DH54,IF($J$6=\"26dB(A)\",data!DH55,IF($J$6=\"30dB(A)\",data!DH56,IF($J$6=\"MAX\",data!DH57))))","v":4717},{"$f":"IF($J$6=\"OFF\",data!DI54,IF($J$6=\"26dB(A)\",data!DI55,IF($J$6=\"30dB(A)\",data!DI56,IF($J$6=\"MAX\",data!DI57))))","v":406},{"$f":"IF($J$6=\"OFF\",data!DJ54,IF($J$6=\"26dB(A)\",data!DJ55,IF($J$6=\"30dB(A)\",data!DJ56,IF($J$6=\"MAX\",data!DJ57))))","v":2.6233653218162551},{"$f":"IF($J$6=\"OFF\",data!DK54,IF($J$6=\"26dB(A)\",data!DK55,IF($J$6=\"30dB(A)\",data!DK56,IF($J$6=\"MAX\",data!DK57))))","v":722},{"$f":"IF($J$6=\"OFF\",data!DL54,IF($J$6=\"26dB(A)\",data!DL55,IF($J$6=\"30dB(A)\",data!DL56,IF($J$6=\"MAX\",data!DL57))))","v":310},{"$f":"IF($J$6=\"OFF\",data!DM54,IF($J$6=\"26dB(A)\",data!DM55,IF($J$6=\"30dB(A)\",data!DM56,IF($J$6=\"MAX\",data!DM57))))","v":1.5462621883682115},{"$f":"IF($J$6=\"OFF\",data!DN54,IF($J$6=\"26dB(A)\",data!DN55,IF($J$6=\"30dB(A)\",data!DN56,IF($J$6=\"MAX\",data!DN57))))","v":30},{"$f":"IF($J$6=\"OFF\",data!DO54,IF($J$6=\"26dB(A)\",data!DO55,IF($J$6=\"30dB(A)\",data!DO56,IF($J$6=\"MAX\",data!DO57))))","v":38},{"$f":"IF($J$6=\"OFF\",data!DP54,IF($J$6=\"26dB(A)\",data!DP55,IF($J$6=\"30dB(A)\",data!DP56,IF($J$6=\"MAX\",data!DP57))))","v":12.8},{"$f":"IF($J$6=\"OFF\",data!DQ54,IF($J$6=\"26dB(A)\",data!DQ55,IF($J$6=\"30dB(A)\",data!DQ56,IF($J$6=\"MAX\",data!DQ57))))","v":3.2}]
[null,{"$f":"IF($J$6=\"OFF\",data!DF58,IF($J$6=\"26dB(A)\",data!DF59,IF($J$6=\"30dB(A)\",data!DF60,IF($J$6=\"MAX\",data!DF61))))","v":180},null,{"$f":"IF($J$6=\"OFF\",data!DH58,IF($J$6=\"26dB(A)\",data!DH59,IF($J$6=\"30dB(A)\",data!DH60,IF($J$6=\"MAX\",data!DH61))))","v":5171},{"$f":"IF($J$6=\"OFF\",data!DI58,IF($J$6=\"26dB(A)\",data!DI59,IF($J$6=\"30dB(A)\",data!DI60,IF($J$6=\"MAX\",data!DI61))))","v":445},{"$f":"IF($J$6=\"OFF\",data!DJ58,IF($J$6=\"26dB(A)\",data!DJ59,IF($J$6=\"30dB(A)\",data!DJ60,IF($J$6=\"MAX\",data!DJ61))))","v":3.2004400554381953},{"$f":"IF($J$6=\"OFF\",data!DK58,IF($J$6=\"26dB(A)\",data!DK59,IF($J$6=\"30dB(A)\",data!DK60,IF($J$6=\"MAX\",data!DK61))))","v":733},{"$f":"IF($J$6=\"OFF\",data!DL58,IF($J$6=\"26dB(A)\",data!DL59,IF($J$6=\"30dB(A)\",data!DL60,IF($J$6=\"MAX\",data!DL61))))","v":315},{"$f":"IF($J$6=\"OFF\",data!DM58,IF($J$6=\"26dB(A)\",data!DM59,IF($J$6=\"30dB(A)\",data!DM60,IF($J$6=\"MAX\",data!DM61))))","v":1.6285969093831283},{"$f":"IF($J$6=\"OFF\",data!DN58,IF($J$6=\"26dB(A)\",data!DN59,IF($J$6=\"30dB(A)\",data!DN60,IF($J$6=\"MAX\",data!DN61))))","v":30},{"$f":"IF($J$6=\"OFF\",data!DO58,IF($J$6=\"26dB(A)\",data!DO59,IF($J$6=\"30dB(A)\",data!DO60,IF($J$6=\"MAX\",data!DO61))))","v":38},{"$f":"IF($J$6=\"OFF\",data!DP58,IF($J$6=\"26dB(A)\",data!DP59,IF($J$6=\"30dB(A)\",data!DP60,IF($J$6=\"MAX\",data!DP61))))","v":12.8},{"$f":"IF($J$6=\"OFF\",data!DQ58,IF($J$6=\"26dB(A)\",data!DQ59,IF($J$6=\"30dB(A)\",data!DQ60,IF($J$6=\"MAX\",data!DQ61))))","v":3.6}]
[null,{"$f":"IF($J$6=\"OFF\",data!DF62,IF($J$6=\"26dB(A)\",data!DF63,IF($J$6=\"30dB(A)\",data!DF64,IF($J$6=\"MAX\",data!DF65))))","v":200},null,{"$f":"IF($J$6=\"OFF\",data!DH62,IF($J$6=\"26dB(A)\",data!DH63,IF($J$6=\"30dB(A)\",data!DH64,IF($J$6=\"MAX\",data!DH65))))","v":5971},{"$f":"IF($J$6=\"OFF\",data!DI62,IF($J$6=\"26dB(A)\",data!DI63,IF($J$6=\"30dB(A)\",data!DI64,IF($J$6=\"MAX\",data!DI65))))","v":514},{"$f":"IF($J$6=\"OFF\",data!DJ62,IF($J$6=\"26dB(A)\",data!DJ63,IF($J$6=\"30dB(A)\",data!DJ64,IF($J$6=\"MAX\",data!DJ65))))","v":4.3210309689101214},{"$f":"IF($J$6=\"OFF\",data!DK62,IF($J$6=\"26dB(A)\",data!DK63,IF($J$6=\"30dB(A)\",data!DK64,IF($J$6=\"MAX\",data!DK65))))","v":914},{"$f":"IF($J$6=\"OFF\",data!DL62,IF($J$6=\"26dB(A)\",data!DL63,IF($J$6=\"30dB(A)\",data!DL64,IF($J$6=\"MAX\",data!DL65))))","v":393},{"$f":"IF($J$6=\"OFF\",data!DM62,IF($J$6=\"26dB(A)\",data!DM63,IF($J$6=\"30dB(A)\",data!DM64,IF($J$6=\"MAX\",data!DM65))))","v":2.5582125224157561},{"$f":"IF($J$6=\"OFF\",data!DN62,IF($J$6=\"26dB(A)\",data!DN63,IF($J$6=\"30dB(A)\",data!DN64,IF($J$6=\"MAX\",data!DN65))))","v":30},{"$f":"IF($J$6=\"OFF\",data!DO62,IF($J$6=\"26dB(A)\",data!DO63,IF($J$6=\"30dB(A)\",data!DO64,IF($J$6=\"MAX\",data!DO65))))","v":38},{"$f":"IF($J$6=\"OFF\",data!DP62,IF($J$6=\"26dB(A)\",data!DP63,IF($J$6=\"30dB(A)\",data!DP64,IF($J$6=\"MAX\",data!DP65))))","v":14.7},{"$f":"IF($J$6=\"OFF\",data!DQ62,IF($J$6=\"26dB(A)\",data!DQ63,IF($J$6=\"30dB(A)\",data!DQ64,IF($J$6=\"MAX\",data!DQ65))))","v":4}]
[null,{"$f":"IF($J$6=\"OFF\",data!DF66,IF($J$6=\"26dB(A)\",data!DF67,IF($J$6=\"30dB(A)\",data!DF68,IF($J$6=\"MAX\",data!DF69))))","v":220},null,{"$f":"IF($J$6=\"OFF\",data!DH66,IF($J$6=\"26dB(A)\",data!DH67,IF($J$6=\"30dB(A)\",data!DH68,IF($J$6=\"MAX\",data!DH69))))","v":6554},{"$f":"IF($J$6=\"OFF\",data!DI66,IF($J$6=\"26dB(A)\",data!DI67,IF($J$6=\"30dB(A)\",data!DI68,IF($J$6=\"MAX\",data!DI69))))","v":564},{"$f":"IF($J$6=\"OFF\",data!DJ66,IF($J$6=\"26dB(A)\",data!DJ67,IF($J$6=\"30dB(A)\",data!DJ68,IF($J$6=\"MAX\",data!DJ69))))","v":5.2712218393505692},{"$f":"IF($J$6=\"OFF\",data!DK66,IF($J$6=\"26dB(A)\",data!DK67,IF($J$6=\"30dB(A)\",data!DK68,IF($J$6=\"MAX\",data!DK69))))","v":1003},{"$f":"IF($J$6=\"OFF\",data!DL66,IF($J$6=\"26dB(A)\",data!DL67,IF($J$6=\"30dB(A)\",data!DL68,IF($J$6=\"MAX\",data!DL69))))","v":431},{"$f":"IF($J$6=\"OFF\",data!DM66,IF($J$6=\"26dB(A)\",data!DM67,IF($J$6=\"30dB(A)\",data!DM68,IF($J$6=\"MAX\",data!DM69))))","v":3.1200973344986664},{"$f":"IF($J$6=\"OFF\",data!DN66,IF($J$6=\"26dB(A)\",data!DN67,IF($J$6=\"30dB(A)\",data!DN68,IF($J$6=\"MAX\",data!DN69))))","v":30},{"$f":"IF($J$6=\"OFF\",data!DO66,IF($J$6=\"26dB(A)\",data!DO67,IF($J$6=\"30dB(A)\",data!DO68,IF($J$6=\"MAX\",data!DO69))))","v":38},{"$f":"IF($J$6=\"OFF\",data!DP66,IF($J$6=\"26dB(A)\",data!DP67,IF($J$6=\"30dB(A)\",data!DP68,IF($J$6=\"MAX\",data!DP69))))","v":16.8},{"$f":"IF($J$6=\"OFF\",data!DQ66,IF($J$6=\"26dB(A)\",data!DQ67,IF($J$6=\"30dB(A)\",data!DQ68,IF($J$6=\"MAX\",data!DQ69))))","v":4.4000000000000004}]
[null,{"$f":"IF($J$6=\"OFF\",data!DF70,IF($J$6=\"26dB(A)\",data!DF71,IF($J$6=\"30dB(A)\",data!DF72,IF($J$6=\"MAX\",data!DF73))))","v":240},null,{"$f":"IF($J$6=\"OFF\",data!DH70,IF($J$6=\"26dB(A)\",data!DH71,IF($J$6=\"30dB(A)\",data!DH72,IF($J$6=\"MAX\",data!DH73))))","v":7168},{"$f":"IF($J$6=\"OFF\",data!DI70,IF($J$6=\"26dB(A)\",data!DI71,IF($J$6=\"30dB(A)\",data!DI72,IF($J$6=\"MAX\",data!DI73))))","v":616},{"$f":"IF($J$6=\"OFF\",data!DJ70,IF($J$6=\"26dB(A)\",data!DJ71,IF($J$6=\"30dB(A)\",data!DJ72,IF($J$6=\"MAX\",data!DJ73))))","v":6.3666227323503541},{"$f":"IF($J$6=\"OFF\",data!DK70,IF($J$6=\"26dB(A)\",data!DK71,IF($J$6=\"30dB(A)\",data!DK72,IF($J$6=\"MAX\",data!DK73))))","v":1098},{"$f":"IF($J$6=\"OFF\",data!DL70,IF($J$6=\"26dB(A)\",data!DL71,IF($J$6=\"30dB(A)\",data!DL72,IF($J$6=\"MAX\",data!DL73))))","v":472},{"$f":"IF($J$6=\"OFF\",data!DM70,IF($J$6=\"26dB(A)\",data!DM71,IF($J$6=\"30dB(A)\",data!DM72,IF($J$6=\"MAX\",data!DM73))))","v":3.7910912175214273},{"$f":"IF($J$6=\"OFF\",data!DN70,IF($J$6=\"26dB(A)\",data!DN71,IF($J$6=\"30dB(A)\",data!DN72,IF($J$6=\"MAX\",data!DN73))))","v":30},{"$f":"IF($J$6=\"OFF\",data!DO70,IF($J$6=\"26dB(A)\",data!DO71,IF($J$6=\"30dB(A)\",data!DO72,IF($J$6=\"MAX\",data!DO73))))","v":38},{"$f":"IF($J$6=\"OFF\",data!DP70,IF($J$6=\"26dB(A)\",data!DP71,IF($J$6=\"30dB(A)\",data!DP72,IF($J$6=\"MAX\",data!DP73))))","v":17.7},{"$f":"IF($J$6=\"OFF\",data!DQ70,IF($J$6=\"26dB(A)\",data!DQ71,IF($J$6=\"30dB(A)\",data!DQ72,IF($J$6=\"MAX\",data!DQ73))))","v":4.8}]
[null,{"$f":"IF($J$6=\"OFF\",data!DF74,IF($J$6=\"26dB(A)\",data!DF75,IF($J$6=\"30dB(A)\",data!DF76,IF($J$6=\"MAX\",data!DF77))))","v":260},null,{"$f":"IF($J$6=\"OFF\",data!DH74,IF($J$6=\"26dB(A)\",data!DH75,IF($J$6=\"30dB(A)\",data!DH76,IF($J$6=\"MAX\",data!DH77))))","v":7610},{"$f":"IF($J$6=\"OFF\",data!DI74,IF($J$6=\"26dB(A)\",data!DI75,IF($J$6=\"30dB(A)\",data!DI76,IF($J$6=\"MAX\",data!DI77))))","v":654},{"$f":"IF($J$6=\"OFF\",data!DJ74,IF($J$6=\"26dB(A)\",data!DJ75,IF($J$6=\"30dB(A)\",data!DJ76,IF($J$6=\"MAX\",data!DJ77))))","v":7.2711118135096351},{"$f":"IF($J$6=\"OFF\",data!DK74,IF($J$6=\"26dB(A)\",data!DK75,IF($J$6=\"30dB(A)\",data!DK76,IF($J$6=\"MAX\",data!DK77))))","v":1108},{"$f":"IF($J$6=\"OFF\",data!DL74,IF($J$6=\"26dB(A)\",data!DL75,IF($J$6=\"30dB(A)\",data!DL76,IF($J$6=\"MAX\",data!DL77))))","v":476},{"$f":"IF($J$6=\"OFF\",data!DM74,IF($J$6=\"26dB(A)\",data!DM75,IF($J$6=\"30dB(A)\",data!DM76,IF($J$6=\"MAX\",data!DM77))))","v":3.9213280612116019},{"$f":"IF($J$6=\"OFF\",data!DN74,IF($J$6=\"26dB(A)\",data!DN75,IF($J$6=\"30dB(A)\",data!DN76,IF($J$6=\"MAX\",data!DN77))))","v":30},{"$f":"IF($J$6=\"OFF\",data!DO74,IF($J$6=\"26dB(A)\",data!DO75,IF($J$6=\"30dB(A)\",data!DO76,IF($J$6=\"MAX\",data!DO77))))","v":38},{"$f":"IF($J$6=\"OFF\",data!DP74,IF($J$6=\"26dB(A)\",data!DP75,IF($J$6=\"30dB(A)\",data!DP76,IF($J$6=\"MAX\",data!DP77))))","v":17.7},{"$f":"IF($J$6=\"OFF\",data!DQ74,IF($J$6=\"26dB(A)\",data!DQ75,IF($J$6=\"30dB(A)\",data!DQ76,IF($J$6=\"MAX\",data!DQ77))))","v":5.2}]
[null,{"$f":"IF($J$6=\"OFF\",data!DF78,IF($J$6=\"26dB(A)\",data!DF79,IF($J$6=\"30dB(A)\",data!DF80,IF($J$6=\"MAX\",data!DF81))))","v":280},null,{"$f":"IF($J$6=\"OFF\",data!DH78,IF($J$6=\"26dB(A)\",data!DH79,IF($J$6=\"30dB(A)\",data!DH80,IF($J$6=\"MAX\",data!DH81))))","v":8348},{"$f":"IF($J$6=\"OFF\",data!DI78,IF($J$6=\"26dB(A)\",data!DI79,IF($J$6=\"30dB(A)\",data!DI80,IF($J$6=\"MAX\",data!DI81))))","v":718},{"$f":"IF($J$6=\"OFF\",data!DJ78,IF($J$6=\"26dB(A)\",data!DJ79,IF($J$6=\"30dB(A)\",data!DJ80,IF($J$6=\"MAX\",data!DJ81))))","v":8.8569732543318711},{"$f":"IF($J$6=\"OFF\",data!DK78,IF($J$6=\"26dB(A)\",data!DK79,IF($J$6=\"30dB(A)\",data!DK80,IF($J$6=\"MAX\",data!DK81))))","v":1278},{"$f":"IF($J$6=\"OFF\",data!DL78,IF($J$6=\"26dB(A)\",data!DL79,IF($J$6=\"30dB(A)\",data!DL80,IF($J$6=\"MAX\",data!DL81))))","v":550},{"$f":"IF($J$6=\"OFF\",data!DM78,IF($J$6=\"26dB(A)\",data!DM79,IF($J$6=\"30dB(A)\",data!DM80,IF($J$6=\"MAX\",data!DM81))))","v":5.2786547361922693},{"$f":"IF($J$6=\"OFF\",data!DN78,IF($J$6=\"26dB(A)\",data!DN79,IF($J$6=\"30dB(A)\",data!DN80,IF($J$6=\"MAX\",data!DN81))))","v":30},{"$f":"IF($J$6=\"OFF\",data!DO78,IF($J$6=\"26dB(A)\",data!DO79,IF($J$6=\"30dB(A)\",data!DO80,IF($J$6=\"MAX\",data!DO81))))","v":38},{"$f":"IF($J$6=\"OFF\",data!DP78,IF($J$6=\"26dB(A)\",data!DP79,IF($J$6=\"30dB(A)\",data!DP80,IF($J$6=\"MAX\",data!DP81))))","v":20.399999999999999},{"$f":"IF($J$6=\"OFF\",data!DQ78,IF($J$6=\"26dB(A)\",data!DQ79,IF($J$6=\"30dB(A)\",data!DQ80,IF($J$6=\"MAX\",data!DQ81))))","v":5.6}]
[null,{"$f":"IF($J$6=\"OFF\",data!DF82,IF($J$6=\"26dB(A)\",data!DF83,IF($J$6=\"30dB(A)\",data!DF84,IF($J$6=\"MAX\",data!DF85))))","v":300},null,{"$f":"IF($J$6=\"OFF\",data!DH82,IF($J$6=\"26dB(A)\",data!DH83,IF($J$6=\"30dB(A)\",data!DH84,IF($J$6=\"MAX\",data!DH85))))","v":{"$error":"#N/A"}},{"$f":"IF($J$6=\"OFF\",data!DI82,IF($J$6=\"26dB(A)\",data!DI83,IF($J$6=\"30dB(A)\",data!DI84,IF($J$6=\"MAX\",data!DI85))))","v":{"$error":"#N/A"}},{"$f":"IF($J$6=\"OFF\",data!DJ82,IF($J$6=\"26dB(A)\",data!DJ83,IF($J$6=\"30dB(A)\",data!DJ84,IF($J$6=\"MAX\",data!DJ85))))","v":{"$error":"#N/A"}},{"$f":"IF($J$6=\"OFF\",data!DK82,IF($J$6=\"26dB(A)\",data!DK83,IF($J$6=\"30dB(A)\",data!DK84,IF($J$6=\"MAX\",data!DK85))))","v":{"$error":"#N/A"}},{"$f":"IF($J$6=\"OFF\",data!DL82,IF($J$6=\"26dB(A)\",data!DL83,IF($J$6=\"30dB(A)\",data!DL84,IF($J$6=\"MAX\",data!DL85))))","v":{"$error":"#N/A"}},{"$f":"IF($J$6=\"OFF\",data!DM82,IF($J$6=\"26dB(A)\",data!DM83,IF($J$6=\"30dB(A)\",data!DM84,IF($J$6=\"MAX\",data!DM85))))","v":{"$error":"#N/A"}},{"$f":"IF($J$6=\"OFF\",data!DN82,IF($J$6=\"26dB(A)\",data!DN83,IF($J$6=\"30dB(A)\",data!DN84,IF($J$6=\"MAX\",data!DN85))))","v":{"$error":"#N/A"}},{"$f":"IF($J$6=\"OFF\",data!DO82,IF($J$6=\"26dB(A)\",data!DO83,IF($J$6=\"30dB(A)\",data!DO84,IF($J$6=\"MAX\",data!DO85))))","v":{"$error":"#N/A"}},{"$f":"IF($J$6=\"OFF\",data!DP82,IF($J$6=\"26dB(A)\",data!DP83,IF($J$6=\"30dB(A)\",data!DP84,IF($J$6=\"MAX\",data!DP85))))","v":{"$error":"#N/A"}},{"$f":"IF($J$6=\"OFF\",data!DQ82,IF($J$6=\"26dB(A)\",data!DQ83,IF($J$6=\"30dB(A)\",data!DQ84,IF($J$6=\"MAX\",data!DQ85))))","v":{"$error":"#N/A"}}]
[null,null,null,null,null,null,null,null,null,null,null,null,"v2024-07-04"]
[null,"*",{"$f":"IF(data!$CC$17=1,NL!E6,IF(data!$CC$17=2,EN!E6,IF(data!$CC$17=3,FR!E6,IF(data!$CC$17=4,DE!E6,IF(data!$CC$17=5,NR!E6,IF(data!$CC$17=6,SP!E6,IF(data!$CC$17=7,SW!E6,IF(data!$CC$17=8,TS!E6,IF(data!$CC$17=9,ExtraTaal1!E6,IF(data!$CC$17=10,ExtraTaal2!E6,IF(data!$CC$17=11,ExtraTaal3!E6,)))))))))))","v":"Indien de ventilatoren uitgeschakeld zijn, is de afgifte een indicatieve waarde."}]
[null,"**",{"$f":"IF(data!$CC$17=1,NL!B20,IF(data!$CC$17=2,EN!B20,IF(data!$CC$17=3,FR!B20,IF(data!$CC$17=4,DE!B20,IF(data!$CC$17=5,NR!B20,IF(data!$CC$17=6,SP!B20,IF(data!$CC$17=7,SW!B20,IF(data!$CC$17=8,TS!B20,IF(data!$CC$17=9,ExtraTaal1!B20,IF(data!$CC$17=10,ExtraTaal2!B20,IF(data!$CC$17=11,ExtraTaal3!B20,)))))))))))","v":"Koelvermogen is berekend volgens EN16430 met de ventilatoren naar boven blazend voor alle types."}]
[null,"***",{"$f":"IF($J$4=data!$CC$3,NL!B21,IF($J$4=data!$CC$4,EN!B21,IF($J$4=data!$CC$5,FR!B21,IF($J$4=data!$CC$6,DE!B21,IF($J$4=data!$CC$7,NR!B21,IF($J$4=data!$CC$8,SP!B21,IF($J$4=data!$CC$9,SW!B21,)))))))","v":"Wanneer het watervolume in gallons wordt gegeven, zijn dit imperial gallons."}]
[null,"****",{"$f":"IF(data!$CC$17=1,NL!B22,IF(data!$CC$17=2,EN!B22,IF(data!$CC$17=3,FR!B22,IF(data!$CC$17=4,DE!B22,IF(data!$CC$17=5,NR!B22,IF(data!$CC$17=6,SP!B22,IF(data!$CC$17=7,SW!B22,IF(data!$CC$17=8,TS!B22,IF(data!$CC$17=9,ExtraTaal1!B22,IF(data!$CC$17=10,ExtraTaal2!B22,IF(data!$CC$17=11,ExtraTaal3!B22,)))))))))))","v":"Geluidsvermogen volgens ISO 3741:2010, Voor het geluidsdrukniveau is er een aangenomen kamerdemping van 8 dB(A)."}]

{"sheet":"data","index":1,"n_rows":1393,"n_cols":121,"rows_kept":1125,"cut":true,"hidden":true,"merged":[[25,66,25,68],[25,69,25,71],[25,73,25,75],[25,76,25,77],[1,79,1,83],[1,109,1,118],[3,113,3,116],[3,117,3,118],[3,119,3,120],[4,109,4,110],[4,113,4,116],[4,117,4,118],[5,113,5,116],[6,116,7,117],[6,118,7,118],[6,119,7,119],[6,120,7,120],[9,109,9,111],[9,114,9,116],[9,119,9,120],[10,109,10,111],[10,114,10,116],[10,119,13,120],[11,109,11,111],[11,114,11,116],[12,114,12,116],[16,109,16,120],[101,91,101,96],[105,91,105,96],[109,91,109,96],[113,91,113,96],[70,92,70,93],[70,102,70,103],[70,100,70,101],[70,98,70,99],[70,96,70,97],[70,94,70,95],[69,92,69,103],[21,94,21,96],[21,97,21,99],[0,103,0,105],[2678,87,2681,87],[2678,86,2681,86],[2678,85,2681,85],[2678,84,2681,84],[0,100,0,102],[0,97,0,99],[0,85,0,87],[0,88,0,90],[0,91,0,93],[0,94,0,96]],"bounds":{"rows_first":500,"rows_last":125,"rows_between":500,"halvings":2}}
[{"$f":"+CONCATENATE($A$2,\"_L\")","v":"Strada_L"},null,null,null,null,null,null,null,null,null,null,null,"heating","Ti",{"$f":"IF($BZ$2=1,$P1,IF($BZ$2=2,(P1-32)/1.8,))","v":75},{"$f":"'LowH2O DBH'!E10","v":75},null,null,null,null,null,null,null,null,null,null,null,null,null,null,null,null,null,null,null,null,"cooling","Ti",{"$f":"IF($BZ$2=1,$AN1,IF($BZ$2=2,($AN1-32)/1.8,))","v":16},{"$f":"'LowH2O DBH'!J10","v":16},null,"RH",{"$f":"'LowH2O DBH'!J13","v":0.5},null,null,null,"RH",null,null,null,null,null,null,null,null,null,null,null,null,null,null,null,null,null,null,null,null,null,null,null,null,"DBH rail",{"$f":"IF($CC$17=1,\"GEEN\",IF($CC$17=2,\"NONE\",IF($CC$17=3,\"NONE\",IF($CC$17=4,\"NONE\",IF($CC$17=5,\"NONE\",)))))","v":"GEEN"},10,15,null,null,"Imperial/SI",null,"toestel","taal","lengte","hoogte","type",null,"Built_in Hybrid",null,null,"Strada Hybrid",null,null,"Linea Hybrid",null,null,"Tempo Hybrid",null,null,"DBH-upgrade",null,null,"Mini Hybrid",null,null,"Strada hybrid MM"]
[{"$f":"IF('LowH2O DBH'!$J$5=data!$CH$1,data!$CA$6,IF('LowH2O DBH'!$J$5=data!$CK$1,data!$CA$3,IF('LowH2O DBH'!$J$5=data!$CN$1,data!$CA$4,IF('LowH2O DBH'!$J$5=data!$CQ$1,data!$CA$5,IF('LowH2O DBH'!$J$5=data!$CW$1,data!$CA$7,IF('LowH2O DBH'!$J$5=data!$CZ$1,data!$CA$8))))))","v":"Strada"},null,null,null,null,null,null,null,null,null,null,null,null,"Tr",{"$f":"IF($BZ$2=1,$P2,IF($BZ$2=2,(P2-32)/1.8,))","v":65},{"$f":"'LowH2O DBH'!E11","v":65},null,null,null,null,null,null,null,null,null,null,null,null,null,null,null,null,null,null,null,null,null,"Tr",{"$f":"IF($BZ$2=1,$AN2,IF($BZ$2=2,($AN2-32)/1.8,))","v":18.000000000000004},{"$f":"'LowH2O DBH'!J11","v":18.000000000000004},null,null,null,null,null,null,null,null,null,null,null,null,null,null,null,null,null,null,null,null,null,null,null,null,null,null,null,null,null,null,null,1,null,null,null,null,null,1,null,"Geselecteerd",null,null,null,null,null,"hoogte","lengte","type","hoogte","lengte","type","hoogte","lengte","type","hoogte","lengte","type","hoogte","lengte","type","hoogte","lengte","type","hoogte","lengte","type",null,null,null,{"$f":"IF(data!$CC$17=7,\"Effektsimulering Hybridmodeller\",\"Selectiontool LowH2O Hybrids\")","v":"Selectiontool LowH2O Hybrids"}]
[{"$f":"+CONCATENATE($A$2,\"_T\")","v":"Strada_T"},null,null,null,null,null,null,null,null,null,null,null,null,"Ta",{"$f":"IF($BZ$2=1,$P3,IF($BZ$2=2,(P3-32)/1.8,))","v":20},{"$f":"'LowH2O DBH'!E12","v":20},null,null,null,null,null,null,null,null,null,null,null,null,null,null,null,null,null,null,null,null,null,"Ta",{"$f":"IF($BZ$2=1,$AN3,IF($BZ$2=2,($AN3-32)/1.8,))","v":27},{"$f":"'LowH2O DBH'!J12","v":27},null,null,null,null,null,null,null,null,null,null,null,null,null,null,null,null,null,null,null,null,null,null,null,null,null,null,null,null,null,null,null,null,null,null,null,null,null,1,"Strada",{"$f":"CK1","v":"Strada Hybrid"},"Nederlands",{"$f":"IF($CB$9=5,CX3,CL3)","v":50},{"$f":"IF($CB$9=1,CK3,IF($CB$9=2,CN3,IF($CB$9=3,CQ3,IF($CB$9=4,CH3,IF($CB$9=5,CW3)))))","v":35},10,null,20,50,10,35,50,10,20,50,10,20,50,10,null,50,10,28,"N.v.t.",11,35,60,11]
["kolomindex",2,3,4,5,6,7,8,9,10,11,12,13,14,15,16,17,18,19,20,21,22,23,24,25,26,27,28,29,30,31,32,33,34,35,36,37,38,39,40,41,42,43,44,45,46,47,48,49,50,51,52,53,54,55,56,57,58,59,60,61,62,63,64,65,66,67,68,69,70,71,72,73,74,75,76,77,null,"Linea",{"$f":"CN1","v":"Linea Hybrid"},"English",{"$f":"IF($CB$9=5,CX4,CL4)","v":60},{"$f":"IF($CB$9=1,CK4,IF($CB$9=2,CN4,IF($CB$9=3,CQ4,IF($CB$9=4,CH4,IF($CB$9=5,CW4)))))","v":50},11,null,30,60,11,50,60,11,35,60,11,30,60,11,null,60,11,null,81,16,50,80,16,null,null,null,null,null,null,null,"Taal/Language/Sprache/Langue/Språk/Lengua",null,null,null,{"$f":"'LowH2O DBH'!J4","v":"Nederlands"},{"$f":"'LowH2O DBH'!K4","v":0}]
[{"$f":"CONCATENATE($CB$9,'LowH2O DBH'!$K$6,$CD3,'LowH2O DBH'!$L$6)","v":"1505016"},null,null,{"$f":"VLOOKUP($A5,$A$28:$BY$1500,D$4,0)","v":{"$error":"#N/A"}},{"$f":"VLOOKUP($A5,$A$28:$BY$1500,E$4,0)","v":{"$error":"#N/A"}},{"$f":"VLOOKUP($A5,$A$28:$BY$1500,F$4,0)","v":{"$error":"#N/A"}},{"$error":"#N/A"},{"$f":"VLOOKUP($A5,$A$28:$BY$1500,H$4,0)","v":{"$error":"#N/A"}},{"$error":"#N/A"},{"$error":"#N/A"},{"$error":"#N/A"},{"$error":"#N/A"},{"$f":"VLOOKUP($A5,$A$28:$BY$1500,M$4,0)","v":{"$error":"#N/A"}},{"$f":"VLOOKUP($A5,$A$28:$BY$1500,N$4,0)","v":{"$error":"#N/A"}},{"$error":"#N/A"},{"$error":"#N/A"},{"$error":"#N/A"},{"$error":"#N/A"},{"$error":"#N/A"},{"$error":"#N/A"},{"$f":"VLOOKUP($A5,$A$28:$BY$1500,U$4,0)*IF('LowH2O DBH'!$J$5=data!$CB$8,0.9,1)","v":{"$error":"#N/A"}},{"$error":"#N/A"},{"$error":"#N/A"},{"$f":"VLOOKUP($A5,$A$28:$BY$1500,X$4,0)","v":{"$error":"#N/A"}},{"$error":"#N/A"},{"$error":"#N/A"},{"$error":"#N/A"},{"$error":"#N/A"},{"$error":"#N/A"},{"$error":"#N/A"},{"$error":"#N/A"},{"$error":"#N/A"},{"$error":"#N/A"},{"$f":"VLOOKUP($A5,$A$28:$BY$1500,AH$4,0)","v":{"$error":"#N/A"}},{"$error":"#N/A"},{"$error":"#N/A"},{"$error":"#N/A"},{"$error":"#N/A"},{"$error":"#N/A"},{"$error":"#N/A"},{"$error":"#N/A"},{"$error":"#N/A"},{"$error":"#N/A"},{"$f":"VLOOKUP($A5,$A$28:$BY$1500,AR$4,0)","v":{"$error":"#N/A"}},{"$error":"#N/A"},{"$error":"#N/A"},{"$error":"#N/A"},{"$error":"#N/A"},{"$error":"#N/A"},{"$error":"#N/A"},{"$error":"#N/A"},{"$error":"#N/A"},{"$error":"#N/A"},{"$f":"VLOOKUP($A5,$A$28:$BY$1500,BB$4,0)","v":{"$error":"#N/A"}},{"$error":"#N/A"},{"$error":"#N/A"},{"$error":"#N/A"},{"$error":"#N/A"},{"$error":"#N/A"},{"$error":"#N/A"},{"$error":"#N/A"},{"$error":"#N/A"},{"$error":"#N/A"},{"$f":"VLOOKUP($A5,$A$28:$BY$1500,BL$4,0)","v":{"$error":"#N/A"}},{"$error":"#N/A"},{"$error":"#N/A"},{"$error":"#N/A"},{"$error":"#N/A"},{"$error":"#N/A"},{"$error":"#N/A"},{"$error":"#N/A"},{"$error":"#N/A"},{"$error":"#N/A"},{"$error":"#N/A"},{"$error":"#N/A"},{"$error":"#N/A"},{"$error":"#N/A"},null,"Tempo",{"$f":"CQ1","v":"Tempo Hybrid"},"Français",70,65,15,null,40,70,15,65,70,15,50,70,15,40,70,15,null,70,15,null,101,null,65,100,21,null,null,null,null,null,null,null,{"$f":"IF($J$4=data!$CC$3,NL!DJ4,IF($J$4=data!$CC$4,EN!DJ4,IF($J$4=data!$CC$5,FR!DJ4,IF($J$4=data!$CC$6,DE!DJ4,IF($J$4=data!$CC$7,NR!DJ4,IF($J$4=data!$CC$8,SP!DJ4,IF($J$4=data!$CC$9,SW!DJ4,)))))))","v":0},null,null,null,{"$f":"'LowH2O DBH'!J5","v":"Strada Hybrid"},{"$f":"'LowH2O DBH'!K5","v":0}]
[{"$f":"CONCATENATE($CB$9,'LowH2O DBH'!$K$6,$CD4,'LowH2O DBH'!$L$6)","v":"1506016"},null,null,1,50,60,16,16.5,0,26,30,41.1,774.5200000000001,1399.7241764138612,1502.5729206967153,1988.7,1.5,1.1000000000000001,1.1000000000000001,1.1000000000000001,{"$f":"VLOOKUP($A6,$A$28:$BY$1500,U$4,0)*IF('LowH2O DBH'!$J$5=data!$CB$8,0.9,1)","v":775},1400,1503,1989,67,120,129,171,6.650928759934463E-2,0.21085507991814395,0.24334273125065864,0.42546271730679758,2.0829999999999999E-4,1.724,4,1.392796E-3,214,230,305,0.95,0.95,0.95,214,230,305,92,99,131,0.12457564927087089,0.14404410806926615,0.25087593311274681,1.2,4.8,5.5,7.2,0,1139,0,0.68,0,0,0,12.3,14.4,21.85,0,1,1,1,214,230,305,0,0,0,0,1,null,"Built_in",{"$f":"CH1","v":"Built_in Hybrid"},"Deutsch",80,95,16,null,50,80,16,95,80,16,65,80,16,50,80,16,null,80,16,null,121,null,null,120,null,null,null,null,null,null,null,null,{"$f":"IF($J$4=data!$CC$3,NL!DI4,IF($J$4=data!$CC$4,EN!DI4,IF($J$4=data!$CC$5,FR!DI4,IF($J$4=data!$CC$6,DE!DI4,IF($J$4=data!$CC$7,NR!DI4,IF($J$4=data!$CC$8,SP!DI4,IF($J$4=data!$CC$9,SW!DI4,)))))))&\" [centimeter]\"","v":" [centimeter]"},null,null,null,{"$f":"'LowH2O DBH'!J6","v":"30dB(A)"},{"$f":"'LowH2O DBH'!K6","v":50},{"$f":"'LowH2O DBH'!L6","v":16},{"$f":"data!DL6","v":0}]
[{"$f":"CONCATENATE($CB$9,'LowH2O DBH'!$K$6,$CD5,'LowH2O DBH'!$L$6)","v":"1507016"},null,null,1,50,70,16,16.5,0,26,30,41.1,903.72,1627.62717250317,1747.2217424001376,2312.5,1.5,1.1000000000000001,1.1000000000000001,1.1000000000000001,{"$f":"VLOOKUP($A7,$A$28:$BY$1500,U$4,0)*IF('LowH2O DBH'!$J$5=data!$CB$8,0.9,1)","v":904},1628,1747,2313,78,140,150,199,9.1341867693011378E-2,0.2902779131483183,0.33273460547085354,0.58224305620495909,2.0829999999999999E-4,1.724,4,1.392796E-3,219.59769851718443,235.73326859625641,312,0.95,0.95,0.95,220,236,312,95,101,134,0.1348444213322838,0.1521944098151945,0.26618360536544905,1.4,5.0999999999999996,5.6,7.2,0,1329,0,0.68,0,0,0,12.3,14.4,21.85,0,1,1,1,220,236,312,0,0,0,0,1,null,"MiniHybrid","Mini Hybrid","Norsk",90,0,20,null,60,90,20,null,90,20,95,90,20,60,90,20,null,90,20,null,141,null,null,140,null,null,null,null,null,null,null,null,null,{"$f":"IF($J$4=data!$CC$3,NL!DF3,IF($J$4=data!$CC$4,EN!DF3,IF($J$4=data!$CC$5,FR!DF3,IF($J$4=data!$CC$6,DE!DF3,IF($J$4=data!$CC$7,NR!DF3,IF($J$4=data!$CC$8,SP!DF3,IF($J$4=data!$CC$9,SW!DF3,)))))))","v":0},null,{"$f":"IF($J$4=data!$CC$3,NL!DF16,IF($J$4=data!$CC$4,EN!DF16,IF($J$4=data!$CC$5,FR!DF16,IF($J$4=data!$CC$6,DE!DF16,IF($J$4=data!$CC$7,NR!DF16,IF($J$4=data!$CC$8,SP!DF16,IF($J$4=data!$CC$9,SW!DF16,)))))))","v":0},null,{"$f":"IF($J$4=data!$CC$3,NL!DF4,IF($J$4=data!$CC$4,EN!DF4,IF($J$4=data!$CC$5,FR!DF4,IF($J$4=data!$CC$6,DE!DF4,IF($J$4=data!$CC$7,NR!DF4,IF($J$4=data!$CC$8,SP!DF4,IF($J$4=data!$CC$9,SW!DF4,)))))))","v":0},{"$f":"IF($J$4=data!$CC$3,NL!DF5,IF($J$4=data!$CC$4,EN!DF5,IF($J$4=data!$CC$5,FR!DF5,IF($J$4=data!$CC$6,DE!DF5,IF($J$4=data!$CC$7,NR!DF5,IF($J$4=data!$CC$8,SP!DF5,IF($J$4=data!$CC$9,SW!DF5,)))))))","v":0},{"$f":"IF($J$4=data!$CC$3,NL!DF6,IF($J$4=data!$CC$4,EN!DF6,IF($J$4=data!$CC$5,FR!DF6,IF($J$4=data!$CC$6,DE!DF6,IF($J$4=data!$CC$7,NR!DF6,IF($J$4=data!$CC$8,SP!DF6,IF($J$4=data!$CC$9,SW!DF6,)))))))","v":0}]
[{"$f":"CONCATENATE($CB$9,'LowH2O DBH'!$K$6,$CD6,'LowH2O DBH'!$L$6)","v":"1508016"},null,null,1,50,80,16,16.5,0,26,30,42.4,1032.24,2040.4331716148024,2188.0092071816284,2935.7,1.5,1.1000000000000001,1.1000000000000001,1.1000000000000001,{"$f":"VLOOKUP($A8,$A$28:$BY$1500,U$4,0)*IF('LowH2O DBH'!$J$5=data!$CB$8,0.9,1)","v":1032},2040,2188,2936,89,175,188,252,0.1204090451473749,0.45744743887251921,0.52704418993994806,0.94073397666389191,2.0829999999999999E-4,1.724,4,1.392796E-3,312,335,450,0.95,0.95,0.95,312,335,450,134,144,194,0.26997766374686077,0.31121106327333475,0.56081193423750164,1.6,6,6.7,9,0,1518,0,0.68,0,0,0,11.8,13.7,21.85,0,1,1,1,312,335,450,0,0,0,0,1,null,"StradaMM","Strada Hybrid MM","Español",100,0,21,null,70,100,21,null,100,21,null,100,21,70,100,21,null,100,21,null,181,null,null,160,null,null,null,null,{"$f":"IF($J$4=data!$CC$3,NL!DI5,IF($J$4=data!$CC$4,EN!DI5,IF($J$4=data!$CC$5,FR!DI5,IF($J$4=data!$CC$6,DE!DI5,IF($J$4=data!$CC$7,NR!DI5,IF($J$4=data!$CC$8,SP!DI5,IF($J$4=data!$CC$9,SW!DI5,)))))))","v":0}]
[{"$f":"CONCATENATE($CB$9,'LowH2O DBH'!$K$6,$CD7,'LowH2O DBH'!$L$6)","v":"1509016"},null,null,1,50,90,16,16.5,0,26,30,43.3,1161.44,2336.669516687492,2503.3688418217644,3409.2,1.5,1.1000000000000001,1.1000000000000001,1.1000000000000001,{"$f":"VLOOKUP($A9,$A$28:$BY$1500,U$4,0)*IF('LowH2O DBH'!$J$5=data!$CB$8,0.9,1)","v":1161},2337,2503,3409,100,201,215,293,0.15381198396114895,0.60915360332621049,0.69575042058868541,1.2822911322288062,2.0829999999999999E-4,1.724,4,1.392796E-3,357.77938745479025,383.30357134546551,522,0.95,0.95,0.95,358,383,522,154,165,224,0.36016635113087053,0.41266687566708049,0.75442675175462648,1.8,7,7.7,10.7,0,1708,0,0.68,0,0,0,11.3,13.2,21.85,0,1,1,1,358,383,522,0,0,0,0,1,null,{"$f":"IF(#REF!=data!CA3,1,IF(#REF!=data!CA4,2,IF(#REF!=data!CA5,3,IF(#REF!=data!CA6,3))))","v":{"$error":"#REF!"}},{"$f":"IF('LowH2O DBH'!$J$5=data!CB3,1,IF('LowH2O DBH'!$J$5=data!CB4,2,IF('LowH2O DBH'!$J$5=data!CB5,3,IF('LowH2O DBH'!$J$5=data!CB6,3,IF('LowH2O DBH'!$J$5=data!CB7,5,IF('LowH2O DBH'!$J$5=data!CB8,1))))))","v":1},"Svenska",110,0,null,null,90,110,null,null,110,null,null,110,null,90,110,null,null,110,null,null,241,null,null,null,null,null,null,null,{"$f":"IF($J$4=data!$CC$3,NL!DF8,IF($J$4=data!$CC$4,EN!DF8,IF($J$4=data!$CC$5,FR!DF8,IF($J$4=data!$CC$6,DE!DF8,IF($J$4=data!$CC$7,NR!DF8,IF($J$4=data!$CC$8,SP!DF8,IF($J$4=data!$CC$9,SW!DF8,)))))))","v":0},null,null,null,null,{"$f":"IF($J$4=data!$CC$3,NL!DK8,IF($J$4=data!$CC$4,EN!DK8,IF($J$4=data!$CC$5,FR!DK8,IF($J$4=data!$CC$6,DE!DK8,IF($J$4=data!$CC$7,NR!DK8,IF($J$4=data!$CC$8,SP!DK8,IF($J$4=data!$CC$9,SW!DK8,)))))))","v":0}]
[{"$f":"CONCATENATE($CB$9,'LowH2O DBH'!$K$6,$CD8,'LowH2O DBH'!$L$6)","v":"15010016"},null,null,1,50,100,16,16.5,0,26,30,44.1,1290.6400000000001,2630.3871448118639,2816.5633812075234,3882.7,1.5,1.1000000000000001,1.1000000000000001,1.1000000000000001,{"$f":"VLOOKUP($A10,$A$28:$BY$1500,U$4,0)*IF('LowH2O DBH'!$J$5=data!$CB$8,0.9,1)","v":1291},2630,2817,3883,111,226,242,334,0.19164820330533572,0.77712770761656835,0.88934367498091926,1.6794877029795134,2.0829999999999999E-4,1.724,4,1.392796E-3,403,431,595,0.95,0.95,0.95,403,431,595,173,185,256,0.45896052508691165,0.52378160296818432,0.99366847477469411,2,7,7.7,10.7,0,1898,0,0.68,0,0,0,10.9,12.8,21.85,0,1,1,1,403,431,595,0,0,0,0,1,null,"W/m,beript dyn heat","W/m,beript dyn cool","Čeština",120,0,null,null,null,120,null,null,120,null,null,120,null,null,120,null,null,120,null,null,null,null,null,null,null,null,null,null,{"$f":"IF($J$4=data!$CC$3,NL!DF9,IF($J$4=data!$CC$4,EN!DF9,IF($J$4=data!$CC$5,FR!DF9,IF($J$4=data!$CC$6,DE!DF9,IF($J$4=data!$CC$7,NR!DF9,IF($J$4=data!$CC$8,SP!DF9,IF($J$4=data!$CC$9,SW!DF9,)))))))","v":0},0,0,{"$f":"'LowH2O DBH'!E10","v":75},{"$f":"IF(data!$BZ$2=1,\"°C\",IF(data!$BZ$2=2,\"°F\",))","v":"°C"},{"$f":"DF10","v":0},0,0,{"$f":"'LowH2O DBH'!J10","v":16},{"$f":"DJ10","v":"°C"},{"$f":"IF($J$4=data!$CC$3,NL!DK4,IF($J$4=data!$CC$4,EN!DK4,IF($J$4=data!$CC$5,FR!DK4,IF($J$4=data!$CC$6,DE!DK4,IF($J$4=data!$CC$7,NR!DK4,IF($J$4=data!$CC$8,SP!DK4,IF($J$4=data!$CC$9,SW!DK4,)))))))","v":0}]
[{"$f":"CONCATENATE($CB$9,'LowH2O DBH'!$K$6,$CD9,'LowH2O DBH'!$L$6)","v":"15011016"},null,null,1,50,110,16,16.5,0,26,30,44.1,1419.8400000000001,2849.7497938679544,3051.4523045945984,4206.5,1.5,1.1000000000000001,1.1000000000000001,1.1000000000000001,{"$f":"VLOOKUP($A11,$A$28:$BY$1500,U$4,0)*IF('LowH2O DBH'!$J$5=data!$CB$8,0.9,1)","v":1420},2850,3051,4207,122,245,262,362,0.23401211503050393,0.92195448057549512,1.0521845346704815,1.9898808014753209,2.0829999999999999E-4,1.724,4,1.392796E-3,407.83296705301524,436.69898665540194,602,0.95,0.95,0.95,408,437,602,175,188,259,0.47548152700019564,0.54744957167687558,1.0285851673079258,2.2000000000000002,7.9,8.8000000000000007,12.5,0,2088,0,0.68,0,0,0,10.9,12.8,21.85,0,1,1,1,408,437,602,0,0,0,0,1,null,null,{"$f":"IF('LowH2O DBH'!$J$5=data!CB3,1,IF('LowH2O DBH'!$J$5=data!CB4,2,IF('LowH2O DBH'!$J$5=data!CB5,3,IF('LowH2O DBH'!$J$5=data!CB6,3,IF('LowH2O DBH'!$J$5=data!CB7,5,IF('LowH2O DBH'!$J$5=data!CB8,6))))))","v":1},"ExtraTaal1",140,0,null,null,null,140,null,null,140,null,null,140,null,null,140,null,null,140,null,null,null,null,null,null,null,null,null,null,{"$f":"IF($J$4=data!$CC$3,NL!DF10,IF($J$4=data!$CC$4,EN!DF10,IF($J$4=data!$CC$5,FR!DF10,IF($J$4=data!$CC$6,DE!DF10,IF($J$4=data!$CC$7,NR!DF10,IF($J$4=data!$CC$8,SP!DF10,IF($J$4=data!$CC$9,SW!DF10,)))))))","v":0},0,0,{"$f":"'LowH2O DBH'!E11","v":65},{"$f":"DJ10","v":"°C"},{"$f":"DF11","v":0},0,0,{"$f":"'LowH2O DBH'!J11","v":18.000000000000004},{"$f":"DJ10","v":"°C"}]
[{"$f":"CONCATENATE($CB$9,'LowH2O DBH'!$K$6,$CD10,'LowH2O DBH'!$L$6)","v":"15012016"},null,null,1,50,120,16,16.5,0,26,30,44.8,1549.0400000000002,3241.8333772189817,3471.5459677567114,4829.7,1.5,1.1000000000000001,1.1000000000000001,1.1000000000000001,{"$f":"VLOOKUP($A12,$A$28:$BY$1500,U$4,0)*IF('LowH2O DBH'!$J$5=data!$CB$8,0.9,1)","v":1549},3242,3472,4830,133,279,299,415,0.28099543431150953,1.204343316710782,1.3801140974321322,2.632057975603213,2.0829999999999999E-4,1.724,4,1.392796E-3,496,532,740,0.95,0.95,0.95,496,532,740,213,229,318,0.70833668732811383,0.81671249966312653,1.5580377368272431,2.4,8.6999999999999993,9.8000000000000007,14.3,0,2278,0,0.68,0,0,0,10.6,12.5,21.85,0,1,1,1,496,532,740,0,0,0,0,1,null,"OFF",null,"ExtraTaal2",160,0,null,null,null,160,null,null,160,null,null,160,null,null,160,null,null,160,null,null,null,null,null,null,null,null,null,null,{"$f":"IF($J$4=data!$CC$3,NL!DF11,IF($J$4=data!$CC$4,EN!DF11,IF($J$4=data!$CC$5,FR!DF11,IF($J$4=data!$CC$6,DE!DF11,IF($J$4=data!$CC$7,NR!DF11,IF($J$4=data!$CC$8,SP!DF11,IF($J$4=data!$CC$9,SW!DF11,)))))))","v":0},0,0,{"$f":"'LowH2O DBH'!E12","v":20},{"$f":"DJ10","v":"°C"},{"$f":"DF12","v":0},0,0,{"$f":"'LowH2O DBH'!J12","v":27},{"$f":"DJ10","v":"°C"}]
[{"$f":"CONCATENATE($CB$9,'LowH2O DBH'!$K$6,$CD11,'LowH2O DBH'!$L$6)","v":"15014016"},null,null,1,50,140,16,16.5,0,26,30,45.4,1806.7600000000002,3844.4231409656436,4117.1080284867467,5776.7,1.5,1.1000000000000001,1.1000000000000001,1.1000000000000001,{"$f":"VLOOKUP($A13,$A$28:$BY$1500,U$4,0)*IF('LowH2O DBH'!$J$5=data!$CB$8,0.9,1)","v":1807},3844,4117,5777,155,331,354,497,0.38917554699290247,1.7219838483818737,1.9648470126541058,3.8280696316652558,2.0829999999999999E-4,1.724,4,1.392796E-3,589,630,885,0.95,0.95,0.95,589,630,885,253,271,381,1.0162271216516092,1.1628994061160329,2.2700825079676186,2.8,9.6,10.5,16.100000000000001,0,2657,0,0.68,0,0,0,10.4,12.2,21.85,0,1,1,1,589,630,885,0,0,0,0,1,null,"26dB(A)",null,"ExtraTaal3",180,0,{"$f":"IF($CC$17=1,NL!$I3,IF($CC$17=2,EN!$I3,IF($CC$17=3,FR!$I3,IF($CC$17=4,DE!$I3,IF($CC$17=5,NR!$I3,IF($CC$17=6,SP!$I3,IF($CC$17=7,SW!$I3,IF($CC$17=8,TS!$I3,IF($CC$17=9,ExtraTaal1!$I3,IF($CC$17=10,ExtraTaal2!$I3,IF($CC$17=11,ExtraTaal3!$I3,)))))))))))","v":"Kopieer alle data"},null,null,180,null,null,180,null,null,180,null,null,180,null,null,180,null,null,null,null,null,null,null,null,null,null,null,null,null,null,null,{"$f":"IF($J$4=data!$CC$3,NL!$G$3,IF($J$4=data!$CC$4,EN!$G$3,IF($J$4=data!$CC$5,FR!$G$3,IF($J$4=data!$CC$6,DE!$G$3,IF($J$4=data!$CC$7,NR!$G$3,IF($J$4=data!$CC$8,SP!$G$3,IF($J$4=data!$CC$9,SW!$G$3,)))))))","v":0},null,null,{"$f":"'LowH2O DBH'!J13","v":0.5}]
[{"$f":"CONCATENATE($CB$9,'LowH2O DBH'!$K$6,$CD12,'LowH2O DBH'!$L$6)","v":"15016016"},null,null,1,50,160,16,16.5,0,26,30,46.4,2065.1600000000003,4417.9368883555589,4716.8848144627045,6723.7,1.5,1.1000000000000001,1.1000000000000001,1.1000000000000001,{"$f":"VLOOKUP($A14,$A$28:$BY$1500,U$4,0)*IF('LowH2O DBH'!$J$5=data!$CB$8,0.9,1)","v":2065},4418,4717,6724,178,380,406,578,0.52259583534871212,2.304157087904469,2.6233653218162551,5.2466408934953108,2.0829999999999999E-4,1.724,4,1.392796E-3,676,722,1030,0.95,0.95,0.95,676,722,1030,291,310,443,1.3661686148172167,1.5462621883682115,3.112728234709111,3.2,11.5,12.8,19.600000000000001,0,3037,0,0.68,0,0,0,10,11.8,21.85,0,1,1,1,676,722,1030,0,0,0,0,1,null,"30dB(A)",null,null,200,0,{"$f":"IF($CC$17=1,NL!$I4,IF($CC$17=2,EN!$I4,IF($CC$17=3,FR!$I4,IF($CC$17=4,DE!$I4,IF($CC$17=5,NR!$I4,IF($CC$17=6,SP!$I4,IF($CC$17=7,SW!$I4,IF($CC$17=8,TS!$I4,IF($CC$17=9,ExtraTaal1!$I4,IF($CC$17=10,ExtraTaal2!$I4,IF($CC$17=11,ExtraTaal3!$I4,)))))))))))","v":"SI-eenheden"},null,null,200,null,null,200,null,null,200,null,null,200,null,null,200]
[{"$f":"CONCATENATE($CB$9,'LowH2O DBH'!$K$6,$CD13,'LowH2O DBH'!$L$6)","v":"15018016"},null,null,{"$f":"VLOOKUP($A15,$A$28:$BY$1500,D$4,0)","v":1},50,180,16,16.5,0,26,30,46.4,2322.88,{"$f":"VLOOKUP($A15,$A$28:$BY$1500,N$4,0)","v":4843.4549704976926},5171.1963699821436,7371.3,1.5,1.1000000000000001,1.1000000000000001,1.1000000000000001,{"$f":"VLOOKUP($A15,$A$28:$BY$1500,U$4,0)*IF('LowH2O DBH'!$J$5=data!$CB$8,0.9,1)","v":2323},4843,5171,{"$f":"VLOOKUP($A15,$A$28:$BY$1500,X$4,0)","v":7371},200,417,445,634,0.67129343375571504,2.8182657536071059,3.2004400554381953,6.4023363853790576,2.0829999999999999E-4,{"$f":"VLOOKUP($A15,$A$28:$BY$1500,AH$4,0)","v":1.724},4,1.392796E-3,686.3088894339993,732.7492584003295,1044.5,0.95,0.95,0.95,686,{"$f":"VLOOKUP($A15,$A$28:$BY$1500,AR$4,0)","v":733},1045,295,315,449,1.4327504054076798,1.6285969093831283,3.2569852229594378,3.6,11.5,{"$f":"VLOOKUP($A15,$A$28:$BY$1500,BB$4,0)","v":12.8},19.600000000000001,0,3416,0,0.68,0,0,0,10,{"$f":"VLOOKUP($A15,$A$28:$BY$1500,BL$4,0)","v":11.8},21.85,0,1,1,1,686,733,1045,0,0,0,0,1,null,"MAX",null,null,220,0,{"$f":"IF($CC$17=1,NL!$I5,IF($CC$17=2,EN!$I5,IF($CC$17=3,FR!$I5,IF($CC$17=4,DE!$I5,IF($CC$17=5,NR!$I5,IF($CC$17=6,SP!$I5,IF($CC$17=7,SW!$I5,IF($CC$17=8,TS!$I5,IF($CC$17=9,ExtraTaal1!$I5,IF($CC$17=10,ExtraTaal2!$I5,IF($CC$17=11,ExtraTaal3!$I5,)))))))))))","v":"Imperiale-eenheden"},null,null,220,null,null,220,null,null,220,null,null,220,null,null,220]
[{"$f":"CONCATENATE($CB$9,'LowH2O DBH'!$K$6,$CD14,'LowH2O DBH'!$L$6)","v":"15020016"},null,null,1,50,200,16,16.5,0,26,30,47.1,2581.2800000000002,5667.1755761695722,5971.3549398587584,8617.7000000000007,1.5,1.1000000000000001,1.1000000000000001,1.1000000000000001,{"$f":"VLOOKUP($A16,$A$28:$BY$1500,U$4,0)*IF('LowH2O DBH'!$J$5=data!$CB$8,0.9,1)","v":2581},5667,5971,8618,222,487,514,741,0.84083505339440379,3.8886229634946341,4.3210309689101214,8.8377623616344323,2.0829999999999999E-4,1.724,4,1.392796E-3,868,914,1320,0.95,0.95,0.95,868,914,1320,373,393,568,2.3103470177002245,2.5582125224157561,5.2529022162438315,4,13.2,14.7,23.5,0,3796,0,0.68,0,0,0,10,11.4,21.85,0,1,1,1,868,914,1320,0,0,0,0,1,null,null,null,null,240,0,null,null,null,240,null,null,240,null,null,240,null,null,240,null,null,240,null,null,null,null,null,null,null,null,null,null,{"$f":"IF($J$4=data!$CC$3,NL!DF3,IF($J$4=data!$CC$4,EN!DF3,IF($J$4=data!$CC$5,FR!DF3,IF($J$4=data!$CC$6,DE!DF3,IF($J$4=data!$CC$7,NR!DF3,IF($J$4=data!$CC$8,SP!DF3,IF($J$4=data!$CC$9,SW!DF3,)))))))&\" [cm]\"","v":" [cm]"},{"$f":"IF($J$4=data!$CC$3,NL!DF19,IF($J$4=data!$CC$4,EN!DF19,IF($J$4=data!$CC$5,FR!DF19,IF($J$4=data!$CC$6,DE!DF19,IF($J$4=data!$CC$7,NR!DF19,IF($J$4=data!$CC$8,SP!DF19,IF($J$4=data!$CC$9,SW!DF19,)))))))","v":0},{"$f":"IF($J$4=data!$CC$3,NL!DG14,IF($J$4=data!$CC$4,EN!DG14,IF($J$4=data!$CC$5,FR!DG14,IF($J$4=data!$CC$6,DE!DG14,IF($J$4=data!$CC$7,NR!DG14,IF($J$4=data!$CC$8,SP!DG14,IF($J$4=data!$CC$9,SW!DG14,)))))))&IF(data!GD2=1,\" [W]\",IF(data!GD2=2,\" [Btu/h]\",))","v":""},{"$f":"IF($J$4=data!$CC$3,NL!DH14,IF($J$4=data!$CC$4,EN!DH14,IF($J$4=data!$CC$5,FR!DH14,IF($J$4=data!$CC$6,DE!DH14,IF($J$4=data!$CC$7,NR!DH14,IF($J$4=data!$CC$8,SP!DH14,IF($J$4=data!$CC$9,SW!DH14,)))))))&IF(data!GD2=1,\" [kg/h]\",IF(data!GD2=2,\" [GPM]**\",))","v":""},{"$f":"IF($J$4=data!$CC$3,NL!DJ6,IF($J$4=data!$CC$4,EN!DJ6,IF($J$4=data!$CC$5,FR!DJ6,IF($J$4=data!$CC$6,DE!DJ6,IF($J$4=data!$CC$7,NR!DJ6,IF($J$4=data!$CC$8,SP!DJ6,IF($J$4=data!$CC$9,SW!DJ6,)))))))&\" [\"&IF(data!GD2=1,\"kPa\",IF(data!GD2=2,\"ftH2O\"))&\"]\"","v":" [ONWAAR]"},{"$f":"IF($J$4=data!$CC$3,NL!DI14,IF($J$4=data!$CC$4,EN!DI14,IF($J$4=data!$CC$5,FR!DI14,IF($J$4=data!$CC$6,DE!DI14,IF($J$4=data!$CC$7,NR!DI14,IF($J$4=data!$CC$8,SP!DI14,IF($J$4=data!$CC$9,SW!DI14,)))))))&IF(data!GD2=1,\" [W]*\",IF(data!GD2=2,\" [Btu/h]*\",))","v":""},{"$f":"DI16","v":""},{"$f":"DJ16","v":" [ONWAAR]"},{"$f":"IF($J$4=data!$CC$3,NL!DM13,IF($J$4=data!$CC$4,EN!DM13,IF($J$4=data!$CC$5,FR!DM13,IF($J$4=data!$CC$6,DE!DM13,IF($J$4=data!$CC$7,NR!DM13,IF($J$4=data!$CC$8,SP!DM13,IF($J$4=data!$CC$9,SW!DM13,)))))))","v":0},{"$f":"IF($J$4=data!$CC$3,NL!DN13,IF($J$4=data!$CC$4,EN!DN13,IF($J$4=data!$CC$5,FR!DN13,IF($J$4=data!$CC$6,DE!DN13,IF($J$4=data!$CC$7,NR!DN13,IF($J$4=data!$CC$9,SW!DN13,))))))","v":0},{"$f":"IF($J$4=data!$CC$3,NL!DL13,IF($J$4=data!$CC$4,EN!DL13,IF($J$4=data!$CC$5,FR!DL13,IF($J$4=data!$CC$6,DE!DL13,IF($J$4=data!$CC$7,NR!DL13,IF($J$4=data!$CC$8,SP!DL13,IF($J$4=data!$CC$9,SW!DL13,)))))))","v":0},{"$f":"IF($J$4=data!$CC$3,NL!DK13,IF($J$4=data!$CC$4,EN!DK13,IF($J$4=data!$CC$5,FR!DK13,IF($J$4=data!$CC$6,DE!DK13,IF($J$4=data!$CC$7,NR!DK13,IF($J$4=data!$CC$8,SP!DK13,IF($J$4=data!$CC$9,SW!DK13,)))))))&IF(data!GD2=1,\" [l]\",IF(data!GD2=2,\" [Gal]**\",))","v":""}]
[{"$f":"CONCATENATE($CB$9,'LowH2O DBH'!$K$6,$CD15,'LowH2O DBH'!$L$6)","v":"15022016"},null,null,1,50,220,16,16.5,0,26,30,47.8,2648.5014492753626,6291.7251954043459,6553.83496101116,9564.7000000000007,1.5,1.1000000000000001,1.1000000000000001,1.1000000000000001,{"$f":"VLOOKUP($A17,$A$28:$BY$1500,U$4,0)*IF('LowH2O DBH'!$J$5=data!$CB$8,0.9,1)","v":2649},6292,6554,9565,228,541,564,823,0.90456998930286103,4.8599490065570379,5.2712218393505692,11.028120296891252,2.0829999999999999E-4,1.724,4,1.392796E-3,963.35813446001066,1003.4910975149082,1464.5,0.95,0.95,0.95,963,1003,1465,414,431,630,2.8848425296225417,3.1200973344986664,6.542211558205909,4.4000000000000004,15.5,16.8,27.5,0,3894.855072463768,0,0.68,0,0,0,10,11.1,21.85,0,1,1,1,963,1003,1465,0,0,0,0,1,null,null,null,{"$f":"IF('LowH2O DBH'!$J$4=data!CC3,1,IF('LowH2O DBH'!$J$4=data!CC4,2,IF('LowH2O DBH'!$J$4=data!CC5,3,IF('LowH2O DBH'!$J$4=data!CC6,4,IF('LowH2O DBH'!$J$4=data!CC7,5,IF('LowH2O DBH'!$J$4=data!CC8,6,IF('LowH2O DBH'!$J$4=data!CC9,7,IF('LowH2O DBH'!$J$4=data!CC10,8,IF('LowH2O DBH'!$J$4=data!CC11,9,IF('LowH2O DBH'!$J$4=data!CC12,10,IF('LowH2O DBH'!$J$4=data!CC13,11)))))))))))","v":1},260,0,null,null,null,260,null,null,260,null,null,260,null,null,260,null,null,260,null,null,null,null,null,null,null,null,null,null,{"$f":"CONCATENATE($J$5,\", \",$K$7, \" \",$K$6,\"cm, \",$L$7, \" \",$L$6)","v":{"$error":"#N/A"}},0,0,0,0,0,0,0,0,0,0,0]
[{"$f":"CONCATENATE($CB$9,'LowH2O DBH'!$K$6,$CD16,'LowH2O DBH'!$L$6)","v":"15024016"},null,null,1,50,240,16,16.5,0,26,30,48.1,3097.4,6916.3686790875245,7167.9744986485921,10511.7,1.5,1.1000000000000001,1.1000000000000001,1.1000000000000001,{"$f":"VLOOKUP($A18,$A$28:$BY$1500,U$4,0)*IF('LowH2O DBH'!$J$5=data!$CB$8,0.9,1)","v":3097},6916,7168,10512,266,595,616,904,1.2449094827936957,5.9505892618562521,6.3666227323503541,13.454619784961755,2.0829999999999999E-4,1.724,4,1.392796E-3,1059,1098,1610,0.95,0.95,0.95,1059,1098,1610,455,472,692,3.5300159430065703,3.7910912175214273,7.987173009623401,4.8,16.399999999999999,17.7,29.7,0,4555,0,0.68,0,0,0,10,10.9,21.85,0,1,1,1,1059,1098,1610,0,0,0,0,1,null,null,null,null,280,0,null,null,null,280,null,null,280,null,null,280,null,null,280,null,null,280,null,null,null,null,null,null,null,null,null,null,{"$f":"IF(data!$CB$6=5,\"N.v.t.\",50)","v":50},{"$f":"BJ5","v":{"$error":"#N/A"}},{"$f":"ROUND(IF($BZ$2=1,U5,IF($BZ$2=2,U5*3.412141633,)),0)","v":{"$error":"#N/A"}},{"$f":"IF($BZ$2=1,ROUND(Y5,0),IF($BZ$2=2,ROUND(Y5/272.7654,1),))","v":{"$error":"#N/A"}},{"$f":"IF($BZ$2=1,AC5,IF($BZ$2=2,AC5*0.3346,))","v":{"$error":"#N/A"}},null,null,null,0,0,0,{"$f":"IF($BZ$2=1,AZ5,IF($BZ$2=2,AZ5/4.54609,))","v":{"$error":"#N/A"}}]
[{"$f":"CONCATENATE($CB$9,'LowH2O DBH'!$K$6,$CD17,'LowH2O DBH'!$L$6)","v":"15026016"},null,null,1,50,260,16,16.5,0,26,30,48.1,3207.5065168539327,7342.4691534710291,7609.5768181679023,11159.300000000001,1.5,1.1000000000000001,1.1000000000000001,1.1000000000000001,{"$f":"VLOOKUP($A19,$A$28:$BY$1500,U$4,0)*IF('LowH2O DBH'!$J$5=data!$CB$8,0.9,1)","v":3208},7342,7610,11159,276,631,654,960,1.3635971028929672,6.7819280650427034,7.2711118135096351,15.356693366889139,2.0829999999999999E-4,1.724,4,1.392796E-3,1068.8700133353962,1107.7538502516963,1624.5,0.95,0.95,0.95,1069,1108,1625,460,476,699,3.66947790801381,3.9213280612116019,8.2763568685468254,5.2,16.399999999999999,17.7,29.7,0,4716.9213483146068,0,0.68,0,0,0,10,10.9,21.85,0,1,1,1,1069,1108,1625,0,0,0,0,1,null,null,null,null,0,0,null,null,null,300,null,null,null,null,null,null,null,null,300,null,null,300,null,null,null,null,null,null,null,null,null,null,{"$f":"IF(data!$CB$6=5,\"N.v.t.\",50)","v":50},{"$f":"BK5","v":{"$error":"#N/A"}},{"$f":"ROUND(IF($BZ$2=1,V5,IF($BZ$2=2,V5*3.412141633,)),0)","v":{"$error":"#N/A"}},{"$f":"IF($BZ$2=1,ROUND(Z5,0),IF($BZ$2=2,ROUND(Z5/272.7654,1),))","v":{"$error":"#N/A"}},{"$f":"IF($BZ$2=1,AD5,IF($BZ$2=2,AD5*0.3346,))","v":{"$error":"#N/A"}},{"$f":"IF(BY5=1,ROUND(IF($BZ$2=1,AQ5,IF($BZ$2=2,AQ5*3.412141633,)),0),\"\")","v":{"$error":"#N/A"}},{"$f":"IF(BY5=1,IF($BZ$2=1,ROUND(AT5,0),IF($BZ$2=2,ROUND(AT5/272.7654,1),)),\"\")","v":{"$error":"#N/A"}},{"$f":"IF(BY5=1,IF($BZ$2=1,AW5,IF($BZ$2=2,AW5*0.3346,)),\"\")","v":{"$error":"#N/A"}},{"$f":"J5","v":{"$error":"#N/A"}},{"$f":"DN19+8","v":{"$error":"#N/A"}},{"$f":"BA5","v":{"$error":"#N/A"}},{"$f":"DQ18","v":{"$error":"#N/A"}}]
[{"$f":"CONCATENATE($CB$9,'LowH2O DBH'!$K$6,$CD18,'LowH2O DBH'!$L$6)","v":"15028016"},null,null,1,50,280,16,16.5,0,26,30,48.9,3613.5200000000004,8165.5551181941737,8348.321999442087,12405.7,1.5,1.1000000000000001,1.1000000000000001,1.1000000000000001,{"$f":"VLOOKUP($A20,$A$28:$BY$1500,U$4,0)*IF('LowH2O DBH'!$J$5=data!$CB$8,0.9,1)","v":3614},8166,8348,12406,311,702,718,1067,1.7504351207217188,8.4774891611896983,8.8569732543318711,19.143477613141926,2.0829999999999999E-4,1.724,4,1.392796E-3,1250,1278,1900,0.95,0.95,0.95,1250,1278,1900,538,550,817,5.0575445569651576,5.2786547361922693,11.385263573722288,5.6,19.3,20.399999999999999,34.5,0,5314,0,0.68,0,0,0,10,10.6,21.85,0,1,1,1,1250,1278,1900,0,0,0,0,1,null,null,null,null,0,{"$f":"IF($CB$9=1,CK7,IF($CB$9=2,CN7,IF($CB$9=3,CQ7,IF($CB$9=4,CH7,))))","v":0},null,null,null,null,null,null,null,null,1,2,3,4,5,6,7,8,9,null,null,null,null,null,null,null,null,null,{"$f":"IF(data!$CB$6=5,\"N.v.t.\",50)","v":50},{"$f":"BL5","v":{"$error":"#N/A"}},{"$f":"ROUND(IF($BZ$2=1,W5,IF($BZ$2=2,W5*3.412141633,)),0)","v":{"$error":"#N/A"}},{"$f":"IF($BZ$2=1,ROUND(AA5,0),IF($BZ$2=2,ROUND(AA5/272.7654,1),))","v":{"$error":"#N/A"}},{"$f":"IF($BZ$2=1,AE5,IF($BZ$2=2,AE5*0.3346,))","v":{"$error":"#N/A"}},{"$f":"IF(BY5=1,ROUND(IF($BZ$2=1,AR5,IF($BZ$2=2,AR5*3.412141633,)),0),\"\")","v":{"$error":"#N/A"}},{"$f":"IF(BY5=1,IF($BZ$2=1,ROUND(AU5,0),IF($BZ$2=2,ROUND(AU5/272.7654,1),)),\"\")","v":{"$error":"#N/A"}},{"$f":"IF(BY5=1,IF($BZ$2=1,AX5,IF($BZ$2=2,AX5*0.3346,)),\"\")","v":{"$error":"#N/A"}},{"$f":"K5","v":{"$error":"#N/A"}},{"$f":"L5","v":{"$error":"#N/A"}},{"$f":"BB5","v":{"$error":"#N/A"}},{"$f":"DQ18","v":{"$error":"#N/A"}}]
[{"$f":"CONCATENATE($CB$9,'LowH2O DBH'!$K$6,$CD19,'LowH2O DBH'!$L$6)","v":"150016"},null,null,{"$error":"#N/A"},{"$error":"#N/A"},{"$error":"#N/A"},{"$error":"#N/A"},{"$error":"#N/A"},{"$error":"#N/A"},{"$error":"#N/A"},{"$error":"#N/A"},{"$error":"#N/A"},{"$error":"#N/A"},{"$error":"#N/A"},{"$error":"#N/A"},{"$error":"#N/A"},{"$error":"#N/A"},{"$error":"#N/A"},{"$error":"#N/A"},{"$error":"#N/A"},{"$f":"VLOOKUP($A21,$A$28:$BY$1500,U$4,0)*IF('LowH2O DBH'!$J$5=data!$CB$8,0.9,1)","v":{"$error":"#N/A"}},{"$error":"#N/A"},{"$error":"#N/A"},{"$error":"#N/A"},{"$error":"#N/A"},{"$error":"#N/A"},{"$error":"#N/A"},{"$error":"#N/A"},{"$error":"#N/A"},{"$error":"#N/A"},{"$error":"#N/A"},{"$error":"#N/A"},{"$error":"#N/A"},{"$error":"#N/A"},{"$error":"#N/A"},{"$error":"#N/A"},{"$error":"#N/A"},{"$error":"#N/A"},{"$error":"#N/A"},{"$error":"#N/A"},{"$error":"#N/A"},{"$error":"#N/A"},{"$error":"#N/A"},{"$error":"#N/A"},{"$error":"#N/A"},{"$error":"#N/A"},{"$error":"#N/A"},{"$error":"#N/A"},{"$error":"#N/A"},{"$error":"#N/A"},{"$error":"#N/A"},{"$error":"#N/A"},{"$error":"#N/A"},{"$error":"#N/A"},{"$error":"#N/A"},{"$error":"#N/A"},{"$error":"#N/A"},{"$error":"#N/A"},{"$error":"#N/A"},{"$error":"#N/A"},{"$error":"#N/A"},{"$error":"#N/A"},{"$error":"#N/A"},{"$error":"#N/A"},{"$error":"#N/A"},{"$error":"#N/A"},{"$error":"#N/A"},{"$error":"#N/A"},{"$error":"#N/A"},{"$error":"#N/A"},{"$error":"#N/A"},{"$error":"#N/A"},{"$error":"#N/A"},{"$error":"#N/A"},{"$error":"#N/A"},{"$error":"#N/A"},{"$error":"#N/A"},null,null,null,null,null,{"$f":"IF($CB$9=1,CK8,IF($CB$9=2,CN8,IF($CB$9=3,CQ8,IF($CB$9=4,CH8,))))","v":0},null,null,null,null,null,null,null,null,null,null,null,{"$f":"VLOOKUP($A$24,$CN$23:$CV$56,CQ$20,0)","v":{"$error":"#N/A"}},{"$error":"#N/A"},{"$error":"#N/A"},{"$error":"#N/A"},{"$error":"#N/A"},{"$error":"#N/A"},null,null,null,null,null,null,null,null,null,{"$f":"IF(data!$CB$6=5,\"N.v.t.\",50)","v":50},{"$f":"BM5","v":{"$error":"#N/A"}},{"$f":"ROUND(IF($BZ$2=1,X5,IF($BZ$2=2,X5*3.412141633,)),0)","v":{"$error":"#N/A"}},{"$f":"IF($BZ$2=1,ROUND(AB5,0),IF($BZ$2=2,ROUND(AB5/272.7654,1),))","v":{"$error":"#N/A"}},{"$f":"IF($BZ$2=1,AF5,IF($BZ$2=2,AF5*0.3346,))","v":{"$error":"#N/A"}},{"$f":"IF(BY5=1,ROUND(IF($BZ$2=1,AS5,IF($BZ$2=2,AS5*3.412141633,)),0),\"\")","v":{"$error":"#N/A"}},{"$f":"IF(BY5=1,IF($BZ$2=1,ROUND(AV5,0),IF($BZ$2=2,ROUND(AV5/272.7654,1),)),\"\")","v":{"$error":"#N/A"}},{"$f":"IF(BY5=1,IF($BZ$2=1,AY5,IF($BZ$2=2,AY5*0.3346,)),\"\")","v":{"$error":"#N/A"}},{"$f":"L5","v":{"$error":"#N/A"}},{"$f":"DN21+8","v":{"$error":"#N/A"}},{"$f":"BC5","v":{"$error":"#N/A"}},{"$f":"DQ18","v":{"$error":"#N/A"}}]
[null,null,null,null,null,null,null,null,null,null,null,null,null,null,null,null,null,null,null,null,null,null,null,null,null,null,null,null,null,null,null,null,null,null,null,null,null,null,null,null,null,null,null,null,null,null,null,null,null,null,null,null,null,null,null,null,null,null,null,null,null,null,null,null,null,null,null,null,null,null,null,null,null,null,null,null,null,null,null,null,null,null,{"$f":"IF($CB$9=1,CK9,IF($CB$9=2,CN9,IF($CB$9=3,CQ9,IF($CB$9=4,CH9,))))","v":0},null,null,null,null,null,null,null,null,null,"Raillengte","Railtype","BMS-stuurspanningen",null,null,"Opgenomen elektrisch vermogen",null,null,null,null,null,null,null,null,null,null,null,{"$f":"IF(data!$CB$9=5,81,60)","v":60},{"$f":"BJ6","v":0},{"$f":"ROUND(IF($BZ$2=1,U6,IF($BZ$2=2,U6*3.412141633,)),0)","v":775},{"$f":"IF($BZ$2=1,ROUND(Y6,0),IF($BZ$2=2,ROUND(Y6/272.7654,1),))","v":67},{"$f":"IF($BZ$2=1,AC6,IF($BZ$2=2,AC6*0.3346,))","v":6.650928759934463E-2},null,null,null,0,0,0,{"$f":"IF($BZ$2=1,AZ6,IF($BZ$2=2,AZ6/4.54606,))","v":1.2}]
[null,null,null,null,null,null,null,null,null,null,null,null,null,null,null,null,null,null,null,null,null,null,null,null,null,null,null,null,null,null,null,null,null,null,null,null,null,null,null,null,null,null,null,null,null,null,null,null,null,null,null,null,null,null,null,null,null,null,null,null,null,null,null,null,null,null,null,null,null,null,null,null,null,null,null,null,null,null,null,null,null,null,null,null,null,null,null,null,null,null,null,{"$f":"CONCATENATE(CO23,CP23)","v":"5010"},50,10,14.2,16.2,21.85,3.6,4.0999999999999996,5.0999999999999996,null,null,null,null,null,null,null,null,null,{"$f":"DF22","v":60},{"$f":"BK6","v":12.3},{"$f":"ROUND(IF($BZ$2=1,V6,IF($BZ$2=2,V6*3.412141633,)),0)","v":1400},{"$f":"IF($BZ$2=1,ROUND(Z6,0),IF($BZ$2=2,ROUND(Z6/272.7654,1),))","v":120},{"$f":"IF($BZ$2=1,AD6,IF($BZ$2=2,AD6*0.3346,))","v":0.21085507991814395},{"$f":"IF(BY6=1,ROUND(IF($BZ$2=1,AQ6,IF($BZ$2=2,AQ6*3.412141633,)),0),\"\")","v":214},{"$f":"IF(BY6=1,IF($BZ$2=1,ROUND(AT6,0),IF($BZ$2=2,ROUND(AT6/272.7654,1),)),\"\")","v":92},{"$f":"IF(BY6=1,IF($BZ$2=1,AW6,IF($BZ$2=2,AW6*0.3346,)),\"\")","v":0.12457564927087089},{"$f":"J6","v":26},{"$f":"DN23+8","v":34},{"$f":"BA6","v":4.8},{"$f":"DQ22","v":1.2}]
[null,null,null,null,null,null,null,null,null,null,null,null,null,null,null,null,null,null,null,null,null,null,null,null,null,null,null,null,null,null,null,null,null,null,null,null,null,null,null,null,null,null,null,null,null,null,null,null,null,null,null,null,null,null,null,null,null,null,null,null,null,null,null,null,null,null,null,null,null,null,null,null,null,null,null,null,null,null,null,null,null,null,null,null,null,null,null,null,null,null,null,{"$f":"CONCATENATE(CO24,CP24)","v":"5015"},50,15,0,0,0,0,0,0,null,null,null,null,null,null,null,null,null,{"$f":"DF22","v":60},{"$f":"BL6","v":14.4},{"$f":"ROUND(IF($BZ$2=1,W6,IF($BZ$2=2,W6*3.412141633,)),0)","v":1503},{"$f":"IF($BZ$2=1,ROUND(AA6,0),IF($BZ$2=2,ROUND(AA6/272.7654,1),))","v":129},{"$f":"IF($BZ$2=1,AE6,IF($BZ$2=2,AE6*0.3346,))","v":0.24334273125065864},{"$f":"IF(BY6=1,ROUND(IF($BZ$2=1,AR6,IF($BZ$2=2,AR6*3.412141633,)),0),\"\")","v":230},{"$f":"IF(BY6=1,IF($BZ$2=1,ROUND(AU6,0),IF($BZ$2=2,ROUND(AU6/272.7654,1),)),\"\")","v":99},{"$f":"IF(BY6=1,IF($BZ$2=1,AX6,IF($BZ$2=2,AX6*0.3346,)),\"\")","v":0.14404410806926615},{"$f":"K6","v":30},{"$f":"DN24+8","v":38},{"$f":"BB6","v":5.5},{"$f":"DQ22","v":1.2}]
[null,null,null,null,null,null,null,null,null,null,null,null,null,null,null,null,null,null,null,null,null,null,null,null,null,null,null,null,null,null,null,null,null,null,null,null,null,null,null,null,null,null,null,null,null,null,null,null,null,null,null,null,null,null,null,null,null,null,null,null,null,null,null,null,null,null,null,null,null,null,null,null,null,null,null,null,null,null,null,null,null,null,null,null,null,null,null,null,null,null,null,"6010",60,10,13.6,15.6,21.85,4.8,5.4,6.8,null,null,null,null,null,null,null,null,null,{"$f":"DF22","v":60},{"$f":"BM6","v":21.85},{"$f":"ROUND(IF($BZ$2=1,X6,IF($BZ$2=2,X6*3.412141633,)),0)","v":1989},{"$f":"IF($BZ$2=1,ROUND(AB6,0),IF($BZ$2=2,ROUND(AB6/272.7654,1),))","v":171},{"$f":"IF($BZ$2=1,AF6,IF($BZ$2=2,AF6*0.3346,))","v":0.42546271730679758},{"$f":"IF(BY6=1,ROUND(IF($BZ$2=1,AS6,IF($BZ$2=2,AS6*3.412141633,)),0),\"\")","v":305},{"$f":"IF(BY6=1,IF($BZ$2=1,ROUND(AV6,0),IF($BZ$2=2,ROUND(AV6/272.7654,1),)),\"\")","v":131},{"$f":"IF(BY6=1,IF($BZ$2=1,AY6,IF($BZ$2=2,AY6*0.3346,)),\"\")","v":0.25087593311274681},{"$f":"L6","v":41.1},{"$f":"DN25+8","v":49.1},{"$f":"BC6","v":7.2},{"$f":"DQ22","v":1.2}]
[null,null,null,null,null,null,null,null,"soundpressure level",null,null,null,"power","75/65/20",null,null,"n",null,null,null,"result","power",null,null,"result","flow",null,null,"static pressure loss",null,null,null,null,null,null,null,"power","16/18/27",null,"n",null,null,"result","power",null,"result","flow",null,"static pressure loss",null,null,null,"electrical power nominal",null,null,null,"oude cataloog",null,"Statisch met rail / statisch cataloog",null,null,null,null,"BMS-stuurspanning",null,null,"Sensible heat factor",null,null,"Total cooling capacity",null,null,null,"Diff. Total and sensible",null,null,"Show or not",null,null,null,null,null,null,null,null,null,null,null,null,null,null,"6015",60,15,12.3,14.4,21.85,4.8,5.5,7.2,null,null,null,null,null,null,null,null,null,{"$f":"IF(data!$CB$9=5,101,70)","v":70},{"$f":"BJ7","v":0},{"$f":"ROUND(IF($BZ$2=1,U7,IF($BZ$2=2,U7*3.412141633,)),0)","v":904},{"$f":"IF($BZ$2=1,ROUND(Y7,0),IF($BZ$2=2,ROUND(Y7/272.7654,1),))","v":78},{"$f":"IF($BZ$2=1,AC7,IF($BZ$2=2,AC7*0.3346,))","v":9.1341867693011378E-2},null,null,null,0,0,0,{"$f":"IF($BZ$2=1,AZ7,IF($BZ$2=2,AZ7/4.54609,))","v":1.4}]
["lookup code","L,rail","T,rail","toestel","height","length","type","depth",0,1,2,3,0,1,2,3,0,1,2,3,0,1,2,3,0,1,2,3,0,1,2,3,"k1","n","t","k2",1,2,3,1,2,3,1,2,3,1,2,3,1,2,3,"watervolume",1,2,3,null,"Static,H","Static,C",null,null,null,0,1,2,3,null,"SHF 1","SHF 2","SHF 3","Q,t 1","Q,t 2","Q,t 3",null,"ΔQ,t,s 1","ΔQ,t,s 2","ΔQ,t,s 3","OK/NOTOK",null,null,null,null,null,null,null,null,null,null,null,null,null,null,"7010",70,10,13.2,15.1,21.85,5.5,5.9,7.9,null,null,null,null,null,null,null,null,null,{"$f":"DF26","v":70},{"$f":"BK7","v":12.3},{"$f":"ROUND(IF($BZ$2=1,V7,IF($BZ$2=2,V7*3.412141633,)),0)","v":1628},{"$f":"IF($BZ$2=1,ROUND(Z7,0),IF($BZ$2=2,ROUND(Z7/272.7654,1),))","v":140},{"$f":"IF($BZ$2=1,AD7,IF($BZ$2=2,AD7*0.3346,))","v":0.2902779131483183},{"$f":"IF(BY7=1,ROUND(IF($BZ$2=1,AQ7,IF($BZ$2=2,AQ7*3.412141633,)),0),\"\")","v":220},{"$f":"IF(BY7=1,IF($BZ$2=1,ROUND(AT7,0),IF($BZ$2=2,ROUND(AT7/272.7654,1),)),\"\")","v":95},{"$f":"IF(BY7=1,IF($BZ$2=1,AW7,IF($BZ$2=2,AW7*0.3346,)),\"\")","v":0.1348444213322838},{"$f":"J7","v":26},{"$f":"DN27+8","v":34},{"$f":"BA7","v":5.0999999999999996},{"$f":"DQ26","v":1.4}]
[{"$f":"CONCATENATE(D28,E28,F28,G28)","v":"1355010"},null,null,1,35,50,10,11.5,0,26,30,38.799999999999997,{"$f":"IF($N28-($BE28*$BG28)>100,$BE28*$BG28,$N28-95)","v":404.1},649,695,812,1.5,{"$f":"IF($G28=10,1.08,IF($G28=11,1.1,IF($G28=15,1.08,IF($G28=16,1.1,IF($G28=20,1.08,IF($G28=21,1.05))))))","v":1.08},{"$f":"IF($G28=10,1.08,IF($G28=11,1.1,IF($G28=15,1.08,IF($G28=16,1.1,IF($G28=20,1.08,IF($G28=21,1.05))))))","v":1.08},1.08,{"$f":"ROUND(M28*POWER(CF_heat,Q28),0)","v":404},{"$f":"ROUND(N28*POWER(CF_heat,R28),0)","v":649},{"$f":"ROUND(O28*POWER(CF_heat,S28),0)","v":695},{"$f":"ROUND(P28*POWER(CF_heat,T28),0)","v":812},{"$f":"ROUND(U28*3600/(4186*ABS($O$1-$O$2)),0)","v":35},{"$f":"ROUND(V28*3600/(4186*ABS($O$1-$O$2)),0)","v":56},{"$f":"ROUND(W28*3600/(4186*ABS($O$1-$O$2)),0)","v":60},{"$f":"ROUND(X28*3600/(4186*ABS($O$1-$O$2)),0)","v":70},{"$f":"(($AG28*(Y28^$AH28)*((($F28-14.4)*$AI28)/100))+($AJ28*(Y28^2)))*0.0098","v":5.7304678742851828E-3},{"$f":"(($AG28*(Z28^$AH28)*((($F28-14.4)*$AI28)/100))+($AJ28*(Z28^2)))*0.0098","v":1.4273569595905599E-2},1.6323323223458832E-2,2.2034348729889495E-2,{"$f":"IF($G28=$CO$103,CP$103,IF($G28=$CO$104,CP$104,IF($G28=$CO$105,CP$105,IF($G28=$CO$107,CP$107,IF($G28=$CO$108,CP$108,IF($G28=$CO$109,CP$109,IF($G28=$CO$111,CP$111,IF($G28=$CO$112,CP$112,IF($G28=$CO$113,CP$113,IF($G28=$CO$115,CP$115,IF($G28=$CO$116,CP$116,IF($G28=$CO$117,CP$117,IF($G28=$CO$119,CP$119,IF($G28=$CO$120,CP$120,))))))))))))))","v":3.969E-4},{"$f":"IF($G28=$CO$103,CQ$103,IF($G28=$CO$104,CQ$104,IF($G28=$CO$105,CQ$105,IF($G28=$CO$107,CQ$107,IF($G28=$CO$108,CQ$108,IF($G28=$CO$109,CQ$109,IF($G28=$CO$111,CQ$111,IF($G28=$CO$112,CQ$112,IF($G28=$CO$113,CQ$113,IF($G28=$CO$115,CQ$115,IF($G28=$CO$116,CQ$116,IF($G28=$CO$117,CQ$117,IF($G28=$CO$119,CQ$119,IF($G28=$CO$120,CQ$120,))))))))))))))","v":1.7345999999999999},{"$f":"IF($G28=$CO$103,CR$103,IF($G28=$CO$104,CR$104,IF($G28=$CO$105,CR$105,IF($G28=$CO$107,CR$107,IF($G28=$CO$108,CR$108,IF($G28=$CO$109,CR$109,IF($G28=$CO$111,CR$111,IF($G28=$CO$112,CR$112,IF($G28=$CO$113,CR$113,IF($G28=$CO$115,CR$115,IF($G28=$CO$116,CR$116,IF($G28=$CO$117,CR$117,IF($G28=$CO$119,CR$119,IF($G28=$CO$120,CR$120,))))))))))))))","v":2},{"$f":"IF($G28=$CO$103,CS$103,IF($G28=$CO$104,CS$104,IF($G28=$CO$105,CS$105,IF($G28=$CO$107,CS$107,IF($G28=$CO$108,CS$108,IF($G28=$CO$109,CS$109,IF($G28=$CO$111,CS$111,IF($G28=$CO$112,CS$112,IF($G28=$CO$113,CS$113,IF($G28=$CO$115,CS$115,IF($G28=$CO$116,CS$116,IF($G28=$CO$117,CS$117,IF($G28=$CO$119,CS$119,IF($G28=$CO$120,CS$120,))))))))))))))","v":3.6734700000000002E-4},90.020119234756137,96.328259324977694,112.64,{"$f":"IF($G28=10,0.98,IF($G28=11,0.95,IF($G28=15,1.01,IF($G28=16,0.95,IF($G28=20,0.95,IF($G28=21,0.85))))))","v":0.98},{"$f":"IF($G28=10,0.98,IF($G28=11,0.95,IF($G28=15,1.01,IF($G28=16,0.95,IF($G28=20,0.95,IF($G28=21,0.85))))))","v":0.98},0.98,{"$f":"ROUND(AK28*POWER(CF_cool,AN28),0)","v":90},{"$f":"ROUND(AL28*POWER(CF_cool,AO28),0)","v":96},{"$f":"ROUND(AM28*POWER(CF_cool,AP28),0)","v":113},{"$f":"ROUND(AQ28*3600/(4186*ABS($AM$1-$AM$2)),0)","v":39},{"$f":"ROUND(AR28*3600/(4186*ABS($AM$1-$AM$2)),0)","v":41},{"$f":"ROUND(AS28*3600/(4186*ABS($AM$1-$AM$2)),0)","v":49},{"$f":"(($AG28*(AT28^$AH28)*((($F28-14.4)*$AI28)/100))+($AJ28*(AT28^2)))*0.0098","v":7.0687185128054265E-3},{"$f":"(($AG28*(AU28^$AH28)*((($F28-14.4)*$AI28)/100))+($AJ28*(AU28^2)))*0.0098","v":7.7890899379448103E-3},1.1010617958771767E-2,{"$f":"ROUND(IF(G28=10,$CO$92*F28,IF(G28=11,$CO$93*F28,IF(G28=15,$CO$94*F28,IF(G28=16,$CO$95*F28,IF(G28=20,$CO$96*F28,IF(G28=21,$CO$97*F28,)))))),1)","v":0.3},3.6,4.0999999999999996,5.0999999999999996,null,449,null,{"$f":"IF(G28=10,0.9,IF(G28=11,0.68,IF(G28=15,0.8,IF(G28=16,0.68,IF(G28=20,0.8,IF(G28=21,0.8))))))","v":0.9},null,null,0,14.2,16.2,21.85,null,{"$f":"IF((237.3*LN(($AQ$1*EXP(17.27*($AM$3/($AM$3+237.3))))))/(17.27-LN(($AQ$1*EXP(17.27*($AM$3/($AM$3+237.3))))))<(($AM$1+$AM$2)/2),1,IF(1/(1+((2258*((0.622/((101325/(1*611*EXP(17.27*((($AM$1+$AM$2)/2)/((($AM$1+$AM$2)/2)+237.3))))))-1)*1000-(0.622/((101325/($AQ$1*611*EXP(17.27*($AM$3/($AM$3+237.3))))))-1)*1000))/(1005*((($AM$1+$AM$2)/2)-$AM$3))))>1,1,1/(1+((2258*((0.622/((101325/(1*611*EXP(17.27*((($AM$1+$AM$2)/2)/((($AM$1+$AM$2)/2)+237.3))))))-1)*1000-(0.622/((101325/($AQ$1*611*EXP(17.27*($AM$3/($AM$3+237.3))))))-1)*1000))/(1005*((($AM$1+$AM$2)/2)-$AM$3))))))","v":1},{"$f":"IF((237.3*LN(($AQ$1*EXP(17.27*($AM$3/($AM$3+237.3))))))/(17.27-LN(($AQ$1*EXP(17.27*($AM$3/($AM$3+237.3))))))<(($AM$1+$AM$2)/2),1,IF(1/(1+((2258*((0.622/((101325/(1*611*EXP(17.27*((($AM$1+$AM$2)/2)/((($AM$1+$AM$2)/2)+237.3))))))-1)*1000-(0.622/((101325/($AQ$1*611*EXP(17.27*($AM$3/($AM$3+237.3))))))-1)*1000))/(1005*((($AM$1+$AM$2)/2)-$AM$3))))>1,1,1/(1+((2258*((0.622/((101325/(1*611*EXP(17.27*((($AM$1+$AM$2)/2)/((($AM$1+$AM$2)/2)+237.3))))))-1)*1000-(0.622/((101325/($AQ$1*611*EXP(17.27*($AM$3/($AM$3+237.3))))))-1)*1000))/(1005*((($AM$1+$AM$2)/2)-$AM$3))))))","v":1},1,{"$f":"AQ28/BO28","v":90},{"$f":"AR28/BP28","v":96},{"$f":"AS28/BQ28","v":113},null,{"$f":"BR28-AQ28","v":0},{"$f":"BS28-AR28","v":0},{"$f":"BT28-AS28","v":0},{"$f":"IF(SUM(BV28:BX28)=0,1,0)","v":1},null,null,null,null,null,null,null,null,null,null,null,null,null,null,"7015",70,15,12.3,14.4,21.85,5.0999999999999996,5.6,7.2,null,null,null,null,null,null,null,null,null,{"$f":"DF26","v":70},{"$f":"BL7","v":14.4},{"$f":"ROUND(IF($BZ$2=1,W7,IF($BZ$2=2,W7*3.412141633,)),0)","v":1747},{"$f":"IF($BZ$2=1,ROUND(AA7,0),IF($BZ$2=2,ROUND(AA7/272.7654,1),))","v":150},{"$f":"IF($BZ$2=1,AE7,IF($BZ$2=2,AE7*0.3346,))","v":0.33273460547085354},{"$f":"IF(BY7=1,ROUND(IF($BZ$2=1,AR7,IF($BZ$2=2,AR7*3.412141633,)),0),\"\")","v":236},{"$f":"IF(BY7=1,IF($BZ$2=1,ROUND(AU7,0),IF($BZ$2=2,ROUND(AU7/272.7654,1),)),\"\")","v":101},{"$f":"IF(BY7=1,IF($BZ$2=1,AX7,IF($BZ$2=2,AX7*0.3346,)),\"\")","v":0.1521944098151945},{"$f":"K7","v":30},{"$f":"DN28+8","v":38},{"$f":"BB7","v":5.6},{"$f":"DQ26","v":1.4}]
[{"$f":"CONCATENATE(D29,E29,F29,G29)","v":"1505010"},null,null,1,50,50,10,11.5,0,26,30,38.799999999999997,484.2,649,695,812,1.5,{"$f":"IF($G29=10,1.08,IF($G29=11,1.1,IF($G29=15,1.08,IF($G29=16,1.1,IF($G29=20,1.08,IF($G29=21,1.05))))))","v":1.08},1.08,1.08,484,649,695,812,42,56,60,70,{"$f":"(($AG29*(Y29^$AH29)*((($F29-14.4)*$AI29)/100))+($AJ29*(Y29^2)))*0.0098","v":8.1620556012534182E-3},{"$f":"(($AG29*(Z29^$AH29)*((($F29-14.4)*$AI29)/100))+($AJ29*(Z29^2)))*0.0098","v":1.4273569595905599E-2},{"$f":"(($AG29*(AA29^$AH29)*((($F29-14.4)*$AI29)/100))+($AJ29*(AA29^2)))*0.0098","v":1.6323323223458832E-2},{"$f":"(($AG29*(AB29^$AH29)*((($F29-14.4)*$AI29)/100))+($AJ29*(AB29^2)))*0.0098","v":2.2034348729889495E-2},3.969E-4,1.7345999999999999,2,3.6734700000000002E-4,90.020119234756137,96.328259324977694,112.64,0.98,0.98,0.98,90,96,113,39,41,49,{"$f":"(($AG29*(AT29^$AH29)*((($F29-14.4)*$AI29)/100))+($AJ29*(AT29^2)))*0.0098","v":7.0687185128054265E-3},{"$f":"(($AG29*(AU29^$AH29)*((($F29-14.4)*$AI29)/100))+($AJ29*(AU29^2)))*0.0098","v":7.7890899379448103E-3},{"$f":"(($AG29*(AV29^$AH29)*((($F29-14.4)*$AI29)/100))+($AJ29*(AV29^2)))*0.0098","v":1.1010617958771767E-2},0.3,3.6,4.0999999999999996,5.0999999999999996,null,538,null,0.9,null,null,0,14.2,16.2,21.85,null,{"$f":"IF((237.3*LN(($AQ$1*EXP(17.27*($AM$3/($AM$3+237.3))))))/(17.27-LN(($AQ$1*EXP(17.27*($AM$3/($AM$3+237.3))))))<(($AM$1+$AM$2)/2),1,IF(1/(1+((2258*((0.622/((101325/(1*611*EXP(17.27*((($AM$1+$AM$2)/2)/((($AM$1+$AM$2)/2)+237.3))))))-1)*1000-(0.622/((101325/($AQ$1*611*EXP(17.27*($AM$3/($AM$3+237.3))))))-1)*1000))/(1005*((($AM$1+$AM$2)/2)-$AM$3))))>1,1,1/(1+((2258*((0.622/((101325/(1*611*EXP(17.27*((($AM$1+$AM$2)/2)/((($AM$1+$AM$2)/2)+237.3))))))-1)*1000-(0.622/((101325/($AQ$1*611*EXP(17.27*($AM$3/($AM$3+237.3))))))-1)*1000))/(1005*((($AM$1+$AM$2)/2)-$AM$3))))))","v":1},1,1,90,{"$f":"AR29/BP29","v":96},{"$f":"AS29/BQ29","v":113},null,{"$f":"BR29-AQ29","v":0},0,0,{"$f":"IF(SUM(BV29:BX29)=0,1,0)","v":1},null,null,null,null,null,null,null,null,null,null,null,null,null,null,"8010",80,10,12.8,14.7,21.85,6.3,6.8,9.1,null,null,null,null,null,null,null,null,null,{"$f":"DF26","v":70},{"$f":"BM7","v":21.85},{"$f":"ROUND(IF($BZ$2=1,X7,IF($BZ$2=2,X7*3.412141633,)),0)","v":2313},{"$f":"IF($BZ$2=1,ROUND(AB7,0),IF($BZ$2=2,ROUND(AB7/272.7654,1),))","v":199},{"$f":"IF($BZ$2=1,AF7,IF($BZ$2=2,AF7*0.3346,))","v":0.58224305620495909},{"$f":"IF(BY7=1,ROUND(IF($BZ$2=1,AS7,IF($BZ$2=2,AS7*3.412141633,)),0),\"\")","v":312},{"$f":"IF(BY7=1,IF($BZ$2=1,ROUND(AV7,0),IF($BZ$2=2,ROUND(AV7/272.7654,1),)),\"\")","v":134},{"$f":"IF(BY7=1,IF($BZ$2=1,AY7,IF($BZ$2=2,AY7*0.3346,)),\"\")","v":0.26618360536544905},{"$f":"L7","v":41.1},{"$f":"DN29+8","v":49.1},{"$f":"BC7","v":7.2},{"$f":"DQ26","v":1.4}]
["1655010",null,null,1,65,50,10,11.5,0,26,30,38.799999999999997,545.4,649,695,812,1.5,1.08,1.08,1.08,545,649,695,812,47,56,60,70,1.0154354668942562E-2,1.4273569595905599E-2,1.6323323223458832E-2,2.2034348729889495E-2,3.969E-4,1.7345999999999999,2,3.6734700000000002E-4,90.020119234756137,96.328259324977694,112.64,0.98,0.98,0.98,90,96,113,39,41,49,7.0687185128054265E-3,7.7890899379448103E-3,1.1010617958771767E-2,0.3,3.6,4.0999999999999996,5.0999999999999996,null,606,null,0.9,null,null,0,14.2,16.2,21.85,null,{"$f":"IF((237.3*LN(($AQ$1*EXP(17.27*($AM$3/($AM$3+237.3))))))/(17.27-LN(($AQ$1*EXP(17.27*($AM$3/($AM$3+237.3))))))<(($AM$1+$AM$2)/2),1,IF(1/(1+((2258*((0.622/((101325/(1*611*EXP(17.27*((($AM$1+$AM$2)/2)/((($AM$1+$AM$2)/2)+237.3))))))-1)*1000-(0.622/((101325/($AQ$1*611*EXP(17.27*($AM$3/($AM$3+237.3))))))-1)*1000))/(1005*((($AM$1+$AM$2)/2)-$AM$3))))>1,1,1/(1+((2258*((0.622/((101325/(1*611*EXP(17.27*((($AM$1+$AM$2)/2)/((($AM$1+$AM$2)/2)+237.3))))))-1)*1000-(0.622/((101325/($AQ$1*611*EXP(17.27*($AM$3/($AM$3+237.3))))))-1)*1000))/(1005*((($AM$1+$AM$2)/2)-$AM$3))))))","v":1},1,1,90,96,113,null,0,0,0,1,null,null,null,null,null,null,null,null,null,null,null,null,null,null,"8015",80,15,11.8,13.7,21.85,6,6.7,9,null,null,null,null,null,null,null,null,null,{"$f":"IF(data!$CB$9=5,121,80)","v":80},{"$f":"BJ8","v":0},{"$f":"ROUND(IF($BZ$2=1,U8,IF($BZ$2=2,U8*3.412141633,)),0)","v":1032},{"$f":"IF($BZ$2=1,ROUND(Y8,0),IF($BZ$2=2,ROUND(Y8/272.7654,1),))","v":89},{"$f":"IF($BZ$2=1,AC8,IF($BZ$2=2,AC8*0.3346,))","v":0.1204090451473749},null,null,null,0,0,0,{"$f":"IF($BZ$2=1,AZ8,IF($BZ$2=2,AZ8/4.54609,))","v":1.6}]
["1355011",null,null,1,35,50,11,11.5,0,26,30,38.799999999999997,406.64000000000004,881.02076921515595,942.75810617769378,1102.4000000000001,1.5,1.1000000000000001,1.1000000000000001,1.1000000000000001,407,881,943,1102,35,76,81,95,9.5352617185703661E-3,4.2643686555216082E-2,4.8246206994949491E-2,6.5720039533966129E-2,3.969E-4,1.7345999999999999,4,5.7428799999999995E-4,147.56138863197239,157.90172054122763,184.64,0.95,0.95,0.95,148,158,185,64,68,80,3.0575828151930776E-2,3.4381682232525662E-2,4.7098764109165574E-2,0.7,3.6,4.0999999999999996,5.0999999999999996,null,598,null,0.68,null,null,0,14.2,16.2,21.85,null,1,1,1,148,158,185,null,0,0,0,1,null,null,null,null,null,null,null,null,null,null,null,null,null,null,"9010",90,10,12.5,14.7,21.85,6.7,7.4,10.3,null,null,null,null,null,null,null,null,null,{"$f":"DF30","v":80},{"$f":"BK8","v":11.8},{"$f":"ROUND(IF($BZ$2=1,V8,IF($BZ$2=2,V8*3.412141633,)),0)","v":2040},{"$f":"IF($BZ$2=1,ROUND(Z8,0),IF($BZ$2=2,ROUND(Z8/272.7654,1),))","v":175},{"$f":"IF($BZ$2=1,AD8,IF($BZ$2=2,AD8*0.3346,))","v":0.45744743887251921},{"$f":"IF(BY8=1,ROUND(IF($BZ$2=1,AQ8,IF($BZ$2=2,AQ8*3.412141633,)),0),\"\")","v":312},{"$f":"IF(BY8=1,IF($BZ$2=1,ROUND(AT8,0),IF($BZ$2=2,ROUND(AT8/272.7654,1),)),\"\")","v":134},{"$f":"IF(BY8=1,IF($BZ$2=1,AW8,IF($BZ$2=2,AW8*0.3346,)),\"\")","v":0.26997766374686077},{"$f":"J8","v":26},{"$f":"DN31+8","v":34},{"$f":"BA8","v":6},{"$f":"DQ30","v":1.6}]
["1505011",null,null,1,50,50,11,11.5,0,26,30,38.799999999999997,471.24,881.02076921515595,942.75810617769378,1102.4000000000001,1.5,1.1000000000000001,1.1000000000000001,1.1000000000000001,471,881,943,1102,41,76,81,95,1.2935683513089621E-2,4.2643686555216082E-2,4.8246206994949491E-2,6.5720039533966129E-2,3.969E-4,1.7345999999999999,4,5.7428799999999995E-4,147.56138863197239,157.90172054122763,184.64,0.95,0.95,0.95,148,158,185,64,68,80,3.0575828151930776E-2,3.4381682232525662E-2,4.7098764109165574E-2,0.7,3.6,4.0999999999999996,5.0999999999999996,null,693,null,0.68,null,null,0,14.2,16.2,21.85,null,1,1,1,148,158,185,null,0,0,0,1,null,null,null,null,null,null,null,null,null,null,null,null,null,null,"9015",90,15,11.3,13.2,21.85,7,7.7,10.7,null,null,null,null,null,null,null,null,null,{"$f":"DF30","v":80},{"$f":"BL8","v":13.7},{"$f":"ROUND(IF($BZ$2=1,W8,IF($BZ$2=2,W8*3.412141633,)),0)","v":2188},{"$f":"IF($BZ$2=1,ROUND(AA8,0),IF($BZ$2=2,ROUND(AA8/272.7654,1),))","v":188},{"$f":"IF($BZ$2=1,AE8,IF($BZ$2=2,AE8*0.3346,))","v":0.52704418993994806},{"$f":"IF(BY8=1,ROUND(IF($BZ$2=1,AR8,IF($BZ$2=2,AR8*3.412141633,)),0),\"\")","v":335},{"$f":"IF(BY8=1,IF($BZ$2=1,ROUND(AU8,0),IF($BZ$2=2,ROUND(AU8/272.7654,1),)),\"\")","v":144},{"$f":"IF(BY8=1,IF($BZ$2=1,AX8,IF($BZ$2=2,AX8*0.3346,)),\"\")","v":0.31121106327333475},{"$f":"K8","v":30},{"$f":"DN32+8","v":38},{"$f":"BB8","v":6.7},{"$f":"DQ30","v":1.6}]
["1655011",null,null,1,65,50,11,11.5,0,26,30,38.799999999999997,524.96,881.02076921515595,942.75810617769378,1102.4000000000001,1.5,1.1000000000000001,1.1000000000000001,1.1000000000000001,525,881,943,1102,45,76,81,95,1.5480687592000813E-2,4.2643686555216082E-2,4.8246206994949491E-2,6.5720039533966129E-2,3.969E-4,1.7345999999999999,4,5.7428799999999995E-4,{"$f":"AK32*(1-(($E33-50)*0.005))","v":136.49428448457448},{"$f":"AL32*(1-(($E33-50)*0.005))","v":146.05909150063556},{"$f":"AM32*(1-(($E33-50)*0.005))","v":170.792},0.95,0.95,0.95,136,146,171,58,63,74,2.5275151079359376E-2,2.9658332216627524E-2,4.0497070432560033E-2,0.7,3.6,4.0999999999999996,5.0999999999999996,null,772,null,0.68,null,null,0,14.2,16.2,21.85,null,1,1,1,136,146,171,null,0,0,0,1,null,null,null,null,null,null,null,null,null,null,null,null,null,null,"10010",100,10,12.3,14.1,21.85,7.8,8.6999999999999993,12.2,null,null,null,null,null,null,null,null,null,{"$f":"DF30","v":80},{"$f":"BM8","v":21.85},{"$f":"ROUND(IF($BZ$2=1,X8,IF($BZ$2=2,X8*3.412141633,)),0)","v":2936},{"$f":"IF($BZ$2=1,ROUND(AB8,0),IF($BZ$2=2,ROUND(AB8/272.7654,1),))","v":252},{"$f":"IF($BZ$2=1,AF8,IF($BZ$2=2,AF8*0.3346,))","v":0.94073397666389191},{"$f":"IF(BY8=1,ROUND(IF($BZ$2=1,AS8,IF($BZ$2=2,AS8*3.412141633,)),0),\"\")","v":450},{"$f":"IF(BY8=1,IF($BZ$2=1,ROUND(AV8,0),IF($BZ$2=2,ROUND(AV8/272.7654,1),)),\"\")","v":194},{"$f":"IF(BY8=1,IF($BZ$2=1,AY8,IF($BZ$2=2,AY8*0.3346,)),\"\")","v":0.56081193423750164},{"$f":"L8","v":42.4},{"$f":"DN33+8","v":50.4},{"$f":"BC8","v":9},{"$f":"DQ30","v":1.6}]
["1356010",null,null,1,35,60,10,11.5,0,26,30,40,485.1,841.69225687813923,901.35950941531064,1066.3800000000001,1.5,1.08,1.08,1.08,485,842,901,1066,42,72,77,92,8.6709473267740419E-3,2.4572994832794695E-2,2.7985026550444856E-2,3.9512902180266693E-2,3.969E-4,1.7345999999999999,2,3.6734700000000002E-4,116.68990721587436,124.96201154556491,147.84,0.98,0.98,0.98,117,125,148,50,54,64,1.214004296048507E-2,1.4086095785072505E-2,1.9563990759703984E-2,0.4,4.8,5.4,6.8,null,539,null,0.9,null,null,0,13.6,15.6,21.85,null,1,1,1,117,125,148,null,0,0,0,1,null,null,null,null,null,null,null,null,null,null,null,null,null,null,"10015",100,15,10.9,12.8,21.85,7,7.7,10.7,null,null,null,null,null,null,null,null,null,{"$f":"IF(data!$CB$9=5,141,90)","v":90},{"$f":"BJ9","v":0},{"$f":"ROUND(IF($BZ$2=1,U9,IF($BZ$2=2,U9*3.412141633,)),0)","v":1161},{"$f":"IF($BZ$2=1,ROUND(Y9,0),IF($BZ$2=2,ROUND(Y9/272.7654,1),))","v":100},{"$f":"IF($BZ$2=1,AC9,IF($BZ$2=2,AC9*0.3346,))","v":0.15381198396114895},null,null,null,0,0,0,{"$f":"IF($BZ$2=1,AZ9,IF($BZ$2=2,AZ9/4.54609,))","v":1.8}]
["1506010",null,null,1,50,60,10,11.5,0,26,30,40,581.4,841.69225687813923,901.35950941531064,1066.3800000000001,1.5,1.08,1.08,1.08,581,842,901,1066,50,72,77,92,1.214004296048507E-2,2.4572994832794695E-2,2.7985026550444856E-2,3.9512902180266693E-2,3.969E-4,1.7345999999999999,2,3.6734700000000002E-4,116.68990721587436,124.96201154556491,147.84,0.98,0.98,0.98,117,125,148,50,54,64,1.214004296048507E-2,1.4086095785072505E-2,1.9563990759703984E-2,0.4,4.8,5.4,6.8,null,646,null,0.9,null,null,0,13.6,15.6,21.85,null,1,1,1,117,125,148,null,0,0,0,1,null,null,null,null,null,null,null,null,null,null,null,null,null,null,"11010",110,10,12,13.9,21.85,8.4,9.3000000000000007,14,null,null,null,null,null,null,null,null,null,{"$f":"DF34","v":90},{"$f":"BK9","v":11.3},{"$f":"ROUND(IF($BZ$2=1,V9,IF($BZ$2=2,V9*3.412141633,)),0)","v":2337},{"$f":"IF($BZ$2=1,ROUND(Z9,0),IF($BZ$2=2,ROUND(Z9/272.7654,1),))","v":201},{"$f":"IF($BZ$2=1,AD9,IF($BZ$2=2,AD9*0.3346,))","v":0.60915360332621049},{"$f":"IF(BY9=1,ROUND(IF($BZ$2=1,AQ9,IF($BZ$2=2,AQ9*3.412141633,)),0),\"\")","v":358},{"$f":"IF(BY9=1,IF($BZ$2=1,ROUND(AT9,0),IF($BZ$2=2,ROUND(AT9/272.7654,1),)),\"\")","v":154},{"$f":"IF(BY9=1,IF($BZ$2=1,AW9,IF($BZ$2=2,AW9*0.3346,)),\"\")","v":0.36016635113087053},{"$f":"J9","v":26},{"$f":"DN35+8","v":34},{"$f":"BA9","v":7},{"$f":"DQ34","v":1.8}]
["1656010",null,null,1,65,60,10,11.5,0,26,30,40,654.30000000000007,841.69225687813923,901.35950941531064,1066.3800000000001,1.5,1.08,1.08,1.08,654,842,901,1066,56,72,77,92,1.5111762774081328E-2,2.4572994832794695E-2,2.7985026550444856E-2,3.9512902180266693E-2,3.969E-4,1.7345999999999999,2,3.6734700000000002E-4,116.68990721587436,124.96201154556491,147.84,0.98,0.98,0.98,117,125,148,50,54,64,1.214004296048507E-2,1.4086095785072505E-2,1.9563990759703984E-2,0.4,4.8,5.4,6.8,null,727,null,0.9,null,null,0,13.6,15.6,21.85,null,1,1,1,117,125,148,null,0,0,0,1,null,null,null,null,null,null,null,null,null,null,null,null,null,null,"11015",110,15,10.9,12.8,21.85,7.9,8.8000000000000007,12.5,null,null,null,null,null,null,null,null,null,{"$f":"DF34","v":90},{"$f":"BL9","v":13.2},{"$f":"ROUND(IF($BZ$2=1,W9,IF($BZ$2=2,W9*3.412141633,)),0)","v":2503},{"$f":"IF($BZ$2=1,ROUND(AA9,0),IF($BZ$2=2,ROUND(AA9/272.7654,1),))","v":215},{"$f":"IF($BZ$2=1,AE9,IF($BZ$2=2,AE9*0.3346,))","v":0.69575042058868541},{"$f":"IF(BY9=1,ROUND(IF($BZ$2=1,AR9,IF($BZ$2=2,AR9*3.412141633,)),0),\"\")","v":383},{"$f":"IF(BY9=1,IF($BZ$2=1,ROUND(AU9,0),IF($BZ$2=2,ROUND(AU9/272.7654,1),)),\"\")","v":165},{"$f":"IF(BY9=1,IF($BZ$2=1,AX9,IF($BZ$2=2,AX9*0.3346,)),\"\")","v":0.41266687566708049},{"$f":"K9","v":30},{"$f":"DN36+8","v":38},{"$f":"BB9","v":7.7},{"$f":"DQ34","v":1.8}]
["1956010",null,null,1,95,60,10,11.5,0,26,30,40,746.69225687813923,841.69225687813923,901.35950941531064,1066.3800000000001,1.5,1.08,1.08,1.08,747,842,901,1066,64,72,77,92,1.9563990759703984E-2,2.4572994832794695E-2,2.7985026550444856E-2,3.9512902180266693E-2,3.969E-4,1.7345999999999999,2,3.6734700000000002E-4,116.68990721587436,124.96201154556491,147.84,0.98,0.98,0.98,117,125,148,50,54,64,1.214004296048507E-2,1.4086095785072505E-2,1.9563990759703984E-2,0.4,4.8,5.4,6.8,null,836,null,0.9,null,null,0,13.6,15.6,21.85,null,1,1,1,117,125,148,null,0,0,0,1,null,null,null,null,null,null,null,null,null,null,null,null,null,null,"12010",120,10,11.8,13.7,21.85,8.9,9.9,14.8,null,null,null,null,null,null,null,null,null,{"$f":"DF34","v":90},{"$f":"BM9","v":21.85},{"$f":"ROUND(IF($BZ$2=1,X9,IF($BZ$2=2,X9*3.412141633,)),0)","v":3409},{"$f":"IF($BZ$2=1,ROUND(AB9,0),IF($BZ$2=2,ROUND(AB9/272.7654,1),))","v":293},{"$f":"IF($BZ$2=1,AF9,IF($BZ$2=2,AF9*0.3346,))","v":1.2822911322288062},{"$f":"IF(BY9=1,ROUND(IF($BZ$2=1,AS9,IF($BZ$2=2,AS9*3.412141633,)),0),\"\")","v":522},{"$f":"IF(BY9=1,IF($BZ$2=1,ROUND(AV9,0),IF($BZ$2=2,ROUND(AV9/272.7654,1),)),\"\")","v":224},{"$f":"IF(BY9=1,IF($BZ$2=1,AY9,IF($BZ$2=2,AY9*0.3346,)),\"\")","v":0.75442675175462648},{"$f":"L9","v":43.3},{"$f":"DN37+8","v":51.3},{"$f":"BC9","v":10.7},{"$f":"DQ34","v":1.8}]
["1356011",null,null,1,35,60,11,11.5,0,26,30,40,488.24,1142.0361657917249,1222.9946868592929,1446.9,1.5,1.1000000000000001,1.1000000000000001,1.1000000000000001,488,1142,1223,1447,42,98,105,124,1.456892405034808E-2,7.4231136705466674E-2,8.4794000672714892E-2,0.11688804961164248,3.969E-4,1.7345999999999999,4,5.7428799999999995E-4,191,205,242,0.95,0.95,0.95,191,205,242,82,88,104,5.2655498392101936E-2,6.0326342797888885E-2,8.3243311217863464E-2,0.8,4.8,5.4,6.8,null,718,null,0.68,null,null,0,13.6,15.6,21.85,null,1,1,1,191,205,242,null,0,0,0,1,null,null,null,null,null,null,null,null,null,null,null,null,null,null,"12015",120,15,10.6,12.5,21.85,8.6999999999999993,9.8000000000000007,14.3,null,null,null,null,null,null,null,null,null,{"$f":"IF(data!$CB$9=5,181,100)","v":100},{"$f":"BJ10","v":0},{"$f":"ROUND(IF($BZ$2=1,U10,IF($BZ$2=2,U10*3.412141633,)),0)","v":1291},{"$f":"IF($BZ$2=1,ROUND(Y10,0),IF($BZ$2=2,ROUND(Y10/272.7654,1),))","v":111},{"$f":"IF($BZ$2=1,AC10,IF($BZ$2=2,AC10*0.3346,))","v":0.19164820330533572},null,null,null,0,0,0,{"$f":"IF($BZ$2=1,AZ10,IF($BZ$2=2,AZ10/4.54609,))","v":2}]
["1506011",null,null,1,50,60,11,11.5,0,26,30,40,565.76,1142.0361657917249,1222.9946868592929,1446.9,1.5,1.1000000000000001,1.1000000000000001,1.1000000000000001,566,1142,1223,1447,{"$f":"ROUND(U39*3600/(4186*ABS($O$1-$O$2)),0)","v":49},98,105,124,1.957669937951419E-2,7.4231136705466674E-2,8.4794000672714892E-2,0.11688804961164248,3.969E-4,1.7345999999999999,4,5.7428799999999995E-4,191,205,242,0.95,0.95,0.95,191,205,242,82,88,104,5.2655498392101936E-2,6.0326342797888885E-2,8.3243311217863464E-2,0.8,4.8,5.4,6.8,null,832,null,0.68,null,null,0,13.6,15.6,21.85,null,1,1,1,191,205,242,null,0,0,0,1,null,null,null,null,null,null,null,null,null,null,null,null,null,null,"14010",140,10,11.5,13.3,21.85,10.1,11.2,17.5,null,null,null,null,null,null,null,null,null,{"$f":"DF38","v":100},{"$f":"BK10","v":10.9},{"$f":"ROUND(IF($BZ$2=1,V10,IF($BZ$2=2,V10*3.412141633,)),0)","v":2630},{"$f":"IF($BZ$2=1,ROUND(Z10,0),IF($BZ$2=2,ROUND(Z10/272.7654,1),))","v":226},{"$f":"IF($BZ$2=1,AD10,IF($BZ$2=2,AD10*0.3346,))","v":0.77712770761656835},{"$f":"IF(BY10=1,ROUND(IF($BZ$2=1,AQ10,IF($BZ$2=2,AQ10*3.412141633,)),0),\"\")","v":403},{"$f":"IF(BY10=1,IF($BZ$2=1,ROUND(AT10,0),IF($BZ$2=2,ROUND(AT10/272.7654,1),)),\"\")","v":173},{"$f":"IF(BY10=1,IF($BZ$2=1,AW10,IF($BZ$2=2,AW10*0.3346,)),\"\")","v":0.45896052508691165},{"$f":"J10","v":26},{"$f":"DN39+8","v":34},{"$f":"BA10","v":7},{"$f":"DQ38","v":2}]
["1656011",null,null,1,65,60,11,11.5,0,26,30,40,629.68000000000006,1142.0361657917249,1222.9946868592929,1446.9,1.5,1.1000000000000001,1.1000000000000001,1.1000000000000001,630,1142,1223,1447,54,98,105,124,2.3588301389345007E-2,7.4231136705466674E-2,8.4794000672714892E-2,0.11688804961164248,3.969E-4,1.7345999999999999,4,5.7428799999999995E-4,{"$f":"AK39*(1-(($E40-50)*0.005))","v":176.67500000000001},{"$f":"AL39*(1-(($E40-50)*0.005))","v":189.625},{"$f":"AM39*(1-(($E40-50)*0.005))","v":223.85000000000002},0.95,0.95,0.95,177,190,224,76,82,96,4.5490941940838581E-2,5.2655498392101936E-2,7.1338470336604037E-2,0.8,4.8,5.4,6.8,null,926,null,0.68,null,null,0,13.6,15.6,21.85,null,1,1,1,177,190,224,null,0,0,0,1,null,null,null,null,null,null,null,null,null,null,null,null,null,null,"14015",140,15,10.4,12.2,21.85,9.6,10.5,16.100000000000001,null,null,null,null,null,null,null,null,null,{"$f":"DF38","v":100},{"$f":"BL10","v":12.8},{"$f":"ROUND(IF($BZ$2=1,W10,IF($BZ$2=2,W10*3.412141633,)),0)","v":2817},{"$f":"IF($BZ$2=1,ROUND(AA10,0),IF($BZ$2=2,ROUND(AA10/272.7654,1),))","v":242},{"$f":"IF($BZ$2=1,AE10,IF($BZ$2=2,AE10*0.3346,))","v":0.88934367498091926},{"$f":"IF(BY10=1,ROUND(IF($BZ$2=1,AR10,IF($BZ$2=2,AR10*3.412141633,)),0),\"\")","v":431},{"$f":"IF(BY10=1,IF($BZ$2=1,ROUND(AU10,0),IF($BZ$2=2,ROUND(AU10/272.7654,1),)),\"\")","v":185},{"$f":"IF(BY10=1,IF($BZ$2=1,AX10,IF($BZ$2=2,AX10*0.3346,)),\"\")","v":0.52378160296818432},{"$f":"K10","v":30},{"$f":"DN40+8","v":38},{"$f":"BB10","v":7.7},{"$f":"DQ38","v":2}]
["1956011",null,null,1,95,60,11,11.5,0,26,30,40,733.04000000000008,1142.0361657917249,1222.9946868592929,1446.9,1.5,1.1000000000000001,1.1000000000000001,1.1000000000000001,733,1142,1223,1447,63,98,105,124,3.171471179837683E-2,7.4231136705466674E-2,8.4794000672714892E-2,0.11688804961164248,3.969E-4,1.7345999999999999,4,5.7428799999999995E-4,{"$f":"AK39*(1-(($E41-50)*0.005))","v":148.02500000000001},{"$f":"AL39*(1-(($E41-50)*0.005))","v":158.875},{"$f":"AM39*(1-(($E41-50)*0.005))","v":187.55},0.95,0.95,0.95,148,159,188,64,68,81,3.2689156354607958E-2,3.6729352641212645E-2,5.1426193519822944E-2,0.8,4.8,5.4,6.8,null,1078,null,0.68,null,null,0,13.6,15.6,21.85,null,1,1,1,148,159,188,null,0,0,0,1,null,null,null,null,null,null,null,null,null,null,null,null,null,null,"16010",160,10,11.2,13,21.85,11,12.4,19.2,null,null,null,null,null,null,null,null,null,{"$f":"DF38","v":100},{"$f":"BM10","v":21.85},{"$f":"ROUND(IF($BZ$2=1,X10,IF($BZ$2=2,X10*3.412141633,)),0)","v":3883},{"$f":"IF($BZ$2=1,ROUND(AB10,0),IF($BZ$2=2,ROUND(AB10/272.7654,1),))","v":334},{"$f":"IF($BZ$2=1,AF10,IF($BZ$2=2,AF10*0.3346,))","v":1.6794877029795134},{"$f":"IF(BY10=1,ROUND(IF($BZ$2=1,AS10,IF($BZ$2=2,AS10*3.412141633,)),0),\"\")","v":595},{"$f":"IF(BY10=1,IF($BZ$2=1,ROUND(AV10,0),IF($BZ$2=2,ROUND(AV10/272.7654,1),)),\"\")","v":256},{"$f":"IF(BY10=1,IF($BZ$2=1,AY10,IF($BZ$2=2,AY10*0.3346,)),\"\")","v":0.99366847477469411},{"$f":"L10","v":44.1},{"$f":"DN41+8","v":52.1},{"$f":"BC10","v":10.7},{"$f":"DQ38","v":2}]
["1356015",null,null,1,35,60,15,16.5,0,26,30,41.1,705.6,957.19258357509659,1027.5250511543745,1359.96,1.5,1.08,1.08,1.08,706,957,1028,1360,61,82,88,117,1.9068469625087511E-2,3.4141898797120353E-2,3.9238605418779701E-2,6.880178174125845E-2,2.0829999999999999E-4,1.724,2,4.6182900000000003E-4,130.66063061772473,140.26129481477255,185.64,1.01,1.01,1.01,131,140,186,56,60,80,1.6115444159911004E-2,1.8458252538956766E-2,3.25208961878376E-2,0.6,4.8,5.5,7.2,null,882,null,0.8,null,null,0,12.3,14.4,21.85,null,1,1,1,131,140,186,null,0,0,0,1,null,null,null,null,null,null,null,null,null,null,null,null,null,null,"16015",160,15,10,11.8,21.85,11.5,12.8,19.600000000000001,null,null,null,null,null,null,null,null,null,{"$f":"IF(data!$CB$9=5,241,110)","v":110},{"$f":"BJ11","v":0},{"$f":"ROUND(IF($BZ$2=1,U11,IF($BZ$2=2,U11*3.412141633,)),0)","v":1420},{"$f":"IF($BZ$2=1,ROUND(Y11,0),IF($BZ$2=2,ROUND(Y11/272.7654,1),))","v":122},{"$f":"IF($BZ$2=1,AC11,IF($BZ$2=2,AC11*0.3346,))","v":0.23401211503050393},null,null,null,0,0,0,{"$f":"IF($BZ$2=1,AZ11,IF($BZ$2=2,AZ11/4.54609,))","v":2.2000000000000002}]
["1506015",null,null,1,50,60,15,16.5,0,26,30,41.1,832,957.19258357509659,1027.5250511543745,1359.96,1.5,1.08,1.08,1.08,832,957,1028,1360,72,82,88,117,2.6426890732900131E-2,3.4141898797120353E-2,3.9238605418779701E-2,6.880178174125845E-2,2.0829999999999999E-4,1.724,2,4.6182900000000003E-4,130.66063061772473,140.26129481477255,185.64,1.01,1.01,1.01,131,140,186,56,60,80,1.6115444159911004E-2,1.8458252538956766E-2,3.25208961878376E-2,0.6,4.8,5.5,7.2,null,1040,null,0.8,null,null,0,12.3,14.4,21.85,null,1,1,1,131,140,186,null,0,0,0,1,null,null,null,null,null,null,null,null,null,null,null,null,null,null,"18010",180,10,10.9,12.7,21.85,12.2,13.7,22,null,null,null,null,null,null,null,null,null,{"$f":"DF42","v":110},{"$f":"BK11","v":10.9},{"$f":"ROUND(IF($BZ$2=1,V11,IF($BZ$2=2,V11*3.412141633,)),0)","v":2850},{"$f":"IF($BZ$2=1,ROUND(Z11,0),IF($BZ$2=2,ROUND(Z11/272.7654,1),))","v":245},{"$f":"IF($BZ$2=1,AD11,IF($BZ$2=2,AD11*0.3346,))","v":0.92195448057549512},{"$f":"IF(BY11=1,ROUND(IF($BZ$2=1,AQ11,IF($BZ$2=2,AQ11*3.412141633,)),0),\"\")","v":408},{"$f":"IF(BY11=1,IF($BZ$2=1,ROUND(AT11,0),IF($BZ$2=2,ROUND(AT11/272.7654,1),)),\"\")","v":175},{"$f":"IF(BY11=1,IF($BZ$2=1,AW11,IF($BZ$2=2,AW11*0.3346,)),\"\")","v":0.47548152700019564},{"$f":"J11","v":26},{"$f":"DN43+8","v":34},{"$f":"BA11","v":7.9},{"$f":"DQ42","v":2.2000000000000002}]
["1656015",null,null,1,65,60,15,16.5,0,26,30,41.1,862.19258357509659,957.19258357509659,1027.5250511543745,1359.96,1.5,1.08,1.08,1.08,862,957,1028,1360,74,82,88,117,2.7891851131815994E-2,3.4141898797120353E-2,3.9238605418779701E-2,6.880178174125845E-2,2.0829999999999999E-4,1.724,2,4.6182900000000003E-4,130.66063061772473,140.26129481477255,185.64,{"$f":"IF($G44=10,0.98,IF($G44=11,0.95,IF($G44=15,1.01,IF($G44=16,0.95,IF($G44=20,0.95,IF($G44=21,0.85))))))","v":1.01},1.01,1.01,131,140,186,56,60,80,1.6115444159911004E-2,1.8458252538956766E-2,3.25208961878376E-2,0.6,4.8,5.5,7.2,null,1153,null,0.8,null,null,0,12.3,14.4,21.85,null,1,1,1,131,140,186,null,0,0,0,1,null,null,null,null,null,null,null,null,null,null,null,null,null,null,"18015",180,15,10,11.8,21.85,11.5,12.8,19.600000000000001,null,null,null,null,null,null,null,null,null,{"$f":"DF42","v":110},{"$f":"BL11","v":12.8},{"$f":"ROUND(IF($BZ$2=1,W11,IF($BZ$2=2,W11*3.412141633,)),0)","v":3051},{"$f":"IF($BZ$2=1,ROUND(AA11,0),IF($BZ$2=2,ROUND(AA11/272.7654,1),))","v":262},{"$f":"IF($BZ$2=1,AE11,IF($BZ$2=2,AE11*0.3346,))","v":1.0521845346704815},{"$f":"IF(BY11=1,ROUND(IF($BZ$2=1,AR11,IF($BZ$2=2,AR11*3.412141633,)),0),\"\")","v":437},{"$f":"IF(BY11=1,IF($BZ$2=1,ROUND(AU11,0),IF($BZ$2=2,ROUND(AU11/272.7654,1),)),\"\")","v":188},{"$f":"IF(BY11=1,IF($BZ$2=1,AX11,IF($BZ$2=2,AX11*0.3346,)),\"\")","v":0.54744957167687558},{"$f":"K11","v":30},{"$f":"DN44+8","v":38},{"$f":"BB11","v":8.8000000000000007},{"$f":"DQ42","v":2.2000000000000002}]
["1956015",null,null,1,95,60,15,16.5,0,26,30,41.1,862.19258357509659,957.19258357509659,1027.5250511543745,1359.96,1.5,1.08,1.08,1.08,862,957,1028,1360,74,82,88,117,2.7891851131815994E-2,3.4141898797120353E-2,3.9238605418779701E-2,6.880178174125845E-2,2.0829999999999999E-4,1.724,2,4.6182900000000003E-4,130.66063061772473,140.26129481477255,185.64,1.01,1.01,1.01,131,140,186,56,60,80,1.6115444159911004E-2,1.8458252538956766E-2,3.25208961878376E-2,0.6,4.8,5.5,7.2,null,1288,null,0.8,null,null,0,12.3,14.4,21.85,null,1,1,1,131,140,186,null,0,0,0,1,null,null,null,null,null,null,null,null,null,null,null,null,null,null,"20010",200,10,10.7,12.5,21.85,13.4,14.8,24,null,null,null,null,null,null,null,null,null,{"$f":"DF42","v":110},{"$f":"BM11","v":21.85},{"$f":"ROUND(IF($BZ$2=1,X11,IF($BZ$2=2,X11*3.412141633,)),0)","v":4207},{"$f":"IF($BZ$2=1,ROUND(AB11,0),IF($BZ$2=2,ROUND(AB11/272.7654,1),))","v":362},{"$f":"IF($BZ$2=1,AF11,IF($BZ$2=2,AF11*0.3346,))","v":1.9898808014753209},{"$f":"IF(BY11=1,ROUND(IF($BZ$2=1,AS11,IF($BZ$2=2,AS11*3.412141633,)),0),\"\")","v":602},{"$f":"IF(BY11=1,IF($BZ$2=1,ROUND(AV11,0),IF($BZ$2=2,ROUND(AV11/272.7654,1),)),\"\")","v":259},{"$f":"IF(BY11=1,IF($BZ$2=1,AY11,IF($BZ$2=2,AY11*0.3346,)),\"\")","v":1.0285851673079258},{"$f":"L11","v":44.1},{"$f":"DN45+8","v":52.1},{"$f":"BC11","v":12.5},{"$f":"DQ42","v":2.2000000000000002}]
["1356016",null,null,1,35,60,16,16.5,0,26,30,41.1,650.08000000000004,1399.7241764138612,1502.5729206967153,1988.7,1.5,1.1000000000000001,1.1000000000000001,1.1000000000000001,650,1400,1503,1989,56,120,129,171,4.6648812646222004E-2,0.21085507991814395,0.24334273125065864,0.42546271730679758,2.0829999999999999E-4,1.724,4,1.392796E-3,214,230,305,0.95,0.95,0.95,214,230,305,92,99,131,0.12457564927087089,0.14404410806926615,0.25087593311274681,1.2,4.8,5.5,7.2,null,956,null,0.68,null,null,0,12.3,14.4,21.85,null,1,1,1,214,230,305,null,0,0,0,1,null,null,null,null,null,null,null,null,null,null,null,null,null,null,"20015",200,15,10,11.4,21.85,13.2,14.7,23.5,null,null,null,null,null,null,null,null,null,120,{"$f":"BJ12","v":0},{"$f":"ROUND(IF($BZ$2=1,U12,IF($BZ$2=2,U12*3.412141633,)),0)","v":1549},{"$f":"IF($BZ$2=1,ROUND(Y12,0),IF($BZ$2=2,ROUND(Y12/272.7654,1),))","v":133},{"$f":"IF($BZ$2=1,AC12,IF($BZ$2=2,AC12*0.3346,))","v":0.28099543431150953},null,null,null,0,0,0,{"$f":"IF($BZ$2=1,AZ12,IF($BZ$2=2,AZ12/4.54609,))","v":2.4}]
["1506016",null,null,1,50,60,16,16.5,0,26,30,41.1,774.5200000000001,1399.7241764138612,1502.5729206967153,1988.7,1.5,1.1000000000000001,1.1000000000000001,1.1000000000000001,775,1400,1503,1989,67,120,129,171,6.650928759934463E-2,0.21085507991814395,0.24334273125065864,0.42546271730679758,2.0829999999999999E-4,1.724,4,1.392796E-3,214,230,305,0.95,0.95,0.95,214,230,305,92,99,131,0.12457564927087089,0.14404410806926615,0.25087593311274681,1.2,4.8,5.5,7.2,null,1139,null,0.68,null,null,0,12.3,14.4,21.85,null,1,1,1,214,230,305,null,0,0,0,1,null,null,null,null,null,null,null,null,null,null,null,null,null,null,"22010",220,10,10.5,12.3,21.85,13.4,14.8,24,null,null,null,null,null,null,null,null,null,{"$f":"DF46","v":120},{"$f":"BK12","v":10.6},{"$f":"ROUND(IF($BZ$2=1,V12,IF($BZ$2=2,V12*3.412141633,)),0)","v":3242},{"$f":"IF($BZ$2=1,ROUND(Z12,0),IF($BZ$2=2,ROUND(Z12/272.7654,1),))","v":279},{"$f":"IF($BZ$2=1,AD12,IF($BZ$2=2,AD12*0.3346,))","v":1.204343316710782},{"$f":"IF(BY12=1,ROUND(IF($BZ$2=1,AQ12,IF($BZ$2=2,AQ12*3.412141633,)),0),\"\")","v":496},{"$f":"IF(BY12=1,IF($BZ$2=1,ROUND(AT12,0),IF($BZ$2=2,ROUND(AT12/272.7654,1),)),\"\")","v":213},{"$f":"IF(BY12=1,IF($BZ$2=1,AW12,IF($BZ$2=2,AW12*0.3346,)),\"\")","v":0.70833668732811383},{"$f":"J12","v":26},{"$f":"DN47+8","v":34},{"$f":"BA12","v":8.6999999999999993},{"$f":"DQ46","v":2.4}]
["1656016",null,null,1,65,60,16,16.5,0,26,30,41.1,886.72,1399.7241764138612,1502.5729206967153,1988.7,1.5,1.1000000000000001,1.1000000000000001,1.1000000000000001,887,1400,1503,1989,76,120,129,171,8.5347167826110487E-2,0.21085507991814395,0.24334273125065864,0.42546271730679758,2.0829999999999999E-4,1.724,4,1.392796E-3,{"$f":"AK47*(1-(($E48-50)*0.005))","v":197.95000000000002},{"$f":"AL47*(1-(($E48-50)*0.005))","v":212.75},{"$f":"AM47*(1-(($E48-50)*0.005))","v":282.125},0.95,0.95,0.95,198,213,282,85,92,121,0.10651021711320637,0.12457564927087089,0.21435070156236344,1.2,4.8,5.5,7.2,null,1304,null,0.68,null,null,0,12.3,14.4,21.85,null,1,1,1,198,213,282,null,0,0,0,1,null,null,null,null,null,null,null,null,null,null,null,null,null,null,"22015",220,15,10,11.1,21.85,15.5,16.8,27.5,null,null,null,null,null,null,null,null,null,{"$f":"DF46","v":120},{"$f":"BL12","v":12.5},{"$f":"ROUND(IF($BZ$2=1,W12,IF($BZ$2=2,W12*3.412141633,)),0)","v":3472},{"$f":"IF($BZ$2=1,ROUND(AA12,0),IF($BZ$2=2,ROUND(AA12/272.7654,1),))","v":299},{"$f":"IF($BZ$2=1,AE12,IF($BZ$2=2,AE12*0.3346,))","v":1.3801140974321322},{"$f":"IF(BY12=1,ROUND(IF($BZ$2=1,AR12,IF($BZ$2=2,AR12*3.412141633,)),0),\"\")","v":532},{"$f":"IF(BY12=1,IF($BZ$2=1,ROUND(AU12,0),IF($BZ$2=2,ROUND(AU12/272.7654,1),)),\"\")","v":229},{"$f":"IF(BY12=1,IF($BZ$2=1,AX12,IF($BZ$2=2,AX12*0.3346,)),\"\")","v":0.81671249966312653},{"$f":"K12","v":30},{"$f":"DN48+8","v":38},{"$f":"BB12","v":9.8000000000000007},{"$f":"DQ46","v":2.4}]
["1956016",null,null,1,95,60,16,16.5,0,26,30,41.1,1092.0800000000002,1399.7241764138612,1502.5729206967153,1988.7,1.5,1.1000000000000001,1.1000000000000001,1.1000000000000001,1092,1400,1503,1989,94,120,129,171,0.12999495976193065,0.21085507991814395,0.24334273125065864,0.42546271730679758,2.0829999999999999E-4,1.724,4,1.392796E-3,{"$f":"AK47*(1-(($E49-50)*0.005))","v":165.85},{"$f":"AL47*(1-(($E49-50)*0.005))","v":178.25},{"$f":"AM47*(1-(($E49-50)*0.005))","v":236.375},0.95,0.95,0.95,166,178,236,71,77,101,7.4594376889818667E-2,8.7583862537394974E-2,0.1498640371075696,1.2,4.8,5.5,7.2,null,1606,null,0.68,null,null,0,12.3,14.4,21.85,null,1,1,1,166,178,236,null,0,0,0,1,null,null,null,null,null,null,null,null,null,null,null,null,null,null,"24010",240,10,10.4,12.2,21.85,14.8,16.600000000000001,28,null,null,null,null,null,null,null,null,null,{"$f":"DF46","v":120},{"$f":"BM12","v":21.85},{"$f":"ROUND(IF($BZ$2=1,X12,IF($BZ$2=2,X12*3.412141633,)),0)","v":4830},{"$f":"IF($BZ$2=1,ROUND(AB12,0),IF($BZ$2=2,ROUND(AB12/272.7654,1),))","v":415},{"$f":"IF($BZ$2=1,AF12,IF($BZ$2=2,AF12*0.3346,))","v":2.632057975603213},{"$f":"IF(BY12=1,ROUND(IF($BZ$2=1,AS12,IF($BZ$2=2,AS12*3.412141633,)),0),\"\")","v":740},{"$f":"IF(BY12=1,IF($BZ$2=1,ROUND(AV12,0),IF($BZ$2=2,ROUND(AV12/272.7654,1),)),\"\")","v":318},{"$f":"IF(BY12=1,IF($BZ$2=1,AY12,IF($BZ$2=2,AY12*0.3346,)),\"\")","v":1.5580377368272431},{"$f":"L12","v":44.8},{"$f":"DN49+8","v":52.8},{"$f":"BC12","v":14.3},{"$f":"DQ46","v":2.4}]
["1356020",null,null,1,35,60,20,21.5,0,26,30,41.1,988.80000000000007,1346.575008837732,1442.0332127786496,1706.04,1.5,1.08,1.08,1.08,989,1347,1442,1706,85,116,124,147,2.9061121193094126E-2,5.3754545103760785E-2,6.1338725772162643E-2,8.5905652533157156E-2,1.2760000000000001E-4,1.7219,2,3.76611E-4,166.41571994991173,178.21286873827722,210.84,0.95,0.95,0.95,166,178,211,71,77,91,2.0362186770824586E-2,2.3902999958867951E-2,3.3257087321880145E-2,0.8,4.8,5.5,7.2,null,1236,null,0.8,null,null,0,12.3,14.4,21.85,null,1,1,1,166,178,211,null,0,0,0,1,null,null,null,null,null,null,null,null,null,null,null,null,null,null,"24015",240,15,10,10.9,21.85,16.399999999999999,17.7,29.7,null,null,null,null,null,null,null,null,null,140,{"$f":"BJ13","v":0},{"$f":"ROUND(IF($BZ$2=1,U13,IF($BZ$2=2,U13*3.412141633,)),0)","v":1807},{"$f":"IF($BZ$2=1,ROUND(Y13,0),IF($BZ$2=2,ROUND(Y13/272.7654,1),))","v":155},{"$f":"IF($BZ$2=1,AC13,IF($BZ$2=2,AC13*0.3346,))","v":0.38917554699290247},null,null,null,0,0,0,{"$f":"IF($BZ$2=1,AZ13,IF($BZ$2=2,AZ13/4.54609,))","v":2.8}]
["1506020",null,null,1,50,60,20,21.5,0,26,30,41.1,1164,1346.575008837732,1442.0332127786496,1706.04,1.5,1.08,1.08,1.08,1164,1347,1442,1706,100,116,124,147,4.0076508428241127E-2,5.3754545103760785E-2,6.1338725772162643E-2,8.5905652533157156E-2,1.2760000000000001E-4,1.7219,2,3.76611E-4,166.41571994991173,178.21286873827722,210.84,0.95,0.95,0.95,166,178,211,71,77,91,2.0362186770824586E-2,2.3902999958867951E-2,3.3257087321880145E-2,0.8,4.8,5.5,7.2,null,1455,null,0.8,null,null,0,12.3,14.4,21.85,null,1,1,1,166,178,211,null,0,0,0,1,null,null,null,null,null,null,null,null,null,null,null,null,null,null,"26010",260,10,10.199999999999999,11.9,21.85,16.2,18.600000000000001,31.4,null,null,null,null,null,null,null,null,null,{"$f":"DF50","v":140},{"$f":"BK13","v":10.4},{"$f":"ROUND(IF($BZ$2=1,V13,IF($BZ$2=2,V13*3.412141633,)),0)","v":3844},{"$f":"IF($BZ$2=1,ROUND(Z13,0),IF($BZ$2=2,ROUND(Z13/272.7654,1),))","v":331},{"$f":"IF($BZ$2=1,AD13,IF($BZ$2=2,AD13*0.3346,))","v":1.7219838483818737},{"$f":"IF(BY13=1,ROUND(IF($BZ$2=1,AQ13,IF($BZ$2=2,AQ13*3.412141633,)),0),\"\")","v":589},{"$f":"IF(BY13=1,IF($BZ$2=1,ROUND(AT13,0),IF($BZ$2=2,ROUND(AT13/272.7654,1),)),\"\")","v":253},{"$f":"IF(BY13=1,IF($BZ$2=1,AW13,IF($BZ$2=2,AW13*0.3346,)),\"\")","v":1.0162271216516092},{"$f":"J13","v":26},{"$f":"DN51+8","v":34},{"$f":"BA13","v":9.6},{"$f":"DQ50","v":2.8}]
["1656020",null,null,1,65,60,20,21.5,0,26,30,41.1,1251.575008837732,1346.575008837732,1442.0332127786496,1706.04,1.5,1.08,1.08,1.08,1252,1347,1442,1706,108,116,124,147,4.6666977287192928E-2,5.3754545103760785E-2,6.1338725772162643E-2,8.5905652533157156E-2,1.2760000000000001E-4,1.7219,2,3.76611E-4,166.41571994991173,178.21286873827722,210.84,0.95,0.95,0.95,166,178,211,71,77,91,2.0362186770824586E-2,2.3902999958867951E-2,3.3257087321880145E-2,0.8,4.8,5.5,7.2,null,1611,null,0.8,null,null,0,12.3,14.4,21.85,null,1,1,1,166,178,211,null,0,0,0,1,null,null,null,null,null,null,null,null,null,null,null,null,null,null,"26015",260,15,10,10.9,21.85,16.2,18.600000000000001,31.4,null,null,null,null,null,null,null,null,null,{"$f":"DF50","v":140},{"$f":"BL13","v":12.2},{"$f":"ROUND(IF($BZ$2=1,W13,IF($BZ$2=2,W13*3.412141633,)),0)","v":4117},{"$f":"IF($BZ$2=1,ROUND(AA13,0),IF($BZ$2=2,ROUND(AA13/272.7654,1),))","v":354},{"$f":"IF($BZ$2=1,AE13,IF($BZ$2=2,AE13*0.3346,))","v":1.9648470126541058},{"$f":"IF(BY13=1,ROUND(IF($BZ$2=1,AR13,IF($BZ$2=2,AR13*3.412141633,)),0),\"\")","v":630},{"$f":"IF(BY13=1,IF($BZ$2=1,ROUND(AU13,0),IF($BZ$2=2,ROUND(AU13/272.7654,1),)),\"\")","v":271},{"$f":"IF(BY13=1,IF($BZ$2=1,AX13,IF($BZ$2=2,AX13*0.3346,)),\"\")","v":1.1628994061160329},{"$f":"K13","v":30},{"$f":"DN52+8","v":38},{"$f":"BB13","v":10.5},{"$f":"DQ50","v":2.8}]
["1956020",null,null,1,95,60,20,21.5,0,26,30,41.1,1251.575008837732,1346.575008837732,1442.0332127786496,1706.04,1.5,1.08,1.08,1.08,1252,1347,1442,1706,108,116,124,147,4.6666977287192928E-2,5.3754545103760785E-2,6.1338725772162643E-2,8.5905652533157156E-2,1.2760000000000001E-4,1.7219,2,3.76611E-4,166.41571994991173,178.21286873827722,210.84,0.95,0.95,0.95,166,178,211,71,77,91,2.0362186770824586E-2,2.3902999958867951E-2,3.3257087321880145E-2,0.8,4.8,5.5,7.2,null,1795,null,0.8,null,null,0,12.3,14.4,21.85,null,1,1,1,166,178,211,null,0,0,0,1,null,null,null,null,null,null,null,null,null,null,null,null,null,null,"28010",280,10,10.199999999999999,11.9,21.85,16.2,18.600000000000001,31.4,null,null,null,null,null,null,null,null,null,{"$f":"DF50","v":140},{"$f":"BM13","v":21.85},{"$f":"ROUND(IF($BZ$2=1,X13,IF($BZ$2=2,X13*3.412141633,)),0)","v":5777},{"$f":"IF($BZ$2=1,ROUND(AB13,0),IF($BZ$2=2,ROUND(AB13/272.7654,1),))","v":497},{"$f":"IF($BZ$2=1,AF13,IF($BZ$2=2,AF13*0.3346,))","v":3.8280696316652558},{"$f":"IF(BY13=1,ROUND(IF($BZ$2=1,AS13,IF($BZ$2=2,AS13*3.412141633,)),0),\"\")","v":885},{"$f":"IF(BY13=1,IF($BZ$2=1,ROUND(AV13,0),IF($BZ$2=2,ROUND(AV13/272.7654,1),)),\"\")","v":381},{"$f":"IF(BY13=1,IF($BZ$2=1,AY13,IF($BZ$2=2,AY13*0.3346,)),\"\")","v":2.2700825079676186},{"$f":"L13","v":45.4},{"$f":"DN53+8","v":53.4},{"$f":"BC13","v":16.100000000000001},{"$f":"DQ50","v":2.8}]
["1356021",null,null,1,35,60,21,21.5,0,26,30,41.1,1014.4000000000001,1802.6437228662567,1935.0981352499616,2561.16,1.5,1.05,1.05,1.05,1014,1803,1935,2561,87,155,166,220,4.3127562448245296E-2,0.13454431150760796,0.15402657304252074,0.26852892559558028,1.2760000000000001E-4,1.7219,4,5.1420100000000005E-4,233.82931859416351,251.01059773412922,332.22,0.85,0.85,0.85,234,251,332,101,108,143,5.7851346790324013E-2,6.601213332318584E-2,0.1147780548995266,1.6,4.8,5.5,7.2,null,1268,null,0.8,null,null,0,12.3,14.4,21.85,null,1,1,1,234,251,332,null,0,0,0,1,null,null,null,null,null,null,null,null,null,null,null,null,null,null,"28015",280,15,10,10.6,21.85,19.3,20.399999999999999,34.5,null,null,null,null,null,null,null,null,null,160,{"$f":"BJ14","v":0},{"$f":"ROUND(IF($BZ$2=1,U14,IF($BZ$2=2,U14*3.412141633,)),0)","v":2065},{"$f":"IF($BZ$2=1,ROUND(Y14,0),IF($BZ$2=2,ROUND(Y14/272.7654,1),))","v":178},{"$f":"IF($BZ$2=1,AC14,IF($BZ$2=2,AC14*0.3346,))","v":0.52259583534871212},null,null,null,0,0,0,{"$f":"IF($BZ$2=1,AZ14,IF($BZ$2=2,AZ14/4.54609,))","v":3.2}]
["1506021",null,null,1,50,60,21,21.5,0,26,30,41.1,1239.2,1802.6437228662567,1935.0981352499616,2561.16,1.5,1.05,1.05,1.05,1239,1803,1935,2561,107,155,166,220,6.481374223055926E-2,0.13454431150760796,0.15402657304252074,0.26852892559558028,1.2760000000000001E-4,1.7219,4,5.1420100000000005E-4,233.82931859416351,251.01059773412922,332.22,0.85,0.85,0.85,234,251,332,101,108,143,5.7851346790324013E-2,6.601213332318584E-2,0.1147780548995266,1.6,4.8,5.5,7.2,null,1549,null,0.8,null,null,0,12.3,14.4,21.85,null,1,1,1,234,251,332,null,0,0,0,1,null,null,null,null,null,null,null,null,null,null,null,null,null,null,"30010",300,10,{"$f":"CQ53","v":10.199999999999999},{"$f":"CR53","v":11.9},{"$f":"CS53","v":21.85},16.2,18.600000000000001,31.4,null,null,null,null,null,null,null,null,null,{"$f":"DF54","v":160},{"$f":"BK14","v":10},{"$f":"ROUND(IF($BZ$2=1,V14,IF($BZ$2=2,V14*3.412141633,)),0)","v":4418},{"$f":"IF($BZ$2=1,ROUND(Z14,0),IF($BZ$2=2,ROUND(Z14/272.7654,1),))","v":380},{"$f":"IF($BZ$2=1,AD14,IF($BZ$2=2,AD14*0.3346,))","v":2.304157087904469},{"$f":"IF(BY14=1,ROUND(IF($BZ$2=1,AQ14,IF($BZ$2=2,AQ14*3.412141633,)),0),\"\")","v":676},{"$f":"IF(BY14=1,IF($BZ$2=1,ROUND(AT14,0),IF($BZ$2=2,ROUND(AT14/272.7654,1),)),\"\")","v":291},{"$f":"IF(BY14=1,IF($BZ$2=1,AW14,IF($BZ$2=2,AW14*0.3346,)),\"\")","v":1.3661686148172167},{"$f":"J14","v":26},{"$f":"DN55+8","v":34},{"$f":"BA14","v":11.5},{"$f":"DQ54","v":3.2}]
["1656021",null,null,1,65,60,21,21.5,0,26,30,41.1,1454.4,1802.6437228662567,1935.0981352499616,2561.16,1.5,1.05,1.05,1.05,1454,1803,1935,2561,125,155,166,220,8.8043197133856527E-2,0.13454431150760796,0.15402657304252074,0.26852892559558028,1.2760000000000001E-4,1.7219,4,5.1420100000000005E-4,{"$f":"AK55*(1-(($E56-50)*0.005))","v":216.29211969960124},{"$f":"AL55*(1-(($E56-50)*0.005))","v":232.18480290406953},{"$f":"AM55*(1-(($E56-50)*0.005))","v":307.30350000000004},0.85,0.85,0.85,216,232,307,{"$f":"ROUND(AQ56*3600/(4186*ABS($AM$1-$AM$2)),0)","v":93},{"$f":"ROUND(AR56*3600/(4186*ABS($AM$1-$AM$2)),0)","v":100},{"$f":"ROUND(AS56*3600/(4186*ABS($AM$1-$AM$2)),0)","v":132},4.9176619316603713E-2,5.6728958856482277E-2,9.8024069986539314E-2,1.6,4.8,5.5,7.2,null,1818,null,0.8,null,null,0,12.3,14.4,21.85,null,1,1,1,216,232,307,null,0,0,0,1,null,null,null,null,null,null,null,null,null,null,null,null,null,null,"30015",300,15,{"$f":"CQ54","v":10},{"$f":"CR54","v":10.6},21.85,19.3,20.399999999999999,34.5,null,null,null,null,null,null,null,null,null,{"$f":"DF54","v":160},{"$f":"BL14","v":11.8},{"$f":"ROUND(IF($BZ$2=1,W14,IF($BZ$2=2,W14*3.412141633,)),0)","v":4717},{"$f":"IF($BZ$2=1,ROUND(AA14,0),IF($BZ$2=2,ROUND(AA14/272.7654,1),))","v":406},{"$f":"IF($BZ$2=1,AE14,IF($BZ$2=2,AE14*0.3346,))","v":2.6233653218162551},{"$f":"IF(BY14=1,ROUND(IF($BZ$2=1,AR14,IF($BZ$2=2,AR14*3.412141633,)),0),\"\")","v":722},{"$f":"IF(BY14=1,IF($BZ$2=1,ROUND(AU14,0),IF($BZ$2=2,ROUND(AU14/272.7654,1),)),\"\")","v":310},{"$f":"IF(BY14=1,IF($BZ$2=1,AX14,IF($BZ$2=2,AX14*0.3346,)),\"\")","v":1.5462621883682115},{"$f":"K14","v":30},{"$f":"DN56+8","v":38},{"$f":"BB14","v":12.8},{"$f":"DQ54","v":3.2}]
["1956021",null,null,1,95,60,21,21.5,0,26,30,41.1,1707.6437228662567,1802.6437228662567,1935.0981352499616,2561.16,1.5,1.05,1.05,1.05,1708,1803,1935,2561,147,155,166,220,0.12119425813411434,0.13454431150760796,0.15402657304252074,0.26852892559558028,1.2760000000000001E-4,1.7219,4,5.1420100000000005E-4,{"$f":"AK55*(1-(($E57-50)*0.005))","v":181.21772191047671},{"$f":"AL55*(1-(($E57-50)*0.005))","v":194.53321324395014},{"$f":"AM55*(1-(($E57-50)*0.005))","v":257.47050000000002},0.85,0.85,0.85,181,195,257,78,84,111,3.4789728424513867E-2,4.0250111924183894E-2,6.9672395172375626E-2,1.6,4.8,5.5,7.2,null,2352,null,0.8,null,null,0,12.3,14.4,21.85,null,1,1,1,181,195,257,null,0,0,0,1,null,null,null,null,null,null,null,null,null,null,null,null,null,null,null,null,null,null,null,null,null,null,null,null,null,null,null,null,null,null,null,null,{"$f":"DF54","v":160},{"$f":"BM14","v":21.85},{"$f":"ROUND(IF($BZ$2=1,X14,IF($BZ$2=2,X14*3.412141633,)),0)","v":6724},{"$f":"IF($BZ$2=1,ROUND(AB14,0),IF($BZ$2=2,ROUND(AB14/272.7654,1),))","v":578},{"$f":"IF($BZ$2=1,AF14,IF($BZ$2=2,AF14*0.3346,))","v":5.2466408934953108},{"$f":"IF(BY14=1,ROUND(IF($BZ$2=1,AS14,IF($BZ$2=2,AS14*3.412141633,)),0),\"\")","v":1030},{"$f":"IF(BY14=1,IF($BZ$2=1,ROUND(AV14,0),IF($BZ$2=2,ROUND(AV14/272.7654,1),)),\"\")","v":443},{"$f":"IF(BY14=1,IF($BZ$2=1,AY14,IF($BZ$2=2,AY14*0.3346,)),\"\")","v":3.112728234709111},{"$f":"L14","v":46.4},{"$f":"DN57+8","v":54.4},{"$f":"BC14","v":19.600000000000001},{"$f":"DQ54","v":3.2}]
["1357010",null,null,1,35,70,10,11.5,0,26,30,41,566.1,1029.7403904507714,1104.2859635902939,1320.28,1.5,1.08,1.08,1.08,566,1030,1104,1320,{"$f":"ROUND(U58*3600/(4186*ABS($O$1-$O$2)),0)","v":49},{"$f":"ROUND(V58*3600/(4186*ABS($O$1-$O$2)),0)","v":89},{"$f":"ROUND(W58*3600/(4186*ABS($O$1-$O$2)),0)","v":95},{"$f":"ROUND(X58*3600/(4186*ABS($O$1-$O$2)),0)","v":114},1.2340402519542423E-2,3.8924960889446435E-2,4.4146590218265697E-2,6.2778209343462163E-2,3.969E-4,1.7345999999999999,2,3.6734700000000002E-4,142.7603849699376,153.09517888293954,183.04,0.98,0.98,0.98,143,153,183,61,66,79,1.8801217016227327E-2,2.1878764945327631E-2,3.093277823234393E-2,0.5,5.5,5.9,7.9,null,629,null,0.9,null,null,0,13.2,15.1,21.85,null,1,1,1,143,153,183,null,0,0,0,1,null,null,null,null,null,null,null,null,null,null,null,null,null,null,null,null,null,null,null,null,null,null,null,null,null,null,null,null,null,null,null,null,180,{"$f":"BJ15","v":0},{"$f":"ROUND(IF($BZ$2=1,U15,IF($BZ$2=2,U15*3.412141633,)),0)","v":2323},{"$f":"IF($BZ$2=1,ROUND(Y15,0),IF($BZ$2=2,ROUND(Y15/272.7654,1),))","v":200},{"$f":"IF($BZ$2=1,AC15,IF($BZ$2=2,AC15*0.3346,))","v":0.67129343375571504},null,null,null,0,0,0,{"$f":"IF($BZ$2=1,AZ15,IF($BZ$2=2,AZ15/4.54609,))","v":3.6}]
["1507010",null,null,1,50,70,10,11.5,0,26,30,41,677.7,1029.7403904507714,1104.2859635902939,1320.28,1.5,1.08,1.08,1.08,678,1030,1104,1320,58,89,95,114,1.7063240433459286E-2,3.8924960889446435E-2,4.4146590218265697E-2,6.2778209343462163E-2,3.969E-4,1.7345999999999999,2,3.6734700000000002E-4,142.7603849699376,153.09517888293954,183.04,0.98,0.98,0.98,143,153,183,61,66,79,1.8801217016227327E-2,2.1878764945327631E-2,3.093277823234393E-2,0.5,5.5,5.9,7.9,null,753,null,0.9,null,null,0,13.2,15.1,21.85,null,1,1,1,143,153,183,null,0,0,0,1,null,null,null,null,null,null,null,null,null,null,null,null,null,null,null,null,null,null,null,null,null,null,null,null,null,null,null,null,null,null,null,null,{"$f":"DF58","v":180},{"$f":"BK15","v":10},{"$f":"ROUND(IF($BZ$2=1,V15,IF($BZ$2=2,V15*3.412141633,)),0)","v":4843},{"$f":"IF($BZ$2=1,ROUND(Z15,0),IF($BZ$2=2,ROUND(Z15/272.7654,1),))","v":417},{"$f":"IF($BZ$2=1,AD15,IF($BZ$2=2,AD15*0.3346,))","v":2.8182657536071059},{"$f":"IF(BY15=1,ROUND(IF($BZ$2=1,AQ15,IF($BZ$2=2,AQ15*3.412141633,)),0),\"\")","v":686},{"$f":"IF(BY15=1,IF($BZ$2=1,ROUND(AT15,0),IF($BZ$2=2,ROUND(AT15/272.7654,1),)),\"\")","v":295},{"$f":"IF(BY15=1,IF($BZ$2=1,AW15,IF($BZ$2=2,AW15*0.3346,)),\"\")","v":1.4327504054076798},{"$f":"J15","v":26},{"$f":"DN59+8","v":34},{"$f":"BA15","v":11.5},{"$f":"DQ58","v":3.6}]
["1657010",null,null,1,65,70,10,11.5,0,26,30,41,763.2,1029.7403904507714,1104.2859635902939,1320.28,1.5,1.08,1.08,1.08,763,1030,1104,1320,66,89,95,114,2.1878764945327631E-2,3.8924960889446435E-2,4.4146590218265697E-2,6.2778209343462163E-2,3.969E-4,1.7345999999999999,2,3.6734700000000002E-4,142.7603849699376,153.09517888293954,183.04,0.98,0.98,0.98,143,153,183,61,66,79,1.8801217016227327E-2,2.1878764945327631E-2,3.093277823234393E-2,0.5,5.5,5.9,7.9,null,848,null,0.9,null,null,0,13.2,15.1,21.85,null,1,1,1,143,153,183,null,0,0,0,1,null,null,null,null,null,null,null,null,null,null,null,null,null,null,"L,rail/L,tot","T10","T11","T15","T16","T20","T21","ALS",null,null,null,null,null,null,null,null,null,null,{"$f":"DF58","v":180},{"$f":"BL15","v":11.8},{"$f":"ROUND(IF($BZ$2=1,W15,IF($BZ$2=2,W15*3.412141633,)),0)","v":5171},{"$f":"IF($BZ$2=1,ROUND(AA15,0),IF($BZ$2=2,ROUND(AA15/272.7654,1),))","v":445},{"$f":"IF($BZ$2=1,AE15,IF($BZ$2=2,AE15*0.3346,))","v":3.2004400554381953},{"$f":"IF(BY15=1,ROUND(IF($BZ$2=1,AR15,IF($BZ$2=2,AR15*3.412141633,)),0),\"\")","v":733},{"$f":"IF(BY15=1,IF($BZ$2=1,ROUND(AU15,0),IF($BZ$2=2,ROUND(AU15/272.7654,1),)),\"\")","v":315},{"$f":"IF(BY15=1,IF($BZ$2=1,AX15,IF($BZ$2=2,AX15*0.3346,)),\"\")","v":1.6285969093831283},{"$f":"K15","v":30},{"$f":"DN60+8","v":38},{"$f":"BB15","v":12.8},{"$f":"DQ58","v":3.6}]
["1957010",null,null,1,95,70,10,11.5,0,26,30,41,877.5,1029.7403904507714,1104.2859635902939,1320.28,1.5,1.08,1.08,1.08,878,1030,1104,1320,76,89,95,114,2.8708973437630535E-2,3.8924960889446435E-2,4.4146590218265697E-2,6.2778209343462163E-2,3.969E-4,1.7345999999999999,2,3.6734700000000002E-4,142.7603849699376,153.09517888293954,183.04,0.98,0.98,0.98,143,153,183,61,66,79,1.8801217016227327E-2,2.1878764945327631E-2,3.093277823234393E-2,0.5,5.5,5.9,7.9,null,975,null,0.9,null,null,0,13.2,15.1,21.85,null,1,1,1,143,153,183,null,0,0,0,1,null,null,null,null,null,null,null,null,null,null,null,null,null,null,1,0.9,0.68,0.8,0.68,0.8,0.8,{"$f":"IF(#REF!/#REF!>data!CN$61,0,IF(#REF!/#REF!=data!CN$61,data!CO$61,IF(#REF!/#REF!>data!CN$62,data!CO$62,IF(#REF!/#REF!>data!CN$63,data!CO$63,IF(#REF!/#REF!>data!CN$64,data!CO$64,IF(#REF!/#REF!>data!CN$65,data!CO$65,IF(#REF!/#REF!>data!CN$66,data!CO$66,IF(#REF!/#REF!=data!CN$66,1,))))))))","v":{"$error":"#REF!"}},"T10",null,null,null,null,null,null,null,null,null,{"$f":"DF58","v":180},{"$f":"BM15","v":21.85},{"$f":"ROUND(IF($BZ$2=1,X15,IF($BZ$2=2,X15*3.412141633,)),0)","v":7371},{"$f":"IF($BZ$2=1,ROUND(AB15,0),IF($BZ$2=2,ROUND(AB15/272.7654,1),))","v":634},{"$f":"IF($BZ$2=1,AF15,IF($BZ$2=2,AF15*0.3346,))","v":6.4023363853790576},{"$f":"IF(BY15=1,ROUND(IF($BZ$2=1,AS15,IF($BZ$2=2,AS15*3.412141633,)),0),\"\")","v":1045},{"$f":"IF(BY15=1,IF($BZ$2=1,ROUND(AV15,0),IF($BZ$2=2,ROUND(AV15/272.7654,1),)),\"\")","v":449},{"$f":"IF(BY15=1,IF($BZ$2=1,AY15,IF($BZ$2=2,AY15*0.3346,)),\"\")","v":3.2569852229594378},{"$f":"L15","v":46.4},{"$f":"DN61+8","v":54.4},{"$f":"BC15","v":19.600000000000001},{"$f":"DQ58","v":3.6}]
["1357011",null,null,1,35,70,11,11.5,0,26,30,41,569.16000000000008,1397.1861540381678,1498.3320774196782,1791.4,1.5,1.1000000000000001,1.1000000000000001,1.1000000000000001,569,1397,1498,1791,49,120,129,154,2.0906483940284843E-2,0.11600499755813,0.13329019125147809,0.18736507468697711,3.969E-4,1.7345999999999999,4,5.7428799999999995E-4,234.01347195356249,250.95431311209123,300.04000000000002,0.95,0.95,0.95,234,251,300,101,108,129,8.3337593553421352E-2,9.4767092758545599E-2,0.13329019125147809,0.9,5.5,5.9,7.9,null,837,null,0.68,null,null,0,13.2,15.1,21.85,null,1,1,1,234,251,300,null,0,0,0,1,null,null,null,null,null,null,null,null,null,null,null,null,null,null,0.8,{"$f":"CO$66-((CO$66-CO$61)*$CN62)","v":0.92},{"$f":"CP$66-((CP$66-CP$61)*$CN62)","v":0.74399999999999999},0.84000000000000008,0.74399999999999999,0.84000000000000008,0.84000000000000008,{"$f":"IF(#REF!/#REF!>data!CN$61,0,IF(#REF!/#REF!=data!CN$61,data!CP$61,IF(#REF!/#REF!>data!CN$62,data!CP$62,IF(#REF!/#REF!>data!CN$63,data!CP$63,IF(#REF!/#REF!>data!CN$64,data!CP$64,IF(#REF!/#REF!>data!CN$65,data!CP$65,IF(#REF!/#REF!>data!CN$66,data!CP$66,IF(#REF!/#REF!=data!CN$66,1,))))))))","v":{"$error":"#REF!"}},"T11",null,null,null,null,null,null,null,null,null,200,{"$f":"BJ16","v":0},{"$f":"ROUND(IF($BZ$2=1,U16,IF($BZ$2=2,U16*3.412141633,)),0)","v":2581},{"$f":"IF($BZ$2=1,ROUND(Y16,0),IF($BZ$2=2,ROUND(Y16/272.7654,1),))","v":222},{"$f":"IF($BZ$2=1,AC16,IF($BZ$2=2,AC16*0.3346,))","v":0.84083505339440379},null,null,null,0,0,0,{"$f":"IF($BZ$2=1,AZ16,IF($BZ$2=2,AZ16/4.54609,))","v":4}]
["1507011",null,null,1,50,70,11,11.5,0,26,30,41,659.6,1397.1861540381678,1498.3320774196782,1791.4,1.5,1.1000000000000001,1.1000000000000001,1.1000000000000001,660,1397,1498,1791,57,120,129,154,2.7896752500164764E-2,0.11600499755813,0.13329019125147809,0.18736507468697711,3.969E-4,1.7345999999999999,4,5.7428799999999995E-4,234.01347195356249,250.95431311209123,300.04000000000002,0.95,0.95,0.95,234,251,300,101,108,129,8.3337593553421352E-2,9.4767092758545599E-2,0.13329019125147809,0.9,5.5,5.9,7.9,null,970,null,0.68,null,null,0,13.2,15.1,21.85,null,1,1,1,234,251,300,null,0,0,0,1,null,null,null,null,null,null,null,null,null,null,null,null,null,null,0.6,{"$f":"CO$66-((CO$66-CO$61)*$CN63)","v":0.94000000000000006},0.80800000000000005,0.88,0.80800000000000005,0.88,0.88,{"$f":"IF(#REF!/#REF!>data!CN$61,0,IF(#REF!/#REF!=data!CN$61,data!CQ$61,IF(#REF!/#REF!>data!CN$62,data!CQ$62,IF(#REF!/#REF!>data!CN$63,data!CQ$63,IF(#REF!/#REF!>data!CN$64,data!CQ$64,IF(#REF!/#REF!>data!CN$65,data!CQ$65,IF(#REF!/#REF!>data!CN$66,data!CQ$66,IF(#REF!/#REF!=data!CN$66,1,))))))))","v":{"$error":"#REF!"}},"T15",null,null,null,null,null,null,null,null,null,{"$f":"DF62","v":200},{"$f":"BK16","v":10},{"$f":"ROUND(IF($BZ$2=1,V16,IF($BZ$2=2,V16*3.412141633,)),0)","v":5667},{"$f":"IF($BZ$2=1,ROUND(Z16,0),IF($BZ$2=2,ROUND(Z16/272.7654,1),))","v":487},{"$f":"IF($BZ$2=1,AD16,IF($BZ$2=2,AD16*0.3346,))","v":3.8886229634946341},{"$f":"IF(BY16=1,ROUND(IF($BZ$2=1,AQ16,IF($BZ$2=2,AQ16*3.412141633,)),0),\"\")","v":868},{"$f":"IF(BY16=1,IF($BZ$2=1,ROUND(AT16,0),IF($BZ$2=2,ROUND(AT16/272.7654,1),)),\"\")","v":373},{"$f":"IF(BY16=1,IF($BZ$2=1,AW16,IF($BZ$2=2,AW16*0.3346,)),\"\")","v":2.3103470177002245},{"$f":"J16","v":26},{"$f":"DN63+8","v":34},{"$f":"BA16","v":13.2},{"$f":"DQ62","v":4}]
["1657011",null,null,1,65,70,11,11.5,0,26,30,41,734.40000000000009,1397.1861540381678,1498.3320774196782,1791.4,1.5,1.1000000000000001,1.1000000000000001,1.1000000000000001,734,1397,1498,1791,63,120,129,154,3.3771091380126128E-2,0.11600499755813,0.13329019125147809,0.18736507468697711,3.969E-4,1.7345999999999999,4,5.7428799999999995E-4,{"$f":"AK63*(1-(($E64-50)*0.005))","v":216.46246155704532},{"$f":"AL63*(1-(($E64-50)*0.005))","v":232.13273962868439},{"$f":"AM63*(1-(($E64-50)*0.005))","v":277.53700000000003},0.95,0.95,0.95,216,232,278,93,100,120,7.1145182973201465E-2,8.1762719577362683E-2,0.11600499755813,0.9,5.5,5.9,7.9,null,1080,null,0.68,null,null,0,13.2,15.1,21.85,null,1,1,1,216,232,278,null,0,0,0,1,null,null,null,null,null,null,null,null,null,null,null,null,null,null,0.4,0.96,0.872,0.92,0.872,0.92,0.92,{"$f":"IF(#REF!/#REF!>data!CN$61,0,IF(#REF!/#REF!=data!CN$61,data!CR$61,IF(#REF!/#REF!>data!CN$62,data!CR$62,IF(#REF!/#REF!>data!CN$63,data!CR$63,IF(#REF!/#REF!>data!CN$64,data!CR$64,IF(#REF!/#REF!>data!CN$65,data!CR$65,IF(#REF!/#REF!>data!CN$66,data!CR$66,IF(#REF!/#REF!=data!CN$66,1,))))))))","v":{"$error":"#REF!"}},"T16",null,null,null,null,null,null,null,null,null,{"$f":"DF62","v":200},{"$f":"BL16","v":11.4},{"$f":"ROUND(IF($BZ$2=1,W16,IF($BZ$2=2,W16*3.412141633,)),0)","v":5971},{"$f":"IF($BZ$2=1,ROUND(AA16,0),IF($BZ$2=2,ROUND(AA16/272.7654,1),))","v":514},{"$f":"IF($BZ$2=1,AE16,IF($BZ$2=2,AE16*0.3346,))","v":4.3210309689101214},{"$f":"IF(BY16=1,ROUND(IF($BZ$2=1,AR16,IF($BZ$2=2,AR16*3.412141633,)),0),\"\")","v":914},{"$f":"IF(BY16=1,IF($BZ$2=1,ROUND(AU16,0),IF($BZ$2=2,ROUND(AU16/272.7654,1),)),\"\")","v":393},{"$f":"IF(BY16=1,IF($BZ$2=1,AX16,IF($BZ$2=2,AX16*0.3346,)),\"\")","v":2.5582125224157561},{"$f":"K16","v":30},{"$f":"DN64+8","v":38},{"$f":"BB16","v":14.7},{"$f":"DQ62","v":4}]
["1957011",null,null,1,95,70,11,11.5,0,26,30,41,854.7600000000001,1397.1861540381678,1498.3320774196782,1791.4,1.5,1.1000000000000001,1.1000000000000001,1.1000000000000001,855,1397,1498,1791,74,120,129,154,4.5934160191076906E-2,0.11600499755813,0.13329019125147809,0.18736507468697711,3.969E-4,1.7345999999999999,4,5.7428799999999995E-4,{"$f":"AK63*(1-(($E65-50)*0.005))","v":181.36044076401095},{"$f":"AL63*(1-(($E65-50)*0.005))","v":194.48959266187072},{"$f":"AM63*(1-(($E65-50)*0.005))","v":232.53100000000003},0.95,0.95,0.95,181,194,233,78,83,100,5.0801228522024011E-2,5.7216283096821793E-2,8.1762719577362683E-2,0.9,5.5,5.9,7.9,null,1257,null,0.68,null,null,0,13.2,15.1,21.85,null,1,1,1,181,194,233,null,0,0,0,1,null,null,null,null,null,null,null,null,null,null,null,null,null,null,0.2,0.98,0.93600000000000005,0.96,0.93600000000000005,0.96,0.96,{"$f":"IF(#REF!/#REF!>data!CN$61,0,IF(#REF!/#REF!=data!CN$61,data!CS$61,IF(#REF!/#REF!>data!CN$62,data!CS$62,IF(#REF!/#REF!>data!CN$63,data!CS$63,IF(#REF!/#REF!>data!CN$64,data!CS$64,IF(#REF!/#REF!>data!CN$65,data!CS$65,IF(#REF!/#REF!>data!CN$66,data!CS$66,IF(#REF!/#REF!=data!CN$66,1,))))))))","v":{"$error":"#REF!"}},"T20",null,null,null,null,null,null,null,null,null,{"$f":"DF62","v":200},{"$f":"BM16","v":21.85},{"$f":"ROUND(IF($BZ$2=1,X16,IF($BZ$2=2,X16*3.412141633,)),0)","v":8618},{"$f":"IF($BZ$2=1,ROUND(AB16,0),IF($BZ$2=2,ROUND(AB16/272.7654,1),))","v":741},{"$f":"IF($BZ$2=1,AF16,IF($BZ$2=2,AF16*0.3346,))","v":8.8377623616344323},{"$f":"IF(BY16=1,ROUND(IF($BZ$2=1,AS16,IF($BZ$2=2,AS16*3.412141633,)),0),\"\")","v":1320},{"$f":"IF(BY16=1,IF($BZ$2=1,ROUND(AV16,0),IF($BZ$2=2,ROUND(AV16/272.7654,1),)),\"\")","v":568},{"$f":"IF(BY16=1,IF($BZ$2=1,AY16,IF($BZ$2=2,AY16*0.3346,)),\"\")","v":5.2529022162438315},{"$f":"L16","v":47.1},{"$f":"DN65+8","v":55.1},{"$f":"BC16","v":23.5},{"$f":"DQ62","v":4}]
["1357015",null,null,1,35,70,15,16.5,0,26,30,41.1,823.2,1070.8273541699666,1149.5094620994566,1521.41,1.5,1.08,1.08,1.08,823,1071,1150,1521,71,92,99,131,2.6343679052399979E-2,4.3822991749213405E-2,5.0617442668221047E-2,8.7813072353079863E-2,2.0829999999999999E-4,1.724,2,4.6182900000000003E-4,135.09481491470635,145.02129350758159,191.94,1.01,1.01,1.01,135,145,192,58,62,83,1.7715040719154605E-2,2.0190861450308E-2,3.5797696205080359E-2,0.7,5.0999999999999996,5.6,7.2,null,1029,null,0.8,null,null,0,12.3,14.4,21.85,null,1,1,1,135,145,192,null,0,0,0,1,null,null,null,null,null,null,null,null,null,null,null,null,null,null,0,1,1,1,1,1,1,{"$f":"IF(#REF!/#REF!>data!CN$61,0,IF(#REF!/#REF!=data!CN$61,data!CT$61,IF(#REF!/#REF!>data!CN$62,data!CT$62,IF(#REF!/#REF!>data!CN$63,data!CT$63,IF(#REF!/#REF!>data!CN$64,data!CT$64,IF(#REF!/#REF!>data!CN$65,data!CT$65,IF(#REF!/#REF!>data!CN$66,data!CT$66,IF(#REF!/#REF!=data!CN$66,1,))))))))","v":{"$error":"#REF!"}},"T21",null,null,null,null,null,null,null,null,null,220,{"$f":"BJ17","v":0},{"$f":"ROUND(IF($BZ$2=1,U17,IF($BZ$2=2,U17*3.412141633,)),0)","v":2649},{"$f":"IF($BZ$2=1,ROUND(Y17,0),IF($BZ$2=2,ROUND(Y17/272.7654,1),))","v":228},{"$f":"IF($BZ$2=1,AC17,IF($BZ$2=2,AC17*0.3346,))","v":0.90456998930286103},null,null,null,0,0,0,{"$f":"IF($BZ$2=1,AZ17,IF($BZ$2=2,AZ17/4.54609,))","v":4.4000000000000004}]
["1507015",null,null,1,50,70,15,16.5,0,26,30,41.1,975.82735416996661,1070.8273541699666,1149.5094620994566,1521.41,1.5,1.08,1.08,1.08,976,1071,1150,1521,84,92,99,131,3.6649876914223174E-2,4.3822991749213405E-2,5.0617442668221047E-2,8.7813072353079863E-2,2.0829999999999999E-4,1.724,2,4.6182900000000003E-4,135.09481491470635,145.02129350758159,191.94,1.01,1.01,1.01,135,145,192,58,62,83,1.7715040719154605E-2,2.0190861450308E-2,3.5797696205080359E-2,0.7,5.0999999999999996,5.6,7.2,null,1214,null,0.8,null,null,0,12.3,14.4,21.85,null,1,1,1,135,145,192,null,0,0,0,1,null,null,null,null,null,null,null,null,null,null,null,null,null,null,null,null,null,null,null,null,null,null,null,null,null,null,null,null,null,null,null,null,{"$f":"DF66","v":220},{"$f":"BK17","v":10},{"$f":"ROUND(IF($BZ$2=1,V17,IF($BZ$2=2,V17*3.412141633,)),0)","v":6292},{"$f":"IF($BZ$2=1,ROUND(Z17,0),IF($BZ$2=2,ROUND(Z17/272.7654,1),))","v":541},{"$f":"IF($BZ$2=1,AD17,IF($BZ$2=2,AD17*0.3346,))","v":4.8599490065570379},{"$f":"IF(BY17=1,ROUND(IF($BZ$2=1,AQ17,IF($BZ$2=2,AQ17*3.412141633,)),0),\"\")","v":963},{"$f":"IF(BY17=1,IF($BZ$2=1,ROUND(AT17,0),IF($BZ$2=2,ROUND(AT17/272.7654,1),)),\"\")","v":414},{"$f":"IF(BY17=1,IF($BZ$2=1,AW17,IF($BZ$2=2,AW17*0.3346,)),\"\")","v":2.8848425296225417},{"$f":"J17","v":26},{"$f":"DN67+8","v":34},{"$f":"BA17","v":15.5},{"$f":"DQ66","v":4.4000000000000004}]
["1657015",null,null,1,65,70,15,16.5,0,26,30,41.1,975.82735416996661,1070.8273541699666,1149.5094620994566,1521.41,1.5,1.08,1.08,1.08,976,1071,1150,1521,84,92,99,131,3.6649876914223174E-2,4.3822991749213405E-2,5.0617442668221047E-2,8.7813072353079863E-2,2.0829999999999999E-4,1.724,2,4.6182900000000003E-4,135.09481491470635,145.02129350758159,191.94,1.01,1.01,1.01,135,145,192,58,62,83,1.7715040719154605E-2,2.0190861450308E-2,3.5797696205080359E-2,0.7,5.0999999999999996,5.6,7.2,null,1345,null,0.8,null,null,0,12.3,14.4,21.85,null,1,1,1,135,145,192,null,0,0,0,1,null,null,null,null,null,null,null,null,null,null,null,null,null,null,null,null,null,null,null,null,null,null,null,null,null,null,null,null,null,null,null,null,{"$f":"DF66","v":220},{"$f":"BL17","v":11.1},{"$f":"ROUND(IF($BZ$2=1,W17,IF($BZ$2=2,W17*3.412141633,)),0)","v":6554},{"$f":"IF($BZ$2=1,ROUND(AA17,0),IF($BZ$2=2,ROUND(AA17/272.7654,1),))","v":564},{"$f":"IF($BZ$2=1,AE17,IF($BZ$2=2,AE17*0.3346,))","v":5.2712218393505692},{"$f":"IF(BY17=1,ROUND(IF($BZ$2=1,AR17,IF($BZ$2=2,AR17*3.412141633,)),0),\"\")","v":1003},{"$f":"IF(BY17=1,IF($BZ$2=1,ROUND(AU17,0),IF($BZ$2=2,ROUND(AU17/272.7654,1),)),\"\")","v":431},{"$f":"IF(BY17=1,IF($BZ$2=1,AX17,IF($BZ$2=2,AX17*0.3346,)),\"\")","v":3.1200973344986664},{"$f":"K17","v":30},{"$f":"DN68+8","v":38},{"$f":"BB17","v":16.8},{"$f":"DQ66","v":4.4000000000000004}]
["1957015",null,null,1,95,70,15,16.5,0,26,30,41.1,975.82735416996661,1070.8273541699666,1149.5094620994566,1521.41,1.5,1.08,1.08,1.08,976,1071,1150,1521,84,92,99,131,3.6649876914223174E-2,4.3822991749213405E-2,5.0617442668221047E-2,8.7813072353079863E-2,2.0829999999999999E-4,1.724,2,4.6182900000000003E-4,135.09481491470635,145.02129350758159,191.94,1.01,1.01,1.01,135,145,192,58,62,83,1.7715040719154605E-2,2.0190861450308E-2,3.5797696205080359E-2,0.7,5.0999999999999996,5.6,7.2,null,1502,null,0.8,null,null,0,12.3,14.4,21.85,null,1,1,1,135,145,192,null,0,0,0,1,null,null,null,null,null,null,null,null,null,null,null,null,null,null,null,null,null,null,null,null,null,null,null,null,null,null,null,null,null,null,null,null,{"$f":"DF66","v":220},{"$f":"BM17","v":21.85},{"$f":"ROUND(IF($BZ$2=1,X17,IF($BZ$2=2,X17*3.412141633,)),0)","v":9565},{"$f":"IF($BZ$2=1,ROUND(AB17,0),IF($BZ$2=2,ROUND(AB17/272.7654,1),))","v":823},{"$f":"IF($BZ$2=1,AF17,IF($BZ$2=2,AF17*0.3346,))","v":11.028120296891252},{"$f":"IF(BY17=1,ROUND(IF($BZ$2=1,AS17,IF($BZ$2=2,AS17*3.412141633,)),0),\"\")","v":1465},{"$f":"IF(BY17=1,IF($BZ$2=1,ROUND(AV17,0),IF($BZ$2=2,ROUND(AV17/272.7654,1),)),\"\")","v":630},{"$f":"IF(BY17=1,IF($BZ$2=1,AY17,IF($BZ$2=2,AY17*0.3346,)),\"\")","v":6.542211558205909},{"$f":"L17","v":47.8},{"$f":"DN69+8","v":55.8},{"$f":"BC17","v":27.5},{"$f":"DQ66","v":4.4000000000000004}]
["1357016",null,null,1,35,70,16,16.5,0,26,30,41.1,758.2,1627.62717250317,1747.2217424001376,2312.5,1.5,1.1000000000000001,1.1000000000000001,1.1000000000000001,758,1628,1747,2313,65,140,150,199,6.3729278383726731E-2,0.2902779131483183,0.33273460547085354,0.58224305620495909,2.0829999999999999E-4,1.724,4,1.392796E-3,219.59769851718443,235.73326859625641,312,0.95,0.95,0.95,220,236,312,95,101,134,0.1348444213322838,0.1521944098151945,0.26618360536544905,1.4,5.0999999999999996,5.6,7.2,null,1115,null,0.68,null,null,0,12.3,14.4,21.85,null,1,1,1,220,236,312,null,0,0,0,1,null,null,null,null,null,null,null,null,null,null,null,null,null,null,"Lengths","Calculation factors for lower fan settings",null,null,null,null,null,null,null,null,null,null,null,null,null,null,null,null,240,{"$f":"BJ18","v":0},{"$f":"ROUND(IF($BZ$2=1,U18,IF($BZ$2=2,U18*3.412141633,)),0)","v":3097},{"$f":"IF($BZ$2=1,ROUND(Y18,0),IF($BZ$2=2,ROUND(Y18/272.7654,1),))","v":266},{"$f":"IF($BZ$2=1,AC18,IF($BZ$2=2,AC18*0.3346,))","v":1.2449094827936957},null,null,null,0,0,0,{"$f":"IF($BZ$2=1,AZ18,IF($BZ$2=2,AZ18/4.54609,))","v":4.8}]
["1507016",null,null,1,50,70,16,16.5,0,26,30,41.1,903.72,1627.62717250317,1747.2217424001376,2312.5,1.5,1.1000000000000001,1.1000000000000001,1.1000000000000001,904,1628,1747,2313,78,140,150,199,9.1341867693011378E-2,0.2902779131483183,0.33273460547085354,0.58224305620495909,2.0829999999999999E-4,1.724,4,1.392796E-3,219.59769851718443,235.73326859625641,312,0.95,0.95,0.95,220,236,312,95,101,134,0.1348444213322838,0.1521944098151945,0.26618360536544905,1.4,5.0999999999999996,5.6,7.2,null,1329,null,0.68,null,null,0,12.3,14.4,21.85,null,1,1,1,220,236,312,null,0,0,0,1,null,null,null,null,null,null,null,null,null,null,null,null,null,null,null,"T10",null,"T11",null,"T15",null,"T16",null,"T20",null,"T21",null,null,null,null,null,null,{"$f":"DF70","v":240},{"$f":"BK18","v":10},{"$f":"ROUND(IF($BZ$2=1,V18,IF($BZ$2=2,V18*3.412141633,)),0)","v":6916},{"$f":"IF($BZ$2=1,ROUND(Z18,0),IF($BZ$2=2,ROUND(Z18/272.7654,1),))","v":595},{"$f":"IF($BZ$2=1,AD18,IF($BZ$2=2,AD18*0.3346,))","v":5.9505892618562521},{"$f":"IF(BY18=1,ROUND(IF($BZ$2=1,AQ18,IF($BZ$2=2,AQ18*3.412141633,)),0),\"\")","v":1059},{"$f":"IF(BY18=1,IF($BZ$2=1,ROUND(AT18,0),IF($BZ$2=2,ROUND(AT18/272.7654,1),)),\"\")","v":455},{"$f":"IF(BY18=1,IF($BZ$2=1,AW18,IF($BZ$2=2,AW18*0.3346,)),\"\")","v":3.5300159430065703},{"$f":"J18","v":26},{"$f":"DN71+8","v":34},{"$f":"BA18","v":16.399999999999999},{"$f":"DQ70","v":4.8}]
["1657016",null,null,1,65,70,16,16.5,0,26,30,41.1,1034.28,1627.62717250317,1747.2217424001376,2312.5,1.5,1.1000000000000001,1.1000000000000001,1.1000000000000001,1034,1628,1747,2313,89,140,150,199,0.11853524310307993,0.2902779131483183,0.33273460547085354,0.58224305620495909,2.0829999999999999E-4,1.724,4,1.392796E-3,{"$f":"AK71*(1-(($E72-50)*0.005))","v":203.12787112839561},{"$f":"AL71*(1-(($E72-50)*0.005))","v":218.05327345153719},{"$f":"AM71*(1-(($E72-50)*0.005))","v":288.60000000000002},0.95,0.95,0.95,203,218,289,87,94,124,0.11333032140726006,0.13205391903673999,0.22832797696070714,1.4,5.0999999999999996,5.6,7.2,null,1521,null,0.68,null,null,0,12.3,14.4,21.85,null,1,1,1,203,218,289,null,0,0,0,1,null,null,null,null,null,null,null,null,null,null,null,null,null,null,null,"S2","S1","S2","S1","S2","S1","S2","S1","S2","S1","S2","S1",null,null,null,null,null,{"$f":"DF70","v":240},{"$f":"BL18","v":10.9},{"$f":"ROUND(IF($BZ$2=1,W18,IF($BZ$2=2,W18*3.412141633,)),0)","v":7168},{"$f":"IF($BZ$2=1,ROUND(AA18,0),IF($BZ$2=2,ROUND(AA18/272.7654,1),))","v":616},{"$f":"IF($BZ$2=1,AE18,IF($BZ$2=2,AE18*0.3346,))","v":6.3666227323503541},{"$f":"IF(BY18=1,ROUND(IF($BZ$2=1,AR18,IF($BZ$2=2,AR18*3.412141633,)),0),\"\")","v":1098},{"$f":"IF(BY18=1,IF($BZ$2=1,ROUND(AU18,0),IF($BZ$2=2,ROUND(AU18/272.7654,1),)),\"\")","v":472},{"$f":"IF(BY18=1,IF($BZ$2=1,AX18,IF($BZ$2=2,AX18*0.3346,)),\"\")","v":3.7910912175214273},{"$f":"K18","v":30},{"$f":"DN72+8","v":38},{"$f":"BB18","v":17.7},{"$f":"DQ70","v":4.8}]
["1957016",null,null,1,95,70,16,16.5,0,26,30,41.1,1274.3200000000002,1627.62717250317,1747.2217424001376,2312.5,1.5,1.1000000000000001,1.1000000000000001,1.1000000000000001,1274,1628,1747,2313,110,140,150,199,0.18016880127763313,0.2902779131483183,0.33273460547085354,0.58224305620495909,2.0829999999999999E-4,1.724,4,1.392796E-3,{"$f":"AK71*(1-(($E73-50)*0.005))","v":170.18821635081792},{"$f":"AL71*(1-(($E73-50)*0.005))","v":182.69328316209871},{"$f":"AM71*(1-(($E73-50)*0.005))","v":241.8},0.95,0.95,0.95,170,183,242,73,79,104,8.0140844201789879E-2,9.3669101170786917E-2,0.16125940069017777,1.4,5.0999999999999996,5.6,7.2,null,1874,null,0.68,null,null,0,12.3,14.4,21.85,null,1,1,1,170,183,242,null,0,0,0,1,null,null,null,null,null,null,null,null,null,null,null,null,null,null,50,0.85518696133680483,0.79918429718355943,0.85518696133680483,0.79918429718355943,null,null,null,null,null,null,null,null,null,null,null,null,null,{"$f":"DF70","v":240},{"$f":"BM18","v":21.85},{"$f":"ROUND(IF($BZ$2=1,X18,IF($BZ$2=2,X18*3.412141633,)),0)","v":10512},{"$f":"IF($BZ$2=1,ROUND(AB18,0),IF($BZ$2=2,ROUND(AB18/272.7654,1),))","v":904},{"$f":"IF($BZ$2=1,AF18,IF($BZ$2=2,AF18*0.3346,))","v":13.454619784961755},{"$f":"IF(BY18=1,ROUND(IF($BZ$2=1,AS18,IF($BZ$2=2,AS18*3.412141633,)),0),\"\")","v":1610},{"$f":"IF(BY18=1,IF($BZ$2=1,ROUND(AV18,0),IF($BZ$2=2,ROUND(AV18/272.7654,1),)),\"\")","v":692},{"$f":"IF(BY18=1,IF($BZ$2=1,AY18,IF($BZ$2=2,AY18*0.3346,)),\"\")","v":7.987173009623401},{"$f":"L18","v":48.1},{"$f":"DN73+8","v":56.1},{"$f":"BC18","v":29.7},{"$f":"DQ70","v":4.8}]
["1357020",null,null,1,35,70,20,21.5,0,26,30,41.1,1153.6000000000001,1509.840819712653,1619.1421060355642,1935.84,1.5,1.08,1.08,1.08,1154,1510,1619,1936,99,130,139,166,3.9970631396197505E-2,6.8444200673944258E-2,7.8121147734999577E-2,0.11095002490928764,1.2760000000000001E-4,1.7219,2,3.76611E-4,170.52628152222005,182.87112058001478,218.64000000000001,0.95,0.95,0.95,171,183,219,74,79,94,2.2511197833279682E-2,2.5608782122359248E-2,3.6084845824600094E-2,0.9,5.0999999999999996,5.6,7.2,null,1442,null,0.8,null,null,0,12.3,14.4,21.85,null,1,1,1,171,183,219,null,0,0,0,1,null,null,null,null,null,null,null,null,null,null,null,null,null,null,60,0.8452517014716241,0.78929861482598995,0.8452517014716241,0.78929861482598995,0.75555534806492441,0.70383877729866806,0.75555534806492441,0.70383877729866806,0.8452517014716241,0.78929861482598995,0.75555534806492441,0.70383877729866806,null,null,null,null,null,260,{"$f":"BJ19","v":0},{"$f":"ROUND(IF($BZ$2=1,U19,IF($BZ$2=2,U19*3.412141633,)),0)","v":3208},{"$f":"IF($BZ$2=1,ROUND(Y19,0),IF($BZ$2=2,ROUND(Y19/272.7654,1),))","v":276},{"$f":"IF($BZ$2=1,AC19,IF($BZ$2=2,AC19*0.3346,))","v":1.3635971028929672},null,null,null,0,0,0,{"$f":"IF($BZ$2=1,AZ19,IF($BZ$2=2,AZ19/4.54609,))","v":5.2}]
["1507020",null,null,1,50,70,20,21.5,0,26,30,41.1,1358.4,1509.840819712653,1619.1421060355642,1935.84,1.5,1.08,1.08,1.08,1358,1510,1619,1936,117,130,139,166,5.5585994208595724E-2,6.8444200673944258E-2,7.8121147734999577E-2,0.11095002490928764,1.2760000000000001E-4,1.7219,2,3.76611E-4,170.52628152222005,182.87112058001478,218.64000000000001,0.95,0.95,0.95,171,183,219,74,79,94,2.2511197833279682E-2,2.5608782122359248E-2,3.6084845824600094E-2,0.9,5.0999999999999996,5.6,7.2,null,1698,null,0.8,null,null,0,12.3,14.4,21.85,null,1,1,1,171,183,219,null,0,0,0,1,null,null,null,null,null,null,null,null,null,null,null,null,null,null,70,0.83640285665941616,0.77994091438995627,0.83640285665941616,0.77994091438995627,0.75555534806492441,0.70383877729866806,0.75555534806492441,0.70383877729866806,0.83640285665941616,0.77994091438995627,0.75555534806492441,0.70383877729866806,null,null,null,null,null,{"$f":"DF74","v":260},{"$f":"BK19","v":10},{"$f":"ROUND(IF($BZ$2=1,V19,IF($BZ$2=2,V19*3.412141633,)),0)","v":7342},{"$f":"IF($BZ$2=1,ROUND(Z19,0),IF($BZ$2=2,ROUND(Z19/272.7654,1),))","v":631},{"$f":"IF($BZ$2=1,AD19,IF($BZ$2=2,AD19*0.3346,))","v":6.7819280650427034},{"$f":"IF(BY19=1,ROUND(IF($BZ$2=1,AQ19,IF($BZ$2=2,AQ19*3.412141633,)),0),\"\")","v":1069},{"$f":"IF(BY19=1,IF($BZ$2=1,ROUND(AT19,0),IF($BZ$2=2,ROUND(AT19/272.7654,1),)),\"\")","v":460},{"$f":"IF(BY19=1,IF($BZ$2=1,AW19,IF($BZ$2=2,AW19*0.3346,)),\"\")","v":3.66947790801381},{"$f":"J19","v":26},{"$f":"DN75+8","v":34},{"$f":"BA19","v":16.399999999999999},{"$f":"DQ74","v":5.2}]
["1657020",null,null,1,65,70,20,21.5,0,26,30,41.1,1414.840819712653,1509.840819712653,1619.1421060355642,1935.84,1.5,1.08,1.08,1.08,1415,1510,1619,1936,122,130,139,166,6.0374758328522876E-2,6.8444200673944258E-2,7.8121147734999577E-2,0.11095002490928764,1.2760000000000001E-4,1.7219,2,3.76611E-4,170.52628152222005,182.87112058001478,218.64000000000001,0.95,0.95,0.95,171,183,219,74,79,94,2.2511197833279682E-2,2.5608782122359248E-2,3.6084845824600094E-2,0.9,5.0999999999999996,5.6,7.2,null,1880,null,0.8,null,null,0,12.3,14.4,21.85,null,1,1,1,171,183,219,null,0,0,0,1,null,null,null,null,null,null,null,null,null,null,null,null,null,null,80,0.82845886137907021,0.77133936020072458,0.82845886137907021,0.77133936020072458,0.74531089933631789,0.69504144552059222,0.74531089933631789,0.69504144552059222,0.82845886137907021,0.77133936020072458,0.74531089933631789,0.69504144552059222,null,null,null,null,null,{"$f":"DF74","v":260},{"$f":"BL19","v":10.9},{"$f":"ROUND(IF($BZ$2=1,W19,IF($BZ$2=2,W19*3.412141633,)),0)","v":7610},{"$f":"IF($BZ$2=1,ROUND(AA19,0),IF($BZ$2=2,ROUND(AA19/272.7654,1),))","v":654},{"$f":"IF($BZ$2=1,AE19,IF($BZ$2=2,AE19*0.3346,))","v":7.2711118135096351},{"$f":"IF(BY19=1,ROUND(IF($BZ$2=1,AR19,IF($BZ$2=2,AR19*3.412141633,)),0),\"\")","v":1108},{"$f":"IF(BY19=1,IF($BZ$2=1,ROUND(AU19,0),IF($BZ$2=2,ROUND(AU19/272.7654,1),)),\"\")","v":476},{"$f":"IF(BY19=1,IF($BZ$2=1,AX19,IF($BZ$2=2,AX19*0.3346,)),\"\")","v":3.9213280612116019},{"$f":"K19","v":30},{"$f":"DN76+8","v":38},{"$f":"BB19","v":17.7},{"$f":"DQ74","v":5.2}]
["1957020",null,null,1,95,70,20,21.5,0,26,30,41.1,1414.840819712653,1509.840819712653,1619.1421060355642,1935.84,1.5,1.08,1.08,1.08,1415,1510,1619,1936,122,130,139,166,6.0374758328522876E-2,6.8444200673944258E-2,7.8121147734999577E-2,0.11095002490928764,1.2760000000000001E-4,1.7219,2,3.76611E-4,170.52628152222005,182.87112058001478,218.64000000000001,0.95,0.95,0.95,171,183,219,74,79,94,2.2511197833279682E-2,2.5608782122359248E-2,3.6084845824600094E-2,0.9,5.0999999999999996,5.6,7.2,null,2094,null,0.8,null,null,0,12.3,14.4,21.85,null,1,1,1,171,183,219,null,0,0,0,1,null,null,null,null,null,null,null,null,null,null,null,null,null,null,90,0.8212441545440573,0.76343880970753542,0.8212441545440573,0.76343880970753542,0.73429802939744349,0.68540112539231846,0.73429802939744349,0.68540112539231846,0.8212441545440573,0.76343880970753542,0.73429802939744349,0.68540112539231846,null,null,null,null,null,{"$f":"DF74","v":260},{"$f":"BM19","v":21.85},{"$f":"ROUND(IF($BZ$2=1,X19,IF($BZ$2=2,X19*3.412141633,)),0)","v":11159},{"$f":"IF($BZ$2=1,ROUND(AB19,0),IF($BZ$2=2,ROUND(AB19/272.7654,1),))","v":960},{"$f":"IF($BZ$2=1,AF19,IF($BZ$2=2,AF19*0.3346,))","v":15.356693366889139},{"$f":"IF(BY19=1,ROUND(IF($BZ$2=1,AS19,IF($BZ$2=2,AS19*3.412141633,)),0),\"\")","v":1625},{"$f":"IF(BY19=1,IF($BZ$2=1,ROUND(AV19,0),IF($BZ$2=2,ROUND(AV19/272.7654,1),)),\"\")","v":699},{"$f":"IF(BY19=1,IF($BZ$2=1,AY19,IF($BZ$2=2,AY19*0.3346,)),\"\")","v":8.2763568685468254},{"$f":"L19","v":48.1},{"$f":"DN77+8","v":56.1},{"$f":"BC19","v":29.7},{"$f":"DQ74","v":5.2}]
["1357021",null,null,1,35,70,21,21.5,0,26,30,41.1,1184,1977.8291945358951,2123.1558613833213,2810.06,1.5,1.05,1.05,1.05,1184,1978,2123,2810,102,170,183,242,6.0422553907038073E-2,0.16489933699427986,0.1906306494771868,0.33050578585065171,1.2760000000000001E-4,1.7219,4,5.1420100000000005E-4,240.30463534531125,257.96170693632649,341.42,0.85,0.85,0.85,240,258,341,103,111,147,6.1591027996900249E-2,7.1335725011536941E-2,0.12389224890734116,1.9,5.0999999999999996,5.6,7.2,null,1480,null,0.8,null,null,0,12.3,14.4,21.85,null,1,1,1,240,258,341,null,0,0,0,1,null,null,null,null,null,null,null,null,null,null,null,null,null,null,100,0.81466996609637188,0.75619868948084668,0.81466996609637188,0.75619868948084668,0.72541359909535208,0.67746340042029107,0.72541359909535208,0.67746340042029107,0.81466996609637188,0.75619868948084668,0.72541359909535208,0.67746340042029107,null,null,null,null,null,280,{"$f":"BJ20","v":0},{"$f":"ROUND(IF($BZ$2=1,U20,IF($BZ$2=2,U20*3.412141633,)),0)","v":3614},{"$f":"IF($BZ$2=1,ROUND(Y20,0),IF($BZ$2=2,ROUND(Y20/272.7654,1),))","v":311},{"$f":"IF($BZ$2=1,AC20,IF($BZ$2=2,AC20*0.3346,))","v":1.7504351207217188},null,null,null,0,0,0,{"$f":"IF($BZ$2=1,AZ20,IF($BZ$2=2,AZ20/4.54609,))","v":5.6}]
["1507021",null,null,1,50,70,21,21.5,0,26,30,41.1,1445.6000000000001,1977.8291945358951,2123.1558613833213,2810.06,1.5,1.05,1.05,1.05,1446,1978,2123,2810,124,170,183,242,8.8673414945701898E-2,0.16489933699427986,0.1906306494771868,0.33050578585065171,1.2760000000000001E-4,1.7219,4,5.1420100000000005E-4,240.30463534531125,257.96170693632649,341.42,0.85,0.85,0.85,240,258,341,103,111,147,6.1591027996900249E-2,7.1335725011536941E-2,0.12389224890734116,1.9,5.0999999999999996,5.6,7.2,null,1807,null,0.8,null,null,0,12.3,14.4,21.85,null,1,1,1,240,258,341,null,0,0,0,1,null,null,null,null,null,null,null,null,null,null,null,null,null,null,110,0.81466996609637188,0.75619868948084668,0.81466996609637188,0.75619868948084668,0.72541359909535208,0.67746340042029107,0.72541359909535208,0.67746340042029107,0.81466996609637188,0.75619868948084668,0.72541359909535208,0.67746340042029107,null,null,null,null,null,{"$f":"DF78","v":280},{"$f":"BK20","v":10},{"$f":"ROUND(IF($BZ$2=1,V20,IF($BZ$2=2,V20*3.412141633,)),0)","v":8166},{"$f":"IF($BZ$2=1,ROUND(Z20,0),IF($BZ$2=2,ROUND(Z20/272.7654,1),))","v":702},{"$f":"IF($BZ$2=1,AD20,IF($BZ$2=2,AD20*0.3346,))","v":8.4774891611896983},{"$f":"IF(BY20=1,ROUND(IF($BZ$2=1,AQ20,IF($BZ$2=2,AQ20*3.412141633,)),0),\"\")","v":1250},{"$f":"IF(BY20=1,IF($BZ$2=1,ROUND(AT20,0),IF($BZ$2=2,ROUND(AT20/272.7654,1),)),\"\")","v":538},{"$f":"IF(BY20=1,IF($BZ$2=1,AW20,IF($BZ$2=2,AW20*0.3346,)),\"\")","v":5.0575445569651576},{"$f":"J20","v":26},{"$f":"DN79+8","v":34},{"$f":"BA20","v":19.3},{"$f":"DQ78","v":5.6}]
["1657021",null,null,1,65,70,21,21.5,0,26,30,41.1,1696.8000000000002,1977.8291945358951,2123.1558613833213,2810.06,1.5,1.05,1.05,1.05,1697,1978,2123,2810,146,170,183,242,0.12224049009497565,0.16489933699427986,0.1906306494771868,0.33050578585065171,1.2760000000000001E-4,1.7219,4,5.1420100000000005E-4,{"$f":"AK79*(1-(($E80-50)*0.005))","v":222.28178769441291},{"$f":"AL79*(1-(($E80-50)*0.005))","v":238.614578916102},{"$f":"AM79*(1-(($E80-50)*0.005))","v":315.81350000000003},0.85,0.85,0.85,222,239,316,95,103,136,5.2552324258183389E-2,6.1591027996900249E-2,0.1063250388113887,1.9,5.0999999999999996,5.6,7.2,null,2121,null,0.8,null,null,0,12.3,14.4,21.85,null,1,1,1,222,239,316,null,0,0,0,1,null,null,null,null,null,null,null,null,null,null,null,null,null,null,120,0.80301038786259926,0.74330306539663082,0.80301038786259926,0.74330306539663082,0.71879122259285499,0.67122872584611504,0.71879122259285499,0.67122872584611504,0.80301038786259926,0.74330306539663082,0.71879122259285499,0.67122872584611504,null,null,null,null,null,{"$f":"DF78","v":280},{"$f":"BL20","v":10.6},{"$f":"ROUND(IF($BZ$2=1,W20,IF($BZ$2=2,W20*3.412141633,)),0)","v":8348},{"$f":"IF($BZ$2=1,ROUND(AA20,0),IF($BZ$2=2,ROUND(AA20/272.7654,1),))","v":718},{"$f":"IF($BZ$2=1,AE20,IF($BZ$2=2,AE20*0.3346,))","v":8.8569732543318711},{"$f":"IF(BY20=1,ROUND(IF($BZ$2=1,AR20,IF($BZ$2=2,AR20*3.412141633,)),0),\"\")","v":1278},{"$f":"IF(BY20=1,IF($BZ$2=1,ROUND(AU20,0),IF($BZ$2=2,ROUND(AU20/272.7654,1),)),\"\")","v":550},{"$f":"IF(BY20=1,IF($BZ$2=1,AX20,IF($BZ$2=2,AX20*0.3346,)),\"\")","v":5.2786547361922693},{"$f":"K20","v":30},{"$f":"DN80+8","v":38},{"$f":"BB20","v":20.399999999999999},{"$f":"DQ78","v":5.6}]
["1957021",null,null,1,95,70,21,21.5,0,26,30,41.1,1882.8291945358951,1977.8291945358951,2123.1558613833213,2810.06,1.5,1.05,1.05,1.05,1883,1978,2123,2810,162,170,183,242,0.14998069549460102,0.16489933699427986,0.1906306494771868,0.33050578585065171,1.2760000000000001E-4,1.7219,4,5.1420100000000005E-4,{"$f":"AK79*(1-(($E81-50)*0.005))","v":186.23609239261623},{"$f":"AL79*(1-(($E81-50)*0.005))","v":199.92032287565303},{"$f":"AM79*(1-(($E81-50)*0.005))","v":264.60050000000001},0.85,0.85,0.85,186,200,265,80,86,114,3.751258176855251E-2,4.3229400080322014E-2,7.5171740024191261E-2,1.9,5.0999999999999996,5.6,7.2,null,2744,null,0.8,null,null,0,12.3,14.4,21.85,null,1,1,1,186,200,265,null,0,0,0,1,null,null,null,null,null,null,null,null,null,null,null,null,null,null,140,0.79292312789827257,0.73211718284521199,0.79292312789827257,0.73211718284521199,0.7127093372490777,0.66550507053605756,0.7127093372490777,0.66550507053605756,0.79292312789827257,0.73211718284521199,0.7127093372490777,0.66550507053605756,null,null,null,null,null,{"$f":"DF78","v":280},{"$f":"BM20","v":21.85},{"$f":"ROUND(IF($BZ$2=1,X20,IF($BZ$2=2,X20*3.412141633,)),0)","v":12406},{"$f":"IF($BZ$2=1,ROUND(AB20,0),IF($BZ$2=2,ROUND(AB20/272.7654,1),))","v":1067},{"$f":"IF($BZ$2=1,AF20,IF($BZ$2=2,AF20*0.3346,))","v":19.143477613141926},{"$f":"IF(BY20=1,ROUND(IF($BZ$2=1,AS20,IF($BZ$2=2,AS20*3.412141633,)),0),\"\")","v":1900},{"$f":"IF(BY20=1,IF($BZ$2=1,ROUND(AV20,0),IF($BZ$2=2,ROUND(AV20/272.7654,1),)),\"\")","v":817},{"$f":"IF(BY20=1,IF($BZ$2=1,AY20,IF($BZ$2=2,AY20*0.3346,)),\"\")","v":11.385263573722288},{"$f":"L20","v":48.9},{"$f":"DN81+8","v":56.9},{"$f":"BC20","v":34.5},{"$f":"DQ78","v":5.6}]
["1358010",null,null,1,35,80,10,11.5,0,26,30,41.8,646.20000000000005,1214.2269940407766,1304.1433704057049,1574.18,1.5,1.08,1.08,1.08,646,1214,1304,1574,56,104,112,135,1.6788149130432788E-2,5.5028754884652663E-2,6.3456869664955617E-2,9.0909861993553942E-2,3.969E-4,1.7345999999999999,2,3.6734700000000002E-4,168.33710197020613,180.80286190736828,218.24,0.98,0.98,0.98,168,181,218,72,78,94,2.7165359623318678E-2,3.167181300086596E-2,4.5312552969066985E-2,0.5,6.3,6.8,9.1,null,718,null,0.9,null,null,0,12.8,14.7,21.85,null,1,1,1,168,181,218,null,0,0,0,1,null,null,null,null,null,null,null,null,null,null,null,null,null,null,160,0.78402243332267385,0.72223627558039949,0.78402243332267385,0.72223627558039949,0.70153112340864476,0.65706930534609798,0.70153112340864476,0.65706930534609798,0.78402243332267385,0.72223627558039949,0.70153112340864476,0.65706930534609798,null,null,null,null,null,300,{"$f":"BJ21","v":{"$error":"#N/A"}},{"$f":"ROUND(IF($BZ$2=1,U21,IF($BZ$2=2,U21*3.412141633,)),0)","v":{"$error":"#N/A"}},{"$f":"IF($BZ$2=1,ROUND(Y21,0),IF($BZ$2=2,ROUND(Y21/272.7654,1),))","v":{"$error":"#N/A"}},{"$f":"IF($BZ$2=1,AC21,IF($BZ$2=2,AC21*0.3346,))","v":{"$error":"#N/A"}},null,null,null,0,0,0,{"$f":"IF($BZ$2=1,AZ21,IF($BZ$2=2,AZ21/4.54609,))","v":{"$error":"#N/A"}}]
["1508010",null,null,1,50,80,10,11.5,0,26,30,41.8,774.9,1214.2269940407766,1304.1433704057049,1574.18,1.5,1.08,1.08,1.08,775,1214,1304,1574,67,104,112,135,2.3665396918554731E-2,5.5028754884652663E-2,6.3456869664955617E-2,9.0909861993553942E-2,3.969E-4,1.7345999999999999,2,3.6734700000000002E-4,168.33710197020613,180.80286190736828,218.24,0.98,0.98,0.98,168,181,218,72,78,94,2.7165359623318678E-2,3.167181300086596E-2,4.5312552969066985E-2,0.5,6.3,6.8,9.1,null,861,null,0.9,null,null,0,12.8,14.7,21.85,null,1,1,1,168,181,218,null,0,0,0,1,null,null,null,null,null,null,null,null,null,null,null,null,null,null,180,0.78402243332267385,0.72223627558039949,0.78402243332267385,0.72223627558039949,0.70153112340864476,0.65706930534609798,0.70153112340864476,0.65706930534609798,0.78402243332267385,0.72223627558039949,0.70153112340864476,0.65706930534609798,null,null,null,null,null,{"$f":"DF82","v":300},{"$f":"BK21","v":{"$error":"#N/A"}},{"$f":"ROUND(IF($BZ$2=1,V21,IF($BZ$2=2,V21*3.412141633,)),0)","v":{"$error":"#N/A"}},{"$f":"IF($BZ$2=1,ROUND(Z21,0),IF($BZ$2=2,ROUND(Z21/272.7654,1),))","v":{"$error":"#N/A"}},{"$f":"IF($BZ$2=1,AD21,IF($BZ$2=2,AD21*0.3346,))","v":{"$error":"#N/A"}},{"$f":"IF(BY21=1,ROUND(IF($BZ$2=1,AQ21,IF($BZ$2=2,AQ21*3.412141633,)),0),\"\")","v":{"$error":"#N/A"}},{"$f":"IF(BY21=1,IF($BZ$2=1,ROUND(AT21,0),IF($BZ$2=2,ROUND(AT21/272.7654,1),)),\"\")","v":{"$error":"#N/A"}},{"$f":"IF(BY21=1,IF($BZ$2=1,AW21,IF($BZ$2=2,AW21*0.3346,)),\"\")","v":{"$error":"#N/A"}},{"$f":"J21","v":{"$error":"#N/A"}},{"$f":"DN83+8","v":{"$error":"#N/A"}},{"$f":"BA21","v":{"$error":"#N/A"}},{"$f":"DQ82","v":{"$error":"#N/A"}}]
["1658010",null,null,1,65,80,10,11.5,0,26,30,41.8,872.1,1214.2269940407766,1304.1433704057049,1574.18,1.5,1.08,1.08,1.08,872,1214,1304,1574,75,104,112,135,2.9376882043554112E-2,5.5028754884652663E-2,6.3456869664955617E-2,9.0909861993553942E-2,3.969E-4,1.7345999999999999,2,3.6734700000000002E-4,168.33710197020613,180.80286190736828,218.24,0.98,0.98,0.98,168,181,218,72,78,94,2.7165359623318678E-2,3.167181300086596E-2,4.5312552969066985E-2,0.5,6.3,6.8,9.1,null,969,null,0.9,null,null,0,12.8,14.7,21.85,null,1,1,1,168,181,218,null,0,0,0,1,null,null,null,null,null,null,null,null,null,null,null,null,null,null,200,0.76885591203746129,0.70538685838828352,0.76885591203746129,0.70538685838828352,0.69291747680457172,0.65762042960065581,0.69291747680457172,0.65762042960065581,0.76885591203746129,0.70538685838828352,0.69291747680457172,0.65762042960065581,null,null,null,null,null,{"$f":"DF82","v":300},{"$f":"BL21","v":{"$error":"#N/A"}},{"$f":"ROUND(IF($BZ$2=1,W21,IF($BZ$2=2,W21*3.412141633,)),0)","v":{"$error":"#N/A"}},{"$f":"IF($BZ$2=1,ROUND(AA21,0),IF($BZ$2=2,ROUND(AA21/272.7654,1),))","v":{"$error":"#N/A"}},{"$f":"IF($BZ$2=1,AE21,IF($BZ$2=2,AE21*0.3346,))","v":{"$error":"#N/A"}},{"$f":"IF(BY21=1,ROUND(IF($BZ$2=1,AR21,IF($BZ$2=2,AR21*3.412141633,)),0),\"\")","v":{"$error":"#N/A"}},{"$f":"IF(BY21=1,IF($BZ$2=1,ROUND(AU21,0),IF($BZ$2=2,ROUND(AU21/272.7654,1),)),\"\")","v":{"$error":"#N/A"}},{"$f":"IF(BY21=1,IF($BZ$2=1,AX21,IF($BZ$2=2,AX21*0.3346,)),\"\")","v":{"$error":"#N/A"}},{"$f":"K21","v":{"$error":"#N/A"}},{"$f":"DN84+8","v":{"$error":"#N/A"}},{"$f":"BB21","v":{"$error":"#N/A"}},{"$f":"DQ82","v":{"$error":"#N/A"}}]
["1958010",null,null,1,95,80,10,11.5,0,26,30,41.8,1002.6,1214.2269940407766,1304.1433704057049,1574.18,1.5,1.08,1.08,1.08,1003,1214,1304,1574,86,104,112,135,3.819796677405591E-2,5.5028754884652663E-2,6.3456869664955617E-2,9.0909861993553942E-2,3.969E-4,1.7345999999999999,2,3.6734700000000002E-4,168.33710197020613,180.80286190736828,218.24,0.98,0.98,0.98,168,181,218,72,78,94,2.7165359623318678E-2,3.167181300086596E-2,4.5312552969066985E-2,0.5,6.3,6.8,9.1,null,1114,null,0.9,null,null,0,12.8,14.7,21.85,null,1,1,1,168,181,218,null,0,0,0,1,null,null,null,null,null,null,null,null,null,null,null,null,null,null,220,0.7585639347228863,0.69425955238573378,0.7585639347228863,0.69425955238573378,0.68521071868549555,0.65780685179925613,0.68521071868549555,0.65780685179925613,0.7585639347228863,0.69425955238573378,0.68521071868549555,0.65780685179925613,null,null,null,null,null,{"$f":"DF82","v":300},{"$f":"BM21","v":{"$error":"#N/A"}},{"$f":"ROUND(IF($BZ$2=1,X21,IF($BZ$2=2,X21*3.412141633,)),0)","v":{"$error":"#N/A"}},{"$f":"IF($BZ$2=1,ROUND(AB21,0),IF($BZ$2=2,ROUND(AB21/272.7654,1),))","v":{"$error":"#N/A"}},{"$f":"IF($BZ$2=1,AF21,IF($BZ$2=2,AF21*0.3346,))","v":{"$error":"#N/A"}},{"$f":"IF(BY21=1,ROUND(IF($BZ$2=1,AS21,IF($BZ$2=2,AS21*3.412141633,)),0),\"\")","v":{"$error":"#N/A"}},{"$f":"IF(BY21=1,IF($BZ$2=1,ROUND(AV21,0),IF($BZ$2=2,ROUND(AV21/272.7654,1),)),\"\")","v":{"$error":"#N/A"}},{"$f":"IF(BY21=1,IF($BZ$2=1,AY21,IF($BZ$2=2,AY21*0.3346,)),\"\")","v":{"$error":"#N/A"}},{"$f":"L21","v":{"$error":"#N/A"}},{"$f":"DN85+8","v":{"$error":"#N/A"}},{"$f":"BC21","v":{"$error":"#N/A"}},{"$f":"DQ82","v":{"$error":"#N/A"}}]
["1358011",null,null,1,35,80,11,11.5,0,26,30,41.8,650.76,1647.5037394527276,1769.505282019556,2135.9,1.5,1.1000000000000001,1.1000000000000001,1.1000000000000001,651,1648,1770,2136,56,142,152,184,2.8646572744065572E-2,0.1687204798043572,0.19218780961004492,0.27712360618498821,3.969E-4,1.7345999999999999,4,5.7428799999999995E-4,276,296,358,0.95,0.95,0.95,276,296,358,119,127,154,0.12035350001470055,0.13628668965853094,0.19705768178204491,1.1000000000000001,6.3,6.8,9.1,null,957,null,0.68,null,null,0,12.8,14.7,21.85,null,1,1,1,276,296,358,null,0,0,0,1,null,null,null,null,null,null,null,null,null,null,null,null,null,null,240,0.75027509009945204,0.68488673514658593,0.75027509009945204,0.68488673514658593,0.68190440163328403,0.65796861393376183,0.68190440163328403,0.65796861393376183,0.75027509009945204,0.68488673514658593,0.68190440163328403,0.65796861393376183,null,null,null,null,null,null,null,null,null,null,null,null,null,null,null,null,"v2020-09-17"]
["1508011",null,null,1,50,80,11,11.5,0,26,30,41.8,754.12,1647.5037394527276,1769.505282019556,2135.9,1.5,1.1000000000000001,1.1000000000000001,1.1000000000000001,754,1648,1770,2136,65,142,152,184,3.8019723450069348E-2,0.1687204798043572,0.19218780961004492,0.27712360618498821,3.969E-4,1.7345999999999999,4,5.7428799999999995E-4,276,296,358,0.95,0.95,0.95,276,296,358,119,127,154,0.12035350001470055,0.13628668965853094,0.19705768178204491,1.1000000000000001,6.3,6.8,9.1,null,1109,null,0.68,null,null,0,12.8,14.7,21.85,null,1,1,1,276,296,358,null,0,0,0,1,null,null,null,null,null,null,null,null,null,null,null,null,null,null,260,0.75,0.68,0.75,0.68,0.68190449384530405,0.65796861393376183,0.68190449384530405,0.65796861393376183,0.75,0.68,0.68190449384530405,0.65796861393376183,null,null,null,null,null,"*",{"$f":"IF($J$4=data!$CC$3,NL!DI6,IF($J$4=data!$CC$4,EN!DI6,IF($J$4=data!$CC$5,FR!DI6,IF($J$4=data!$CC$6,DE!DI6,IF($J$4=data!$CC$7,NR!DI6,IF($J$4=data!$CC$8,SP!DI6,IF($J$4=data!$CC$9,SW!DI6,)))))))","v":0}]
["1658011",null,null,1,65,80,11,11.5,0,26,30,41.8,839.12,1647.5037394527276,1769.505282019556,2135.9,1.5,1.1000000000000001,1.1000000000000001,1.1000000000000001,839,1648,1770,2136,72,142,152,184,4.6181581147437353E-2,0.1687204798043572,0.19218780961004492,0.27712360618498821,3.969E-4,1.7345999999999999,4,5.7428799999999995E-4,{"$f":"AK87*(1-(($E88-50)*0.005))","v":255.3},{"$f":"AL87*(1-(($E88-50)*0.005))","v":273.8},{"$f":"AM87*(1-(($E88-50)*0.005))","v":331.15000000000003},0.95,0.95,0.95,255,274,331,110,118,142,0.10356985253432938,0.11842888168254465,0.1687204798043572,1.1000000000000001,6.3,6.8,9.1,null,1234,null,0.68,null,null,0,12.8,14.7,21.85,null,1,1,1,255,274,331,null,0,0,0,1,null,null,null,null,null,null,null,null,null,null,null,null,null,null,280,0.75077946095441817,0.68,0.75077946095441817,0.68,0.67294243770541662,0.6582099452827469,0.67294243770541662,0.6582099452827469,0.75077946095441817,0.68,0.67294243770541662,0.6582099452827469,null,null,null,null,null,"**",{"$f":"IF($J$4=data!$CC$3,NL!DF20,IF($J$4=data!$CC$4,EN!DF20,IF($J$4=data!$CC$5,FR!DF20,IF($J$4=data!$CC$6,DE!DF20,IF($J$4=data!$CC$7,NR!DF20,IF($J$4=data!$CC$8,SP!DF20,IF($J$4=data!$CC$9,SW!DF20,)))))))","v":0}]
["1958011",null,null,1,95,80,11,11.5,0,26,30,41.8,977.16000000000008,1647.5037394527276,1769.505282019556,2135.9,1.5,1.1000000000000001,1.1000000000000001,1.1000000000000001,977,1648,1770,2136,84,142,152,184,6.193039491470774E-2,0.1687204798043572,0.19218780961004492,0.27712360618498821,3.969E-4,1.7345999999999999,4,5.7428799999999995E-4,{"$f":"AK87*(1-(($E89-50)*0.005))","v":213.9},{"$f":"AL87*(1-(($E89-50)*0.005))","v":229.4},{"$f":"AM87*(1-(($E89-50)*0.005))","v":277.45},0.95,0.95,0.95,214,229,277,92,98,119,7.3652590798970838E-2,8.3081842659794167E-2,0.12035350001470055,1.1000000000000001,6.3,6.8,9.1,null,1437,null,0.68,null,null,0,12.8,14.7,21.85,null,1,1,1,214,229,277,null,0,0,0,1,null,null,null,null,null,null,null,null,null,null,null,null,null,null,300,0.75077946095441817,0.68,0.75077946095441817,0.68,0.67294243770541662,0.6582099452827469,0.67294243770541662,0.6582099452827469,0.75077946095441817,0.68,0.67294243770541662,0.6582099452827469,null,null,null,null,null,"***",{"$f":"IF($J$4=data!$CC$3,NL!DF21,IF($J$4=data!$CC$4,EN!DF21,IF($J$4=data!$CC$5,FR!DF21,IF($J$4=data!$CC$6,DE!DF21,IF($J$4=data!$CC$7,NR!DF21,IF($J$4=data!$CC$8,SP!DF21,IF($J$4=data!$CC$9,SW!DF21,)))))))","v":0}]
["1358015",null,null,1,35,80,15,16.5,0,26,30,42.4,940.80000000000007,1395.33740436932,1496.2563490716184,2007.56,1.5,1.08,1.08,1.08,941,1395,1496,2008,81,120,129,173,3.4919481101378581E-2,7.5461940836559702E-2,8.697073187627373E-2,0.1547867774406054,2.0829999999999999E-4,1.724,2,4.6182900000000003E-4,190.46915773046311,204.24499885412456,274.04000000000002,1.01,1.01,1.01,190,204,274,82,88,118,3.5768909532348576E-2,4.1076258231928696E-2,7.3013760578283488E-2,0.8,6,6.7,9,null,1176,null,0.8,null,null,0,11.8,13.7,21.85,null,1,1,1,190,204,274,null,0,0,0,1,null,null,null,null,null,null,null,null,null,null,null,null,null,null,null,null,null,null,null,null,null,null,null,null,null,null,null,null,null,null,null,null,"****",{"$f":"IF($J$4=data!$CC$3,NL!DF22,IF($J$4=data!$CC$4,EN!DF22,IF($J$4=data!$CC$5,FR!DF22,IF($J$4=data!$CC$6,DE!DF22,IF($J$4=data!$CC$7,NR!DF22,IF($J$4=data!$CC$8,SP!DF22,IF($J$4=data!$CC$9,SW!DF22,)))))))","v":0}]
["1508015",null,null,1,50,80,15,16.5,0,26,30,42.4,1109.6000000000001,1395.33740436932,1496.2563490716184,2007.56,1.5,1.08,1.08,1.08,1110,1395,1496,2008,95,120,129,173,4.7724188834548723E-2,7.5461940836559702E-2,8.697073187627373E-2,0.1547867774406054,2.0829999999999999E-4,1.724,2,4.6182900000000003E-4,190.46915773046311,204.24499885412456,274.04000000000002,1.01,1.01,1.01,190,204,274,82,88,118,3.5768909532348576E-2,4.1076258231928696E-2,7.3013760578283488E-2,0.8,6,6.7,9,null,1387,null,0.8,null,null,0,11.8,13.7,21.85,null,1,1,1,190,204,274,null,0,0,0,1,null,null,null,null,null,null,null,null,null,null,null,null,null,null,"Type,ww","L/cm"]
["1658015",null,null,1,65,80,15,16.5,0,26,30,42.4,{"$f":"IF($N92-($BE92*$BG92)>100,$BE92*$BG92,$N92-95)","v":1230.4000000000001},1395.33740436932,1496.2563490716184,2007.56,1.5,1.08,1.08,1.08,{"$f":"ROUND(M92*POWER(CF_heat,Q92),0)","v":1230},{"$f":"ROUND(N92*POWER(CF_heat,R92),0)","v":1395},{"$f":"ROUND(O92*POWER(CF_heat,S92),0)","v":1496},{"$f":"ROUND(P92*POWER(CF_heat,T92),0)","v":2008},106,120,129,173,5.9160901809187622E-2,7.5461940836559702E-2,8.697073187627373E-2,0.1547867774406054,{"$f":"IF($G92=$CO$103,CP$103,IF($G92=$CO$104,CP$104,IF($G92=$CO$105,CP$105,IF($G92=$CO$107,CP$107,IF($G92=$CO$108,CP$108,IF($G92=$CO$109,CP$109,IF($G92=$CO$111,CP$111,IF($G92=$CO$112,CP$112,IF($G92=$CO$113,CP$113,IF($G92=$CO$115,CP$115,IF($G92=$CO$116,CP$116,IF($G92=$CO$117,CP$117,IF($G92=$CO$119,CP$119,IF($G92=$CO$120,CP$120,))))))))))))))","v":2.0829999999999999E-4},{"$f":"IF($G92=$CO$103,CQ$103,IF($G92=$CO$104,CQ$104,IF($G92=$CO$105,CQ$105,IF($G92=$CO$107,CQ$107,IF($G92=$CO$108,CQ$108,IF($G92=$CO$109,CQ$109,IF($G92=$CO$111,CQ$111,IF($G92=$CO$112,CQ$112,IF($G92=$CO$113,CQ$113,IF($G92=$CO$115,CQ$115,IF($G92=$CO$116,CQ$116,IF($G92=$CO$117,CQ$117,IF($G92=$CO$119,CQ$119,IF($G92=$CO$120,CQ$120,))))))))))))))","v":1.724},{"$f":"IF($G92=$CO$103,CR$103,IF($G92=$CO$104,CR$104,IF($G92=$CO$105,CR$105,IF($G92=$CO$107,CR$107,IF($G92=$CO$108,CR$108,IF($G92=$CO$109,CR$109,IF($G92=$CO$111,CR$111,IF($G92=$CO$112,CR$112,IF($G92=$CO$113,CR$113,IF($G92=$CO$115,CR$115,IF($G92=$CO$116,CR$116,IF($G92=$CO$117,CR$117,IF($G92=$CO$119,CR$119,IF($G92=$CO$120,CR$120,))))))))))))))","v":2},{"$f":"IF($G92=$CO$103,CS$103,IF($G92=$CO$104,CS$104,IF($G92=$CO$105,CS$105,IF($G92=$CO$107,CS$107,IF($G92=$CO$108,CS$108,IF($G92=$CO$109,CS$109,IF($G92=$CO$111,CS$111,IF($G92=$CO$112,CS$112,IF($G92=$CO$113,CS$113,IF($G92=$CO$115,CS$115,IF($G92=$CO$116,CS$116,IF($G92=$CO$117,CS$117,IF($G92=$CO$119,CS$119,IF($G92=$CO$120,CS$120,))))))))))))))","v":4.6182900000000003E-4},190.46915773046311,204.24499885412456,274.04000000000002,1.01,1.01,1.01,{"$f":"ROUND(AK92*POWER(CF_cool,AN92),0)","v":190},{"$f":"ROUND(AL92*POWER(CF_cool,AO92),0)","v":204},{"$f":"ROUND(AM92*POWER(CF_cool,AP92),0)","v":274},82,88,118,3.5768909532348576E-2,4.1076258231928696E-2,7.3013760578283488E-2,{"$f":"ROUND(IF(G92=10,$CO$92*F92,IF(G92=11,$CO$93*F92,IF(G92=15,$CO$94*F92,IF(G92=16,$CO$95*F92,IF(G92=20,$CO$96*F92,IF(G92=21,$CO$97*F92,)))))),1)","v":0.8},6,6.7,9,null,1538,null,{"$f":"IF(G92=10,0.9,IF(G92=11,0.68,IF(G92=15,0.8,IF(G92=16,0.68,IF(G92=20,0.8,IF(G92=21,0.8))))))","v":0.8},null,null,0,11.8,13.7,21.85,null,1,1,1,{"$f":"AQ92/BO92","v":190},204,274,null,{"$f":"BR92-AQ92","v":0},{"$f":"BS92-AR92","v":0},{"$f":"BT92-AS92","v":0},1,null,null,null,null,null,null,null,null,null,null,null,null,null,null,10,{"$f":"0.4/60","v":6.6666666666666671E-3}]
[{"$f":"CONCATENATE(D93,E93,F93,G93)","v":"1958015"},null,null,1,95,80,15,16.5,0,26,30,42.4,1300.33740436932,1395.33740436932,1496.2563490716184,2007.56,1.5,{"$f":"IF($G93=10,1.08,IF($G93=11,1.1,IF($G93=15,1.08,IF($G93=16,1.1,IF($G93=20,1.08,IF($G93=21,1.05))))))","v":1.08},1.08,1.08,1300,1395,1496,2008,112,120,129,173,{"$f":"(($AG93*(Y93^$AH93)*((($F93-14.4)*$AI93)/100))+($AJ93*(Y93^2)))*0.0098","v":6.5908035411872581E-2},{"$f":"(($AG93*(Z93^$AH93)*((($F93-14.4)*$AI93)/100))+($AJ93*(Z93^2)))*0.0098","v":7.5461940836559702E-2},{"$f":"(($AG93*(AA93^$AH93)*((($F93-14.4)*$AI93)/100))+($AJ93*(AA93^2)))*0.0098","v":8.697073187627373E-2},{"$f":"(($AG93*(AB93^$AH93)*((($F93-14.4)*$AI93)/100))+($AJ93*(AB93^2)))*0.0098","v":0.1547867774406054},2.0829999999999999E-4,1.724,2,4.6182900000000003E-4,190.46915773046311,204.24499885412456,274.04000000000002,1.01,1.01,1.01,190,204,274,82,88,118,{"$f":"(($AG93*(AT93^$AH93)*((($F93-14.4)*$AI93)/100))+($AJ93*(AT93^2)))*0.0098","v":3.5768909532348576E-2},{"$f":"(($AG93*(AU93^$AH93)*((($F93-14.4)*$AI93)/100))+($AJ93*(AU93^2)))*0.0098","v":4.1076258231928696E-2},{"$f":"(($AG93*(AV93^$AH93)*((($F93-14.4)*$AI93)/100))+($AJ93*(AV93^2)))*0.0098","v":7.3013760578283488E-2},0.8,6,6.7,9,null,1717,null,0.8,null,null,0,11.8,13.7,21.85,null,1,1,1,190,{"$f":"AR93/BP93","v":204},{"$f":"AS93/BQ93","v":274},null,0,0,0,{"$f":"IF(SUM(BV93:BX93)=0,1,0)","v":1},null,null,null,null,null,null,null,null,null,null,null,null,null,null,11,{"$f":"CO92*2","v":1.3333333333333334E-2}]
["1358016",null,null,1,35,80,16,16.5,0,26,30,42.4,866.32,2040.4331716148024,2188.0092071816284,2935.7,1.5,1.1000000000000001,1.1000000000000001,1.1000000000000001,866,2040,2188,2936,74,175,188,252,8.3686118690782865E-2,0.45744743887251921,0.52704418993994806,0.94073397666389191,2.0829999999999999E-4,1.724,4,1.392796E-3,312,335,450,0.95,0.95,0.95,312,335,450,134,144,194,0.26997766374686077,0.31121106327333475,0.56081193423750164,1.6,6,6.7,9,null,1274,null,0.68,null,null,0,11.8,13.7,21.85,null,{"$f":"IF((237.3*LN(($AQ$1*EXP(17.27*($AM$3/($AM$3+237.3))))))/(17.27-LN(($AQ$1*EXP(17.27*($AM$3/($AM$3+237.3))))))<(($AM$1+$AM$2)/2),1,IF(1/(1+((2258*((0.622/((101325/(1*611*EXP(17.27*((($AM$1+$AM$2)/2)/((($AM$1+$AM$2)/2)+237.3))))))-1)*1000-(0.622/((101325/($AQ$1*611*EXP(17.27*($AM$3/($AM$3+237.3))))))-1)*1000))/(1005*((($AM$1+$AM$2)/2)-$AM$3))))>1,1,1/(1+((2258*((0.622/((101325/(1*611*EXP(17.27*((($AM$1+$AM$2)/2)/((($AM$1+$AM$2)/2)+237.3))))))-1)*1000-(0.622/((101325/($AQ$1*611*EXP(17.27*($AM$3/($AM$3+237.3))))))-1)*1000))/(1005*((($AM$1+$AM$2)/2)-$AM$3))))))","v":1},1,1,312,335,450,null,0,0,0,1,null,null,null,null,null,null,null,null,null,null,null,null,null,null,15,{"$f":"CO92*1.5","v":0.01}]
["1508016",null,null,1,50,80,16,16.5,0,26,30,42.4,1032.24,2040.4331716148024,2188.0092071816284,2935.7,1.5,1.1000000000000001,1.1000000000000001,1.1000000000000001,1032,2040,2188,2936,89,175,188,252,0.1204090451473749,0.45744743887251921,0.52704418993994806,0.94073397666389191,2.0829999999999999E-4,1.724,4,1.392796E-3,312,335,450,0.95,0.95,0.95,312,335,450,134,144,194,0.26997766374686077,0.31121106327333475,0.56081193423750164,1.6,6,6.7,9,null,1518,null,0.68,null,null,0,11.8,13.7,21.85,null,1,1,1,312,335,450,null,0,0,0,1,null,null,null,null,null,null,null,null,null,null,null,null,null,null,16,{"$f":"CO94*2","v":0.02}]
["1658016",null,null,1,65,80,16,16.5,0,26,30,42.4,1181.8400000000001,2040.4331716148024,2188.0092071816284,2935.7,1.5,1.1000000000000001,1.1000000000000001,1.1000000000000001,1182,2040,2188,2936,102,175,188,252,0.15755748797224914,0.45744743887251921,0.52704418993994806,0.94073397666389191,2.0829999999999999E-4,1.724,4,1.392796E-3,{"$f":"AK95*(1-(($E96-50)*0.005))","v":288.60000000000002},{"$f":"AL95*(1-(($E96-50)*0.005))","v":309.875},{"$f":"AM95*(1-(($E96-50)*0.005))","v":416.25},0.95,0.95,0.95,289,310,416,124,133,179,0.2316471838419854,0.26601392538714985,0.47834176754860941,1.6,6,6.7,9,null,1738,null,0.68,null,null,0,11.8,13.7,21.85,null,1,1,1,289,310,416,null,0,0,0,1,null,null,null,null,null,null,null,null,null,null,null,null,null,null,20,{"$f":"CO92*2","v":1.3333333333333334E-2}]
["1958016",null,null,1,95,80,16,16.5,0,26,30,42.4,1456.5600000000002,2040.4331716148024,2188.0092071816284,2935.7,1.5,1.1000000000000001,1.1000000000000001,1.1000000000000001,1457,2040,2188,2936,125,175,188,252,0.23534949655891071,0.45744743887251921,0.52704418993994806,0.94073397666389191,2.0829999999999999E-4,1.724,4,1.392796E-3,{"$f":"AK95*(1-(($E97-50)*0.005))","v":241.8},{"$f":"AL95*(1-(($E97-50)*0.005))","v":259.625},{"$f":"AM95*(1-(($E97-50)*0.005))","v":348.75},0.95,0.95,0.95,242,260,349,104,112,150,0.16371038659618098,0.18948776812934515,0.33734307444043155,1.6,6,6.7,9,null,2142,null,0.68,null,null,0,11.8,13.7,21.85,null,1,1,1,242,260,349,null,0,0,0,1,null,null,null,null,null,null,null,null,null,null,null,null,null,null,21,{"$f":"CO96*2","v":2.6666666666666668E-2}]
["1358020",null,null,1,35,80,20,21.5,0,26,30,42.4,1318.4,1942.5718983039128,2086.4239348515057,2518.44,1.5,1.08,1.08,1.08,1318,1943,2086,2518,113,167,179,217,5.2753755294783017E-2,0.11395554008077592,0.13067872337503861,0.19110006829963533,1.2760000000000001E-4,1.7219,2,3.76611E-4,240.07166246887351,257.84953601562182,311.24,0.95,0.95,0.95,240,258,311,103,111,134,4.3951963441231798E-2,5.0929918356249132E-2,7.381701321036345E-2,1.1000000000000001,6,6.7,9,null,1648,null,0.8,null,null,0,11.8,13.7,21.85,null,1,1,1,240,258,311,null,0,0,0,1]
["1508020",null,null,1,50,80,20,21.5,0,26,30,42.4,1552,1942.5718983039128,2086.4239348515057,2518.44,1.5,1.08,1.08,1.08,1552,1943,2086,2518,133,167,179,217,7.2734878042479884E-2,0.11395554008077592,0.13067872337503861,0.19110006829963533,1.2760000000000001E-4,1.7219,2,3.76611E-4,240.07166246887351,257.84953601562182,311.24,0.95,0.95,0.95,240,258,311,103,111,134,4.3951963441231798E-2,5.0929918356249132E-2,7.381701321036345E-2,1.1000000000000001,6,6.7,9,null,1940,null,0.8,null,null,0,11.8,13.7,21.85,null,1,1,1,240,258,311,null,0,0,0,1]
["1658020",null,null,1,65,80,20,21.5,0,26,30,42.4,1718.4,1942.5718983039128,2086.4239348515057,2518.44,1.5,1.08,1.08,1.08,1718,1943,2086,2518,148,167,179,217,8.9796338568707779E-2,0.11395554008077592,0.13067872337503861,0.19110006829963533,1.2760000000000001E-4,1.7219,2,3.76611E-4,240.07166246887351,257.84953601562182,311.24,0.95,0.95,0.95,240,258,311,103,111,134,4.3951963441231798E-2,5.0929918356249132E-2,7.381701321036345E-2,1.1000000000000001,6,6.7,9,null,2148,null,0.8,null,null,0,11.8,13.7,21.85,null,1,1,1,240,258,311,null,0,0,0,1,null,null,null,null,null,null,null,null,null,null,null,null,null,null,"Niveaus","Type","k1","n","t","k2"]
["1958020",null,null,1,95,80,20,21.5,0,26,30,42.4,1847.5718983039128,1942.5718983039128,2086.4239348515057,2518.44,1.5,1.08,1.08,1.08,1848,1943,2086,2518,159,167,179,217,0.10343649960648692,0.11395554008077592,0.13067872337503861,0.19110006829963533,1.2760000000000001E-4,1.7219,2,3.76611E-4,240.07166246887351,257.84953601562182,311.24,0.95,0.95,0.95,240,258,311,103,111,134,4.3951963441231798E-2,5.0929918356249132E-2,7.381701321036345E-2,1.1000000000000001,6,6.7,9,null,2394,null,0.8,null,null,0,11.8,13.7,21.85,null,1,1,1,240,258,311,null,0,0,0,1]
["1358021",null,null,1,35,80,21,21.5,0,26,30,42.4,1352.8000000000002,2627.7848955664344,2817.8416357747774,3780.76,1.5,1.05,1.05,1.05,1353,2628,2818,3781,116,226,242,325,7.957854133023104E-2,0.29449823797779945,0.33687122572177608,0.60164522481343263,1.2760000000000001E-4,1.7219,4,5.1420100000000005E-4,340.86222571220884,365.51537125251701,490.42,0.85,0.85,0.85,341,366,490,147,157,211,0.12659023968056798,0.14403307699408213,0.25732674402542394,2.1,6,6.7,9,null,1691,null,0.8,null,null,0,11.8,13.7,21.85,null,1,1,1,341,366,490,null,0,0,0,1,null,null,null,null,null,null,null,null,null,null,null,null,null,null,"1 row"]
["1508021",null,null,1,50,80,21,21.5,0,26,30,42.4,1652.8000000000002,2627.7848955664344,2817.8416357747774,3780.76,1.5,1.05,1.05,1.05,1653,2628,2818,3781,142,226,242,325,0.11828482132104842,0.29449823797779945,0.33687122572177608,0.60164522481343263,1.2760000000000001E-4,1.7219,4,5.1420100000000005E-4,340.86222571220884,365.51537125251701,490.42,0.85,0.85,0.85,341,366,490,147,157,211,0.12659023968056798,0.14403307699408213,0.25732674402542394,2.1,6,6.7,9,null,2066,null,0.8,null,null,0,11.8,13.7,21.85,null,1,1,1,341,366,490,null,0,0,0,1,null,null,null,null,null,null,null,null,null,null,null,null,null,null,1,4,1.3823338826853E-3,1.723172227894,1,3.3290816326530999E-4]
["1658021",null,null,1,65,80,21,21.5,0,26,30,42.4,1939.2,2627.7848955664344,2817.8416357747774,3780.76,1.5,1.05,1.05,1.05,1939,2628,2818,3781,167,226,242,325,0.16258372480535185,0.29449823797779945,0.33687122572177608,0.60164522481343263,1.2760000000000001E-4,1.7219,4,5.1420100000000005E-4,{"$f":"AK103*(1-(($E104-50)*0.005))","v":315.29755878379319},{"$f":"AL103*(1-(($E104-50)*0.005))","v":338.10171840857828},{"$f":"AM103*(1-(($E104-50)*0.005))","v":453.63850000000002},0.85,0.85,0.85,315,338,454,135,145,195,0.1071237588710041,0.12323476934005491,0.22040506229603998,2.1,6,6.7,9,null,2424,null,0.8,null,null,0,11.8,13.7,21.85,null,1,1,1,315,338,454,null,0,0,0,1,null,null,null,null,null,null,null,null,null,null,null,null,null,null,2,5,9.3700000000000001E-4,1.7889999999999999,2,4.46E-4]
["1958021",null,null,1,95,80,21,21.5,0,26,30,42.4,2508.8000000000002,2627.7848955664344,2817.8416357747774,3780.76,1.5,1.05,1.05,1.05,2509,2628,2818,3781,216,226,242,325,0.26944246216529844,0.29449823797779945,0.33687122572177608,0.60164522481343263,1.2760000000000001E-4,1.7219,4,5.1420100000000005E-4,{"$f":"AK103*(1-(($E105-50)*0.005))","v":264.16822492696184},{"$f":"AL103*(1-(($E105-50)*0.005))","v":283.2744127207007},{"$f":"AM103*(1-(($E105-50)*0.005))","v":380.07550000000003},0.85,0.85,0.85,264,283,380,114,122,163,7.6913230906096156E-2,8.7842369130321604E-2,0.15503064045191489,2.1,6,6.7,9,null,3136,null,0.8,null,null,0,11.8,13.7,21.85,null,1,1,1,264,283,380,null,0,0,0,1,null,null,null,null,null,null,null,null,null,null,null,null,null,null,4,6,9.3700000000000001E-4,1.7889999999999999,4,1.39E-3]
["1359010",null,null,1,35,90,10,11.5,0,26,30,42.4,727.2,1395.6272192501513,1501.3000140389001,1828.08,1.5,1.08,1.08,1.08,727,1396,1501,1828,{"$f":"ROUND(U106*3600/(4186*ABS($O$1-$O$2)),0)","v":63},{"$f":"ROUND(V106*3600/(4186*ABS($O$1-$O$2)),0)","v":120},{"$f":"ROUND(W106*3600/(4186*ABS($O$1-$O$2)),0)","v":129},{"$f":"ROUND(X106*3600/(4186*ABS($O$1-$O$2)),0)","v":157},2.2061517200412373E-2,7.5608781210671119E-2,8.6853211147160284E-2,0.12662134598395483,3.969E-4,1.7345999999999999,2,3.6734700000000002E-4,193.48593193227777,208.13611852764589,253.44,0.98,0.98,0.98,193,208,253,{"$f":"ROUND(AQ106*3600/(4186*ABS($AM$1-$AM$2)),0)","v":83},{"$f":"ROUND(AR106*3600/(4186*ABS($AM$1-$AM$2)),0)","v":89},{"$f":"ROUND(AS106*3600/(4186*ABS($AM$1-$AM$2)),0)","v":109},3.7340239212640722E-2,4.2669333600542279E-2,6.2889336846315577E-2,0.6,6.7,7.4,10.3,null,808,null,0.9,null,null,0,12.5,14.7,21.85,null,1,1,1,193,208,253,null,0,0,0,1,null,null,null,null,null,null,null,null,null,null,null,null,null,null,"2 rows"]
["1509010",null,null,1,50,90,10,11.5,0,26,30,42.4,871.2,1395.6272192501513,1501.3000140389001,1828.08,1.5,1.08,1.08,1.08,871,1396,1501,1828,75,120,129,157,3.0768174523516621E-2,7.5608781210671119E-2,8.6853211147160284E-2,0.12662134598395483,3.969E-4,1.7345999999999999,2,3.6734700000000002E-4,193.48593193227777,208.13611852764589,253.44,0.98,0.98,0.98,193,208,253,83,89,109,3.7340239212640722E-2,4.2669333600542279E-2,6.2889336846315577E-2,0.6,6.7,7.4,10.3,null,968,null,0.9,null,null,0,12.5,14.7,21.85,null,1,1,1,193,208,253,null,0,0,0,1,null,null,null,null,null,null,null,null,null,null,null,null,null,null,1,9,8.0534470601597002E-4,1.8138647155180001,2,3.9795050474943999E-4]
["1659010",null,null,1,65,90,10,11.5,0,26,30,42.4,981,1395.6272192501513,1501.3000140389001,1828.08,1.5,1.08,1.08,1.08,981,1396,1501,1828,84,120,129,157,3.8204665253716352E-2,7.5608781210671119E-2,8.6853211147160284E-2,0.12662134598395483,3.969E-4,1.7345999999999999,2,3.6734700000000002E-4,193.48593193227777,208.13611852764589,253.44,{"$f":"IF($G108=10,0.98,IF($G108=11,0.95,IF($G108=15,1.01,IF($G108=16,0.95,IF($G108=20,0.95,IF($G108=21,0.85))))))","v":0.98},0.98,0.98,193,208,253,83,89,109,3.7340239212640722E-2,4.2669333600542279E-2,6.2889336846315577E-2,0.6,6.7,7.4,10.3,null,1090,null,0.9,null,null,0,12.5,14.7,21.85,null,1,1,1,193,208,253,null,0,0,0,1,null,null,null,null,null,null,null,null,null,null,null,null,null,null,2,10,3.969E-4,1.7345999999999999,2,3.6734700000000002E-4]
["1959010",null,null,1,95,90,10,11.5,0,26,30,42.4,1128.6000000000001,1395.6272192501499,1501.3000140388999,1828.08,1.5,1.08,1.08,1.08,1129,1396,1501,1828,97,120,129,157,5.0305267943540621E-2,7.5608781210671119E-2,8.6853211147160284E-2,0.12662134598395483,3.969E-4,1.7345999999999999,2,3.6734700000000002E-4,193.48593193227777,208.13611852764589,253.44,0.98,0.98,0.98,193,208,253,83,89,109,3.7340239212640722E-2,4.2669333600542279E-2,6.2889336846315577E-2,0.6,6.7,7.4,10.3,null,1254,null,0.9,null,null,0,12.5,14.7,21.85,null,1,1,1,193,208,253,null,0,0,0,1,null,null,null,null,null,null,null,null,null,null,null,null,null,null,4,11,3.969E-4,1.7345999999999999,4,5.7428799999999995E-4]
["1359011",null,null,1,35,90,11,11.5,0,26,30,42.4,731.68000000000006,1893.6336235985709,2037.0140009310799,2480.4,1.5,1.1000000000000001,1.1000000000000001,1.1000000000000001,732,1894,2037,2480,63,163,175,213,3.7883850543624739E-2,0.23039387696616745,0.26382483336744583,0.38395411039699373,3.969E-4,1.7345999999999999,4,5.7428799999999995E-4,317.16301910489852,341.17767156378318,415.44,0.95,0.95,0.95,317,341,415,136,147,178,0.16316026903161293,0.18921140887221088,0.27252186122633548,1.2,6.7,7.4,10.3,null,1076,null,0.68,null,null,0,12.5,14.7,21.85,null,1,1,1,317,341,415,null,0,0,0,1,null,null,null,null,null,null,null,null,null,null,null,null,null,null,"3 rows"]
["1509011",null,null,1,50,90,11,11.5,0,26,30,42.4,847.96,1893.6336235985709,2037.0140009310799,2480.4,1.5,1.1000000000000001,1.1000000000000001,1.1000000000000001,848,1894,2037,2480,73,163,175,213,5.0064570062932981E-2,0.23039387696616745,0.26382483336744583,0.38395411039699373,3.969E-4,1.7345999999999999,4,5.7428799999999995E-4,317.16301910489852,341.17767156378318,415.44,0.95,0.95,0.95,317,341,415,136,147,178,0.16316026903161293,0.18921140887221088,0.27252186122633548,1.2,6.7,7.4,10.3,null,1247,null,0.68,null,null,0,12.5,14.7,21.85,null,1,1,1,317,341,415,null,0,0,0,1,null,null,null,null,null,null,null,null,null,null,null,null,null,null,1,14,2.5582398288699999E-3,1.4942747715061999,3,5.6161694684148003E-4]
["1659011",null,null,1,65,90,11,11.5,0,26,30,42.4,944.5200000000001,1893.6336235985709,2037.0140009310799,2480.4,1.5,1.1000000000000001,1.1000000000000001,1.1000000000000001,945,1894,2037,2480,81,163,175,213,6.0966153094443302E-2,0.23039387696616745,0.26382483336744583,0.38395411039699373,3.969E-4,1.7345999999999999,4,5.7428799999999995E-4,{"$f":"AK111*(1-(($E112-50)*0.005))","v":293.37579267203114},{"$f":"AL111*(1-(($E112-50)*0.005))","v":315.58934619649943},{"$f":"AM111*(1-(($E112-50)*0.005))","v":384.28200000000004},0.95,0.95,0.95,293,316,384,126,136,165,0.14108634794348476,0.16316026903161293,0.23581464895791238,1.2,6.7,7.4,10.3,null,1389,null,0.68,null,null,0,12.5,14.7,21.85,null,1,1,1,293,316,384,null,0,0,0,1,null,null,null,null,null,null,null,null,null,null,null,null,null,null,2,15,2.0829999999999999E-4,1.724,2,4.6182900000000003E-4]
["1959011",null,null,1,95,90,11,11.5,0,26,30,42.4,1098.8800000000001,1893.6336235985709,2037.0140009310799,2480.4,1.5,1.1000000000000001,1.1000000000000001,1.1000000000000001,1099,1894,2037,2480,95,163,175,213,8.2492103999096608E-2,0.23039387696616745,0.26382483336744583,0.38395411039699373,3.969E-4,1.7345999999999999,4,5.7428799999999995E-4,{"$f":"AK111*(1-(($E113-50)*0.005))","v":245.80133980629637},{"$f":"AL111*(1-(($E113-50)*0.005))","v":264.41269546193195},{"$f":"AM111*(1-(($E113-50)*0.005))","v":321.96600000000001},0.95,0.95,0.95,246,264,322,106,114,138,0.10157049294564785,0.11663245094015465,0.1677592154689023,1.2,6.7,7.4,10.3,null,1616,null,0.68,null,null,0,12.5,14.7,21.85,null,1,1,1,246,264,322,null,0,0,0,1,null,null,null,null,null,null,null,null,null,null,null,null,null,null,4,16,2.0829999999999999E-4,1.724,4,1.392796E-3]
["1359015",null,null,1,35,90,15,16.5,0,26,30,43.3,1058.4000000000001,1597.9167676946356,1711.9130538160239,2331.36,1.5,1.08,1.08,1.08,1058,1598,1712,2331,91,137,147,200,4.4838783154106318E-2,9.9846629634346956E-2,0.11462442340612437,0.20964202709641322,2.0829999999999999E-4,1.724,2,4.6182900000000003E-4,218.12205414485143,233.68300487544244,318.24,1.01,1.01,1.01,218,234,318,94,101,137,4.7773932289979358E-2,5.4977761599022158E-2,9.9846629634346956E-2,0.9,7,7.7,10.7,null,1323,null,0.8,null,null,0,11.3,13.2,21.85,null,1,1,1,218,234,318,null,0,0,0,1,null,null,null,null,null,null,null,null,null,null,null,null,null,null,"4 rows"]
["1509015",null,null,1,50,90,15,16.5,0,26,30,43.3,1248.8000000000002,1597.9167676946356,1711.9130538160239,2331.36,1.5,1.08,1.08,1.08,1249,1598,1712,2331,107,137,147,200,6.1547573434579228E-2,9.9846629634346956E-2,0.11462442340612437,0.20964202709641322,2.0829999999999999E-4,1.724,2,4.6182900000000003E-4,218.12205414485143,233.68300487544244,318.24,1.01,1.01,1.01,218,234,318,94,101,137,4.7773932289979358E-2,5.4977761599022158E-2,9.9846629634346956E-2,0.9,7,7.7,10.7,null,1561,null,0.8,null,null,0,11.3,13.2,21.85,null,1,1,1,218,234,318,null,0,0,0,1,null,null,null,null,null,null,null,null,null,null,null,null,null,null,1,19,1.1616292894075E-2,1.5869346821790999,1,1.6553227470231999E-3]
["1659015",null,null,1,65,90,15,16.5,0,26,30,43.3,1384,1597.9167676946356,1711.9130538160239,2331.36,1.5,1.08,1.08,1.08,1384,1598,1712,2331,119,137,147,200,7.5778802428628264E-2,9.9846629634346956E-2,0.11462442340612437,0.20964202709641322,2.0829999999999999E-4,1.724,2,4.6182900000000003E-4,218.12205414485143,233.68300487544244,318.24,1.01,1.01,1.01,218,234,318,94,101,137,4.7773932289979358E-2,5.4977761599022158E-2,9.9846629634346956E-2,0.9,7,7.7,10.7,null,1730,null,0.8,null,null,0,11.3,13.2,21.85,null,1,1,1,218,234,318,null,0,0,0,1,null,null,null,null,null,null,null,null,null,null,null,null,null,null,2,20,1.2760000000000001E-4,1.7219,2,3.76611E-4]
["1959015",null,null,1,95,90,15,16.5,0,26,30,43.3,1502.9167676946356,1597.9167676946356,1711.9130538160239,2331.36,1.5,1.08,1.08,1.08,1503,1598,1712,2331,129,137,147,200,8.8747382373845968E-2,9.9846629634346956E-2,0.11462442340612437,0.20964202709641322,2.0829999999999999E-4,1.724,2,4.6182900000000003E-4,218.12205414485143,233.68300487544244,318.24,1.01,1.01,1.01,218,234,318,94,101,137,4.7773932289979358E-2,5.4977761599022158E-2,9.9846629634346956E-2,0.9,7,7.7,10.7,null,1931,null,0.8,null,null,0,11.3,13.2,21.85,null,1,1,1,218,234,318,null,0,0,0,1,null,null,null,null,null,null,null,null,null,null,null,null,null,null,4,21,1.2760000000000001E-4,1.7219,4,5.1420100000000005E-4]
["1359016",null,null,1,35,90,16,16.5,0,26,30,43.3,975.12000000000012,2336.669516687492,2503.3688418217644,3409.2,1.5,1.1000000000000001,1.1000000000000001,1.1000000000000001,975,2337,2503,3409,84,201,215,293,0.10913213806574071,0.60915360332621049,0.69575042058868541,1.2822911322288062,2.0829999999999999E-4,1.724,4,1.392796E-3,357.77938745479025,383.30357134546551,522,0.95,0.95,0.95,358,383,522,154,165,224,0.36016635113087053,0.41266687566708049,0.75442675175462648,1.8,7,7.7,10.7,null,1434,null,0.68,null,null,0,11.3,13.2,21.85,null,1,1,1,358,383,522,null,0,0,0,1]
["1509016",null,null,1,50,90,16,16.5,0,26,30,43.3,1161.44,2336.669516687492,2503.3688418217644,3409.2,1.5,1.1000000000000001,1.1000000000000001,1.1000000000000001,1161,2337,2503,3409,100,201,215,293,0.15381198396114895,0.60915360332621049,0.69575042058868541,1.2822911322288062,2.0829999999999999E-4,1.724,4,1.392796E-3,357.77938745479025,383.30357134546551,522,0.95,0.95,0.95,358,383,522,154,165,224,0.36016635113087053,0.41266687566708049,0.75442675175462648,1.8,7,7.7,10.7,null,1708,null,0.68,null,null,0,11.3,13.2,21.85,null,1,1,1,358,383,522,null,0,0,0,{"$f":"IF(SUM(BV119:BX119)=0,1,0)","v":1},null,null,null,null,null,null,null,null,null,null,null,null,null,null,{"$f":"CN111","v":1},7,{"$f":"CP111","v":2.5582398288699999E-3},{"$f":"CQ111","v":1.4942747715061999},{"$f":"CR111","v":3},{"$f":"CS111","v":5.6161694684148003E-4}]
["1659016",null,null,1,65,90,16,16.5,0,26,30,43.3,1330.0800000000002,2336.669516687492,2503.3688418217644,3409.2,1.5,1.1000000000000001,1.1000000000000001,1.1000000000000001,1330,2337,2503,3409,114,201,215,293,0.19909467727004923,0.60915360332621049,0.69575042058868541,1.2822911322288062,2.0829999999999999E-4,1.724,4,1.392796E-3,{"$f":"AK119*(1-(($E120-50)*0.005))","v":330.94593339568098},{"$f":"AL119*(1-(($E120-50)*0.005))","v":354.55580349455562},{"$f":"AM119*(1-(($E120-50)*0.005))","v":482.85},0.95,0.95,0.95,331,355,483,142,153,208,0.30692527513830892,0.35556881420821179,0.65173992320045004,1.8,7,7.7,10.7,null,1956,null,0.68,null,null,0,11.3,13.2,21.85,null,1,1,1,331,355,483,null,0,0,0,1,null,null,null,null,null,null,null,null,null,null,null,null,null,null,{"$f":"CN105","v":4},8,{"$f":"CP105","v":9.3700000000000001E-4},{"$f":"CQ105","v":1.7889999999999999},{"$f":"CR105","v":4},{"$f":"CS105","v":1.39E-3}]
["1959016",null,null,1,95,90,16,16.5,0,26,30,43.3,1638.1200000000001,2336.669516687492,2503.3688418217644,3409.2,1.5,1.1000000000000001,1.1000000000000001,1.1000000000000001,1638,2337,2503,3409,141,201,215,293,0.302678626742097,0.60915360332621049,0.69575042058868541,1.2822911322288062,2.0829999999999999E-4,1.724,4,1.392796E-3,{"$f":"AK119*(1-(($E121-50)*0.005))","v":277.27902527746244},{"$f":"AL119*(1-(($E121-50)*0.005))","v":297.06026779273577},{"$f":"AM119*(1-(($E121-50)*0.005))","v":404.55},0.95,0.95,0.95,277,297,405,119,128,174,0.21666354439365651,0.25013674069294162,0.45824838024611242,1.8,7,7.7,10.7,null,2409,null,0.68,null,null,0,11.3,13.2,21.85,null,1,1,1,277,297,405,null,0,0,0,1]
["1359020",null,null,1,35,90,20,21.5,0,26,30,43.3,1483.2,2232.7836804230465,2401.8435041457315,2924.64,1.5,1.08,1.08,1.08,1483,2233,2402,2925,128,192,207,252,6.85057463009488E-2,0.15220989401469975,0.17653301618879313,0.26017862567755984,1.2760000000000001E-4,1.7219,2,3.76611E-4,275.93732338069162,296.83048721840407,361.44,0.95,0.95,0.95,276,297,361,119,128,155,5.9353068879593893E-2,6.85057463009488E-2,9.9843942617951306E-2,1.2,7,7.7,10.7,null,1854,null,0.8,null,null,0,11.3,13.2,21.85,null,1,1,1,276,297,361,null,0,0,0,1]
["1509020",null,null,1,50,90,20,21.5,0,26,30,43.3,1746.4,2232.7836804230465,2401.8435041457315,2924.64,1.5,1.08,1.08,1.08,1746,2233,2402,2925,150,192,207,252,9.3602145888136049E-2,0.15220989401469975,0.17653301618879313,0.26017862567755984,1.2760000000000001E-4,1.7219,2,3.76611E-4,275.93732338069162,296.83048721840407,361.44,0.95,0.95,0.95,276,297,361,119,128,155,5.9353068879593893E-2,6.85057463009488E-2,9.9843942617951306E-2,1.2,7,7.7,10.7,null,2183,null,0.8,null,null,0,11.3,13.2,21.85,null,1,1,1,276,297,361,null,0,0,0,1]
["1659020",null,null,1,65,90,20,21.5,0,26,30,43.3,1933.6000000000001,2232.7836804230465,2401.8435041457315,2924.64,1.5,1.08,1.08,1.08,1934,2233,2402,2925,166,192,207,252,0.11427616746054219,0.15220989401469975,0.17653301618879313,0.26017862567755984,1.2760000000000001E-4,1.7219,2,3.76611E-4,275.93732338069162,296.83048721840407,361.44,0.95,0.95,0.95,276,297,361,119,128,155,5.9353068879593893E-2,6.85057463009488E-2,9.9843942617951306E-2,1.2,7,7.7,10.7,null,2417,null,0.8,null,null,0,11.3,13.2,21.85,null,1,1,1,276,297,361,null,0,0,0,1]
["1959020",null,null,1,95,90,20,21.5,0,26,30,43.3,2137.7836804230465,2232.7836804230465,2401.8435041457315,2924.64,1.5,1.08,1.08,1.08,2138,2233,2402,2925,184,192,207,252,0.13996661335677618,0.15220989401469975,0.17653301618879313,0.26017862567755984,1.2760000000000001E-4,1.7219,2,3.76611E-4,275.93732338069162,296.83048721840407,361.44,0.95,0.95,0.95,276,297,361,119,128,155,5.9353068879593893E-2,6.85057463009488E-2,9.9843942617951306E-2,1.2,7,7.7,10.7,null,2693,null,0.8,null,null,0,11.3,13.2,21.85,null,1,1,1,276,297,361,null,0,0,0,1]
["1359021",null,null,1,35,90,21,21.5,0,26,30,43.3,1522.4,3009.2947651024979,3223.9795559512399,4390.5600000000004,1.5,1.05,1.05,1.05,1522,3009,3224,4391,131,259,277,378,0.10320303459017836,0.39212285066283958,0.44737503001439571,0.82373176047688912,1.2760000000000001E-4,1.7219,4,5.1420100000000005E-4,390.34964893343317,418.19741370243202,569.52,0.85,0.85,0.85,390,418,570,168,180,245,0.16789509816318576,0.19217671661448937,0.35163070513405226,2.4,7,7.7,10.7,null,1903,null,0.8,null,null,0,11.3,13.2,21.85,null,1,1,1,390,418,570,null,0,0,0,1]
["1509021",null,null,1,50,90,21,21.5,0,26,30,43.3,1859.2,3009.2947651024979,3223.9795559512399,4390.5600000000004,1.5,1.05,1.05,1.05,1859,3009,3224,4391,160,259,277,378,0.15260387350858196,0.39212285066283958,0.44737503001439571,0.82373176047688912,1.2760000000000001E-4,1.7219,4,5.1420100000000005E-4,390.34964893343317,418.19741370243202,569.52,0.85,0.85,0.85,390,418,570,168,180,245,0.16789509816318576,0.19217671661448937,0.35163070513405226,2.4,7,7.7,10.7,null,2324,null,0.8,null,null,0,11.3,13.2,21.85,null,1,1,1,390,418,570,null,0,0,0,1]
["1659021",null,null,1,65,90,21,21.5,0,26,30,43.3,2181.6,3009.2947651024979,3223.9795559512399,4390.5600000000004,1.5,1.05,1.05,1.05,2182,3009,3224,4391,188,259,277,378,0.20925964567664998,0.39212285066283958,0.44737503001439571,0.82373176047688912,1.2760000000000001E-4,1.7219,4,5.1420100000000005E-4,{"$f":"AK127*(1-(($E128-50)*0.005))","v":361.07342526342569},{"$f":"AL127*(1-(($E128-50)*0.005))","v":386.83260767474962},{"$f":"AM127*(1-(($E128-50)*0.005))","v":526.80600000000004},0.85,0.85,0.85,361,387,527,155,166,227,0.14341158589090264,0.16400500069628438,0.30276558287201993,2.4,7,7.7,10.7,null,2727,null,0.8,null,null,0,11.3,13.2,21.85,null,1,1,1,361,387,527,null,0,0,0,1]
["1959021",null,null,1,95,90,21,21.5,0,26,30,43.3,2822.4,3009.2947651024979,3223.9795559512399,4390.5600000000004,1.5,1.05,1.05,1.05,2822,3009,3224,4391,243,259,277,378,0.34602358057183785,0.39212285066283958,0.44737503001439571,0.82373176047688912,1.2760000000000001E-4,1.7219,4,5.1420100000000005E-4,{"$f":"AK127*(1-(($E129-50)*0.005))","v":302.52097792341073},{"$f":"AL127*(1-(($E129-50)*0.005))","v":324.10299561938484},{"$f":"AM127*(1-(($E129-50)*0.005))","v":441.37799999999999},0.85,0.85,0.85,303,324,441,130,139,190,0.10166856840266857,0.11588498714575281,0.21364215145761875,2.4,7,7.7,10.7,null,3528,null,0.8,null,null,0,11.3,13.2,21.85,null,1,1,1,303,324,441,null,0,0,0,1]
["13510010",null,null,1,35,100,10,11.5,0,26,30,43,808.2,1574.3905475253332,1696.1265760133244,2081.98,1.5,1.08,1.08,1.08,808,1574,1696,2082,69,135,146,179,2.7445328289755353E-2,9.8623231218722851E-2,0.11455551187153463,0.16920060692862343,3.969E-4,1.7345999999999999,2,3.6734700000000002E-4,218.26918973175157,235.14633901405676,288.64,0.98,0.98,0.98,218,235,289,94,101,124,4.9429305306709352E-2,5.6681136080738742E-2,8.3841493078660942E-2,0.7,7.8,8.6999999999999993,12.2,null,898,null,0.9,null,null,0,12.3,14.1,21.85,null,1,1,1,218,235,289,null,0,0,0,1]
["15010010",null,null,1,50,100,10,11.5,0,26,30,43,968.4,1574.3905475253332,1696.1265760133244,2081.98,1.5,1.08,1.08,1.08,968,1574,1696,2082,83,135,146,179,3.8998947556455631E-2,9.8623231218722851E-2,0.11455551187153463,0.16920060692862343,3.969E-4,1.7345999999999999,2,3.6734700000000002E-4,218.26918973175157,235.14633901405676,288.64,0.98,0.98,0.98,218,235,289,94,101,124,4.9429305306709352E-2,5.6681136080738742E-2,8.3841493078660942E-2,0.7,7.8,8.6999999999999993,12.2,null,1076,null,0.9,null,null,0,12.3,14.1,21.85,null,1,1,1,218,235,289,null,0,0,0,1]
["16510010",null,null,1,65,100,10,11.5,0,26,30,43,1089.9000000000001,1574.3905475253332,1696.1265760133244,2081.98,1.5,1.08,1.08,1.08,1090,1574,1696,2082,94,135,146,179,4.9429305306709352E-2,9.8623231218722851E-2,0.11455551187153463,0.16920060692862343,3.969E-4,1.7345999999999999,2,3.6734700000000002E-4,218.26918973175157,235.14633901405676,288.64,0.98,0.98,0.98,218,235,289,94,101,124,4.9429305306709352E-2,5.6681136080738742E-2,8.3841493078660942E-2,0.7,7.8,8.6999999999999993,12.2,null,1211,null,0.9,null,null,0,12.3,14.1,21.85,null,1,1,1,218,235,289,null,0,0,0,1]
["19510010",null,null,1,95,100,10,11.5,0,26,30,43,1253.7,1574.39054752533,1696.1265760133199,2081.98,1.5,1.08,1.08,1.08,1254,1574,1696,2082,108,135,146,179,6.4407938112710658E-2,9.8623231218722851E-2,0.11455551187153463,0.16920060692862343,3.969E-4,1.7345999999999999,2,3.6734700000000002E-4,218.26918973175157,235.14633901405676,288.64,0.98,0.98,0.98,218,235,289,94,101,124,4.9429305306709352E-2,5.6681136080738742E-2,8.3841493078660942E-2,0.7,7.8,8.6999999999999993,12.2,null,1393,null,0.9,null,null,0,12.3,14.1,21.85,null,1,1,1,218,235,289,null,0,0,0,1]
["13510011",null,null,1,35,100,11,11.5,0,26,30,43,813.28000000000009,2136.1856779144437,2301.3611872256411,2824.9,1.5,1.1000000000000001,1.1000000000000001,1.1000000000000001,813,2136,2301,2825,70,184,198,243,4.8709669288906778E-2,0.30352033783455779,0.34894385970841529,0.51535542526976641,3.969E-4,1.7345999999999999,4,5.7428799999999995E-4,358,385,473,0.95,0.95,0.95,358,385,473,154,166,203,0.21644289597218058,0.2495876591101075,0.36590011099410291,1.3,7.8,8.6999999999999993,12.2,null,1196,null,0.68,null,null,0,12.3,14.1,21.85,null,1,1,1,358,385,473,null,0,0,0,1]
["15010011",null,null,1,50,100,11,11.5,0,26,30,43,942.48,2136.1856779144437,2301.3611872256411,2824.9,1.5,1.1000000000000001,1.1000000000000001,1.1000000000000001,942,2136,2301,2825,81,184,198,243,6.4146139619316769E-2,0.30352033783455779,0.34894385970841529,0.51535542526976641,3.969E-4,1.7345999999999999,4,5.7428799999999995E-4,358,385,473,0.95,0.95,0.95,358,385,473,154,166,203,0.21644289597218058,0.2495876591101075,0.36590011099410291,1.3,7.8,8.6999999999999993,12.2,null,1386,null,0.68,null,null,0,12.3,14.1,21.85,null,1,1,1,358,385,473,null,0,0,0,1]
["16510011",null,null,1,65,100,11,11.5,0,26,30,43,1049.24,2136.1856779144437,2301.3611872256411,2824.9,1.5,1.1000000000000001,1.1000000000000001,1.1000000000000001,1049,2136,2301,2825,90,184,198,243,7.8266073927165669E-2,0.30352033783455779,0.34894385970841529,0.51535542526976641,3.969E-4,1.7345999999999999,4,5.7428799999999995E-4,{"$f":"AK135*(1-(($E136-50)*0.005))","v":331.15000000000003},{"$f":"AL135*(1-(($E136-50)*0.005))","v":356.125},{"$f":"AM135*(1-(($E136-50)*0.005))","v":437.52500000000003},0.95,0.95,0.95,331,356,438,142,153,188,0.1855610396003198,0.21378279383702437,0.31618904083700439,1.3,7.8,8.6999999999999993,12.2,null,1543,null,0.68,null,null,0,12.3,14.1,21.85,null,1,1,1,331,356,438,null,0,0,0,1]
["19510011",null,null,1,95,100,11,11.5,0,26,30,43,1221.2800000000002,2136.1856779144437,2301.3611872256411,2824.9,1.5,1.1000000000000001,1.1000000000000001,1.1000000000000001,1221,2136,2301,2825,105,184,198,243,0.10474580217509639,0.30352033783455779,0.34894385970841529,0.51535542526976641,3.969E-4,1.7345999999999999,4,5.7428799999999995E-4,{"$f":"AK135*(1-(($E137-50)*0.005))","v":277.45},{"$f":"AL135*(1-(($E137-50)*0.005))","v":298.375},{"$f":"AM135*(1-(($E137-50)*0.005))","v":366.57499999999999},0.95,0.95,0.95,277,298,367,119,128,158,0.13274833989527998,0.15241102337390627,0.22724036708041567,1.3,7.8,8.6999999999999993,12.2,null,1796,null,0.68,null,null,0,12.3,14.1,21.85,null,1,1,1,277,298,367,null,0,0,0,1]
["13510015",null,null,1,35,100,15,16.5,0,26,30,44.1,1176,1798.7737222599399,1926.0891717740149,2655.16,1.5,1.08,1.08,1.08,1176,1799,1926,2655,101,155,166,228,5.6142947952834615E-2,0.12960669873525657,0.14820649885017992,0.27587309609991228,2.0829999999999999E-4,1.724,2,4.6182900000000003E-4,245.53983484833029,262.91890485611941,362.44,1.01,1.01,1.01,246,263,362,106,113,156,6.1693712021988735E-2,6.989545441405931E-2,0.13124694650181259,1,7,7.7,10.7,null,1470,null,0.8,null,null,0,10.9,12.8,21.85,null,1,1,1,246,263,362,null,0,0,0,1]
["15010015",null,null,1,50,100,15,16.5,0,26,30,44.1,1387.2,1798.7737222599399,1926.0891717740149,2655.16,1.5,1.08,1.08,1.08,1387,1799,1926,2655,119,155,166,228,7.7324727009637315E-2,0.12960669873525657,0.14820649885017992,0.27587309609991228,2.0829999999999999E-4,1.724,2,4.6182900000000003E-4,245.53983484833029,262.91890485611941,362.44,1.01,1.01,1.01,246,263,362,106,113,156,6.1693712021988735E-2,6.989545441405931E-2,0.13124694650181259,1,7,7.7,10.7,null,1734,null,0.8,null,null,0,10.9,12.8,21.85,null,1,1,1,246,263,362,null,0,0,0,1]
["16510015",null,null,1,65,100,15,16.5,0,26,30,44.1,1537.6000000000001,1798.7737222599399,1926.0891717740149,2655.16,1.5,1.08,1.08,1.08,1538,1799,1926,2655,132,155,166,228,9.4682693616696872E-2,0.12960669873525657,0.14820649885017992,0.27587309609991228,2.0829999999999999E-4,1.724,2,4.6182900000000003E-4,245.53983484833029,262.91890485611941,362.44,1.01,1.01,1.01,246,263,362,106,113,156,6.1693712021988735E-2,6.989545441405931E-2,0.13124694650181259,1,7,7.7,10.7,null,1922,null,0.8,null,null,0,10.9,12.8,21.85,null,1,1,1,246,263,362,null,0,0,0,1]
["19510015",null,null,1,95,100,15,16.5,0,26,30,44.1,1703.7737222599399,1798.7737222599399,1926.0891717740149,2655.16,1.5,1.08,1.08,1.08,1704,1799,1926,2655,147,155,166,228,0.11684978416913024,0.12960669873525657,0.14820649885017992,0.27587309609991228,2.0829999999999999E-4,1.724,2,4.6182900000000003E-4,245.53983484833029,262.91890485611941,362.44,1.01,1.01,1.01,246,263,362,106,113,156,6.1693712021988735E-2,6.989545441405931E-2,0.13124694650181259,1,7,7.7,10.7,null,2146,null,0.8,null,null,0,10.9,12.8,21.85,null,1,1,1,246,263,362,null,0,0,0,1]
["13510016",null,null,1,35,100,16,16.5,0,26,30,44.1,1083.24,2630.3871448118639,2816.5633812075234,3882.7,1.5,1.1000000000000001,1.1000000000000001,1.1000000000000001,1083,2630,2817,3883,93,226,242,334,0.13535636062865283,0.77712770761656835,0.88934367498091926,1.6794877029795134,2.0829999999999999E-4,1.724,4,1.392796E-3,403,431,595,0.95,0.95,0.95,403,431,595,173,185,256,0.45896052508691165,0.52378160296818432,0.99366847477469411,2,7,7.7,10.7,null,1593,null,0.68,null,null,0,10.9,12.8,21.85,null,1,1,1,403,431,595,null,0,0,0,1]
["15010016",null,null,1,50,100,16,16.5,0,26,30,44.1,1290.6400000000001,2630.3871448118639,2816.5633812075234,3882.7,1.5,1.1000000000000001,1.1000000000000001,1.1000000000000001,1291,2630,2817,3883,111,226,242,334,0.19164820330533572,0.77712770761656835,0.88934367498091926,1.6794877029795134,2.0829999999999999E-4,1.724,4,1.392796E-3,403,431,595,0.95,0.95,0.95,403,431,595,173,185,256,0.45896052508691165,0.52378160296818432,0.99366847477469411,2,7,7.7,10.7,null,1898,null,0.68,null,null,0,10.9,12.8,21.85,null,1,1,1,403,431,595,null,0,0,0,1]
["16510016",null,null,1,65,100,16,16.5,0,26,30,44.1,1477.64,2630.3871448118639,2816.5633812075234,3882.7,1.5,1.1000000000000001,1.1000000000000001,1.1000000000000001,1478,2630,2817,3883,127,226,242,334,0.24975902491663646,0.77712770761656835,0.88934367498091926,1.6794877029795134,2.0829999999999999E-4,1.724,4,1.392796E-3,{"$f":"AK143*(1-(($E144-50)*0.005))","v":372.77500000000003},{"$f":"AL143*(1-(($E144-50)*0.005))","v":398.67500000000001},{"$f":"AM143*(1-(($E144-50)*0.005))","v":550.375},0.95,0.95,0.95,373,399,550,160,172,237,0.39351586381621806,0.45374980786181529,0.8534722991447381,2,7,7.7,10.7,null,2173,null,0.68,null,null,0,10.9,12.8,21.85,null,1,1,1,373,399,550,null,0,0,0,1]
["19510016",null,null,1,95,100,16,16.5,0,26,30,44.1,1820.3600000000001,2630.3871448118639,2816.5633812075234,3882.7,1.5,1.1000000000000001,1.1000000000000001,1.1000000000000001,1820,2630,2817,3883,157,226,242,334,0.37911972616747958,0.77712770761656835,0.88934367498091926,1.6794877029795134,2.0829999999999999E-4,1.724,4,1.392796E-3,{"$f":"AK143*(1-(($E145-50)*0.005))","v":312.32499999999999},{"$f":"AL143*(1-(($E145-50)*0.005))","v":334.02500000000003},{"$f":"AM143*(1-(($E145-50)*0.005))","v":461.125},0.95,0.95,0.95,312,334,461,134,144,198,0.27756578050968417,0.31980163896983926,0.59877598380752439,2,7,7.7,10.7,null,2677,null,0.68,null,null,0,10.9,12.8,21.85,null,1,1,1,312,334,461,null,0,0,0,1]
["13510020",null,null,1,35,100,20,21.5,0,26,30,44.1,1648,2518.7768428703835,2713.5353098724395,3330.84,1.5,1.08,1.08,1.08,1648,2519,2714,3331,142,217,233,286,8.5300466892503535E-2,0.19637584927080459,0.22589211718801094,0.33821597295331562,1.2760000000000001E-4,1.7219,2,3.76611E-4,311.2816285378957,335.35074484391049,411.64,0.95,0.95,0.95,311,335,412,134,144,177,7.6117387440108403E-2,8.7676786087461309E-2,0.13152753973488002,1.3,7,7.7,10.7,null,2060,null,0.8,null,null,0,10.9,12.8,21.85,null,1,1,1,311,335,412,null,0,0,0,1]
["15010020",null,null,1,50,100,20,21.5,0,26,30,44.1,1940,2518.7768428703835,2713.5353098724395,3330.84,1.5,1.08,1.08,1.08,1940,2519,2714,3331,167,217,233,286,0.1173162593266832,0.19637584927080459,0.22589211718801094,0.33821597295331562,1.2760000000000001E-4,1.7219,2,3.76611E-4,311.2816285378957,335.35074484391049,411.64,0.95,0.95,0.95,311,335,412,134,144,177,7.6117387440108403E-2,8.7676786087461309E-2,0.13152753973488002,1.3,7,7.7,10.7,null,2425,null,0.8,null,null,0,10.9,12.8,21.85,null,1,1,1,311,335,412,null,0,0,0,1]
["16510020",null,null,1,65,100,20,21.5,0,26,30,44.1,2148,2518.7768428703835,2713.5353098724395,3330.84,1.5,1.08,1.08,1.08,2148,2519,2714,3331,185,217,233,286,0.14347350762463587,0.19637584927080459,0.22589211718801094,0.33821597295331562,1.2760000000000001E-4,1.7219,2,3.76611E-4,311.2816285378957,335.35074484391049,411.64,0.95,0.95,0.95,311,335,412,134,144,177,7.6117387440108403E-2,8.7676786087461309E-2,0.13152753973488002,1.3,7,7.7,10.7,null,2685,null,0.8,null,null,0,10.9,12.8,21.85,null,1,1,1,311,335,412,null,0,0,0,1]
["19510020",null,null,1,95,100,20,21.5,0,26,30,44.1,2393.6,2518.7768428703835,2713.5353098724395,3330.84,1.5,1.08,1.08,1.08,2394,2519,2714,3331,206,217,233,286,0.17726791711514006,0.19637584927080459,0.22589211718801094,0.33821597295331562,1.2760000000000001E-4,1.7219,2,3.76611E-4,311.2816285378957,335.35074484391049,411.64,0.95,0.95,0.95,311,335,412,134,144,177,7.6117387440108403E-2,8.7676786087461309E-2,0.13152753973488002,1.3,7,7.7,10.7,null,2992,null,0.8,null,null,0,10.9,12.8,21.85,null,1,1,1,311,335,412,null,0,0,0,1]
["13510021",null,null,1,35,100,21,21.5,0,26,30,44.1,1691.2,3387.5608889256064,3627.3291443724347,5000.3599999999997,1.5,1.05,1.05,1.05,1691,3388,3627,5000,145,291,312,430,0.12850495967391312,0.50157125518840051,0.57492378341496886,1.0783579804788856,1.2760000000000001E-4,1.7219,4,5.1420100000000005E-4,439.41631078060919,470.51776864522725,648.62,0.85,0.85,0.85,439,471,649,189,203,279,0.21560419169801393,0.24792046126884393,0.46186798350799674,2.7,7,7.7,10.7,null,2114,null,0.8,null,null,0,10.9,12.8,21.85,null,1,1,1,439,471,649,null,0,0,0,1]
["15010021",null,null,1,50,100,21,21.5,0,26,30,44.1,2065.6,3387.5608889256064,3627.3291443724347,5000.3599999999997,1.5,1.05,1.05,1.05,2066,3388,3627,5000,178,291,312,430,0.19176871983459592,0.50157125518840051,0.57492378341496886,1.0783579804788856,1.2760000000000001E-4,1.7219,4,5.1420100000000005E-4,439.41631078060919,470.51776864522725,648.62,0.85,0.85,0.85,439,471,649,189,203,279,0.21560419169801393,0.24792046126884393,0.46186798350799674,2.7,7,7.7,10.7,null,2582,null,0.8,null,null,0,10.9,12.8,21.85,null,1,1,1,439,471,649,null,0,0,0,1]
["16510021",null,null,1,65,100,21,21.5,0,26,30,44.1,2424,3387.5608889256064,3627.3291443724347,5000.3599999999997,1.5,1.05,1.05,1.05,2424,3388,3627,5000,208,291,312,430,0.25999863731584949,0.50157125518840051,0.57492378341496886,1.0783579804788856,1.2760000000000001E-4,1.7219,4,5.1420100000000005E-4,{"$f":"AK151*(1-(($E152-50)*0.005))","v":406.46008747206355},{"$f":"AL151*(1-(($E152-50)*0.005))","v":435.22893599683522},{"$f":"AM151*(1-(($E152-50)*0.005))","v":599.97350000000006},0.85,0.85,0.85,406,435,600,175,187,258,0.18550612673564695,0.21116854253394793,0.39626579576401511,2.7,7,7.7,10.7,null,3030,null,0.8,null,null,0,10.9,12.8,21.85,null,1,1,1,406,435,600,null,0,0,0,1]
["19510021",null,null,1,95,100,21,21.5,0,26,30,44.1,3136,3387.5608889256064,3627.3291443724347,5000.3599999999997,1.5,1.05,1.05,1.05,3136,3388,3627,5000,270,291,312,430,0.4331478848650922,0.50157125518840051,0.57492378341496886,1.0783579804788856,1.2760000000000001E-4,1.7219,4,5.1420100000000005E-4,{"$f":"AK151*(1-(($E153-50)*0.005))","v":340.54764085497214},{"$f":"AL151*(1-(($E153-50)*0.005))","v":364.65127070005116},{"$f":"AM151*(1-(($E153-50)*0.005))","v":502.68049999999999},0.85,0.85,0.85,341,365,503,147,157,216,0.13198622122702164,0.15007654668733886,0.27991043654837722,2.7,7,7.7,10.7,null,3920,null,0.8,null,null,0,10.9,12.8,21.85,null,1,1,1,341,365,503,null,0,0,0,1]
["13511010",null,null,1,35,110,10,11.5,0,26,30,43.5,889.2,1766.3893947845202,1902.9712804051933,2335.88,1.5,1.08,1.08,1.08,889,1766,1903,2336,{"$f":"ROUND(U154*3600/(4186*ABS($O$1-$O$2)),0)","v":76},{"$f":"ROUND(V154*3600/(4186*ABS($O$1-$O$2)),0)","v":152},{"$f":"ROUND(W154*3600/(4186*ABS($O$1-$O$2)),0)","v":164},{"$f":"ROUND(X154*3600/(4186*ABS($O$1-$O$2)),0)","v":201},3.4403484208875526E-2,0.12846635666491932,0.14849855963064404,0.21898283146724631,3.969E-4,1.7345999999999999,2,3.6734700000000002E-4,244.88738360147738,263.82272182064906,323.83999999999997,0.98,0.98,0.98,245,264,324,{"$f":"ROUND(AQ154*3600/(4186*ABS($AM$1-$AM$2)),0)","v":105},{"$f":"ROUND(AR154*3600/(4186*ABS($AM$1-$AM$2)),0)","v":114},{"$f":"ROUND(AS154*3600/(4186*ABS($AM$1-$AM$2)),0)","v":139},6.3532409410345894E-2,7.4283678081492499E-2,0.10834103483995079,0.7,8.4,9.3000000000000007,14,null,988,null,0.9,null,null,0,12,13.9,21.85,null,1,1,1,245,264,324,null,0,0,0,1]
["15011010",null,null,1,50,110,10,11.5,0,26,30,43.5,1065.6000000000001,1766.3893947845202,1902.9712804051933,2335.88,1.5,1.08,1.08,1.08,1066,1766,1903,2336,92,152,164,201,4.9427920932313511E-2,0.12846635666491932,0.14849855963064404,0.21898283146724631,3.969E-4,1.7345999999999999,2,3.6734700000000002E-4,244.88738360147738,263.82272182064906,323.83999999999997,0.98,0.98,0.98,245,264,324,105,114,139,6.3532409410345894E-2,7.4283678081492499E-2,0.10834103483995079,0.7,8.4,9.3000000000000007,14,null,1184,null,0.9,null,null,0,12,13.9,21.85,null,1,1,1,245,264,324,null,0,0,0,1]
["16511010",null,null,1,65,110,10,11.5,0,26,30,43.5,{"$f":"IF($N156-($BE156*$BG156)>100,$BE156*$BG156,$N156-95)","v":1198.8},1766.3893947845202,1902.9712804051933,2335.88,1.5,1.08,1.08,1.08,{"$f":"ROUND(M156*POWER(CF_heat,Q156),0)","v":1199},{"$f":"ROUND(N156*POWER(CF_heat,R156),0)","v":1766},{"$f":"ROUND(O156*POWER(CF_heat,S156),0)","v":1903},{"$f":"ROUND(P156*POWER(CF_heat,T156),0)","v":2336},103,152,164,201,6.1252576785718035E-2,0.12846635666491932,0.14849855963064404,0.21898283146724631,{"$f":"IF($G156=$CO$103,CP$103,IF($G156=$CO$104,CP$104,IF($G156=$CO$105,CP$105,IF($G156=$CO$107,CP$107,IF($G156=$CO$108,CP$108,IF($G156=$CO$109,CP$109,IF($G156=$CO$111,CP$111,IF($G156=$CO$112,CP$112,IF($G156=$CO$113,CP$113,IF($G156=$CO$115,CP$115,IF($G156=$CO$116,CP$116,IF($G156=$CO$117,CP$117,IF($G156=$CO$119,CP$119,IF($G156=$CO$120,CP$120,))))))))))))))","v":3.969E-4},{"$f":"IF($G156=$CO$103,CQ$103,IF($G156=$CO$104,CQ$104,IF($G156=$CO$105,CQ$105,IF($G156=$CO$107,CQ$107,IF($G156=$CO$108,CQ$108,IF($G156=$CO$109,CQ$109,IF($G156=$CO$111,CQ$111,IF($G156=$CO$112,CQ$112,IF($G156=$CO$113,CQ$113,IF($G156=$CO$115,CQ$115,IF($G156=$CO$116,CQ$116,IF($G156=$CO$117,CQ$117,IF($G156=$CO$119,CQ$119,IF($G156=$CO$120,CQ$120,))))))))))))))","v":1.7345999999999999},{"$f":"IF($G156=$CO$103,CR$103,IF($G156=$CO$104,CR$104,IF($G156=$CO$105,CR$105,IF($G156=$CO$107,CR$107,IF($G156=$CO$108,CR$108,IF($G156=$CO$109,CR$109,IF($G156=$CO$111,CR$111,IF($G156=$CO$112,CR$112,IF($G156=$CO$113,CR$113,IF($G156=$CO$115,CR$115,IF($G156=$CO$116,CR$116,IF($G156=$CO$117,CR$117,IF($G156=$CO$119,CR$119,IF($G156=$CO$120,CR$120,))))))))))))))","v":2},{"$f":"IF($G156=$CO$103,CS$103,IF($G156=$CO$104,CS$104,IF($G156=$CO$105,CS$105,IF($G156=$CO$107,CS$107,IF($G156=$CO$108,CS$108,IF($G156=$CO$109,CS$109,IF($G156=$CO$111,CS$111,IF($G156=$CO$112,CS$112,IF($G156=$CO$113,CS$113,IF($G156=$CO$115,CS$115,IF($G156=$CO$116,CS$116,IF($G156=$CO$117,CS$117,IF($G156=$CO$119,CS$119,IF($G156=$CO$120,CS$120,))))))))))))))","v":3.6734700000000002E-4},244.88738360147738,263.82272182064906,323.83999999999997,0.98,0.98,0.98,{"$f":"ROUND(AK156*POWER(CF_cool,AN156),0)","v":245},{"$f":"ROUND(AL156*POWER(CF_cool,AO156),0)","v":264},{"$f":"ROUND(AM156*POWER(CF_cool,AP156),0)","v":324},105,114,139,6.3532409410345894E-2,7.4283678081492499E-2,0.10834103483995079,{"$f":"ROUND(IF(G156=10,$CO$92*F156,IF(G156=11,$CO$93*F156,IF(G156=15,$CO$94*F156,IF(G156=16,$CO$95*F156,IF(G156=20,$CO$96*F156,IF(G156=21,$CO$97*F156,)))))),1)","v":0.7},8.4,9.3000000000000007,14,null,1332,null,{"$f":"IF(G156=10,0.9,IF(G156=11,0.68,IF(G156=15,0.8,IF(G156=16,0.68,IF(G156=20,0.8,IF(G156=21,0.8))))))","v":0.9},null,null,0,12,13.9,21.85,null,1,1,1,{"$f":"AQ156/BO156","v":245},264,324,null,{"$f":"BR156-AQ156","v":0},{"$f":"BS156-AR156","v":0},{"$f":"BT156-AS156","v":0},1]
[{"$f":"CONCATENATE(D157,E157,F157,G157)","v":"19511010"},null,null,1,95,110,10,11.5,0,26,30,43.5,1378.8,1766.3893947845199,1902.9712804051901,2335.88,1.5,{"$f":"IF($G157=10,1.08,IF($G157=11,1.1,IF($G157=15,1.08,IF($G157=16,1.1,IF($G157=20,1.08,IF($G157=21,1.05))))))","v":1.08},1.08,1.08,1379,1766,1903,2336,119,152,164,201,{"$f":"(($AG157*(Y157^$AH157)*((($F157-14.4)*$AI157)/100))+($AJ157*(Y157^2)))*0.0098","v":8.0603275811184871E-2},{"$f":"(($AG157*(Z157^$AH157)*((($F157-14.4)*$AI157)/100))+($AJ157*(Z157^2)))*0.0098","v":0.12846635666491932},{"$f":"(($AG157*(AA157^$AH157)*((($F157-14.4)*$AI157)/100))+($AJ157*(AA157^2)))*0.0098","v":0.14849855963064404},{"$f":"(($AG157*(AB157^$AH157)*((($F157-14.4)*$AI157)/100))+($AJ157*(AB157^2)))*0.0098","v":0.21898283146724631},3.969E-4,1.7345999999999999,2,3.6734700000000002E-4,244.88738360147738,263.82272182064906,323.83999999999997,0.98,0.98,0.98,245,264,324,105,114,139,{"$f":"(($AG157*(AT157^$AH157)*((($F157-14.4)*$AI157)/100))+($AJ157*(AT157^2)))*0.0098","v":6.3532409410345894E-2},{"$f":"(($AG157*(AU157^$AH157)*((($F157-14.4)*$AI157)/100))+($AJ157*(AU157^2)))*0.0098","v":7.4283678081492499E-2},{"$f":"(($AG157*(AV157^$AH157)*((($F157-14.4)*$AI157)/100))+($AJ157*(AV157^2)))*0.0098","v":0.10834103483995079},0.7,8.4,9.3000000000000007,14,null,1532,null,0.9,null,null,0,12,13.9,21.85,null,1,1,1,245,{"$f":"AR157/BP157","v":264},{"$f":"AS157/BQ157","v":324},null,0,0,0,1]
["13511011",null,null,1,35,110,11,11.5,0,26,30,43.5,894.88000000000011,2396.6961264405954,2582.0149905458411,3169.4,1.5,1.1000000000000001,1.1000000000000001,1.1000000000000001,895,2397,2582,3169,77,206,222,273,6.1212560517279302E-2,0.39231335542301654,0.4521181336762668,0.66959643399325008,3.969E-4,1.7345999999999999,4,5.7428799999999995E-4,401.42051232401269,432.4594048025981,530.84,0.95,0.95,0.95,401,432,531,172,186,228,0.27874588734236166,0.32327190223067265,0.47558723983145007,1.5,8.4,9.3000000000000007,14,null,1316,null,0.68,null,null,0,12,13.9,21.85,null,{"$f":"IF((237.3*LN(($AQ$1*EXP(17.27*($AM$3/($AM$3+237.3))))))/(17.27-LN(($AQ$1*EXP(17.27*($AM$3/($AM$3+237.3))))))<(($AM$1+$AM$2)/2),1,IF(1/(1+((2258*((0.622/((101325/(1*611*EXP(17.27*((($AM$1+$AM$2)/2)/((($AM$1+$AM$2)/2)+237.3))))))-1)*1000-(0.622/((101325/($AQ$1*611*EXP(17.27*($AM$3/($AM$3+237.3))))))-1)*1000))/(1005*((($AM$1+$AM$2)/2)-$AM$3))))>1,1,1/(1+((2258*((0.622/((101325/(1*611*EXP(17.27*((($AM$1+$AM$2)/2)/((($AM$1+$AM$2)/2)+237.3))))))-1)*1000-(0.622/((101325/($AQ$1*611*EXP(17.27*($AM$3/($AM$3+237.3))))))-1)*1000))/(1005*((($AM$1+$AM$2)/2)-$AM$3))))))","v":1},1,1,401,432,531,null,0,0,0,1]
["15011011",null,null,1,50,110,11,11.5,0,26,30,43.5,1037,2396.6961264405954,2582.0149905458411,3169.4,1.5,1.1000000000000001,1.1000000000000001,1.1000000000000001,1037,2397,2582,3169,89,206,222,273,8.0375768548476237E-2,0.39231335542301654,0.4521181336762668,0.66959643399325008,3.969E-4,1.7345999999999999,4,5.7428799999999995E-4,401.42051232401269,432.4594048025981,530.84,0.95,0.95,0.95,401,432,531,172,186,228,0.27874588734236166,0.32327190223067265,0.47558723983145007,1.5,8.4,9.3000000000000007,14,null,1525,null,0.68,null,null,0,12,13.9,21.85,null,1,1,1,401,432,531,null,0,0,0,1]
["16511011",null,null,1,65,110,11,11.5,0,26,30,43.5,1153.96,2396.6961264405954,2582.0149905458411,3169.4,1.5,1.1000000000000001,1.1000000000000001,1.1000000000000001,1154,2397,2582,3169,99,206,222,273,9.8218248864054516E-2,0.39231335542301654,0.4521181336762668,0.66959643399325008,3.969E-4,1.7345999999999999,4,5.7428799999999995E-4,{"$f":"AK159*(1-(($E160-50)*0.005))","v":371.31397389971175},{"$f":"AL159*(1-(($E160-50)*0.005))","v":400.02494944240328},{"$f":"AM159*(1-(($E160-50)*0.005))","v":491.02700000000004},0.95,0.95,0.95,371,400,491,160,172,211,0.243090227688014,0.27874588734236166,0.41056718300834116,1.5,8.4,9.3000000000000007,14,null,1697,null,0.68,null,null,0,12,13.9,21.85,null,1,1,1,371,400,491,null,0,0,0,1]
["19511011",null,null,1,95,110,11,11.5,0,26,30,43.5,1343.68,2396.6961264405954,2582.0149905458411,3169.4,1.5,1.1000000000000001,1.1000000000000001,1.1000000000000001,1344,2397,2582,3169,116,206,222,273,0.13241119729816223,0.39231335542301654,0.4521181336762668,0.66959643399325008,3.969E-4,1.7345999999999999,4,5.7428799999999995E-4,{"$f":"AK159*(1-(($E161-50)*0.005))","v":311.10089705110983},{"$f":"AL159*(1-(($E161-50)*0.005))","v":335.15603872201353},{"$f":"AM159*(1-(($E161-50)*0.005))","v":411.40100000000001},0.95,0.95,0.95,311,335,411,134,144,177,0.17385168491035621,0.19917735207332266,0.29428702881790797,1.5,8.4,9.3000000000000007,14,null,1976,null,0.68,null,null,0,12,13.9,21.85,null,1,1,1,311,335,411,null,0,0,0,1]
["13511015",null,null,1,35,110,15,16.5,0,26,30,44.1,1293.6000000000001,1908.1501882577959,2043.2071973479594,2816.6099999999997,1.5,1.08,1.08,1.08,1294,1908,2043,2817,111,164,176,242,6.8872021216798224E-2,0.14742102741229732,0.1692130010603492,0.31530215896235814,2.0829999999999999E-4,1.724,2,4.6182900000000003E-4,249.80785427097814,267.48901053042016,368.74,1.01,1.01,1.01,250,267,369,108,115,159,6.5293712586279876E-2,7.3788401225819936E-2,0.1387762211751877,1.1000000000000001,7.9,8.8000000000000007,12.5,null,1617,null,0.8,null,null,0,10.9,12.8,21.85,null,1,1,1,250,267,369,null,0,0,0,1]
["15011015",null,null,1,50,110,15,16.5,0,26,30,44.1,1525.6000000000001,1908.1501882577959,2043.2071973479594,2816.6099999999997,1.5,1.08,1.08,1.08,1526,1908,2043,2817,131,164,176,242,9.5110689012705668E-2,0.14742102741229732,0.1692130010603492,0.31530215896235814,2.0829999999999999E-4,1.724,2,4.6182900000000003E-4,249.80785427097814,267.48901053042016,368.74,1.01,1.01,1.01,250,267,369,108,115,159,6.5293712586279876E-2,7.3788401225819936E-2,0.1387762211751877,1.1000000000000001,7.9,8.8000000000000007,12.5,null,1907,null,0.8,null,null,0,10.9,12.8,21.85,null,1,1,1,250,267,369,null,0,0,0,1]
["16511015",null,null,1,65,110,15,16.5,0,26,30,44.1,1691.2,1908.1501882577959,2043.2071973479594,2816.6099999999997,1.5,1.08,1.08,1.08,1691,1908,2043,2817,145,164,176,242,0.11593545715039978,0.14742102741229732,0.1692130010603492,0.31530215896235814,2.0829999999999999E-4,1.724,2,4.6182900000000003E-4,249.80785427097814,267.48901053042016,368.74,1.01,1.01,1.01,250,267,369,108,115,159,6.5293712586279876E-2,7.3788401225819936E-2,0.1387762211751877,1.1000000000000001,7.9,8.8000000000000007,12.5,null,2114,null,0.8,null,null,0,10.9,12.8,21.85,null,1,1,1,250,267,369,null,0,0,0,1]
["19511015",null,null,1,95,110,15,16.5,0,26,30,44.1,1813.1501882577959,1908.1501882577959,2043.2071973479594,2816.6099999999997,1.5,1.08,1.08,1.08,1813,1908,2043,2817,156,164,176,242,0.13371237350772527,0.14742102741229732,0.1692130010603492,0.31530215896235814,2.0829999999999999E-4,1.724,2,4.6182900000000003E-4,249.80785427097814,267.48901053042016,368.74,1.01,1.01,1.01,250,267,369,108,115,159,6.5293712586279876E-2,7.3788401225819936E-2,0.1387762211751877,1.1000000000000001,7.9,8.8000000000000007,12.5,null,2361,null,0.8,null,null,0,10.9,12.8,21.85,null,1,1,1,250,267,369,null,0,0,0,1]
["13511016",null,null,1,35,110,16,16.5,0,26,30,44.1,1191.3600000000001,2849.7497938679544,3051.4523045945984,4206.5,1.5,1.1000000000000001,1.1000000000000001,1.1000000000000001,1191,2850,3051,4207,102,245,262,362,0.16466836695809478,0.92195448057549512,1.0521845346704815,1.9898808014753209,2.0829999999999999E-4,1.724,4,1.392796E-3,407.83296705301524,436.69898665540194,602,0.95,0.95,0.95,408,437,602,175,188,259,0.47548152700019564,0.54744957167687558,1.0285851673079258,2.2000000000000002,7.9,8.8000000000000007,12.5,null,1752,null,0.68,null,null,0,10.9,12.8,21.85,null,1,1,1,408,437,602,null,0,0,0,1]
["15011016",null,null,1,50,110,16,16.5,0,26,30,44.1,1419.8400000000001,2849.7497938679544,3051.4523045945984,4206.5,1.5,1.1000000000000001,1.1000000000000001,1.1000000000000001,1420,2850,3051,4207,122,245,262,362,0.23401211503050393,0.92195448057549512,1.0521845346704815,1.9898808014753209,2.0829999999999999E-4,1.724,4,1.392796E-3,407.83296705301524,436.69898665540194,602,0.95,0.95,0.95,408,437,602,175,188,259,0.47548152700019564,0.54744957167687558,1.0285851673079258,2.2000000000000002,7.9,8.8000000000000007,12.5,null,2088,null,0.68,null,null,0,10.9,12.8,21.85,null,1,1,1,408,437,602,null,0,0,0,1]
["16511016",null,null,1,65,110,16,16.5,0,26,30,44.1,1625.2,2849.7497938679544,3051.4523045945984,4206.5,1.5,1.1000000000000001,1.1000000000000001,1.1000000000000001,1625,2850,3051,4207,140,245,262,362,0.30664457319746813,0.92195448057549512,1.0521845346704815,1.9898808014753209,2.0829999999999999E-4,1.724,4,1.392796E-3,{"$f":"AK167*(1-(($E168-50)*0.005))","v":377.24549452403909},{"$f":"AL167*(1-(($E168-50)*0.005))","v":403.94656265624684},{"$f":"AM167*(1-(($E168-50)*0.005))","v":556.85},0.95,0.95,0.95,377,404,557,162,174,240,0.40852288178542379,0.47015290977661839,0.88526983964966888,2.2000000000000002,7.9,8.8000000000000007,12.5,null,2390,null,0.68,null,null,0,10.9,12.8,21.85,null,1,1,1,377,404,557,null,0,0,0,1]
["19511016",null,null,1,95,110,16,16.5,0,26,30,44.1,2002.6000000000001,2849.7497938679544,3051.4523045945984,4206.5,1.5,1.1000000000000001,1.1000000000000001,1.1000000000000001,2003,2850,3051,4207,172,245,262,362,0.45958461330511147,0.92195448057549512,1.0521845346704815,1.9898808014753209,2.0829999999999999E-4,1.724,4,1.392796E-3,{"$f":"AK167*(1-(($E169-50)*0.005))","v":316.07054946608685},{"$f":"AL167*(1-(($E169-50)*0.005))","v":338.44171465793653},{"$f":"AM167*(1-(($E169-50)*0.005))","v":466.55},0.95,0.95,0.95,316,338,467,136,145,201,0.28966885772381273,0.32853445351079952,0.62441925454457303,2.2000000000000002,7.9,8.8000000000000007,12.5,null,2945,null,0.68,null,null,0,10.9,12.8,21.85,null,1,1,1,316,338,467,null,0,0,0,1]
["13511020",null,null,1,35,110,20,21.5,0,26,30,44.1,1812.8000000000002,2692.551301713082,2900.746468081386,3560.6400000000003,1.5,1.08,1.08,1.08,1813,2693,2901,3561,156,232,249,306,0.10410485526141669,0.22694722640377721,0.26079058599865457,0.3911657832602583,1.2760000000000001E-4,1.7219,2,3.76611E-4,317.17997831584631,341.70517057946222,419.44,0.95,0.95,0.95,317,342,419,136,147,180,7.9544712053658623E-2,9.2650629466224224E-2,0.13785909087762688,1.5,7.9,8.8000000000000007,12.5,null,2266,null,0.8,null,null,0,10.9,12.8,21.85,null,1,1,1,317,342,419,null,0,0,0,1]
["15011020",null,null,1,50,110,20,21.5,0,26,30,44.1,2134.4,2692.551301713082,2900.746468081386,3560.6400000000003,1.5,1.08,1.08,1.08,2134,2693,2901,3561,184,232,249,306,0.1439378571662937,0.22694722640377721,0.26079058599865457,0.3911657832602583,1.2760000000000001E-4,1.7219,2,3.76611E-4,317.17997831584631,341.70517057946222,419.44,0.95,0.95,0.95,317,342,419,136,147,180,7.9544712053658623E-2,9.2650629466224224E-2,0.13785909087762688,1.5,7.9,8.8000000000000007,12.5,null,2668,null,0.8,null,null,0,10.9,12.8,21.85,null,1,1,1,317,342,419,null,0,0,0,1]
["16511020",null,null,1,65,110,20,21.5,0,26,30,44.1,2363.2000000000003,2692.551301713082,2900.746468081386,3560.6400000000003,1.5,1.08,1.08,1.08,2363,2693,2901,3561,203,232,249,306,0.17457604314733524,0.22694722640377721,0.26079058599865457,0.3911657832602583,1.2760000000000001E-4,1.7219,2,3.76611E-4,317.17997831584631,341.70517057946222,419.44,{"$f":"IF($G172=10,0.98,IF($G172=11,0.95,IF($G172=15,1.01,IF($G172=16,0.95,IF($G172=20,0.95,IF($G172=21,0.85))))))","v":0.95},0.95,0.95,317,342,419,136,147,180,7.9544712053658623E-2,9.2650629466224224E-2,0.13785909087762688,1.5,7.9,8.8000000000000007,12.5,null,2954,null,0.8,null,null,0,10.9,12.8,21.85,null,1,1,1,317,342,419,null,0,0,0,1]
["19511020",null,null,1,95,110,20,21.5,0,26,30,44.1,2597.551301713082,2692.551301713082,2900.746468081386,3560.6400000000003,1.5,1.08,1.08,1.08,2598,2693,2901,3561,223,232,249,306,0.20997001530883877,0.22694722640377721,0.26079058599865457,0.3911657832602583,1.2760000000000001E-4,1.7219,2,3.76611E-4,317.17997831584631,341.70517057946222,419.44,0.95,0.95,0.95,317,342,419,136,147,180,7.9544712053658623E-2,9.2650629466224224E-2,0.13785909087762688,1.5,7.9,8.8000000000000007,12.5,null,3291,null,0.8,null,null,0,10.9,12.8,21.85,null,1,1,1,317,342,419,null,0,0,0,1]
["13511021",null,null,1,35,110,21,21.5,0,26,30,44.1,1860,3556.1815292902165,3807.8845891872675,5249.2599999999993,1.5,1.05,1.05,1.05,1860,3556,3808,5249,160,306,327,451,0.15884755780185761,0.56299805703171679,0.64102009569515583,1.2027269290583564,1.2760000000000001E-4,1.7219,4,5.1420100000000005E-4,445.64897406447591,477.19157375690452,657.82,0.85,0.85,0.85,446,477,658,192,205,283,0.22661573879571267,0.25750136415425773,0.48325773512719011,2.9,7.9,8.8000000000000007,12.5,null,2325,null,0.8,null,null,0,10.9,12.8,21.85,null,1,1,1,446,477,658,null,0,0,0,1]
["15011021",null,null,1,50,110,21,21.5,0,26,30,44.1,2272,3556.1815292902165,3807.8845891872675,5249.2599999999993,1.5,1.05,1.05,1.05,2272,3556,3808,5249,195,306,327,451,0.23357150924011313,0.56299805703171679,0.64102009569515583,1.2027269290583564,1.2760000000000001E-4,1.7219,4,5.1420100000000005E-4,445.64897406447591,477.19157375690452,657.82,0.85,0.85,0.85,446,477,658,192,205,283,0.22661573879571267,0.25750136415425773,0.48325773512719011,2.9,7.9,8.8000000000000007,12.5,null,2840,null,0.8,null,null,0,10.9,12.8,21.85,null,1,1,1,446,477,658,null,0,0,0,1]
["16511021",null,null,1,65,110,21,21.5,0,26,30,44.1,2666.4,3556.1815292902165,3807.8845891872675,5249.2599999999993,1.5,1.05,1.05,1.05,2666,3556,3808,5249,229,306,327,451,0.31959352202552682,0.56299805703171679,0.64102009569515583,1.2027269290583564,1.2760000000000001E-4,1.7219,4,5.1420100000000005E-4,{"$f":"AK175*(1-(($E176-50)*0.005))","v":412.22530100964025},{"$f":"AL175*(1-(($E176-50)*0.005))","v":441.4022057251367},{"$f":"AM175*(1-(($E176-50)*0.005))","v":608.48350000000005},0.85,0.85,0.85,412,441,608,177,190,261,0.19338453244863477,0.22203583444111574,0.41258520497574347,2.9,7.9,8.8000000000000007,12.5,null,3333,null,0.8,null,null,0,10.9,12.8,21.85,null,1,1,1,412,441,608,null,0,0,0,1]
["19511021",null,null,1,95,110,21,21.5,0,26,30,44.1,3449.6000000000004,3556.1815292902165,3807.8845891872675,5249.2599999999993,1.5,1.05,1.05,1.05,3450,3556,3808,5249,297,306,327,451,0.53108339488615475,0.56299805703171679,0.64102009569515583,1.2027269290583564,1.2760000000000001E-4,1.7219,4,5.1420100000000005E-4,{"$f":"AK175*(1-(($E177-50)*0.005))","v":345.37795489996881},{"$f":"AL175*(1-(($E177-50)*0.005))","v":369.823469661601},{"$f":"AM175*(1-(($E177-50)*0.005))","v":509.81050000000005},0.85,0.85,0.85,345,370,510,148,159,219,0.13647363506510682,0.15691960150758269,0.29292317844461613,2.9,7.9,8.8000000000000007,12.5,null,4312,null,0.8,null,null,0,10.9,12.8,21.85,null,1,1,1,345,370,510,null,0,0,0,1]
["13512010",null,null,1,35,120,10,11.5,0,26,30,44,970.2,1924.9914127028867,2079.6202422788024,2589.7800000000002,1.5,1.08,1.08,1.08,970,1925,2080,2590,83,166,179,223,4.2316364244085455E-2,0.15749249199599902,0.18178308069124571,0.2762925905995734,3.969E-4,1.7345999999999999,2,3.6734700000000002E-4,266.87553260000635,288.31284965818764,359.04,0.98,0.98,0.98,267,288,359,115,124,154,7.844810437960871E-2,9.0497540707880797E-2,0.13655457969155813,0.8,8.9,9.9,14.8,null,1078,null,0.9,null,null,0,11.8,13.7,21.85,null,1,1,1,267,288,359,null,0,0,0,1]
["15012010",null,null,1,50,120,10,11.5,0,26,30,44,1161.9000000000001,1924.9914127028867,2079.6202422788024,2589.7800000000002,1.5,1.08,1.08,1.08,1162,1925,2080,2590,100,166,179,223,6.019921043317894E-2,0.15749249199599902,0.18178308069124571,0.2762925905995734,3.969E-4,1.7345999999999999,2,3.6734700000000002E-4,266.87553260000635,288.31284965818764,359.04,0.98,0.98,0.98,267,288,359,115,124,154,7.844810437960871E-2,9.0497540707880797E-2,0.13655457969155813,0.8,8.9,9.9,14.8,null,1291,null,0.9,null,null,0,11.8,13.7,21.85,null,1,1,1,267,288,359,null,0,0,0,1]
["16512010",null,null,1,65,120,10,11.5,0,26,30,44,1307.7,1924.9914127028867,2079.6202422788024,2589.7800000000002,1.5,1.08,1.08,1.08,1308,1925,2080,2590,112,166,179,223,7.4614468529928549E-2,0.15749249199599902,0.18178308069124571,0.2762925905995734,3.969E-4,1.7345999999999999,2,3.6734700000000002E-4,266.87553260000635,288.31284965818764,359.04,0.98,0.98,0.98,267,288,359,115,124,154,7.844810437960871E-2,9.0497540707880797E-2,0.13655457969155813,0.8,8.9,9.9,14.8,null,1453,null,0.9,null,null,0,11.8,13.7,21.85,null,1,1,1,267,288,359,null,0,0,0,1]
["19512010",null,null,1,95,120,10,11.5,0,26,30,44,1504.8,1924.9914127028901,2079.6202422788001,2589.7800000000002,1.5,1.08,1.08,1.08,1505,1925,2080,2590,129,166,179,223,9.7545910021192145E-2,0.15749249199599902,0.18178308069124571,0.2762925905995734,3.969E-4,1.7345999999999999,2,3.6734700000000002E-4,266.87553260000635,288.31284965818764,359.04,0.98,0.98,0.98,267,288,359,115,124,154,7.844810437960871E-2,9.0497540707880797E-2,0.13655457969155813,0.8,8.9,9.9,14.8,null,1672,null,0.9,null,null,0,11.8,13.7,21.85,null,1,1,1,267,288,359,null,0,0,0,1]
["13512011",null,null,1,35,120,11,11.5,0,26,30,44,975.80000000000007,2611.8926414972211,2821.6982019103875,3513.9,1.5,1.1000000000000001,1.1000000000000001,1.1000000000000001,976,2612,2822,3514,84,225,243,302,7.5478607634407585E-2,0.48249130904551651,0.55811858661840352,0.8424915609755409,3.969E-4,1.7345999999999999,4,5.7428799999999995E-4,437,473,589,0.95,0.95,0.95,437,473,589,188,203,253,0.34358909156864093,0.39720266611384658,0.60239378849067871,1.6,8.9,9.9,14.8,null,1435,null,0.68,null,null,0,11.8,13.7,21.85,null,1,1,1,437,473,589,null,0,0,0,1]
["15012011",null,null,1,50,120,11,11.5,0,26,30,44,1130.8400000000001,2611.8926414972211,2821.6982019103875,3513.9,1.5,1.1000000000000001,1.1000000000000001,1.1000000000000001,1131,2612,2822,3514,97,225,243,302,9.8861741562754749E-2,0.48249130904551651,0.55811858661840352,0.8424915609755409,3.969E-4,1.7345999999999999,4,5.7428799999999995E-4,437,473,589,0.95,0.95,0.95,437,473,589,188,203,253,0.34358909156864093,0.39720266611384658,0.60239378849067871,1.6,8.9,9.9,14.8,null,1663,null,0.68,null,null,0,11.8,13.7,21.85,null,1,1,1,437,473,589,null,0,0,0,{"$f":"IF(SUM(BV183:BX183)=0,1,0)","v":1}]
["16512011",null,null,1,65,120,11,11.5,0,26,30,44,1259.3600000000001,2611.8926414972211,2821.6982019103875,3513.9,1.5,1.1000000000000001,1.1000000000000001,1.1000000000000001,1259,2612,2822,3514,108,225,243,302,0.12095579733133843,0.48249130904551651,0.55811858661840352,0.8424915609755409,3.969E-4,1.7345999999999999,4,5.7428799999999995E-4,{"$f":"AK183*(1-(($E184-50)*0.005))","v":404.22500000000002},{"$f":"AL183*(1-(($E184-50)*0.005))","v":437.52500000000003},{"$f":"AM183*(1-(($E184-50)*0.005))","v":544.82500000000005},0.95,0.95,0.95,404,438,545,174,188,234,0.29689321527590273,0.34358909156864093,0.51964975177923689,1.6,8.9,9.9,14.8,null,1852,null,0.68,null,null,0,11.8,13.7,21.85,null,1,1,1,404,438,545,null,0,0,0,1]
["19512011",null,null,1,95,120,11,11.5,0,26,30,44,1465.4,2611.8926414972211,2821.6982019103875,3513.9,1.5,1.1000000000000001,1.1000000000000001,1.1000000000000001,1465,2612,2822,3514,126,225,243,302,0.16161645283280412,0.48249130904551651,0.55811858661840352,0.8424915609755409,3.969E-4,1.7345999999999999,4,5.7428799999999995E-4,{"$f":"AK183*(1-(($E185-50)*0.005))","v":338.67500000000001},{"$f":"AL183*(1-(($E185-50)*0.005))","v":366.57499999999999},{"$f":"AM183*(1-(($E185-50)*0.005))","v":456.47500000000002},0.95,0.95,0.95,339,367,456,146,158,196,0.21327463910111719,0.24750728668013899,0.37172332179516204,1.6,8.9,9.9,14.8,null,2155,null,0.68,null,null,0,11.8,13.7,21.85,null,1,1,1,339,367,456,null,0,0,0,1]
["13512015",null,null,1,35,120,15,16.5,0,26,30,44.8,1411.2,2216.9073865755149,2373.9948983307781,3302.76,1.5,1.08,1.08,1.08,1411,2217,2374,3303,121,191,204,284,8.3064905574852424E-2,0.20201741408626139,0.22969478307979363,0.43817875262090578,2.0829999999999999E-4,1.724,2,4.6182900000000003E-4,302.61675876046246,324.05983479376272,450.84,1.01,1.01,1.01,303,324,451,130,139,194,9.5500985484133716E-2,0.10878402336268925,0.20824992292405745,1.2,8.6999999999999993,9.8000000000000007,14.3,null,1764,null,0.8,null,null,0,10.6,12.5,21.85,null,1,1,1,303,324,451,null,0,0,0,1]
["15012015",null,null,1,50,120,15,16.5,0,26,30,44.8,1664.8000000000002,2216.9073865755149,2373.9948983307781,3302.76,1.5,1.08,1.08,1.08,1665,2217,2374,3303,143,191,204,284,0.11495890734887301,0.20201741408626139,0.22969478307979363,0.43817875262090578,2.0829999999999999E-4,1.724,2,4.6182900000000003E-4,302.61675876046246,324.05983479376272,450.84,1.01,1.01,1.01,303,324,451,{"$f":"ROUND(AQ187*3600/(4186*ABS($AM$1-$AM$2)),0)","v":130},{"$f":"ROUND(AR187*3600/(4186*ABS($AM$1-$AM$2)),0)","v":139},{"$f":"ROUND(AS187*3600/(4186*ABS($AM$1-$AM$2)),0)","v":194},9.5500985484133716E-2,0.10878402336268925,0.20824992292405745,1.2,8.6999999999999993,9.8000000000000007,14.3,null,2081,null,0.8,null,null,0,10.6,12.5,21.85,null,1,1,1,303,324,451,null,0,0,0,1]
["16512015",null,null,1,65,120,15,16.5,0,26,30,44.8,1844.8000000000002,2216.9073865755149,2373.9948983307781,3302.76,1.5,1.08,1.08,1.08,1845,2217,2374,3303,159,191,204,284,0.14132395459307345,0.20201741408626139,0.22969478307979363,0.43817875262090578,2.0829999999999999E-4,1.724,2,4.6182900000000003E-4,302.61675876046246,324.05983479376272,450.84,1.01,1.01,1.01,303,324,451,130,139,194,9.5500985484133716E-2,0.10878402336268925,0.20824992292405745,1.2,8.6999999999999993,9.8000000000000007,14.3,null,2306,null,0.8,null,null,0,10.6,12.5,21.85,null,1,1,1,303,324,451,null,0,0,0,1]
["19512015",null,null,1,95,120,15,16.5,0,26,30,44.8,2060,2216.9073865755149,2373.9948983307781,3302.76,1.5,1.08,1.08,1.08,2060,2217,2374,3303,{"$f":"ROUND(U189*3600/(4186*ABS($O$1-$O$2)),0)","v":177},{"$f":"ROUND(V189*3600/(4186*ABS($O$1-$O$2)),0)","v":191},{"$f":"ROUND(W189*3600/(4186*ABS($O$1-$O$2)),0)","v":204},{"$f":"ROUND(X189*3600/(4186*ABS($O$1-$O$2)),0)","v":284},0.17416062748453481,0.20201741408626139,0.22969478307979363,0.43817875262090578,2.0829999999999999E-4,1.724,2,4.6182900000000003E-4,302.61675876046246,324.05983479376272,450.84,1.01,1.01,1.01,303,324,451,130,139,194,9.5500985484133716E-2,0.10878402336268925,0.20824992292405745,1.2,8.6999999999999993,9.8000000000000007,14.3,null,2575,null,0.8,null,null,0,10.6,12.5,21.85,null,1,1,1,303,324,451,null,0,0,0,1]
["13512016",null,null,1,35,120,16,16.5,0,26,30,44.8,1300.1600000000001,3241.8333772189817,3471.5459677567114,4829.7,1.5,1.1000000000000001,1.1000000000000001,1.1000000000000001,1300,3242,3472,4830,112,279,299,415,0.20062781965016541,1.204343316710782,1.3801140974321322,2.632057975603213,2.0829999999999999E-4,1.724,4,1.392796E-3,496,532,740,0.95,0.95,0.95,496,532,740,213,229,318,0.70833668732811383,0.81671249966312653,1.5580377368272431,2.4,8.6999999999999993,9.8000000000000007,14.3,null,1912,null,0.68,null,null,0,10.6,12.5,21.85,null,1,1,1,496,532,740,null,0,0,0,1]
["15012016",null,null,1,50,120,16,16.5,0,26,30,44.8,1549.0400000000002,3241.8333772189817,3471.5459677567114,4829.7,1.5,1.1000000000000001,1.1000000000000001,1.1000000000000001,1549,3242,3472,4830,133,279,299,415,0.28099543431150953,1.204343316710782,1.3801140974321322,2.632057975603213,2.0829999999999999E-4,1.724,4,1.392796E-3,496,532,740,0.95,0.95,0.95,496,532,740,213,229,318,0.70833668732811383,0.81671249966312653,1.5580377368272431,2.4,8.6999999999999993,9.8000000000000007,14.3,null,2278,null,0.68,null,null,0,10.6,12.5,21.85,null,1,1,1,496,532,740,null,0,0,0,1]
["16512016",null,null,1,65,120,16,16.5,0,26,30,44.8,1773.44,3241.8333772189817,3471.5459677567114,4829.7,1.5,1.1000000000000001,1.1000000000000001,1.1000000000000001,1773,3242,3472,4830,152,279,299,415,0.36514523725757425,1.204343316710782,1.3801140974321322,2.632057975603213,2.0829999999999999E-4,1.724,4,1.392796E-3,{"$f":"AK191*(1-(($E192-50)*0.005))","v":458.8},{"$f":"AL191*(1-(($E192-50)*0.005))","v":492.1},{"$f":"AM191*(1-(($E192-50)*0.005))","v":684.5},0.95,0.95,0.95,459,492,685,197,212,295,0.60757684011728452,0.70181593762691341,1.3440144268614191,2.4,8.6999999999999993,9.8000000000000007,14.3,null,2608,null,0.68,null,null,0,10.6,12.5,21.85,null,1,1,1,459,492,685,null,0,0,0,1]
[{"$f":"CONCATENATE(D193,E193,F193,G193)","v":"19512016"},null,null,1,95,120,16,16.5,0,26,30,44.8,2184.1600000000003,3241.8333772189817,3471.5459677567114,4829.7,1.5,1.1000000000000001,1.1000000000000001,1.1000000000000001,2184,3242,3472,4830,188,279,299,415,0.55425136558918475,1.204343316710782,1.3801140974321322,2.632057975603213,2.0829999999999999E-4,1.724,4,1.392796E-3,{"$f":"AK191*(1-(($E193-50)*0.005))","v":384.40000000000003},{"$f":"AL191*(1-(($E193-50)*0.005))","v":412.3},{"$f":"AM191*(1-(($E193-50)*0.005))","v":573.5},0.95,0.95,0.95,384,412,574,165,177,247,0.42896129586036635,0.49235797410866955,0.94772330907241786,2.4,8.6999999999999993,9.8000000000000007,14.3,null,3212,null,0.68,null,null,0,10.6,12.5,21.85,null,1,1,1,384,412,574,null,0,0,0,1]
["13512020",null,null,1,35,120,20,21.5,0,26,30,44.8,1977.6000000000001,3079.6829926739365,3327.0647594078355,4143.24,1.5,1.08,1.08,1.08,1978,3080,3327,4143,170,265,286,356,0.12496080001140246,0.29848242281650889,0.34670295754782865,0.53308564610580933,1.2760000000000001E-4,1.7219,2,3.76611E-4,380.60090160569081,411.17343900116532,512.04,0.95,0.95,0.95,381,411,512,164,177,220,0.11646670942658871,0.13524222402195477,0.20715667478646135,1.6,8.6999999999999993,9.8000000000000007,14.3,null,2472,null,0.8,null,null,0,10.6,12.5,21.85,null,1,1,1,381,411,512,null,0,0,0,1]
["15012020",null,null,1,50,120,20,21.5,0,26,30,44.8,2328,3079.6829926739365,3327.0647594078355,4143.24,1.5,1.08,1.08,1.08,2328,3080,3327,4143,200,265,286,356,0.17183702066214884,0.29848242281650889,0.34670295754782865,0.53308564610580933,1.2760000000000001E-4,1.7219,2,3.76611E-4,380.60090160569081,411.17343900116532,512.04,0.95,0.95,0.95,381,411,512,164,177,220,0.11646670942658871,0.13524222402195477,0.20715667478646135,1.6,8.6999999999999993,9.8000000000000007,14.3,null,2910,null,0.8,null,null,0,10.6,12.5,21.85,null,1,1,1,381,411,512,null,0,0,0,1]
["16512020",null,null,1,65,120,20,21.5,0,26,30,44.8,2577.6000000000004,3079.6829926739365,3327.0647594078355,4143.24,1.5,1.08,1.08,1.08,2578,3080,3327,4143,222,265,286,356,0.21086727659067472,0.29848242281650889,0.34670295754782865,0.53308564610580933,1.2760000000000001E-4,1.7219,2,3.76611E-4,380.60090160569081,411.17343900116532,512.04,0.95,0.95,0.95,381,411,512,164,177,220,0.11646670942658871,0.13524222402195477,0.20715667478646135,1.6,8.6999999999999993,9.8000000000000007,14.3,null,3222,null,0.8,null,null,0,10.6,12.5,21.85,null,1,1,1,381,411,512,null,0,0,0,1]
["19512020",null,null,1,95,120,20,21.5,0,26,30,44.8,2872,3079.6829926739365,3327.0647594078355,4143.24,1.5,1.08,1.08,1.08,2872,3080,3327,4143,247,265,286,356,0.25998540297560524,0.29848242281650889,0.34670295754782865,0.53308564610580933,1.2760000000000001E-4,1.7219,2,3.76611E-4,380.60090160569081,411.17343900116532,512.04,0.95,0.95,0.95,381,411,512,164,177,220,0.11646670942658871,0.13524222402195477,0.20715667478646135,1.6,8.6999999999999993,9.8000000000000007,14.3,null,3590,null,0.8,null,null,0,10.6,12.5,21.85,null,1,1,1,381,411,512,null,0,0,0,1]
["13512021",null,null,1,35,120,21,21.5,0,26,30,44.8,2029.6000000000001,4175.015825613802,4470.8526528786542,6219.96,1.5,1.05,1.05,1.05,2030,4175,4471,6220,175,359,385,535,0.192791535990471,0.78201485926088143,0.89645307864469181,1.7058196412629565,1.2760000000000001E-4,1.7219,4,5.1420100000000005E-4,541.56076058716258,579.9351342123673,806.82,0.85,0.85,0.85,542,580,807,233,249,347,0.33654397258851859,0.38303545484733642,0.73178556707416287,3.2,8.6999999999999993,9.8000000000000007,14.3,null,2537,null,0.8,null,null,0,10.6,12.5,21.85,null,1,1,1,542,580,807,null,0,0,0,1]
["15012021",null,null,1,50,120,21,21.5,0,26,30,44.8,2478.4,4175.015825613802,4470.8526528786542,6219.96,1.5,1.05,1.05,1.05,2478,4175,4471,6220,213,359,385,535,0.28257781546454247,0.78201485926088143,0.89645307864469181,1.7058196412629565,1.2760000000000001E-4,1.7219,4,5.1420100000000005E-4,541.56076058716258,579.9351342123673,806.82,0.85,0.85,0.85,542,580,807,233,249,347,0.33654397258851859,0.38303545484733642,0.73178556707416287,3.2,8.6999999999999993,9.8000000000000007,14.3,null,3098,null,0.8,null,null,0,10.6,12.5,21.85,null,1,1,1,542,580,807,null,0,0,0,1]
["16512021",null,null,1,65,120,21,21.5,0,26,30,44.8,2908.8,4175.015825613802,4470.8526528786542,6219.96,1.5,1.05,1.05,1.05,2909,4175,4471,6220,250,359,385,535,0.38603893853878724,0.78201485926088143,0.89645307864469181,1.7058196412629565,1.2760000000000001E-4,1.7219,4,5.1420100000000005E-4,{"$f":"AK199*(1-(($E200-50)*0.005))","v":500.94370354312542},{"$f":"AL199*(1-(($E200-50)*0.005))","v":536.43999914643973},{"$f":"AM199*(1-(($E200-50)*0.005))","v":746.30850000000009},0.85,0.85,0.85,501,536,746,215,230,321,0.2877666589992251,0.32815493761612674,0.62857419857368524,3.2,8.6999999999999993,9.8000000000000007,14.3,null,3636,null,0.8,null,null,0,10.6,12.5,21.85,null,1,1,1,501,536,746,null,0,0,0,1]
["19512021",null,null,1,95,120,21,21.5,0,26,30,44.8,3763.2000000000003,4175.015825613802,4470.8526528786542,6219.96,1.5,1.05,1.05,1.05,3763,4175,4471,6220,324,359,385,535,0.64009036777891448,0.78201485926088143,0.89645307864469181,1.7058196412629565,1.2760000000000001E-4,1.7219,4,5.1420100000000005E-4,{"$f":"AK199*(1-(($E201-50)*0.005))","v":419.709589455051},{"$f":"AL199*(1-(($E201-50)*0.005))","v":449.44972901458465},{"$f":"AM199*(1-(($E201-50)*0.005))","v":625.28550000000007},0.85,0.85,0.85,420,449,625,181,193,269,0.2058541758789294,0.23323446987220386,0.44528690328701026,3.2,8.6999999999999993,9.8000000000000007,14.3,null,4704,null,0.8,null,null,0,10.6,12.5,21.85,null,1,1,1,420,449,625,null,0,0,0,1]
["13514010",null,null,1,35,140,10,11.5,0,26,30,44.8,1131.3,2267.7915432376717,2456.1428225151312,3097.58,1.5,1.08,1.08,1.08,1131,2268,2456,3098,97,195,211,266,6.1173563114268546E-2,0.22855867513090425,0.26538154154463672,0.41180366936575952,3.969E-4,1.7345999999999999,2,3.6734700000000002E-4,314.40040300104783,340.51290804463417,429.44,0.98,0.98,0.98,314,341,429,135,147,184,0.11404996966906063,0.1339431496553784,0.20476735769324847,0.9,10.1,11.2,17.5,null,1257,null,0.9,null,null,0,11.5,13.3,21.85,null,1,1,1,314,341,429,null,0,0,0,1]
["15014010",null,null,1,50,140,10,11.5,0,26,30,44.8,1355.4,2267.7915432376717,2456.1428225151312,3097.58,1.5,1.08,1.08,1.08,1355,2268,2456,3098,117,195,211,266,8.7072593522862174E-2,0.22855867513090425,0.26538154154463672,0.41180366936575952,3.969E-4,1.7345999999999999,2,3.6734700000000002E-4,314.40040300104783,340.51290804463417,429.44,0.98,0.98,0.98,314,341,429,135,147,184,0.11404996966906063,0.1339431496553784,0.20476735769324847,0.9,10.1,11.2,17.5,null,1506,null,0.9,null,null,0,11.5,13.3,21.85,null,1,1,1,314,341,429,null,0,0,0,1]
["16514010",null,null,1,65,140,10,11.5,0,26,30,44.8,1525.5,2267.7915432376717,2456.1428225151312,3097.58,1.5,1.08,1.08,1.08,1526,2268,2456,3098,131,195,211,266,0.10775713634474349,0.22855867513090425,0.26538154154463672,0.41180366936575952,3.969E-4,1.7345999999999999,2,3.6734700000000002E-4,314.40040300104783,340.51290804463417,429.44,0.98,0.98,0.98,314,341,429,135,147,184,0.11404996966906063,0.1339431496553784,0.20476735769324847,0.9,10.1,11.2,17.5,null,1695,null,0.9,null,null,0,11.5,13.3,21.85,null,1,1,1,314,341,429,null,0,0,0,1]
["19514010",null,null,1,95,140,10,11.5,0,26,30,44.8,1755,2267.7915432376699,2456.1428225151299,3097.58,1.5,1.08,1.08,1.08,1755,2268,2456,3098,151,195,211,266,0.14091109064366686,0.22855867513090425,0.26538154154463672,0.41180366936575952,3.969E-4,1.7345999999999999,2,3.6734700000000002E-4,314.40040300104783,340.51290804463417,429.44,0.98,0.98,0.98,314,341,429,135,147,184,0.11404996966906063,0.1339431496553784,0.20476735769324847,0.9,10.1,11.2,17.5,null,1950,null,0.9,null,null,0,11.5,13.3,21.85,null,1,1,1,314,341,429,null,0,0,0,1]
["13514011",null,null,1,35,140,11,11.5,0,26,30,44.8,1138.3200000000002,3077.015307780141,3332.5766142436496,4202.8999999999996,1.5,1.1000000000000001,1.1000000000000001,1.1000000000000001,1138,3077,3333,4203,98,265,287,361,0.10963396052277664,0.70734607634958468,0.82199994803261212,1.2670408781957792,3.969E-4,1.7345999999999999,4,5.7428799999999995E-4,515,558,704,0.95,0.95,0.95,515,558,704,221,240,303,0.5026708586376617,0.58700184508997044,0.91049538023254029,1.9,10.1,11.2,17.5,null,1674,null,0.68,null,null,0,11.5,13.3,21.85,null,1,1,1,515,558,704,null,0,0,0,1]
["15014011",null,null,1,50,140,11,11.5,0,26,30,44.8,1319.2,3077.015307780141,3332.5766142436496,4202.8999999999996,1.5,1.1000000000000001,1.1000000000000001,1.1000000000000001,1319,3077,3333,4203,113,265,287,361,0.14302269978683496,0.70734607634958468,0.82199994803261212,1.2670408781957792,3.969E-4,1.7345999999999999,4,5.7428799999999995E-4,515,558,704,0.95,0.95,0.95,515,558,704,221,240,303,0.5026708586376617,0.58700184508997044,0.91049538023254029,1.9,10.1,11.2,17.5,null,1940,null,0.68,null,null,0,11.5,13.3,21.85,null,1,1,1,515,558,704,null,0,0,0,1]
["16514011",null,null,1,65,140,11,11.5,0,26,30,44.8,1468.8000000000002,3077.015307780141,3332.5766142436496,4202.8999999999996,1.5,1.1000000000000001,1.1000000000000001,1.1000000000000001,1469,3077,3333,4203,126,265,287,361,0.17530318942568371,0.70734607634958468,0.82199994803261212,1.2670408781957792,3.969E-4,1.7345999999999999,4,5.7428799999999995E-4,{"$f":"AK207*(1-(($E208-50)*0.005))","v":476.375},{"$f":"AL207*(1-(($E208-50)*0.005))","v":516.15},{"$f":"AM207*(1-(($E208-50)*0.005))","v":651.20000000000005},0.95,0.95,0.95,476,516,651,205,222,280,0.43646931918504489,0.50695495722689443,0.78463445410904231,1.9,10.1,11.2,17.5,null,2160,null,0.68,null,null,0,11.5,13.3,21.85,null,1,1,1,476,516,651,null,0,0,0,1]
["19514011",null,null,1,95,140,11,11.5,0,26,30,44.8,1709.5200000000002,3077.015307780141,3332.5766142436496,4202.8999999999996,1.5,1.1000000000000001,1.1000000000000001,1.1000000000000001,1710,3077,3333,4203,147,265,287,361,0.23391740942155675,0.70734607634958468,0.82199994803261212,1.2670408781957792,3.969E-4,1.7345999999999999,4,5.7428799999999995E-4,{"$f":"AK207*(1-(($E209-50)*0.005))","v":399.125},{"$f":"AL207*(1-(($E209-50)*0.005))","v":432.45},{"$f":"AM207*(1-(($E209-50)*0.005))","v":545.6},0.95,0.95,0.95,399,432,546,172,186,235,0.31396967583423258,0.36361651706757825,0.56421016775479216,1.9,10.1,11.2,17.5,null,2514,null,0.68,null,null,0,11.5,13.3,21.85,null,1,1,1,399,432,546,null,0,0,0,1]
["13514015",null,null,1,35,140,15,16.5,0,26,30,45.4,1646.4,2628.9846104428207,2815.4584574952669,3950.36,1.5,1.08,1.08,1.08,1646,2629,2815,3950,142,226,242,340,0.11759250759481113,0.28983635322357215,0.33106971150845382,0.64182959732152445,2.0829999999999999E-4,1.724,2,4.6182900000000003E-4,358.86695423586366,384.32138301819265,539.24,1.01,1.01,1.01,359,384,539,154,165,232,0.137621338941047,0.1573279392829452,0.30498467021762166,1.4,9.6,10.5,16.100000000000001,null,2058,null,0.8,null,null,0,10.4,12.2,21.85,null,1,1,1,359,384,539,null,0,0,0,1]
["15014015",null,null,1,50,140,15,16.5,0,26,30,45.4,1942.4,2628.9846104428207,2815.4584574952669,3950.36,1.5,1.08,1.08,1.08,1942,2629,2815,3950,167,226,242,340,0.1610490654902251,0.28983635322357215,0.33106971150845382,0.64182959732152445,2.0829999999999999E-4,1.724,2,4.6182900000000003E-4,358.86695423586366,384.32138301819265,539.24,1.01,1.01,1.01,359,384,539,154,165,232,0.137621338941047,0.1573279392829452,0.30498467021762166,1.4,9.6,10.5,16.100000000000001,null,2428,null,0.8,null,null,0,10.4,12.2,21.85,null,1,1,1,359,384,539,null,0,0,0,1]
["16514015",null,null,1,65,140,15,16.5,0,26,30,45.4,2152.8000000000002,2628.9846104428207,2815.4584574952669,3950.36,1.5,1.08,1.08,1.08,2153,2629,2815,3950,185,226,242,340,0.19644669552231278,0.28983635322357215,0.33106971150845382,0.64182959732152445,2.0829999999999999E-4,1.724,2,4.6182900000000003E-4,358.86695423586366,384.32138301819265,539.24,1.01,1.01,1.01,359,384,539,154,165,232,0.137621338941047,0.1573279392829452,0.30498467021762166,1.4,9.6,10.5,16.100000000000001,null,2691,null,0.8,null,null,0,10.4,12.2,21.85,null,1,1,1,359,384,539,null,0,0,0,1]
["19514015",null,null,1,95,140,15,16.5,0,26,30,45.4,2403.2000000000003,2628.9846104428207,2815.4584574952669,3950.36,1.5,1.08,1.08,1.08,2403,2629,2815,3950,207,226,242,340,0.24435887460656164,0.28983635322357215,0.33106971150845382,0.64182959732152445,2.0829999999999999E-4,1.724,2,4.6182900000000003E-4,358.86695423586366,384.32138301819265,539.24,1.01,1.01,1.01,359,384,539,154,165,232,0.137621338941047,0.1573279392829452,0.30498467021762166,1.4,9.6,10.5,16.100000000000001,null,3004,null,0.8,null,null,0,10.4,12.2,21.85,null,1,1,1,359,384,539,null,0,0,0,1]
["13514016",null,null,1,35,140,16,16.5,0,26,30,45.4,1516.4,3844.4231409656436,4117.1080284867467,5776.7,1.5,1.1000000000000001,1.1000000000000001,1.1000000000000001,1516,3844,4117,5777,130,331,354,497,0.27590244990104534,1.7219838483818737,1.9648470126541058,3.8280696316652558,2.0829999999999999E-4,1.724,4,1.392796E-3,589,630,885,0.95,0.95,0.95,589,630,885,253,271,381,1.0162271216516092,1.1628994061160329,2.2700825079676186,2.8,9.6,10.5,16.100000000000001,null,2230,null,0.68,null,null,0,10.4,12.2,21.85,null,1,1,1,589,630,885,null,0,0,0,1]
["15014016",null,null,1,50,140,16,16.5,0,26,30,45.4,1806.7600000000002,3844.4231409656436,4117.1080284867467,5776.7,1.5,1.1000000000000001,1.1000000000000001,1.1000000000000001,1807,3844,4117,5777,155,331,354,497,0.38917554699290247,1.7219838483818737,1.9648470126541058,3.8280696316652558,2.0829999999999999E-4,1.724,4,1.392796E-3,589,630,885,0.95,0.95,0.95,589,630,885,253,271,381,1.0162271216516092,1.1628994061160329,2.2700825079676186,2.8,9.6,10.5,16.100000000000001,null,2657,null,0.68,null,null,0,10.4,12.2,21.85,null,1,1,1,589,630,885,null,0,0,0,1]
["16514016",null,null,1,65,140,16,16.5,0,26,30,45.4,2068.56,3844.4231409656436,4117.1080284867467,5776.7,1.5,1.1000000000000001,1.1000000000000001,1.1000000000000001,2069,3844,4117,5777,178,331,354,497,0.51021558529355937,1.7219838483818737,1.9648470126541058,3.8280696316652558,2.0829999999999999E-4,1.724,4,1.392796E-3,{"$f":"AK215*(1-(($E216-50)*0.005))","v":544.82500000000005},{"$f":"AL215*(1-(($E216-50)*0.005))","v":582.75},{"$f":"AM215*(1-(($E216-50)*0.005))","v":818.625},0.95,0.95,0.95,545,583,819,234,251,352,0.87197943857793048,1.000531452602585,1.9431016458059469,2.8,9.6,10.5,16.100000000000001,null,3042,null,0.68,null,null,0,10.4,12.2,21.85,null,1,1,1,545,583,819,null,0,0,0,1]
["19514016",null,null,1,95,140,16,16.5,0,26,30,45.4,2548.6400000000003,3844.4231409656436,4117.1080284867467,5776.7,1.5,1.1000000000000001,1.1000000000000001,1.1000000000000001,2549,3844,4117,5777,219,331,354,497,0.76578409095756372,1.7219838483818737,1.9648470126541058,3.8280696316652558,2.0829999999999999E-4,1.724,4,1.392796E-3,{"$f":"AK215*(1-(($E217-50)*0.005))","v":456.47500000000002},{"$f":"AL215*(1-(($E217-50)*0.005))","v":488.25},{"$f":"AM215*(1-(($E217-50)*0.005))","v":685.875},0.95,0.95,0.95,456,488,686,196,210,295,0.61614941249378397,0.70532679104282126,1.3735930863768393,2.8,9.6,10.5,16.100000000000001,null,3748,null,0.68,null,null,0,10.4,12.2,21.85,null,1,1,1,456,488,686,null,0,0,0,1]
["13514020",null,null,1,35,140,20,21.5,0,26,30,45.4,2307.2000000000003,3628.1091959950468,3929.4415695377957,4955.6400000000003,1.5,1.08,1.08,1.08,2307,3628,3929,4956,198,312,338,426,0.17298958819132029,0.42118895241344162,0.49271246369818478,0.7756359730733573,1.2760000000000001E-4,1.7219,2,3.76611E-4,448.37784746172167,485.61784045001809,612.44000000000005,0.95,0.95,0.95,448,486,612,193,209,263,0.16455496588623258,0.1922740711354792,0.30142179085547277,1.9,9.6,10.5,16.100000000000001,null,2884,null,0.8,null,null,0,10.4,12.2,21.85,null,1,1,1,448,486,612,null,0,0,0,1]
["15014020",null,null,1,50,140,20,21.5,0,26,30,45.4,2716,3628.1091959950468,3929.4415695377957,4955.6400000000003,1.5,1.08,1.08,1.08,2716,3628,3929,4956,234,312,338,426,0.23981950730409271,0.42118895241344162,0.49271246369818478,0.7756359730733573,1.2760000000000001E-4,1.7219,2,3.76611E-4,448.37784746172167,485.61784045001809,612.44000000000005,0.95,0.95,0.95,448,486,612,193,209,263,0.16455496588623258,0.1922740711354792,0.30142179085547277,1.9,9.6,10.5,16.100000000000001,null,3395,null,0.8,null,null,0,10.4,12.2,21.85,null,1,1,1,448,486,612,null,0,0,0,1]
["16514020",null,null,1,65,140,20,21.5,0,26,30,45.4,{"$f":"IF($N220-($BE220*$BG220)>100,$BE220*$BG220,$N220-95)","v":3007.2000000000003},3628.1091959950468,3929.4415695377957,4955.6400000000003,1.5,1.08,1.08,1.08,{"$f":"ROUND(M220*POWER(CF_heat,Q220),0)","v":3007},{"$f":"ROUND(N220*POWER(CF_heat,R220),0)","v":3628},{"$f":"ROUND(O220*POWER(CF_heat,S220),0)","v":3929},{"$f":"ROUND(P220*POWER(CF_heat,T220),0)","v":4956},259,312,338,426,0.29251389146745715,0.42118895241344162,0.49271246369818478,0.7756359730733573,{"$f":"IF($G220=$CO$103,CP$103,IF($G220=$CO$104,CP$104,IF($G220=$CO$105,CP$105,IF($G220=$CO$107,CP$107,IF($G220=$CO$108,CP$108,IF($G220=$CO$109,CP$109,IF($G220=$CO$111,CP$111,IF($G220=$CO$112,CP$112,IF($G220=$CO$113,CP$113,IF($G220=$CO$115,CP$115,IF($G220=$CO$116,CP$116,IF($G220=$CO$117,CP$117,IF($G220=$CO$119,CP$119,IF($G220=$CO$120,CP$120,))))))))))))))","v":1.2760000000000001E-4},{"$f":"IF($G220=$CO$103,CQ$103,IF($G220=$CO$104,CQ$104,IF($G220=$CO$105,CQ$105,IF($G220=$CO$107,CQ$107,IF($G220=$CO$108,CQ$108,IF($G220=$CO$109,CQ$109,IF($G220=$CO$111,CQ$111,IF($G220=$CO$112,CQ$112,IF($G220=$CO$113,CQ$113,IF($G220=$CO$115,CQ$115,IF($G220=$CO$116,CQ$116,IF($G220=$CO$117,CQ$117,IF($G220=$CO$119,CQ$119,IF($G220=$CO$120,CQ$120,))))))))))))))","v":1.7219},{"$f":"IF($G220=$CO$103,CR$103,IF($G220=$CO$104,CR$104,IF($G220=$CO$105,CR$105,IF($G220=$CO$107,CR$107,IF($G220=$CO$108,CR$108,IF($G220=$CO$109,CR$109,IF($G220=$CO$111,CR$111,IF($G220=$CO$112,CR$112,IF($G220=$CO$113,CR$113,IF($G220=$CO$115,CR$115,IF($G220=$CO$116,CR$116,IF($G220=$CO$117,CR$117,IF($G220=$CO$119,CR$119,IF($G220=$CO$120,CR$120,))))))))))))))","v":2},{"$f":"IF($G220=$CO$103,CS$103,IF($G220=$CO$104,CS$104,IF($G220=$CO$105,CS$105,IF($G220=$CO$107,CS$107,IF($G220=$CO$108,CS$108,IF($G220=$CO$109,CS$109,IF($G220=$CO$111,CS$111,IF($G220=$CO$112,CS$112,IF($G220=$CO$113,CS$113,IF($G220=$CO$115,CS$115,IF($G220=$CO$116,CS$116,IF($G220=$CO$117,CS$117,IF($G220=$CO$119,CS$119,IF($G220=$CO$120,CS$120,))))))))))))))","v":3.76611E-4},448.37784746172167,485.61784045001809,612.44000000000005,0.95,0.95,0.95,{"$f":"ROUND(AK220*POWER(CF_cool,AN220),0)","v":448},{"$f":"ROUND(AL220*POWER(CF_cool,AO220),0)","v":486},{"$f":"ROUND(AM220*POWER(CF_cool,AP220),0)","v":612},193,209,263,0.16455496588623258,0.1922740711354792,0.30142179085547277,{"$f":"ROUND(IF(G220=10,$CO$92*F220,IF(G220=11,$CO$93*F220,IF(G220=15,$CO$94*F220,IF(G220=16,$CO$95*F220,IF(G220=20,$CO$96*F220,IF(G220=21,$CO$97*F220,)))))),1)","v":1.9},9.6,10.5,16.100000000000001,null,3759,null,{"$f":"IF(G220=10,0.9,IF(G220=11,0.68,IF(G220=15,0.8,IF(G220=16,0.68,IF(G220=20,0.8,IF(G220=21,0.8))))))","v":0.8},null,null,0,10.4,12.2,21.85,null,1,1,1,{"$f":"AQ220/BO220","v":448},486,612,null,{"$f":"BR220-AQ220","v":0},{"$f":"BS220-AR220","v":0},{"$f":"BT220-AS220","v":0},1]
[{"$f":"CONCATENATE(D221,E221,F221,G221)","v":"19514020"},null,null,1,95,140,20,21.5,0,26,30,45.4,3351.2000000000003,3628.1091959950468,3929.4415695377957,4955.6400000000003,1.5,{"$f":"IF($G221=10,1.08,IF($G221=11,1.1,IF($G221=15,1.08,IF($G221=16,1.1,IF($G221=20,1.08,IF($G221=21,1.05))))))","v":1.08},1.08,1.08,3351,3628,3929,4956,288,312,338,426,{"$f":"(($AG221*(Y221^$AH221)*((($F221-14.4)*$AI221)/100))+($AJ221*(Y221^2)))*0.0098","v":0.36007036359615985},{"$f":"(($AG221*(Z221^$AH221)*((($F221-14.4)*$AI221)/100))+($AJ221*(Z221^2)))*0.0098","v":0.42118895241344162},{"$f":"(($AG221*(AA221^$AH221)*((($F221-14.4)*$AI221)/100))+($AJ221*(AA221^2)))*0.0098","v":0.49271246369818478},{"$f":"(($AG221*(AB221^$AH221)*((($F221-14.4)*$AI221)/100))+($AJ221*(AB221^2)))*0.0098","v":0.7756359730733573},1.2760000000000001E-4,1.7219,2,3.76611E-4,448.37784746172167,485.61784045001809,612.44000000000005,0.95,0.95,0.95,448,486,612,193,209,263,{"$f":"(($AG221*(AT221^$AH221)*((($F221-14.4)*$AI221)/100))+($AJ221*(AT221^2)))*0.0098","v":0.16455496588623258},{"$f":"(($AG221*(AU221^$AH221)*((($F221-14.4)*$AI221)/100))+($AJ221*(AU221^2)))*0.0098","v":0.1922740711354792},{"$f":"(($AG221*(AV221^$AH221)*((($F221-14.4)*$AI221)/100))+($AJ221*(AV221^2)))*0.0098","v":0.30142179085547277},1.9,9.6,10.5,16.100000000000001,null,4189,null,0.8,null,null,0,10.4,12.2,21.85,null,1,1,1,448,{"$f":"AR221/BP221","v":486},{"$f":"AS221/BQ221","v":612},null,0,0,0,1]
["13514021",null,null,1,35,140,21,21.5,0,26,30,45.4,2368,4951.0649025572329,5302.2438770247491,7439.56,1.5,1.05,1.05,1.05,2368,4951,5302,7440,204,426,456,640,0.26928708155790082,1.1261815111859146,1.285836312641885,2.4907095980414304,1.2760000000000001E-4,1.7219,4,5.1420100000000005E-4,642.22570316870622,687.77876463210498,965.02,0.85,0.85,0.85,642,688,965,276,296,415,0.48412380536530875,0.55460694628885931,1.0702397452319661,3.7,9.6,10.5,16.100000000000001,null,2960,null,0.8,null,null,0,10.4,12.2,21.85,null,{"$f":"IF((237.3*LN(($AQ$1*EXP(17.27*($AM$3/($AM$3+237.3))))))/(17.27-LN(($AQ$1*EXP(17.27*($AM$3/($AM$3+237.3))))))<(($AM$1+$AM$2)/2),1,IF(1/(1+((2258*((0.622/((101325/(1*611*EXP(17.27*((($AM$1+$AM$2)/2)/((($AM$1+$AM$2)/2)+237.3))))))-1)*1000-(0.622/((101325/($AQ$1*611*EXP(17.27*($AM$3/($AM$3+237.3))))))-1)*1000))/(1005*((($AM$1+$AM$2)/2)-$AM$3))))>1,1,1/(1+((2258*((0.622/((101325/(1*611*EXP(17.27*((($AM$1+$AM$2)/2)/((($AM$1+$AM$2)/2)+237.3))))))-1)*1000-(0.622/((101325/($AQ$1*611*EXP(17.27*($AM$3/($AM$3+237.3))))))-1)*1000))/(1005*((($AM$1+$AM$2)/2)-$AM$3))))))","v":1},1,1,642,688,965,null,0,0,0,1]
["15014021",null,null,1,50,140,21,21.5,0,26,30,45.4,2892,4951.0649025572329,5302.2438770247491,7439.56,1.5,1.05,1.05,1.05,2892,4951,5302,7440,249,426,456,640,0.39640702455899102,1.1261815111859146,1.285836312641885,2.4907095980414304,1.2760000000000001E-4,1.7219,4,5.1420100000000005E-4,642.22570316870622,687.77876463210498,965.02,0.85,0.85,0.85,642,688,965,276,296,415,0.48412380536530875,0.55460694628885931,1.0702397452319661,3.7,9.6,10.5,16.100000000000001,null,3615,null,0.8,null,null,0,10.4,12.2,21.85,null,1,1,1,642,688,965,null,0,0,0,1]
["16514021",null,null,1,65,140,21,21.5,0,26,30,45.4,3393.6000000000004,4951.0649025572329,5302.2438770247491,7439.56,1.5,1.05,1.05,1.05,3394,4951,5302,7440,292,426,456,640,0.54013607179430811,1.1261815111859146,1.285836312641885,2.4907095980414304,1.2760000000000001E-4,1.7219,4,5.1420100000000005E-4,{"$f":"AK223*(1-(($E224-50)*0.005))","v":594.05877543105328},{"$f":"AL223*(1-(($E224-50)*0.005))","v":636.19535728469714},{"$f":"AM223*(1-(($E224-50)*0.005))","v":892.64350000000002},0.85,0.85,0.85,594,636,893,255,273,384,0.41515990120672369,0.4739551655402911,0.92010190227933408,3.7,9.6,10.5,16.100000000000001,null,4242,null,0.8,null,null,0,10.4,12.2,21.85,null,1,1,1,594,636,893,null,0,0,0,1]
["19514021",null,null,1,95,140,21,21.5,0,26,30,45.4,4390.4000000000005,4951.0649025572329,5302.2438770247491,7439.56,1.5,1.05,1.05,1.05,4390,4951,5302,7440,378,426,456,640,0.89232635225842949,1.1261815111859146,1.285836312641885,2.4907095980414304,1.2760000000000001E-4,1.7219,4,5.1420100000000005E-4,{"$f":"AK223*(1-(($E225-50)*0.005))","v":497.72491995574734},{"$f":"AL223*(1-(($E225-50)*0.005))","v":533.02854258988134},{"$f":"AM223*(1-(($E225-50)*0.005))","v":747.89049999999997},0.85,0.85,0.85,498,533,748,214,229,322,0.29546809618167652,0.33695787930912308,0.65321975396990584,3.7,9.6,10.5,16.100000000000001,null,5488,null,0.8,null,null,0,10.4,12.2,21.85,null,1,1,1,498,533,748,null,0,0,0,1]
["13516010",null,null,1,35,160,10,11.5,0,26,30,45.5,1293.3,2603.9362232520607,2826.6988006529018,3605.38,1.5,1.08,1.08,1.08,1293,2604,2827,3605,111,224,243,310,8.434232763421376E-2,0.31579069683258104,0.3682343427384388,0.58343322204871984,3.969E-4,1.7345999999999999,2,3.6734700000000002E-4,361.00257998610687,391.88577307200529,499.84,0.98,0.98,0.98,361,392,500,155,169,215,0.15784887533096326,0.18572654509721107,0.29228700277798675,1.1000000000000001,11,12.4,19.2,null,1437,null,0.9,null,null,0,11.2,13,21.85,null,1,1,1,361,392,500,null,0,0,0,1]
["15016010",null,null,1,50,160,10,11.5,0,26,30,45.5,1549.8,2603.9362232520607,2826.6988006529018,3605.38,1.5,1.08,1.08,1.08,1550,2604,2827,3605,133,224,243,310,0.11839858531240816,0.31579069683258104,0.3682343427384388,0.58343322204871984,3.969E-4,1.7345999999999999,2,3.6734700000000002E-4,361.00257998610687,391.88577307200529,499.84,0.98,0.98,0.98,361,392,500,155,169,215,0.15784887533096326,0.18572654509721107,0.29228700277798675,1.1000000000000001,11,12.4,19.2,null,1722,null,0.9,null,null,0,11.2,13,21.85,null,1,1,1,361,392,500,null,0,0,0,1]
["16516010",null,null,1,65,160,10,11.5,0,26,30,45.5,1744.2,2603.9362232520607,2826.6988006529018,3605.38,1.5,1.08,1.08,1.08,1744,2604,2827,3605,150,{"$f":"ROUND(V228*3600/(4186*ABS($O$1-$O$2)),0)","v":224},{"$f":"ROUND(W228*3600/(4186*ABS($O$1-$O$2)),0)","v":243},{"$f":"ROUND(X228*3600/(4186*ABS($O$1-$O$2)),0)","v":310},0.14841344638164419,0.31579069683258104,0.3682343427384388,0.58343322204871984,3.969E-4,1.7345999999999999,2,3.6734700000000002E-4,361.00257998610687,391.88577307200529,499.84,0.98,0.98,0.98,361,392,500,{"$f":"ROUND(AQ228*3600/(4186*ABS($AM$1-$AM$2)),0)","v":155},{"$f":"ROUND(AR228*3600/(4186*ABS($AM$1-$AM$2)),0)","v":169},{"$f":"ROUND(AS228*3600/(4186*ABS($AM$1-$AM$2)),0)","v":215},0.15784887533096326,0.18572654509721107,0.29228700277798675,1.1000000000000001,11,12.4,19.2,null,1938,null,0.9,null,null,0,11.2,13,21.85,null,1,1,1,361,392,500,null,0,0,0,1]
["13516011",null,null,1,35,160,11,11.5,0,26,30,45.5,1301.52,3533.107636511756,3835.359341571188,4891.8999999999996,1.5,1.1000000000000001,1.1000000000000001,1.1000000000000001,1302,3533,3835,4892,{"$f":"ROUND(U229*3600/(4186*ABS($O$1-$O$2)),0)","v":112},304,330,421,0.15182523272260295,0.97923387090071334,1.1422415218620434,1.8051385479062783,3.969E-4,1.7345999999999999,4,5.7428799999999995E-4,592,642,819,0.95,0.95,0.95,592,642,819,255,276,352,0.70442666719486835,0.81698629969873737,1.2893886583447325,2.1,11,12.4,19.2,null,1914,null,0.68,null,null,0,11.2,13,21.85,null,1,1,1,592,642,819,null,0,0,0,1]
["15016011",null,null,1,50,160,11,11.5,0,26,30,45.5,1508.24,3533.107636511756,3835.359341571188,4891.8999999999996,1.5,1.1000000000000001,1.1000000000000001,1.1000000000000001,1508,3533,3835,4892,130,304,330,421,0.20030363298581721,0.97923387090071334,1.1422415218620434,1.8051385479062783,3.969E-4,1.7345999999999999,4,5.7428799999999995E-4,592,642,819,0.95,0.95,0.95,592,642,819,255,276,352,0.70442666719486835,0.81698629969873737,1.2893886583447325,2.1,11,12.4,19.2,null,2218,null,0.68,null,null,0,11.2,13,21.85,null,1,1,1,592,642,819,null,0,0,0,1]
["16516011",null,null,1,65,160,11,11.5,0,26,30,45.5,1678.92,3533.107636511756,3835.359341571188,4891.8999999999996,1.5,1.1000000000000001,1.1000000000000001,1.1000000000000001,1679,3533,3835,4892,144,304,330,421,0.24231264474430733,0.97923387090071334,1.1422415218620434,1.8051385479062783,3.969E-4,1.7345999999999999,4,5.7428799999999995E-4,{"$f":"AK230*(1-(($E231-50)*0.005))","v":547.6},{"$f":"AL230*(1-(($E231-50)*0.005))","v":593.85},{"$f":"AM230*(1-(($E231-50)*0.005))","v":757.57500000000005},0.95,0.95,0.95,548,594,758,236,255,326,0.6093833662343594,0.70442666719486835,1.1163933738472955,2.1,11,12.4,19.2,null,2469,null,0.68,null,null,0,11.2,13,21.85,null,1,1,1,548,594,758,null,0,0,0,1]
["13516015",null,null,1,35,160,15,16.5,0,26,30,46.4,1881.6000000000001,3021.1783832091446,3225.6120441880121,4597.96,1.5,1.08,1.08,1.08,1882,3021,3226,4598,162,260,277,395,0.15708821792078634,0.39255304944044445,0.4438617891013007,0.88424755918807496,2.0829999999999999E-4,1.724,2,4.6182900000000003E-4,412.40297880742492,440.30899429620177,627.64,1.01,1.01,1.01,412,440,628,177,189,270,0.18642121393254038,0.21164255392481759,0.42236240265801678,1.6,11.5,12.8,19.600000000000001,null,2352,null,0.8,null,null,0,10,11.8,21.85,null,1,1,1,412,440,628,null,0,0,0,1]
["15016015",null,null,1,50,160,15,16.5,0,26,30,46.4,2219.2000000000003,3021.1783832091446,3225.6120441880121,4597.96,1.5,1.08,1.08,1.08,2219,3021,3226,4598,191,260,277,395,0.21599740399007253,0.39255304944044445,0.4438617891013007,0.88424755918807496,2.0829999999999999E-4,1.724,2,4.6182900000000003E-4,412.40297880742492,440.30899429620177,627.64,1.01,1.01,1.01,412,440,628,177,189,270,0.18642121393254038,0.21164255392481759,0.42236240265801678,1.6,11.5,12.8,19.600000000000001,null,2774,null,0.8,null,null,0,10,11.8,21.85,null,1,1,1,412,440,628,null,0,0,0,1]
["16516015",null,null,1,65,160,15,16.5,0,26,30,46.4,2460,3021.1783832091446,3225.6120441880121,4597.96,1.5,1.08,1.08,1.08,2460,3021,3226,4598,212,260,277,395,0.26432610235484499,0.39255304944044445,0.4438617891013007,0.88424755918807496,2.0829999999999999E-4,1.724,2,4.6182900000000003E-4,412.40297880742492,440.30899429620177,627.64,1.01,1.01,1.01,412,440,628,177,189,270,0.18642121393254038,0.21164255392481759,0.42236240265801678,1.6,11.5,12.8,19.600000000000001,null,3075,null,0.8,null,null,0,10,11.8,21.85,null,1,1,1,412,440,628,null,0,0,0,1]
["13516016",null,null,1,35,160,16,16.5,0,26,30,46.4,1733.3200000000002,4417.9368883555589,4716.8848144627045,6723.7,1.5,1.1000000000000001,1.1000000000000001,1.1000000000000001,1733,4418,4717,6724,149,380,406,578,0.36936032293616439,2.304157087904469,2.6233653218162551,5.2466408934953108,2.0829999999999999E-4,1.724,4,1.392796E-3,676,722,1030,0.95,0.95,0.95,676,722,1030,291,310,443,1.3661686148172167,1.5462621883682115,3.112728234709111,3.2,11.5,12.8,19.600000000000001,null,2549,null,0.68,null,null,0,10,11.8,21.85,null,1,1,1,676,722,1030,null,0,0,0,1]
["15016016",null,null,1,50,160,16,16.5,0,26,30,46.4,2065.1600000000003,4417.9368883555589,4716.8848144627045,6723.7,1.5,1.1000000000000001,1.1000000000000001,1.1000000000000001,2065,4418,4717,6724,178,380,406,578,0.52259583534871212,2.304157087904469,2.6233653218162551,5.2466408934953108,2.0829999999999999E-4,1.724,4,1.392796E-3,676,722,1030,{"$f":"IF($G236=10,0.98,IF($G236=11,0.95,IF($G236=15,1.01,IF($G236=16,0.95,IF($G236=20,0.95,IF($G236=21,0.85))))))","v":0.95},0.95,0.95,676,722,1030,291,310,443,1.3661686148172167,1.5462621883682115,3.112728234709111,3.2,11.5,12.8,19.600000000000001,null,3037,null,0.68,null,null,0,10,11.8,21.85,null,1,1,1,676,722,1030,null,0,0,0,1]
["16516016",null,null,1,65,160,16,16.5,0,26,30,46.4,2364.36,4417.9368883555589,4716.8848144627045,6723.7,1.5,1.1000000000000001,1.1000000000000001,1.1000000000000001,2364,4418,4717,6724,203,380,406,578,0.67552537612121011,2.304157087904469,2.6233653218162551,5.2466408934953108,2.0829999999999999E-4,1.724,4,1.392796E-3,{"$f":"AK236*(1-(($E237-50)*0.005))","v":625.30000000000007},{"$f":"AL236*(1-(($E237-50)*0.005))","v":667.85},{"$f":"AM236*(1-(($E237-50)*0.005))","v":952.75},0.95,0.95,0.95,625,668,953,269,287,410,1.1713506613014071,1.3296518667136978,2.6742827452925968,3.2,11.5,12.8,19.600000000000001,null,3477,null,0.68,null,null,0,10,11.8,21.85,null,1,1,1,625,668,953,null,0,0,0,1]
["13516020",null,null,1,35,160,20,21.5,0,26,30,46.4,2636.8,4165.887726998767,4522.2727563025155,5768.04,1.5,1.08,1.08,1.08,2637,4166,4522,5768,227,358,389,496,0.23168842893298955,0.5639754157614939,0.66342434491024516,1.0674404634562651,1.2760000000000001E-4,1.7219,2,3.76611E-4,514.83890668473202,558.88255136973487,712.84,0.95,0.95,0.95,515,559,713,221,240,307,0.21989661309334549,0.25827229749987091,0.41765567382317259,2.1,11.5,12.8,19.600000000000001,null,3296,null,0.8,null,null,0,10,11.8,21.85,null,1,1,1,515,559,713,null,0,0,0,1]
["15016020",null,null,1,50,160,20,21.5,0,26,30,46.4,3104,4165.887726998767,4522.2727563025155,5768.04,1.5,1.08,1.08,1.08,3104,4166,4522,5768,267,358,389,496,0.31800062902255166,0.5639754157614939,0.66342434491024516,1.0674404634562651,1.2760000000000001E-4,1.7219,2,3.76611E-4,514.83890668473202,558.88255136973487,712.84,0.95,0.95,0.95,515,559,713,221,240,307,0.21989661309334549,0.25827229749987091,0.41765567382317259,2.1,11.5,12.8,19.600000000000001,null,3880,null,0.8,null,null,0,10,11.8,21.85,null,1,1,1,515,559,713,null,0,0,0,1]
["16516020",null,null,1,65,160,20,21.5,0,26,30,46.4,3436.8,4165.887726998767,4522.2727563025155,5768.04,1.5,1.08,1.08,1.08,3437,4166,4522,5768,296,358,389,496,0.38892396900185344,0.5639754157614939,0.66342434491024516,1.0674404634562651,1.2760000000000001E-4,1.7219,2,3.76611E-4,514.83890668473202,558.88255136973487,712.84,0.95,0.95,0.95,515,559,713,221,240,307,0.21989661309334549,0.25827229749987091,0.41765567382317259,2.1,11.5,12.8,19.600000000000001,null,4296,null,0.8,null,null,0,10,11.8,21.85,null,1,1,1,515,559,713,null,0,0,0,1]
["13516021",null,null,1,35,160,21,21.5,0,26,30,46.4,2705.6000000000004,5689.6682460807178,6074.6702425752001,8659.16,1.5,1.05,1.05,1.05,2706,5690,6075,8659,233,489,522,745,0.36039718596591191,1.516156598549864,1.721314141488552,3.4393517119933592,1.2760000000000001E-4,1.7219,4,5.1420100000000005E-4,738.0333851508442,787.97378843505794,1123.22,0.85,0.85,0.85,738,788,1123,317,339,483,0.65390832051840242,0.74470210261054104,1.4802227109968673,4.3,11.5,12.8,19.600000000000001,null,3382,null,0.8,null,null,0,10,11.8,21.85,null,1,1,1,738,788,1123,null,0,0,0,1]
["15016021",null,null,1,50,160,21,21.5,0,26,30,46.4,3304.8,5689.6682460807178,6074.6702425752001,8659.16,1.5,1.05,1.05,1.05,3305,5690,6075,8659,284,489,522,745,0.52852558897231761,1.516156598549864,1.721314141488552,3.4393517119933592,1.2760000000000001E-4,1.7219,4,5.1420100000000005E-4,738.0333851508442,787.97378843505794,1123.22,0.85,0.85,0.85,738,788,1123,317,339,483,0.65390832051840242,0.74470210261054104,1.4802227109968673,4.3,11.5,12.8,19.600000000000001,null,4131,null,0.8,null,null,0,10,11.8,21.85,null,1,1,1,738,788,1123,null,0,0,0,1]
["16516021",null,null,1,65,160,21,21.5,0,26,30,46.4,3878.4,5689.6682460807178,6074.6702425752001,8659.16,1.5,1.05,1.05,1.05,3878,5690,6075,8659,334,489,522,745,0.72356212381200813,1.516156598549864,1.721314141488552,3.4393517119933592,1.2760000000000001E-4,1.7219,4,5.1420100000000005E-4,{"$f":"AK242*(1-(($E243-50)*0.005))","v":682.68088126453097},{"$f":"AL242*(1-(($E243-50)*0.005))","v":728.87575430242862},{"$f":"AM242*(1-(($E243-50)*0.005))","v":1038.9785000000002},0.85,0.85,0.85,683,729,1039,294,313,447,0.56514789147038746,0.6380188401493293,1.2734730104129646,4.3,11.5,12.8,19.600000000000001,null,4848,null,0.8,null,null,0,10,11.8,21.85,null,1,1,1,683,729,1039,null,0,0,0,1]
["13518010",null,null,1,35,180,10,11.5,0,26,30,46,1454.4,2970.6878039917879,3224.8253922941558,4113.18,1.5,1.08,1.08,1.08,1454,2971,3225,4113,125,256,277,354,0.11213531254698939,0.42971927512859232,0.49841362806075101,0.79115305439562644,3.969E-4,1.7345999999999999,2,3.6734700000000002E-4,411.84801378696699,447.08095237792156,570.24,0.98,0.98,0.98,412,447,570,{"$f":"ROUND(AQ244*3600/(4186*ABS($AM$1-$AM$2)),0)","v":177},{"$f":"ROUND(AR244*3600/(4186*ABS($AM$1-$AM$2)),0)","v":192},{"$f":"ROUND(AS244*3600/(4186*ABS($AM$1-$AM$2)),0)","v":245},0.21495642722836134,0.25036580839638034,0.39566467113231368,1.2,12.2,13.7,22,null,1616,null,0.9,null,null,0,10.9,12.7,21.85,null,1,1,1,412,447,570,null,0,0,0,1]
["15018010",null,null,1,50,180,10,11.5,0,26,30,46,1743.3,2970.6878039917879,3224.8253922941558,4113.18,1.5,1.08,1.08,1.08,1743,2971,3225,4113,150,256,277,354,0.157673533315936,0.42971927512859232,0.49841362806075101,0.79115305439562644,3.969E-4,1.7345999999999999,2,3.6734700000000002E-4,411.84801378696699,447.08095237792156,570.24,0.98,0.98,0.98,412,447,570,177,192,245,0.21495642722836134,0.25036580839638034,0.39566467113231368,1.2,12.2,13.7,22,null,1937,null,0.9,null,null,0,10.9,12.7,21.85,null,1,1,1,412,447,570,null,0,0,0,1]
["16518010",null,null,1,65,180,10,11.5,0,26,30,46,1962,2970.6878039917879,3224.8253922941558,4113.18,1.5,1.08,1.08,1.08,1962,2971,3225,4113,169,256,277,354,0.19711485937751483,0.42971927512859232,0.49841362806075101,0.79115305439562644,3.969E-4,1.7345999999999999,2,3.6734700000000002E-4,411.84801378696699,447.08095237792156,570.24,0.98,0.98,0.98,412,447,570,177,192,245,0.21495642722836134,0.25036580839638034,0.39566467113231368,1.2,12.2,13.7,22,null,2180,null,0.9,null,null,0,10.9,12.7,21.85,null,1,1,1,412,447,570,null,0,0,0,1]
["13518011",null,null,1,35,180,11,11.5,0,26,30,46,1464.0400000000002,4030.7284303866513,4375.55079813051,5580.9,1.5,1.1000000000000001,1.1000000000000001,1.1000000000000001,1464,4031,4376,5581,126,347,376,480,0.20267666261144282,1.334539960528933,1.5506696983380099,2.4499067566992552,3.969E-4,1.7345999999999999,4,5.7428799999999995E-4,675.10313623602258,732.85712932403612,934.74,0.95,0.95,0.95,675,733,935,290,315,402,0.95449169552535984,1.1138291531732329,1.7573589514811909,2.4,12.2,13.7,22,null,2153,null,0.68,null,null,0,10.9,12.7,21.85,null,1,1,1,675,733,935,null,0,0,0,{"$f":"IF(SUM(BV247:BX247)=0,1,0)","v":1}]
["15018011",null,null,1,50,180,11,11.5,0,26,30,46,1696.6000000000001,4030.7284303866513,4375.55079813051,5580.9,1.5,1.1000000000000001,1.1000000000000001,1.1000000000000001,1697,4031,4376,5581,146,347,376,480,0.26629038547766104,1.334539960528933,1.5506696983380099,2.4499067566992552,3.969E-4,1.7345999999999999,4,5.7428799999999995E-4,675.10313623602258,732.85712932403612,934.74,0.95,0.95,0.95,675,733,935,290,315,402,0.95449169552535984,1.1138291531732329,1.7573589514811909,2.4,12.2,13.7,22,null,2495,null,0.68,null,null,0,10.9,12.7,21.85,null,1,1,1,675,733,935,null,0,0,0,1]
["16518011",null,null,1,65,180,11,11.5,0,26,30,46,1888.3600000000001,4030.7284303866513,4375.55079813051,5580.9,1.5,1.1000000000000001,1.1000000000000001,1.1000000000000001,1888,4031,4376,5581,162,347,376,480,0.32294948586021738,1.334539960528933,1.5506696983380099,2.4499067566992552,3.969E-4,1.7345999999999999,4,5.7428799999999995E-4,{"$f":"AK248*(1-(($E249-50)*0.005))","v":624.4704010183209},{"$f":"AL248*(1-(($E249-50)*0.005))","v":677.89284462473347},{"$f":"AM248*(1-(($E249-50)*0.005))","v":864.6345},0.95,0.95,0.95,624,678,865,268,292,372,0.82386054296562061,0.96681346624204301,1.5199529421439992,2.4,12.2,13.7,22,null,2777,null,0.68,null,null,0,10.9,12.7,21.85,null,1,1,1,624,678,865,null,0,0,0,1]
["13518015",null,null,1,35,180,15,16.5,0,26,30,46.4,2116.8000000000002,3233.3460619053994,3452.1364439366635,4920.8599999999997,1.5,1.08,1.08,1.08,2117,3233,3452,4921,182,278,297,423,0.20317273805666891,0.46032647442822744,0.52311768690779403,1.0377569514621654,2.0829999999999999E-4,1.724,2,4.6182900000000003E-4,420.6820520547858,449.14828645115074,640.24,1.01,1.01,1.01,421,449,640,181,193,275,0.2010263623163458,0.22751208445626886,0.45076939507650016,1.8,11.5,12.8,19.600000000000001,null,2646,null,0.8,null,null,0,10,11.8,21.85,null,1,1,1,421,449,640,null,0,0,0,1]
["15018015",null,null,1,50,180,15,16.5,0,26,30,46.4,2496.8000000000002,3233.3460619053994,3452.1364439366635,4920.8599999999997,1.5,1.08,1.08,1.08,2497,3233,3452,4921,215,278,297,423,0.28018979747832218,0.46032647442822744,0.52311768690779403,1.0377569514621654,2.0829999999999999E-4,1.724,2,4.6182900000000003E-4,420.6820520547858,449.14828645115074,640.24,1.01,1.01,1.01,421,449,640,181,193,275,0.2010263623163458,0.22751208445626886,0.45076939507650016,1.8,11.5,12.8,19.600000000000001,null,3121,null,0.8,null,null,0,10,11.8,21.85,null,1,1,1,421,449,640,null,0,0,0,1]
["16518015",null,null,1,65,180,15,16.5,0,26,30,46.4,2768,3233.3460619053994,3452.1364439366635,4920.8599999999997,1.5,1.08,1.08,1.08,2768,3233,3452,4921,238,278,297,423,0.34093801157136222,0.46032647442822744,0.52311768690779403,1.0377569514621654,2.0829999999999999E-4,1.724,2,4.6182900000000003E-4,420.6820520547858,449.14828645115074,640.24,1.01,1.01,1.01,421,449,640,181,193,275,0.2010263623163458,0.22751208445626886,0.45076939507650016,1.8,11.5,12.8,19.600000000000001,null,3460,null,0.8,null,null,0,10,11.8,21.85,null,1,1,1,421,449,640,null,0,0,0,1]
["13518016",null,null,1,35,180,16,16.5,0,26,30,46.4,1949.5600000000002,4843.4549704976926,5171.1963699821436,7371.3,1.5,1.1000000000000001,1.1000000000000001,1.1000000000000001,1950,4843,5171,7371,168,417,445,634,0.47802378654757038,2.8182657536071059,3.2004400554381953,6.4023363853790576,2.0829999999999999E-4,1.724,4,1.392796E-3,686.3088894339993,732.7492584003295,1044.5,0.95,0.95,0.95,686,733,1045,295,315,449,1.4327504054076798,1.6285969093831283,3.2569852229594378,3.6,11.5,12.8,19.600000000000001,null,2867,null,0.68,null,null,0,10,11.8,21.85,null,1,1,1,686,733,1045,null,0,0,0,1]
["15018016",null,null,1,50,180,16,16.5,0,26,30,46.4,2322.88,4843.4549704976926,5171.1963699821436,7371.3,1.5,1.1000000000000001,1.1000000000000001,1.1000000000000001,2323,4843,5171,7371,200,417,445,634,0.67129343375571504,2.8182657536071059,3.2004400554381953,6.4023363853790576,2.0829999999999999E-4,1.724,4,1.392796E-3,686.3088894339993,732.7492584003295,1044.5,0.95,0.95,0.95,686,733,1045,295,315,449,1.4327504054076798,1.6285969093831283,3.2569852229594378,3.6,11.5,12.8,19.600000000000001,null,3416,null,0.68,null,null,0,10,11.8,21.85,null,1,1,1,686,733,1045,null,0,0,0,1]
["16518016",null,null,1,65,180,16,16.5,0,26,30,46.4,2659.48,4843.4549704976926,5171.1963699821436,7371.3,1.5,1.1000000000000001,1.1000000000000001,1.1000000000000001,2659,4843,5171,7371,229,417,445,634,0.8740558362030848,2.8182657536071059,3.2004400554381953,6.4023363853790576,2.0829999999999999E-4,1.724,4,1.392796E-3,{"$f":"AK254*(1-(($E255-50)*0.005))","v":634.83572272644938},{"$f":"AL254*(1-(($E255-50)*0.005))","v":677.79306402030477},{"$f":"AM254*(1-(($E255-50)*0.005))","v":966.16250000000002},0.95,0.95,0.95,635,678,966,273,292,415,1.2315554201626615,1.4044357978322337,2.7918817953891293,3.6,11.5,12.8,19.600000000000001,null,3911,null,0.68,null,null,0,10,11.8,21.85,null,1,1,1,635,678,966,null,0,0,0,1]
["13518020",null,null,1,35,180,20,21.5,0,26,30,46.4,2966.4,4497.8275192555193,4882.6094666576164,6227.64,1.5,1.08,1.08,1.08,2966,4498,4883,6228,255,387,420,536,0.29766861104874781,0.67105520500225491,0.78724334085603187,1.2676087797406754,1.2760000000000001E-4,1.7219,2,3.76611E-4,526.1057925837863,571.11330132956857,728.44,0.95,0.95,0.95,526,571,728,226,246,313,0.23536033293811029,0.27756656183252509,0.44366421223291913,2.4,11.5,12.8,19.600000000000001,null,3708,null,0.8,null,null,0,10,11.8,21.85,null,1,1,1,526,571,728,null,0,0,0,1]
["15018020",null,null,1,50,180,20,21.5,0,26,30,46.4,3492,4497.8275192555193,4882.6094666576164,6227.64,1.5,1.08,1.08,1.08,3492,4498,4883,6228,300,387,420,536,0.40847048540054742,0.67105520500225491,0.78724334085603187,1.2676087797406754,1.2760000000000001E-4,1.7219,2,3.76611E-4,526.1057925837863,571.11330132956857,728.44,0.95,0.95,0.95,526,571,728,226,246,313,0.23536033293811029,0.27756656183252509,0.44366421223291913,2.4,11.5,12.8,19.600000000000001,null,4365,null,0.8,null,null,0,10,11.8,21.85,null,1,1,1,526,571,728,null,0,0,0,1]
["16518020",null,null,1,65,180,20,21.5,0,26,30,46.4,3866.4,4497.8275192555193,4882.6094666576164,6227.64,1.5,1.08,1.08,1.08,3866,4498,4883,6228,332,387,420,536,0.49766126344927925,0.67105520500225491,0.78724334085603187,1.2676087797406754,1.2760000000000001E-4,1.7219,2,3.76611E-4,526.1057925837863,571.11330132956857,728.44,0.95,0.95,0.95,526,571,728,226,246,313,0.23536033293811029,0.27756656183252509,0.44366421223291913,2.4,11.5,12.8,19.600000000000001,null,4833,null,0.8,null,null,0,10,11.8,21.85,null,1,1,1,526,571,728,null,0,0,0,1]
["13518021",null,null,1,35,180,21,21.5,0,26,30,46.4,3044,6016.7573462820046,6423.892435808023,9156.9599999999991,1.5,1.05,1.05,1.05,3044,6017,6424,9157,262,517,552,788,0.46676528689987501,1.7364585854055543,1.9715108987105545,3.9339119327078702,1.2760000000000001E-4,1.7219,4,5.1420100000000005E-4,750.12346036921247,800.88196110577712,1141.6200000000001,0.85,0.85,0.85,750,801,1142,323,344,491,0.69902928526631702,0.78946623977507491,1.5712748482814811,4.8,11.5,12.8,19.600000000000001,null,3805,null,0.8,null,null,0,10,11.8,21.85,null,1,1,1,750,801,1142,null,0,0,0,1]
["15018021",null,null,1,50,180,21,21.5,0,26,30,46.4,3718.4,6016.7573462820046,6423.892435808023,9156.9599999999991,1.5,1.05,1.05,1.05,3718,6017,6424,9157,320,517,552,788,0.68654649641664311,1.7364585854055543,1.9715108987105545,3.9339119327078702,1.2760000000000001E-4,1.7219,4,5.1420100000000005E-4,750.12346036921247,800.88196110577712,1141.6200000000001,0.85,0.85,0.85,750,801,1142,323,344,491,0.69902928526631702,0.78946623977507491,1.5712748482814811,4.8,11.5,12.8,19.600000000000001,null,4648,null,0.8,null,null,0,10,11.8,21.85,null,1,1,1,750,801,1142,null,0,0,0,1]
["16518021",null,null,1,65,180,21,21.5,0,26,30,46.4,4363.2,6016.7573462820046,6423.892435808023,9156.9599999999991,1.5,1.05,1.05,1.05,4363,6017,6424,9157,375,517,552,788,0.93272275630665746,1.7364585854055543,1.9715108987105545,3.9339119327078702,1.2760000000000001E-4,1.7219,4,5.1420100000000005E-4,{"$f":"AK260*(1-(($E261-50)*0.005))","v":693.86420084152155},{"$f":"AL260*(1-(($E261-50)*0.005))","v":740.81581402284382},{"$f":"AM260*(1-(($E261-50)*0.005))","v":1055.9985000000001},0.85,0.85,0.85,694,741,1056,298,319,454,0.59835008289121183,0.68240986136996196,1.3500986543574247,4.8,11.5,12.8,19.600000000000001,null,5454,null,0.8,null,null,0,10,11.8,21.85,null,1,1,1,694,741,1056,null,0,0,0,1]
["13520010",null,null,1,35,200,10,11.5,0,26,30,46.5,1616.4,3259.5785648750903,3552.8677924068675,4620.9799999999996,1.5,1.08,1.08,1.08,1616,3260,3553,4621,139,280,306,397,0.14485450860837729,0.53596049138451529,0.63305954443385948,1.0323113448799708,3.969E-4,1.7345999999999999,2,3.6734700000000002E-4,451.89903695786995,492.55985148767917,640.64,0.98,0.98,0.98,452,493,641,194,212,276,0.26974633951173027,0.31839322337808124,0.52169992911952934,1.3,13.4,14.8,24,null,1796,null,0.9,null,null,0,10.7,12.5,21.85,null,1,1,1,452,493,641,null,0,0,0,1]
["15020010",null,null,1,50,200,10,11.5,0,26,30,46.5,1936.8,3259.5785648750903,3552.8677924068675,4620.9799999999996,1.5,1.08,1.08,1.08,1937,3260,3553,4621,167,280,306,397,0.2039239611833436,0.53596049138451529,0.63305954443385948,1.0323113448799708,3.969E-4,1.7345999999999999,2,3.6734700000000002E-4,451.89903695786995,492.55985148767917,640.64,0.98,0.98,0.98,452,493,641,194,212,276,0.26974633951173027,0.31839322337808124,0.52169992911952934,1.3,13.4,14.8,24,null,2152,null,0.9,null,null,0,10.7,12.5,21.85,null,1,1,1,452,493,641,null,0,0,0,1]
["16520010",null,null,1,65,200,10,11.5,0,26,30,46.5,2179.8000000000002,3259.5785648750903,3552.8677924068675,4620.9799999999996,1.5,1.08,1.08,1.08,2180,3260,3553,4621,187,280,306,397,0.25185391459321044,0.53596049138451529,0.63305954443385948,1.0323113448799708,3.969E-4,1.7345999999999999,2,3.6734700000000002E-4,451.89903695786995,492.55985148767917,640.64,0.98,0.98,0.98,452,493,641,194,212,276,0.26974633951173027,0.31839322337808124,0.52169992911952934,1.3,13.4,14.8,24,null,2422,null,0.9,null,null,0,10.7,12.5,21.85,null,1,1,1,452,493,641,null,0,0,0,1]
["13520011",null,null,1,35,200,11,11.5,0,26,30,46.5,1626.5600000000002,4422.7050634086982,4820.649682883678,6269.9,1.5,1.1000000000000001,1.1000000000000001,1.1000000000000001,1627,4423,4821,6270,140,380,415,539,0.26279132640445063,1.6745484974017948,1.9734656930316881,3.2154295434805311,3.969E-4,1.7345999999999999,4,5.7428799999999995E-4,741,807,1050,0.95,0.95,0.95,741,807,1050,319,347,452,1.2089524361917552,1.4138727396795772,2.3143510148052444,2.7,13.4,14.8,24,null,2392,null,0.68,null,null,0,10.7,12.5,21.85,null,1,1,1,741,807,1050,null,0,0,0,1]
["15020011",null,null,1,50,200,11,11.5,0,26,30,46.5,1884.96,4422.7050634086982,4820.649682883678,6269.9,1.5,1.1000000000000001,1.1000000000000001,1.1000000000000001,1885,4423,4821,6270,162,380,415,539,0.34411466291270748,1.6745484974017948,1.9734656930316881,3.2154295434805311,3.969E-4,1.7345999999999999,4,5.7428799999999995E-4,741,807,1050,0.95,0.95,0.95,741,807,1050,319,347,452,1.2089524361917552,1.4138727396795772,2.3143510148052444,2.7,13.4,14.8,24,null,2772,null,0.68,null,null,0,10.7,12.5,21.85,null,1,1,1,741,807,1050,null,0,0,0,1]
["16520011",null,null,1,65,200,11,11.5,0,26,30,46.5,2098.48,4422.7050634086982,4820.649682883678,6269.9,1.5,1.1000000000000001,1.1000000000000001,1.1000000000000001,2098,4423,4821,6270,180,380,415,539,0.41814631016675741,1.6745484974017948,1.9734656930316881,3.2154295434805311,3.969E-4,1.7345999999999999,4,5.7428799999999995E-4,{"$f":"AK266*(1-(($E267-50)*0.005))","v":685.42500000000007},{"$f":"AL266*(1-(($E267-50)*0.005))","v":746.47500000000002},{"$f":"AM266*(1-(($E267-50)*0.005))","v":971.25},0.95,0.95,0.95,685,746,971,295,321,418,1.0452969961684331,1.223091481259345,2.0001552183357725,2.7,13.4,14.8,24,null,3086,null,0.68,null,null,0,10.7,12.5,21.85,null,1,1,1,685,746,971,null,0,0,0,1]
["13520015",null,null,1,35,200,15,16.5,0,26,30,47.1,2352,3875.4624109054007,4083.4735576056296,5893.16,1.5,1.08,1.08,1.08,2352,3875,4083,5893,202,333,351,507,0.25611706588674255,0.67100385450414035,0.7427948904408519,1.5124900662854772,2.0829999999999999E-4,1.724,2,4.6182900000000003E-4,529.01617838795164,557.41053504066974,804.44,1.01,1.01,1.01,529,557,804,227,240,346,0.3205762003800503,0.35685612106712633,0.72249739815889857,2,13.2,14.7,23.5,null,2940,null,0.8,null,null,0,10,11.4,21.85,null,1,1,1,529,557,804,null,0,0,0,1]
["15020015",null,null,1,50,200,15,16.5,0,26,30,47.1,2774.4,3875.4624109054007,4083.4735576056296,5893.16,1.5,1.08,1.08,1.08,2774,3875,4083,5893,239,333,351,507,0.35399847561411035,0.67100385450414035,0.7427948904408519,1.5124900662854772,2.0829999999999999E-4,1.724,2,4.6182900000000003E-4,529.01617838795164,557.41053504066974,804.44,1.01,1.01,1.01,529,557,804,227,240,346,0.3205762003800503,0.35685612106712633,0.72249739815889857,2,13.2,14.7,23.5,null,3468,null,0.8,null,null,0,10,11.4,21.85,null,1,1,1,529,557,804,null,0,0,0,1]
["16520015",null,null,1,65,200,15,16.5,0,26,30,47.1,3075.2000000000003,3875.4624109054007,4083.4735576056296,5893.16,1.5,1.08,1.08,1.08,3075,3875,4083,5893,264,333,351,507,0.42877497020071087,0.67100385450414035,0.7427948904408519,1.5124900662854772,2.0829999999999999E-4,1.724,2,4.6182900000000003E-4,529.01617838795164,557.41053504066974,804.44,1.01,1.01,1.01,529,557,804,227,240,346,0.3205762003800503,0.35685612106712633,0.72249739815889857,2,13.2,14.7,23.5,null,3844,null,0.8,null,null,0,10,11.4,21.85,null,1,1,1,529,557,804,null,0,0,0,1]
["13520016",null,null,1,35,200,16,16.5,0,26,30,47.1,2166.48,5667.1755761695722,5971.3549398587584,8617.7000000000007,1.5,1.1000000000000001,1.1000000000000001,1.1000000000000001,2166,5667,5971,8618,186,487,514,741,0.59614957121704493,3.8886229634946341,4.3210309689101214,8.8377623616344323,2.0829999999999999E-4,1.724,4,1.392796E-3,868,914,1320,0.95,0.95,0.95,868,914,1320,373,393,568,2.3103470177002245,2.5582125224157561,5.2529022162438315,4,13.2,14.7,23.5,null,3186,null,0.68,null,null,0,10,11.4,21.85,null,1,1,1,868,914,1320,null,0,0,0,1]
["15020016",null,null,1,50,200,16,16.5,0,26,30,47.1,2581.2800000000002,5667.1755761695722,5971.3549398587584,8617.7000000000007,1.5,1.1000000000000001,1.1000000000000001,1.1000000000000001,2581,5667,5971,8618,222,487,514,741,0.84083505339440379,3.8886229634946341,4.3210309689101214,8.8377623616344323,2.0829999999999999E-4,1.724,4,1.392796E-3,868,914,1320,0.95,0.95,0.95,868,914,1320,373,393,568,2.3103470177002245,2.5582125224157561,5.2529022162438315,4,13.2,14.7,23.5,null,3796,null,0.68,null,null,0,10,11.4,21.85,null,1,1,1,868,914,1320,null,0,0,0,1]
["16520016",null,null,1,65,200,16,16.5,0,26,30,47.1,2955.28,5667.1755761695722,5971.3549398587584,8617.7000000000007,1.5,1.1000000000000001,1.1000000000000001,1.1000000000000001,2955,5667,5971,8618,254,487,514,741,1.0926783554941488,3.8886229634946341,4.3210309689101214,8.8377623616344323,2.0829999999999999E-4,1.724,4,1.392796E-3,{"$f":"AK272*(1-(($E273-50)*0.005))","v":802.90000000000009},{"$f":"AL272*(1-(($E273-50)*0.005))","v":845.45},{"$f":"AM272*(1-(($E273-50)*0.005))","v":1221},0.95,0.95,0.95,803,845,1221,345,363,525,1.9841650752047741,2.1910612688725521,4.5036106192409688,4,13.2,14.7,23.5,null,4346,null,0.68,null,null,0,10,11.4,21.85,null,1,1,1,803,845,1221,null,0,0,0,1]
["13520020",null,null,1,35,200,20,21.5,0,26,30,47.1,3296,5214.8121821672385,5684.028740747025,7392.84,1.5,1.08,1.08,1.08,3296,5215,5684,7393,283,448,489,636,0.37293357224590584,0.91133281879191153,1.0808827382560606,1.804767358434455,1.2760000000000001E-4,1.7219,2,3.76611E-4,644.46964929787134,702.45751547390614,913.64,0.95,0.95,0.95,644,702,914,277,302,393,0.35773067054432378,0.42311312971539766,0.70617331390652549,2.7,13.2,14.7,23.5,null,4120,null,0.8,null,null,0,10,11.4,21.85,null,1,1,1,644,702,914,null,0,0,0,1]
["15020020",null,null,1,50,200,20,21.5,0,26,30,47.1,3880,5214.8121821672385,5684.028740747025,7392.84,1.5,1.08,1.08,1.08,3880,5215,5684,7393,334,448,489,636,0.5146078189924711,0.91133281879191153,1.0808827382560606,1.804767358434455,1.2760000000000001E-4,1.7219,2,3.76611E-4,644.46964929787134,702.45751547390614,913.64,0.95,0.95,0.95,644,702,914,277,302,393,0.35773067054432378,0.42311312971539766,0.70617331390652549,2.7,13.2,14.7,23.5,null,4850,null,0.8,null,null,0,10,11.4,21.85,null,1,1,1,644,702,914,null,0,0,0,1]
["16520020",null,null,1,65,200,20,21.5,0,26,30,47.1,4296,5214.8121821672385,5684.028740747025,7392.84,1.5,1.08,1.08,1.08,4296,5215,5684,7393,369,448,489,636,0.62467840519656759,0.91133281879191153,1.0808827382560606,1.804767358434455,1.2760000000000001E-4,1.7219,2,3.76611E-4,644.46964929787134,702.45751547390614,913.64,0.95,0.95,0.95,644,702,914,277,302,393,0.35773067054432378,0.42311312971539766,0.70617331390652549,2.7,13.2,14.7,23.5,null,5370,null,0.8,null,null,0,10,11.4,21.85,null,1,1,1,644,702,914,null,0,0,0,1]
["13520021",null,null,1,35,200,21,21.5,0,26,30,47.1,3382.4,7298.5082710627348,7690.2476078687869,11098.36,1.5,1.05,1.05,1.05,3382,7299,7690,11098,291,628,661,954,0.58901204649050398,2.5976371030133358,2.8682489622749725,5.8399447479033668,1.2760000000000001E-4,1.7219,4,5.1420100000000005E-4,946.7235228616961,997.53785795739748,1439.62,0.85,0.85,0.85,947,998,1440,407,429,619,1.123918147974541,1.2440371883056511,2.5261009474966261,5.3,13.2,14.7,23.5,null,4228,null,0.8,null,null,0,10,11.4,21.85,null,1,1,1,947,998,1440,null,0,0,0,1]
["15020021",null,null,1,50,200,21,21.5,0,26,30,47.1,4131.2,7298.5082710627348,7690.2476078687869,11098.36,1.5,1.05,1.05,1.05,4131,7299,7690,11098,355,628,661,954,0.86359647559078934,2.5976371030133358,2.8682489622749725,5.8399447479033668,1.2760000000000001E-4,1.7219,4,5.1420100000000005E-4,946.7235228616961,997.53785795739748,1439.62,0.85,0.85,0.85,947,998,1440,407,429,619,1.123918147974541,1.2440371883056511,2.5261009474966261,5.3,13.2,14.7,23.5,null,5164,null,0.8,null,null,0,10,11.4,21.85,null,1,1,1,947,998,1440,null,0,0,0,1]
["16520021",null,null,1,65,200,21,21.5,0,26,30,47.1,4848,7298.5082710627348,7690.2476078687869,11098.36,1.5,1.05,1.05,1.05,4848,7299,7690,11098,417,628,661,954,1.1777837386014038,2.5976371030133358,2.8682489622749725,5.8399447479033668,1.2760000000000001E-4,1.7219,4,5.1420100000000005E-4,{"$f":"AK278*(1-(($E279-50)*0.005))","v":875.71925864706895},{"$f":"AL278*(1-(($E279-50)*0.005))","v":922.72251861059272},{"$f":"AM278*(1-(($E279-50)*0.005))","v":1331.6485},0.85,0.85,0.85,876,923,1332,377,397,573,0.96967651460445303,1.0712774010557167,2.1756776792914172,5.3,13.2,14.7,23.5,null,6060,null,0.8,null,null,0,10,11.4,21.85,null,1,1,1,876,923,1332,null,0,0,0,1]
["13522010",null,null,1,35,220,10,11.5,0,26,30,46.9,1658.413043478261,3560.7045070849035,3890.5075371280445,5128.78,1.5,1.08,1.08,1.08,1658,3561,3891,5129,143,306,335,441,0.16123700185911027,0.66495285135759441,0.7876316236324602,1.3181530375289372,3.969E-4,1.7345999999999999,2,3.6734700000000002E-4,493.64631212835212,539.36930014536108,711.04,0.98,0.98,0.98,494,539,711,212,232,306,0.33526766264658142,0.39659808957963044,0.66495285135759441,1.5,13.4,14.8,24,null,{"$f":"(BE298/(F298-102))*(F280-102)","v":1842.68115942029},null,0.9,null,null,0,10.5,12.3,21.85,null,1,1,1,494,539,711,null,0,0,0,1]
["15022010",null,null,1,50,220,10,11.5,0,26,30,46.9,1987.0173913043475,3560.7045070849035,3890.5075371280445,5128.78,1.5,1.08,1.08,1.08,1987,3561,3891,5129,171,306,335,441,0.22475315287245037,0.66495285135759441,0.7876316236324602,1.3181530375289372,3.969E-4,1.7345999999999999,2,3.6734700000000002E-4,493.64631212835212,539.36930014536108,711.04,0.98,0.98,0.98,494,539,711,212,232,306,0.33526766264658142,0.39659808957963044,0.66495285135759441,1.5,13.4,14.8,24,null,2207.797101449275,null,0.9,null,null,0,10.5,12.3,21.85,null,1,1,1,494,539,711,null,0,0,0,1]
["16522010",null,null,1,65,220,10,11.5,0,26,30,46.9,2236.3565217391306,3560.7045070849035,3890.5075371280445,5128.78,1.5,1.08,1.08,1.08,2236,3561,3891,5129,192,306,335,441,0.27878498382584416,0.66495285135759441,0.7876316236324602,1.3181530375289372,3.969E-4,1.7345999999999999,2,3.6734700000000002E-4,493.64631212835212,539.36930014536108,711.04,0.98,0.98,0.98,494,539,711,212,232,306,0.33526766264658142,0.39659808957963044,0.66495285135759441,1.5,13.4,14.8,24,null,2484.840579710145,null,0.9,null,null,0,10.5,12.3,21.85,null,1,1,1,494,539,711,null,0,0,0,1]
["13522011",null,null,1,35,220,11,11.5,0,26,30,46.9,1668.7594202898554,4831.2827990970827,5278.770565343093,6958.9,1.5,1.1000000000000001,1.1000000000000001,1.1000000000000001,1669,4831,5279,6959,144,415,454,598,0.29407499594948894,2.0816746946687235,2.4599536452154176,4.1089164306330286,3.969E-4,1.7345999999999999,4,5.7428799999999995E-4,809.18727868766814,884.1366084769129,1165.54,0.95,0.95,0.95,809,884,1166,348,380,501,1.5011980733038943,1.7674215645183677,2.9547969820093392,2.9,13.4,14.8,24,null,2454.057971014493,null,0.68,null,null,0,10.5,12.3,21.85,null,1,1,1,809,884,1166,null,0,0,0,1]
["15022011",null,null,1,50,220,11,11.5,0,26,30,46.9,{"$f":"IF($N284-($BE284*$BG284)>100,$BE284*$BG284,$N284-95)","v":1933.9002898550727},4831.2827990970827,5278.770565343093,6958.9,1.5,1.1000000000000001,1.1000000000000001,1.1000000000000001,{"$f":"ROUND(M284*POWER(CF_heat,Q284),0)","v":1934},{"$f":"ROUND(N284*POWER(CF_heat,R284),0)","v":4831},{"$f":"ROUND(O284*POWER(CF_heat,S284),0)","v":5279},{"$f":"ROUND(P284*POWER(CF_heat,T284),0)","v":6959},166,415,454,598,0.38206692152465072,2.0816746946687235,2.4599536452154176,4.1089164306330286,{"$f":"IF($G284=$CO$103,CP$103,IF($G284=$CO$104,CP$104,IF($G284=$CO$105,CP$105,IF($G284=$CO$107,CP$107,IF($G284=$CO$108,CP$108,IF($G284=$CO$109,CP$109,IF($G284=$CO$111,CP$111,IF($G284=$CO$112,CP$112,IF($G284=$CO$113,CP$113,IF($G284=$CO$115,CP$115,IF($G284=$CO$116,CP$116,IF($G284=$CO$117,CP$117,IF($G284=$CO$119,CP$119,IF($G284=$CO$120,CP$120,))))))))))))))","v":3.969E-4},{"$f":"IF($G284=$CO$103,CQ$103,IF($G284=$CO$104,CQ$104,IF($G284=$CO$105,CQ$105,IF($G284=$CO$107,CQ$107,IF($G284=$CO$108,CQ$108,IF($G284=$CO$109,CQ$109,IF($G284=$CO$111,CQ$111,IF($G284=$CO$112,CQ$112,IF($G284=$CO$113,CQ$113,IF($G284=$CO$115,CQ$115,IF($G284=$CO$116,CQ$116,IF($G284=$CO$117,CQ$117,IF($G284=$CO$119,CQ$119,IF($G284=$CO$120,CQ$120,))))))))))))))","v":1.7345999999999999},{"$f":"IF($G284=$CO$103,CR$103,IF($G284=$CO$104,CR$104,IF($G284=$CO$105,CR$105,IF($G284=$CO$107,CR$107,IF($G284=$CO$108,CR$108,IF($G284=$CO$109,CR$109,IF($G284=$CO$111,CR$111,IF($G284=$CO$112,CR$112,IF($G284=$CO$113,CR$113,IF($G284=$CO$115,CR$115,IF($G284=$CO$116,CR$116,IF($G284=$CO$117,CR$117,IF($G284=$CO$119,CR$119,IF($G284=$CO$120,CR$120,))))))))))))))","v":4},{"$f":"IF($G284=$CO$103,CS$103,IF($G284=$CO$104,CS$104,IF($G284=$CO$105,CS$105,IF($G284=$CO$107,CS$107,IF($G284=$CO$108,CS$108,IF($G284=$CO$109,CS$109,IF($G284=$CO$111,CS$111,IF($G284=$CO$112,CS$112,IF($G284=$CO$113,CS$113,IF($G284=$CO$115,CS$115,IF($G284=$CO$116,CS$116,IF($G284=$CO$117,CS$117,IF($G284=$CO$119,CS$119,IF($G284=$CO$120,CS$120,))))))))))))))","v":5.7428799999999995E-4},809.18727868766814,884.1366084769129,1165.54,0.95,0.95,0.95,{"$f":"ROUND(AK284*POWER(CF_cool,AN284),0)","v":809},{"$f":"ROUND(AL284*POWER(CF_cool,AO284),0)","v":884},{"$f":"ROUND(AM284*POWER(CF_cool,AP284),0)","v":1166},348,380,501,1.5011980733038943,1.7674215645183677,2.9547969820093392,{"$f":"ROUND(IF(G284=10,$CO$92*F284,IF(G284=11,$CO$93*F284,IF(G284=15,$CO$94*F284,IF(G284=16,$CO$95*F284,IF(G284=20,$CO$96*F284,IF(G284=21,$CO$97*F284,)))))),1)","v":2.9},13.4,14.8,24,null,2843.971014492754,null,{"$f":"IF(G284=10,0.9,IF(G284=11,0.68,IF(G284=15,0.8,IF(G284=16,0.68,IF(G284=20,0.8,IF(G284=21,0.8))))))","v":0.68},null,null,0,10.5,12.3,21.85,null,1,1,1,{"$f":"AQ284/BO284","v":809},884,1166,null,{"$f":"BR284-AQ284","v":0},{"$f":"BS284-AR284","v":0},{"$f":"BT284-AS284","v":0},1]
[{"$f":"CONCATENATE(D285,E285,F285,G285)","v":"16522011"},null,null,1,65,220,11,11.5,0,26,30,46.9,2153.1066666666666,4831.2827990970827,5278.770565343093,6958.9,1.5,{"$f":"IF($G285=10,1.08,IF($G285=11,1.1,IF($G285=15,1.08,IF($G285=16,1.1,IF($G285=20,1.08,IF($G285=21,1.05))))))","v":1.1000000000000001},1.1000000000000001,1.1000000000000001,2153,4831,5279,6959,185,415,454,598,{"$f":"(($AG285*(Y285^$AH285)*((($F285-14.4)*$AI285)/100))+($AJ285*(Y285^2)))*0.0098","v":0.46654071494255256},{"$f":"(($AG285*(Z285^$AH285)*((($F285-14.4)*$AI285)/100))+($AJ285*(Z285^2)))*0.0098","v":2.0816746946687235},{"$f":"(($AG285*(AA285^$AH285)*((($F285-14.4)*$AI285)/100))+($AJ285*(AA285^2)))*0.0098","v":2.4599536452154176},{"$f":"(($AG285*(AB285^$AH285)*((($F285-14.4)*$AI285)/100))+($AJ285*(AB285^2)))*0.0098","v":4.1089164306330286},3.969E-4,1.7345999999999999,4,5.7428799999999995E-4,{"$f":"AK284*(1-(($E285-50)*0.005))","v":748.49823278609301},{"$f":"AL284*(1-(($E285-50)*0.005))","v":817.82636284114449},{"$f":"AM284*(1-(($E285-50)*0.005))","v":1078.1245000000001},0.95,0.95,0.95,748,818,1078,322,352,464,{"$f":"(($AG285*(AT285^$AH285)*((($F285-14.4)*$AI285)/100))+($AJ285*(AT285^2)))*0.0098","v":1.2998723591132086},{"$f":"(($AG285*(AU285^$AH285)*((($F285-14.4)*$AI285)/100))+($AJ285*(AU285^2)))*0.0098","v":1.5333670254718474},{"$f":"(($AG285*(AV285^$AH285)*((($F285-14.4)*$AI285)/100))+($AJ285*(AV285^2)))*0.0098","v":2.5616863488863584},2.9,13.4,14.8,24,null,3166.333333333333,null,0.68,null,null,0,10.5,12.3,21.85,null,1,1,1,748,{"$f":"AR285/BP285","v":818},{"$f":"AS285/BQ285","v":1078},null,0,0,0,1]
["13522015",null,null,1,35,220,15,16.5,0,26,30,47.8,2413.3565217391306,4302.5567439745028,4481.7988603493422,6540.76,1.5,1.08,1.08,1.08,2413,4303,4482,6541,208,370,385,563,0.27904528552127233,0.84427064665866536,0.91145906255959874,1.8978591317759046,2.0829999999999999E-4,1.724,2,4.6182900000000003E-4,587.31626956044784,611.78353807115786,892.84,1.01,1.01,1.01,587,612,893,252,263,384,0.40328748590288432,0.43778400702821296,0.90690223440245954,2.2000000000000002,15.5,16.8,27.5,null,3016.695652173913,null,0.8,null,null,0,10,11.1,21.85,null,{"$f":"IF((237.3*LN(($AQ$1*EXP(17.27*($AM$3/($AM$3+237.3))))))/(17.27-LN(($AQ$1*EXP(17.27*($AM$3/($AM$3+237.3))))))<(($AM$1+$AM$2)/2),1,IF(1/(1+((2258*((0.622/((101325/(1*611*EXP(17.27*((($AM$1+$AM$2)/2)/((($AM$1+$AM$2)/2)+237.3))))))-1)*1000-(0.622/((101325/($AQ$1*611*EXP(17.27*($AM$3/($AM$3+237.3))))))-1)*1000))/(1005*((($AM$1+$AM$2)/2)-$AM$3))))>1,1,1/(1+((2258*((0.622/((101325/(1*611*EXP(17.27*((($AM$1+$AM$2)/2)/((($AM$1+$AM$2)/2)+237.3))))))-1)*1000-(0.622/((101325/($AQ$1*611*EXP(17.27*($AM$3/($AM$3+237.3))))))-1)*1000))/(1005*((($AM$1+$AM$2)/2)-$AM$3))))))","v":1},1,1,587,612,893,null,0,0,0,1]
["15022015",null,null,1,50,220,15,16.5,0,26,30,47.8,2847.0492753623193,4302.5567439745028,4481.7988603493422,6540.76,1.5,1.08,1.08,1.08,2847,4303,4482,6541,245,370,385,563,0.38204869956844045,0.84427064665866536,0.91145906255959874,1.8978591317759046,2.0829999999999999E-4,1.724,2,4.6182900000000003E-4,587.31626956044784,611.78353807115786,892.84,1.01,1.01,1.01,587,612,893,252,263,384,0.40328748590288432,0.43778400702821296,0.90690223440245954,2.2000000000000002,15.5,16.8,27.5,null,3558.811594202899,null,0.8,null,null,0,10,11.1,21.85,null,1,1,1,587,612,893,null,0,0,0,1]
["16522015",null,null,1,65,220,15,16.5,0,26,30,47.8,3155.5594202898551,4302.5567439745028,4481.7988603493422,6540.76,1.5,1.08,1.08,1.08,3156,4303,4482,6541,271,370,385,563,0.46373157377268065,0.84427064665866536,0.91145906255959874,1.8978591317759046,2.0829999999999999E-4,1.724,2,4.6182900000000003E-4,587.31626956044784,611.78353807115786,892.84,1.01,1.01,1.01,587,612,893,252,263,384,0.40328748590288432,0.43778400702821296,0.90690223440245954,2.2000000000000002,15.5,16.8,27.5,null,3944.4492753623185,null,0.8,null,null,0,10,11.1,21.85,null,1,1,1,587,612,893,null,0,0,0,1]
["13522016",null,null,1,35,220,16,16.5,0,26,30,47.8,2222.880579710145,6291.7251954043459,6553.83496101116,9564.7000000000007,1.5,1.1000000000000001,1.1000000000000001,1.1000000000000001,2223,6292,6554,9565,191,541,564,823,0.64165808679597847,4.8599490065570379,5.2712218393505692,11.028120296891252,2.0829999999999999E-4,1.724,4,1.392796E-3,963.35813446001066,1003.4910975149082,1464.5,0.95,0.95,0.95,963,1003,1465,414,431,630,2.8848425296225417,3.1200973344986664,6.542211558205909,4.4000000000000004,15.5,16.8,27.5,null,3268.942028985507,null,0.68,null,null,0,10,11.1,21.85,null,1,1,1,963,1003,1465,null,0,0,0,1]
["15022016",null,null,1,50,220,16,16.5,0,26,30,47.8,2648.5014492753626,6291.7251954043459,6553.83496101116,9564.7000000000007,1.5,1.1000000000000001,1.1000000000000001,1.1000000000000001,2649,6292,6554,9565,228,541,564,823,0.90456998930286103,4.8599490065570379,5.2712218393505692,11.028120296891252,2.0829999999999999E-4,1.724,4,1.392796E-3,963.35813446001066,1003.4910975149082,1464.5,0.95,0.95,0.95,963,1003,1465,414,431,630,2.8848425296225417,3.1200973344986664,6.542211558205909,4.4000000000000004,15.5,16.8,27.5,null,3894.855072463768,null,0.68,null,null,0,10,11.1,21.85,null,1,1,1,963,1003,1465,null,0,0,0,1]
["16522016",null,null,1,65,220,16,16.5,0,26,30,47.8,3032.2579710144928,6291.7251954043459,6553.83496101116,9564.7000000000007,1.5,1.1000000000000001,1.1000000000000001,1.1000000000000001,3032,6292,6554,9565,261,541,564,823,1.1760100571474781,4.8599490065570379,5.2712218393505692,11.028120296891252,2.0829999999999999E-4,1.724,4,1.392796E-3,{"$f":"AK290*(1-(($E291-50)*0.005))","v":891.10627437550988},{"$f":"AL290*(1-(($E291-50)*0.005))","v":928.2292652012901},{"$f":"AM290*(1-(($E291-50)*0.005))","v":1354.6625000000001},0.95,0.95,0.95,891,928,1355,383,399,583,2.4791233352665301,2.6847693120569986,5.6233172989312203,4.4000000000000004,15.5,16.8,27.5,null,4459.2028985507241,null,0.68,null,null,0,10,11.1,21.85,null,1,1,1,891,928,1355,null,0,0,0,1]
["13522020",null,null,1,35,220,20,21.5,0,26,30,47.8,3381.9826086956527,5696.5662496175182,6224.1991397456159,8205.24,1.5,1.08,1.08,1.08,3382,5697,6224,8205,291,{"$f":"ROUND(V292*3600/(4186*ABS($O$1-$O$2)),0)","v":490},{"$f":"ROUND(W292*3600/(4186*ABS($O$1-$O$2)),0)","v":535},{"$f":"ROUND(X292*3600/(4186*ABS($O$1-$O$2)),0)","v":706},0.40242873515036232,1.1066428651103115,1.3128927046129348,2.2531321307295649,1.2760000000000001E-4,1.7219,2,3.76611E-4,704.00695650122941,769.21417236639559,1014.04,0.95,0.95,0.95,704,769,1014,303,331,436,0.43521399990720622,0.5165738484716168,0.88193136480825907,2.9,15.5,16.8,27.5,null,4227.4782608695659,null,0.8,null,null,0,10,11.1,21.85,null,1,1,1,704,769,1014,null,0,0,0,1]
["15022020",null,null,1,50,220,20,21.5,0,26,30,47.8,3981.2173913043475,5696.5662496175182,6224.1991397456159,8205.24,1.5,1.08,1.08,1.08,3981,5697,6224,8205,{"$f":"ROUND(U293*3600/(4186*ABS($O$1-$O$2)),0)","v":342},490,535,706,0.55039441240280296,1.1066428651103115,1.3128927046129348,2.2531321307295649,1.2760000000000001E-4,1.7219,2,3.76611E-4,704.00695650122941,769.21417236639559,1014.04,0.95,0.95,0.95,704,769,1014,303,331,436,0.43521399990720622,0.5165738484716168,0.88193136480825907,2.9,15.5,16.8,27.5,null,4976.5217391304341,null,0.8,null,null,0,10,11.1,21.85,null,1,1,1,704,769,1014,null,0,0,0,1]
["16522020",null,null,1,65,220,20,21.5,0,26,30,47.8,4408.0695652173918,5696.5662496175182,6224.1991397456159,8205.24,1.5,1.08,1.08,1.08,4408,5697,6224,8205,379,490,535,706,0.67182197926987675,1.1066428651103115,1.3128927046129348,2.2531321307295649,1.2760000000000001E-4,1.7219,2,3.76611E-4,704.00695650122941,769.21417236639559,1014.04,0.95,0.95,0.95,704,769,1014,303,331,436,0.43521399990720622,0.5165738484716168,0.88193136480825907,2.9,15.5,16.8,27.5,null,5510.0869565217399,null,0.8,null,null,0,10,11.1,21.85,null,1,1,1,704,769,1014,null,0,0,0,1]
["13522021",null,null,1,35,220,21,21.5,0,26,30,47.8,3470.9101449275363,8102.8384881891643,8440.3982243391856,12317.96,1.5,1.05,1.05,1.05,3471,8103,8440,12318,299,697,726,1059,0.63887956622722986,3.2570253321888645,3.523799431798829,7.3137051488079097,1.2760000000000001E-4,1.7219,4,5.1420100000000005E-4,1051.0569439418873,1094.8433905300585,1597.82,0.85,0.85,0.85,1051,1095,1598,452,471,687,1.4132675404061716,1.529835024440543,3.1674021588285153,5.9,15.5,16.8,27.5,null,4338.63768115942,null,0.8,null,null,0,10,11.1,21.85,null,1,1,1,1051,1095,1598,null,0,0,0,1]
["15022021",null,null,1,50,220,21,21.5,0,26,30,47.8,4239.1072463768114,8102.8384881891643,8440.3982243391856,12317.96,1.5,1.05,1.05,1.05,4239,8103,8440,12318,365,697,726,1059,0.93690906812916708,3.2570253321888645,3.523799431798829,7.3137051488079097,1.2760000000000001E-4,1.7219,4,5.1420100000000005E-4,1051.0569439418873,1094.8433905300585,1597.82,0.85,0.85,0.85,1051,1095,1598,452,471,687,1.4132675404061716,1.529835024440543,3.1674021588285153,5.9,15.5,16.8,27.5,null,5298.884057971014,null,0.8,null,null,0,10,11.1,21.85,null,1,1,1,1051,1095,1598,null,0,0,0,1]
["16522021",null,null,1,65,220,21,21.5,0,26,30,47.8,4974.4695652173923,8102.8384881891643,8440.3982243391856,12317.96,1.5,1.05,1.05,1.05,4974,8103,8440,12318,428,697,726,1059,1.2724309061679657,3.2570253321888645,3.523799431798829,7.3137051488079097,1.2760000000000001E-4,1.7219,4,5.1420100000000005E-4,{"$f":"AK296*(1-(($E297-50)*0.005))","v":972.22767314624582},{"$f":"AL296*(1-(($E297-50)*0.005))","v":1012.7301362403042},{"$f":"AM296*(1-(($E297-50)*0.005))","v":1477.9835},0.85,0.85,0.85,972,1013,1478,418,436,636,1.2158640841145845,1.3185807566597181,2.7292518146347087,5.9,15.5,16.8,27.5,null,6218.0869565217399,null,0.8,null,null,0,10,11.1,21.85,null,1,1,1,972,1013,1478,null,0,0,0,1]
["13524010",null,null,1,35,240,10,11.5,0,26,30,47.2,1939.5,3860.4188735925432,4228.9855673527691,5636.58,1.5,1.08,1.08,1.08,1940,3860,4229,5637,167,332,364,485,0.22623506990100389,0.81122806847196882,0.96312721192929007,1.6465778870546586,3.969E-4,1.7345999999999999,2,3.6734700000000002E-4,535.19789031294818,586.29496640731588,781.44,0.98,0.98,0.98,535,586,781,230,252,336,0.40968486620571454,0.48550351822928639,0.82954646870937465,1.6,14.8,16.600000000000001,28,null,2155,null,0.9,null,null,0,10.4,12.2,21.85,null,1,1,1,535,586,781,null,0,0,0,1]
["15024010",null,null,1,50,240,10,11.5,0,26,30,47.2,2323.8000000000002,3860.4188735925432,4228.9855673527691,5636.58,1.5,1.08,1.08,1.08,2324,3860,4229,5637,200,332,364,485,0.31604535694342939,0.81122806847196882,0.96312721192929007,1.6465778870546586,3.969E-4,1.7345999999999999,2,3.6734700000000002E-4,535.19789031294818,586.29496640731588,781.44,0.98,0.98,0.98,535,586,781,230,252,336,0.40968486620571454,0.48550351822928639,0.82954646870937465,1.6,14.8,16.600000000000001,28,null,2582,null,0.9,null,null,0,10.4,12.2,21.85,null,1,1,1,535,586,781,null,0,0,0,1]
["16524010",null,null,1,65,240,10,11.5,0,26,30,47.2,2615.4,3860.4188735925432,4228.9855673527691,5636.58,1.5,1.08,1.08,1.08,2615,3860,4229,5637,225,332,364,485,0.39329356962816536,0.81122806847196882,0.96312721192929007,1.6465778870546586,3.969E-4,1.7345999999999999,2,3.6734700000000002E-4,535.19789031294818,586.29496640731588,781.44,{"$f":"IF($G300=10,0.98,IF($G300=11,0.95,IF($G300=15,1.01,IF($G300=16,0.95,IF($G300=20,0.95,IF($G300=21,0.85))))))","v":0.98},0.98,0.98,535,586,781,230,252,336,0.40968486620571454,0.48550351822928639,0.82954646870937465,1.6,14.8,16.600000000000001,28,null,2906,null,0.9,null,null,0,10.4,12.2,21.85,null,1,1,1,535,586,781,null,0,0,0,1]
["13524011",null,null,1,35,240,11,11.5,0,26,30,47.2,1951.6000000000001,5237.9452617275747,5738.028861571599,7647.9,1.5,1.1000000000000001,1.1000000000000001,1.1000000000000001,1952,5238,5738,7648,168,450,493,658,0.41313440222929976,2.5443263605089523,3.0134634241110767,5.1519252843624956,3.969E-4,1.7345999999999999,4,5.7428799999999995E-4,877,961,1281,0.95,0.95,0.95,877,961,1281,377,413,551,1.8332088548014907,2.1703781533558777,3.704430979547201,3.2,14.8,16.600000000000001,28,null,2870,null,0.68,null,null,0,10.4,12.2,21.85,null,1,1,1,877,961,1281,null,0,0,0,1]
["15024011",null,null,1,50,240,11,11.5,0,26,30,47.2,2261.6800000000003,5237.9452617275747,5738.028861571599,7647.9,1.5,1.1000000000000001,1.1000000000000001,1.1000000000000001,2262,5238,5738,7648,195,450,493,658,0.54331204797764332,2.5443263605089523,3.0134634241110767,5.1519252843624956,3.969E-4,1.7345999999999999,4,5.7428799999999995E-4,877,961,1281,0.95,0.95,0.95,877,961,1281,377,413,551,1.8332088548014907,2.1703781533558777,3.704430979547201,3.2,14.8,16.600000000000001,28,null,3326,null,0.68,null,null,0,10.4,12.2,21.85,null,1,1,1,877,961,1281,null,0,0,0,1]
["16524011",null,null,1,65,240,11,11.5,0,26,30,47.2,2518.04,5237.9452617275747,5738.028861571599,7647.9,1.5,1.1000000000000001,1.1000000000000001,1.1000000000000001,2518,5238,5738,7648,217,450,493,658,0.66141399440896465,2.5443263605089523,3.0134634241110767,5.1519252843624956,3.969E-4,1.7345999999999999,4,5.7428799999999995E-4,{"$f":"AK302*(1-(($E303-50)*0.005))","v":811.22500000000002},{"$f":"AL302*(1-(($E303-50)*0.005))","v":888.92500000000007},{"$f":"AM302*(1-(($E303-50)*0.005))","v":1184.925},0.95,0.95,0.95,811,889,1185,349,382,510,1.5893381100358872,1.8784543295822771,3.209097991383699,3.2,14.8,16.600000000000001,28,null,3703,null,0.68,null,null,0,10.4,12.2,21.85,null,1,1,1,811,889,1185,null,0,0,0,1]
["13524015",null,null,1,35,240,15,16.5,0,26,30,48.1,2822.4,4729.715265656896,4901.7743245246338,7188.36,1.5,1.08,1.08,1.08,2822,4730,4902,7188,243,407,422,618,0.38666925929034957,1.0402677068624975,1.1152542227427753,2.3255236596425677,2.0829999999999999E-4,1.724,2,4.6182900000000003E-4,645.62512273636446,669.11187505864359,981.24,1.01,1.01,1.01,646,669,981,278,288,422,0.50037899202077363,0.5354561461459616,1.1152542227427753,2.4,16.399999999999999,17.7,29.7,null,3528,null,0.8,null,null,0,10,10.9,21.85,null,1,1,1,646,669,981,null,0,0,0,1]
["15024015",null,null,1,50,240,15,16.5,0,26,30,48.1,3329.6000000000004,4729.715265656896,4901.7743245246338,7188.36,1.5,1.08,1.08,1.08,3330,4730,4902,7188,286,407,422,618,0.52834895686585814,1.0402677068624975,1.1152542227427753,2.3255236596425677,2.0829999999999999E-4,1.724,2,4.6182900000000003E-4,645.62512273636446,669.11187505864359,981.24,1.01,1.01,1.01,646,669,981,278,288,422,0.50037899202077363,0.5354561461459616,1.1152542227427753,2.4,16.399999999999999,17.7,29.7,null,4162,null,0.8,null,null,0,10,10.9,21.85,null,1,1,1,646,669,981,null,0,0,0,1]
["16524015",null,null,1,65,240,15,16.5,0,26,30,48.1,3690.4,4729.715265656896,4901.7743245246338,7188.36,1.5,1.08,1.08,1.08,3690,4730,4902,7188,317,407,422,618,0.64365282070451957,1.0402677068624975,1.1152542227427753,2.3255236596425677,2.0829999999999999E-4,1.724,2,4.6182900000000003E-4,645.62512273636446,669.11187505864359,981.24,1.01,1.01,1.01,646,669,981,278,288,422,0.50037899202077363,0.5354561461459616,1.1152542227427753,2.4,16.399999999999999,17.7,29.7,null,4613,null,0.8,null,null,0,10,10.9,21.85,null,1,1,1,646,669,981,null,0,0,0,1]
["13524016",null,null,1,35,240,16,16.5,0,26,30,48.1,2599.6400000000003,6916.3686790875245,7167.9744986485921,10511.7,1.5,1.1000000000000001,1.1000000000000001,1.1000000000000001,2600,6916,7168,10512,224,595,616,904,0.89243154781380596,5.9505892618562521,6.3666227323503541,13.454619784961755,2.0829999999999999E-4,1.724,4,1.392796E-3,1059,1098,1610,0.95,0.95,0.95,1059,1098,1610,455,472,692,3.5300159430065703,3.7910912175214273,7.987173009623401,4.8,16.399999999999999,17.7,29.7,null,3823,null,0.68,null,null,0,10,10.9,21.85,null,1,1,1,1059,1098,1610,null,0,0,0,1]
["15024016",null,null,1,50,240,16,16.5,0,26,30,48.1,3097.4,6916.3686790875245,7167.9744986485921,10511.7,1.5,1.1000000000000001,1.1000000000000001,1.1000000000000001,3097,6916,7168,10512,266,595,616,904,1.2449094827936957,5.9505892618562521,6.3666227323503541,13.454619784961755,2.0829999999999999E-4,1.724,4,1.392796E-3,1059,1098,1610,0.95,0.95,0.95,1059,1098,1610,{"$f":"ROUND(AQ308*3600/(4186*ABS($AM$1-$AM$2)),0)","v":455},{"$f":"ROUND(AR308*3600/(4186*ABS($AM$1-$AM$2)),0)","v":472},{"$f":"ROUND(AS308*3600/(4186*ABS($AM$1-$AM$2)),0)","v":692},3.5300159430065703,3.7910912175214273,7.987173009623401,4.8,16.399999999999999,17.7,29.7,null,4555,null,0.68,null,null,0,10,10.9,21.85,null,1,1,1,1059,1098,1610,null,0,0,0,1]
["16524016",null,null,1,65,240,16,16.5,0,26,30,48.1,3546.2000000000003,6916.3686790875245,7167.9744986485921,10511.7,1.5,1.1000000000000001,1.1000000000000001,1.1000000000000001,3546,6916,7168,10512,305,595,616,904,1.6231198943338006,5.9505892618562521,6.3666227323503541,13.454619784961755,2.0829999999999999E-4,1.724,4,1.392796E-3,{"$f":"AK308*(1-(($E309-50)*0.005))","v":979.57500000000005},{"$f":"AL308*(1-(($E309-50)*0.005))","v":1015.6500000000001},{"$f":"AM308*(1-(($E309-50)*0.005))","v":1489.25},0.95,0.95,0.95,980,1016,1489,421,437,640,3.0352278492996239,3.2635202379938697,6.8589389653075363,4.8,16.399999999999999,17.7,29.7,null,5215,null,0.68,null,null,0,10,10.9,21.85,null,1,1,1,980,1016,1489,null,0,0,0,1]
["13524020",null,null,1,35,240,20,21.5,0,26,30,48.1,3955.2000000000003,6176.0620183272586,6765.7106634844222,9017.64,1.5,1.08,1.08,1.08,3955,6176,6766,9018,340,531,582,776,0.55559855006245917,1.3184926701217123,1.5755203313321131,2.756451557337142,1.2760000000000001E-4,1.7219,2,3.76611E-4,763.26517311676128,836.13657141043336,1114.44,0.95,0.95,0.95,763,836,1114,328,359,479,0.51827708039997999,0.61727233073709142,1.0794747424565225,3.2,16.399999999999999,17.7,29.7,null,4944,null,0.8,null,null,0,10,10.9,21.85,null,1,1,1,763,836,1114,null,0,0,0,1]
["15024020",null,null,1,50,240,20,21.5,0,26,30,48.1,4656,6176.0620183272586,6765.7106634844222,9017.64,1.5,1.08,1.08,1.08,4656,6176,6766,9018,400,531,582,776,0.76110794513187829,1.3184926701217123,1.5755203313321131,2.756451557337142,1.2760000000000001E-4,1.7219,2,3.76611E-4,763.26517311676128,836.13657141043336,1114.44,0.95,0.95,0.95,763,836,1114,328,359,479,0.51827708039997999,0.61727233073709142,1.0794747424565225,3.2,16.399999999999999,17.7,29.7,null,5820,null,0.8,null,null,0,10,10.9,21.85,null,1,1,1,763,836,1114,null,0,0,0,{"$f":"IF(SUM(BV311:BX311)=0,1,0)","v":1}]
["16524020",null,null,1,65,240,20,21.5,0,26,30,48.1,5155.2000000000007,6176.0620183272586,6765.7106634844222,9017.64,1.5,1.08,1.08,1.08,5155,6176,6766,9018,443,531,582,776,0.9276841307746988,1.3184926701217123,1.5755203313321131,2.756451557337142,1.2760000000000001E-4,1.7219,2,3.76611E-4,763.26517311676128,836.13657141043336,1114.44,0.95,0.95,0.95,763,836,1114,328,359,479,0.51827708039997999,0.61727233073709142,1.0794747424565225,3.2,16.399999999999999,17.7,29.7,null,6444,null,0.8,null,null,0,10,10.9,21.85,null,1,1,1,763,836,1114,null,0,0,0,1]
["13524021",null,null,1,35,240,21,21.5,0,26,30,48.1,4059.2000000000003,8907.2895892451361,9231.3217513746804,13537.56,1.5,1.05,1.05,1.05,4059,8907,9231,13538,349,766,794,1164,0.88352932833510711,4.0010729190713317,4.2877786386288861,8.9740973699602584,1.2760000000000001E-4,1.7219,4,5.1420100000000005E-4,1155.4060454399644,1197.4377673560793,1756.02,0.85,0.85,0.85,1155,1197,1756,497,515,755,1.7405492683847181,1.8636668369026486,3.8910739231720726,6.4,16.399999999999999,17.7,29.7,null,5074,null,0.8,null,null,0,10,10.9,21.85,null,1,1,1,1155,1197,1756,null,0,0,0,1]
["15024021",null,null,1,50,240,21,21.5,0,26,30,48.1,4957.6000000000004,8907.2895892451361,9231.3217513746804,13537.56,1.5,1.05,1.05,1.05,4958,8907,9231,13538,426,766,794,1164,1.2947269988938084,4.0010729190713317,4.2877786386288861,8.9740973699602584,1.2760000000000001E-4,1.7219,4,5.1420100000000005E-4,1155.4060454399644,1197.4377673560793,1756.02,0.85,0.85,0.85,1155,1197,1756,497,515,755,1.7405492683847181,1.8636668369026486,3.8910739231720726,6.4,16.399999999999999,17.7,29.7,null,6197,null,0.8,null,null,0,10,10.9,21.85,null,1,1,1,1155,1197,1756,null,0,0,0,1]
["16524021",null,null,1,65,240,21,21.5,0,26,30,48.1,5817.6,8907.2895892451361,9231.3217513746804,13537.56,1.5,1.05,1.05,1.05,5818,8907,9231,13538,500,766,794,1164,1.760786175999727,4.0010729190713317,4.2877786386288861,8.9740973699602584,1.2760000000000001E-4,1.7219,4,5.1420100000000005E-4,{"$f":"AK314*(1-(($E315-50)*0.005))","v":1068.750592031967},{"$f":"AL314*(1-(($E315-50)*0.005))","v":1107.6299348043735},{"$f":"AM314*(1-(($E315-50)*0.005))","v":1624.3185000000001},0.85,0.85,0.85,1069,1108,1624,460,476,698,1.500277154983225,1.6020615860345597,3.3449407424486819,6.4,16.399999999999999,17.7,29.7,null,7272,null,0.8,null,null,0,10,10.9,21.85,null,1,1,1,1069,1108,1624,null,0,0,0,1]
["13526010",null,null,1,35,260,10,11.5,0,26,30,47.8,2008.3752808988763,4178.1784000000007,4608.2849999999999,6144.38,1.5,1.08,1.08,1.08,2008,4178,4608,6144,173,359,396,528,0.25338429487049469,0.98066442194259407,1.1770680299869807,2.0125184153009763,3.969E-4,1.7345999999999999,2,3.6734700000000002E-4,579.25120000000004,638.88,851.84,0.98,0.98,0.98,579,639,852,249,275,366,0.4971168110898011,0.59766089099899167,1.0165350975712137,1.7,16.2,18.600000000000001,31.4,null,{"$f":"(BE334/(F334-102))*(F316-102)","v":2231.5280898876404},null,0.9,null,null,0,10.199999999999999,11.9,21.85,null,1,1,1,579,639,852,null,0,0,0,1]
["15026010",null,null,1,50,260,10,11.5,0,26,30,47.8,2407.0146067415731,4178.1784000000007,4608.2849999999999,6144.38,1.5,1.08,1.08,1.08,2407,4178,4608,6144,207,359,396,528,0.35307076028701984,0.98066442194259407,1.1770680299869807,2.0125184153009763,3.969E-4,1.7345999999999999,2,3.6734700000000002E-4,579.25120000000004,638.88,851.84,0.98,0.98,0.98,579,639,852,249,275,366,0.4971168110898011,0.59766089099899167,1.0165350975712137,1.7,16.2,18.600000000000001,31.4,null,2674.4606741573034,null,0.9,null,null,0,10.199999999999999,11.9,21.85,null,1,1,1,579,639,852,null,0,0,0,1]
["16526010",null,null,1,65,260,10,11.5,0,26,30,47.8,2708.9898876404495,4178.1784000000007,4608.2849999999999,6144.38,1.5,1.08,1.08,1.08,2709,4178,4608,6144,233,359,396,528,0.43954792716925295,0.98066442194259407,1.1770680299869807,2.0125184153009763,3.969E-4,1.7345999999999999,2,3.6734700000000002E-4,579.25120000000004,638.88,851.84,0.98,0.98,0.98,579,639,852,249,275,366,0.4971168110898011,0.59766089099899167,1.0165350975712137,1.7,16.2,18.600000000000001,31.4,null,3009.9887640449438,null,0.9,null,null,0,10.199999999999999,11.9,21.85,null,1,1,1,579,639,852,null,0,0,0,1]
["13526011",null,null,1,35,260,11,11.5,0,26,30,47.8,2021.4413483146068,5669.0920000000006,6252.6749999999993,8336.9,1.5,1.1000000000000001,1.1000000000000001,1.1000000000000001,2021,5669,6253,8337,174,488,538,717,0.46460050005895559,3.1003441376081904,3.7135384223781238,6.3239752846398876,3.969E-4,1.7345999999999999,4,5.7428799999999995E-4,949.51120000000003,1047.2549999999999,1396.34,0.95,0.95,0.95,950,1047,1396,409,450,600,2.2371204011135477,2.6688522314760581,4.5447894857124886,3.5,16.2,18.600000000000001,31.4,null,2972.7078651685392,null,0.68,null,null,0,10.199999999999999,11.9,21.85,null,1,1,1,950,1047,1396,null,0,0,0,1]
["15026011",null,null,1,50,260,11,11.5,0,26,30,47.8,2342.5541573033711,5669.0920000000006,6252.6749999999993,8336.9,1.5,1.1000000000000001,1.1000000000000001,1.1000000000000001,2343,5669,6253,8337,202,488,538,717,0.61076255626223175,3.1003441376081904,3.7135384223781238,6.3239752846398876,3.969E-4,1.7345999999999999,4,5.7428799999999995E-4,949.51120000000003,1047.2549999999999,1396.34,0.95,0.95,0.95,950,1047,1396,409,450,600,2.2371204011135477,2.6688522314760581,4.5447894857124886,3.5,16.2,18.600000000000001,31.4,null,3444.932584269663,null,0.68,null,null,0,10.199999999999999,11.9,21.85,null,1,1,1,950,1047,1396,null,0,0,0,1]
["16526011",null,null,1,65,260,11,11.5,0,26,30,47.8,2607.5325842696629,5669.0920000000006,6252.6749999999993,8336.9,1.5,1.1000000000000001,1.1000000000000001,1.1000000000000001,2608,5669,6253,8337,224,488,538,717,0.73836109683452289,3.1003441376081904,3.7135384223781238,6.3239752846398876,3.969E-4,1.7345999999999999,4,5.7428799999999995E-4,{"$f":"AK320*(1-(($E321-50)*0.005))","v":878.29786000000001},{"$f":"AL320*(1-(($E321-50)*0.005))","v":968.71087499999999},{"$f":"AM320*(1-(($E321-50)*0.005))","v":1291.6144999999999},0.95,0.95,0.95,878,969,1292,378,417,556,1.9342437605196754,2.3185855639535426,3.9468239703814647,3.5,16.2,18.600000000000001,31.4,null,3834.6067415730336,null,0.68,null,null,0,10.199999999999999,11.9,21.85,null,1,1,1,878,969,1292,null,0,0,0,1]
["13526015",null,null,1,35,260,15,16.5,0,26,30,48.1,2922.8224719101127,4942.1733310961072,5121.9619484404784,7511.2599999999993,1.5,1.08,1.08,1.08,2923,4942,5122,7511,251,425,440,646,0.42260878463295171,1.1583081112063738,1.2380335504785773,2.5902194067464457,2.0829999999999999E-4,1.724,2,4.6182900000000003E-4,653.91552727192982,677.70396216321694,993.84,1.01,1.01,1.01,654,678,994,281,292,427,0.52438185580177876,0.5643390276130934,1.1687899905071639,2.6,16.399999999999999,17.7,29.7,null,3653.5280898876404,null,0.8,null,null,0,10,10.9,21.85,null,1,1,1,654,678,994,null,0,0,0,1]
["15026015",null,null,1,50,260,15,16.5,0,26,30,48.1,3447.5955056179773,4942.1733310961072,5121.9619484404784,7511.2599999999993,1.5,1.08,1.08,1.08,3448,4942,5122,7511,297,425,440,646,0.58296814060344337,1.1583081112063738,1.2380335504785773,2.5902194067464457,2.0829999999999999E-4,1.724,2,4.6182900000000003E-4,653.91552727192982,677.70396216321694,993.84,1.01,1.01,1.01,654,678,994,281,292,427,0.52438185580177876,0.5643390276130934,1.1687899905071639,2.6,16.399999999999999,17.7,29.7,null,4309.4943820224717,null,0.8,null,null,0,10,10.9,21.85,null,1,1,1,654,678,994,null,0,0,0,1]
["16526015",null,null,1,65,260,15,16.5,0,26,30,48.1,3821.8247191011237,4942.1733310961072,5121.9619484404784,7511.2599999999993,1.5,1.08,1.08,1.08,3822,4942,5122,7511,329,425,440,646,0.7090799027874124,1.1583081112063738,1.2380335504785773,2.5902194067464457,2.0829999999999999E-4,1.724,2,4.6182900000000003E-4,653.91552727192982,677.70396216321694,993.84,1.01,1.01,1.01,654,678,994,281,292,427,0.52438185580177876,0.5643390276130934,1.1687899905071639,2.6,16.399999999999999,17.7,29.7,null,4777.2808988764045,null,0.8,null,null,0,10,10.9,21.85,null,1,1,1,654,678,994,null,0,0,0,1]
["13526016",null,null,1,35,260,16,16.5,0,26,30,48.1,2692.0359550561798,7342.4691534710291,7609.5768181679023,11159.300000000001,1.5,1.1000000000000001,1.1000000000000001,1.1000000000000001,2692,7342,7610,11159,232,631,654,960,0.97471715892141964,6.7819280650427034,7.2711118135096351,15.356693366889139,2.0829999999999999E-4,1.724,4,1.392796E-3,1068.8700133353962,1107.7538502516963,1624.5,0.95,0.95,0.95,1069,1108,1625,460,476,699,3.66947790801381,3.9213280612116019,8.2763568685468254,5.2,16.399999999999999,17.7,29.7,null,3958.8764044943819,null,0.68,null,null,0,10,10.9,21.85,null,1,1,1,1069,1108,1625,null,0,0,0,1]
["15026016",null,null,1,50,260,16,16.5,0,26,30,48.1,3207.5065168539327,7342.4691534710291,7609.5768181679023,11159.300000000001,1.5,1.1000000000000001,1.1000000000000001,1.1000000000000001,3208,7342,7610,11159,276,631,654,960,1.3635971028929672,6.7819280650427034,7.2711118135096351,15.356693366889139,2.0829999999999999E-4,1.724,4,1.392796E-3,1068.8700133353962,1107.7538502516963,1624.5,0.95,0.95,0.95,1069,1108,1625,460,476,699,3.66947790801381,3.9213280612116019,8.2763568685468254,5.2,16.399999999999999,17.7,29.7,null,4716.9213483146068,null,0.68,null,null,0,10,10.9,21.85,null,1,1,1,1069,1108,1625,null,0,0,0,1]
["16526016",null,null,1,65,260,16,16.5,0,26,30,48.1,3672.2750561797752,7342.4691534710291,7609.5768181679023,11159.300000000001,1.5,1.1000000000000001,1.1000000000000001,1.1000000000000001,3672,7342,7610,11159,316,631,654,960,1.7719189328029494,6.7819280650427034,7.2711118135096351,15.356693366889139,2.0829999999999999E-4,1.724,4,1.392796E-3,{"$f":"AK326*(1-(($E327-50)*0.005))","v":988.70476233524153},{"$f":"AL326*(1-(($E327-50)*0.005))","v":1024.6723114828192},{"$f":"AM326*(1-(($E327-50)*0.005))","v":1502.6625000000001},0.95,0.95,0.95,989,1025,1503,425,441,646,3.1470491246627477,3.3810160108754932,7.0990709908512901,5.2,16.399999999999999,17.7,29.7,null,5400.4044943820218,null,0.68,null,null,0,10,10.9,21.85,null,1,1,1,989,1025,1503,null,0,0,0,1]
["13526020",null,null,1,35,260,20,21.5,0,26,30,48.1,4095.9280898876405,6444.5232000000005,7107.93,9477.24,1.5,1.08,1.08,1.08,4096,6445,7108,9477,352,554,611,815,0.60631731933689703,1.4581371213480712,1.7629893390377123,3.0840089604891157,1.2760000000000001E-4,1.7219,2,3.76611E-4,768.42720000000008,847.53,1130.04,0.95,0.95,0.95,768,848,1130,330,365,486,0.53526796134941879,0.65032127694667174,1.1314386418343181,3.5,16.399999999999999,17.7,29.7,null,5119.9101123595501,null,0.8,null,null,0,10,10.9,21.85,null,1,1,1,768,848,1130,null,0,0,0,1]
["15026020",null,null,1,50,260,20,21.5,0,26,30,48.1,4821.6629213483147,6444.5232000000005,7107.93,9477.24,1.5,1.08,1.08,1.08,4822,6445,7108,9477,415,554,611,815,0.83350325055270258,1.4581371213480712,1.7629893390377123,3.0840089604891157,1.2760000000000001E-4,1.7219,2,3.76611E-4,768.42720000000008,847.53,1130.04,0.95,0.95,0.95,768,848,1130,330,365,486,0.53526796134941879,0.65032127694667174,1.1314386418343181,3.5,16.399999999999999,17.7,29.7,null,6027.0786516853932,null,0.8,null,null,0,10,10.9,21.85,null,1,1,1,768,848,1130,null,0,0,0,1]
["16526020",null,null,1,65,260,20,21.5,0,26,30,48.1,5338.6247191011244,6444.5232000000005,7107.93,9477.24,1.5,1.08,1.08,1.08,5339,6445,7108,9477,459,554,611,815,1.0129267883194837,1.4581371213480712,1.7629893390377123,3.0840089604891157,1.2760000000000001E-4,1.7219,2,3.76611E-4,768.42720000000008,847.53,1130.04,0.95,0.95,0.95,768,848,1130,330,365,486,0.53526796134941879,0.65032127694667174,1.1314386418343181,3.5,16.399999999999999,17.7,29.7,null,6673.2808988764045,null,0.8,null,null,0,10,10.9,21.85,null,1,1,1,768,848,1130,null,0,0,0,1]
["13526021",null,null,1,35,260,21,21.5,0,26,30,48.1,4203.1550561797758,9234.8263652613623,9570.7750567366256,14035.359999999999,1.5,1.05,1.05,1.05,4203,9235,9571,14035,361,794,823,1207,0.96797928137109213,4.3862630877952062,4.6996233793878117,9.8287737597437417,1.2760000000000001E-4,1.7219,4,5.1420100000000005E-4,1167.5126679363457,1209.9849719689844,1774.42,0.85,0.85,0.85,1168,1210,1774,502,520,763,1.8190609839698662,1.9461054883013664,4.0628828592588073,6.9,16.399999999999999,17.7,29.7,null,5253.9438202247193,null,0.8,null,null,0,10,10.9,21.85,null,1,1,1,1168,1210,1774,null,0,0,0,1]
["15026021",null,null,1,50,260,21,21.5,0,26,30,48.1,5134.1123595505624,9234.8263652613623,9570.7750567366256,14035.359999999999,1.5,1.05,1.05,1.05,5134,9235,9571,14035,442,794,823,1207,1.4255527177399208,4.3862630877952062,4.6996233793878117,9.8287737597437417,1.2760000000000001E-4,1.7219,4,5.1420100000000005E-4,1167.5126679363457,1209.9849719689844,1774.42,0.85,0.85,0.85,1168,1210,1774,502,520,763,1.8190609839698662,1.9461054883013664,4.0628828592588073,6.9,16.399999999999999,17.7,29.7,null,6417.6404494382023,null,0.8,null,null,0,10,10.9,21.85,null,1,1,1,1168,1210,1774,null,0,0,0,1]
["16526021",null,null,1,65,260,21,21.5,0,26,30,48.1,6024.5932584269667,9234.8263652613623,9570.7750567366256,14035.359999999999,1.5,1.05,1.05,1.05,6025,9235,9571,14035,518,794,823,1207,1.9317851050762744,4.3862630877952062,4.6996233793878117,9.8287737597437417,1.2760000000000001E-4,1.7219,4,5.1420100000000005E-4,{"$f":"AK332*(1-(($E333-50)*0.005))","v":1079.9492178411199},{"$f":"AL332*(1-(($E333-50)*0.005))","v":1119.2360990713107},{"$f":"AM332*(1-(($E333-50)*0.005))","v":1641.3385000000001},0.85,0.85,0.85,1080,1119,1641,464,481,706,1.5644725083651521,1.6760794134881409,3.4996239591687601,6.9,16.399999999999999,17.7,29.7,null,7530.7415730337079,null,0.8,null,null,0,10,10.9,21.85,null,1,1,1,1080,1119,1641,null,0,0,0,1]
["13528010",null,null,1,35,280,10,11.5,0,26,30,47.8,2262.6,4331.3824000000004,4782.2249168521384,6369.68,1.5,1.08,1.08,1.08,2263,4331,4782,6370,195,372,411,548,0.33073710924098865,1.0925143603098122,1.3146532792613241,2.2448293163328641,3.969E-4,1.7345999999999999,2,3.6734700000000002E-4,587.68320000000006,648.85364133524638,864.24,0.98,0.98,0.98,588,649,864,{"$f":"ROUND(AQ334*3600/(4186*ABS($AM$1-$AM$2)),0)","v":253},{"$f":"ROUND(AR334*3600/(4186*ABS($AM$1-$AM$2)),0)","v":279},{"$f":"ROUND(AS334*3600/(4186*ABS($AM$1-$AM$2)),0)","v":372},0.53495403421136267,0.64106400571541289,1.0925143603098122,1.9,16.2,18.600000000000001,31.4,null,2514,null,0.9,null,null,0,10.199999999999999,11.9,21.85,null,1,1,1,588,649,864,null,0,0,0,1]
["15028010",null,null,1,50,280,10,11.5,0,26,30,47.8,2711.7000000000003,4331.3824000000004,4782.2249168521384,6369.68,1.5,1.08,1.08,1.08,2712,4331,4782,6370,233,372,411,548,0.45942638764122801,1.0925143603098122,1.3146532792613241,2.2448293163328641,3.969E-4,1.7345999999999999,2,3.6734700000000002E-4,587.68320000000006,648.85364133524638,864.24,0.98,0.98,0.98,588,649,864,253,279,372,0.53495403421136267,0.64106400571541289,1.0925143603098122,1.9,16.2,18.600000000000001,31.4,null,3013,null,0.9,null,null,0,10.199999999999999,11.9,21.85,null,1,1,1,588,649,864,null,0,0,0,1]
["16528010",null,null,1,65,280,10,11.5,0,26,30,47.8,3051.9,4331.3824000000004,4782.2249168521384,6369.68,1.5,1.08,1.08,1.08,3052,4331,4782,6370,262,372,411,548,0.57067533753276223,1.0925143603098122,1.3146532792613241,2.2448293163328641,3.969E-4,1.7345999999999999,2,3.6734700000000002E-4,587.68320000000006,648.85364133524638,864.24,0.98,0.98,0.98,588,649,864,253,279,372,0.53495403421136267,0.64106400571541289,1.0925143603098122,1.9,16.2,18.600000000000001,31.4,null,3391,null,0.9,null,null,0,10.199999999999999,11.9,21.85,null,1,1,1,588,649,864,null,0,0,0,1]
["13528011",null,null,1,35,280,11,11.5,0,26,30,47.8,2277.3200000000002,5976.8600000000006,6598.9760720588583,8789.5,1.5,1.1000000000000001,1.1000000000000001,1.1000000000000001,2277,5977,6599,8790,196,514,568,756,0.60735546312358935,3.5696256833176774,4.2925175377176981,7.2836639593144552,3.969E-4,1.7345999999999999,4,5.7428799999999995E-4,956,1056,1406,0.95,0.95,0.95,956,1056,1406,411,454,605,2.3637663276478489,2.839310118041396,4.8232973600811606,3.7,16.2,18.600000000000001,31.4,null,3349,null,0.68,null,null,0,10.199999999999999,11.9,21.85,null,1,1,1,956,1056,1406,null,0,0,0,1]
["15028011",null,null,1,50,280,11,11.5,0,26,30,47.8,2639.0800000000004,5976.8600000000006,6598.9760720588583,8789.5,1.5,1.1000000000000001,1.1000000000000001,1.1000000000000001,2639,5977,6599,8790,227,514,568,756,0.7946184991752977,3.5696256833176774,4.2925175377176981,7.2836639593144552,3.969E-4,1.7345999999999999,4,5.7428799999999995E-4,956,1056,1406,0.95,0.95,0.95,956,1056,1406,411,454,605,2.3637663276478489,2.839310118041396,4.8232973600811606,3.7,16.2,18.600000000000001,31.4,null,3881,null,0.68,null,null,0,10.199999999999999,11.9,21.85,null,1,1,1,956,1056,1406,null,0,0,0,1]
["16528011",null,null,1,65,280,11,11.5,0,26,30,47.8,2937.6000000000004,5976.8600000000006,6598.9760720588583,8789.5,1.5,1.1000000000000001,1.1000000000000001,1.1000000000000001,2938,5977,6599,8790,253,514,568,756,0.96928727741352527,3.5696256833176774,4.2925175377176981,7.2836639593144552,3.969E-4,1.7345999999999999,4,5.7428799999999995E-4,{"$f":"AK338*(1-(($E339-50)*0.005))","v":884.30000000000007},{"$f":"AL338*(1-(($E339-50)*0.005))","v":976.80000000000007},{"$f":"AM338*(1-(($E339-50)*0.005))","v":1300.55},0.95,0.95,0.95,884,977,1301,380,420,559,2.0460407658680859,2.4599633456360963,4.1677552317663364,3.7,16.2,18.600000000000001,31.4,null,4320,null,0.68,null,null,0,10.199999999999999,11.9,21.85,null,1,1,1,884,977,1301,null,0,0,0,1]
["13528015",null,null,1,35,280,15,16.5,0,26,30,48.9,3292.8,5583.9635634029,5708.9475468201636,8483.56,1.5,1.08,1.08,1.08,3293,5584,5709,8484,283,480,491,730,0.54530917131628387,1.4973769906672623,1.5638277222676435,3.3484388456827587,2.0829999999999999E-4,1.724,2,4.6182900000000003E-4,762.23344503523219,779.29426056038062,1158.04,1.01,1.01,1.01,762,779,1158,328,335,498,0.72271492130345638,0.75246226647382841,1.6068391234938044,2.8,19.3,20.399999999999999,34.5,null,4116,null,0.8,null,null,0,10,10.6,21.85,null,1,1,1,762,779,1158,null,0,0,0,1]
["15028015",null,null,1,50,280,15,16.5,0,26,30,48.9,3884,5583.9635634029,5708.9475468201636,8483.56,1.5,1.08,1.08,1.08,3884,5584,5709,8484,334,480,491,730,0.74817731274269961,1.4973769906672623,1.5638277222676435,3.3484388456827587,2.0829999999999999E-4,1.724,2,4.6182900000000003E-4,762.23344503523219,779.29426056038062,1158.04,1.01,1.01,1.01,762,779,1158,328,335,498,0.72271492130345638,0.75246226647382841,1.6068391234938044,2.8,19.3,20.399999999999999,34.5,null,4855,null,0.8,null,null,0,10,10.6,21.85,null,1,1,1,762,779,1158,null,0,0,0,1]
["16528015",null,null,1,65,280,15,16.5,0,26,30,48.9,4305.6000000000004,5583.9635634029,5708.9475468201636,8483.56,1.5,1.08,1.08,1.08,4306,5584,5709,8484,370,480,491,730,0.90983629559212797,1.4973769906672623,1.5638277222676435,3.3484388456827587,2.0829999999999999E-4,1.724,2,4.6182900000000003E-4,762.23344503523219,779.29426056038062,1158.04,1.01,1.01,1.01,762,779,1158,328,335,498,0.72271492130345638,0.75246226647382841,1.6068391234938044,2.8,19.3,20.399999999999999,34.5,null,5382,null,0.8,null,null,0,10,10.6,21.85,null,1,1,1,762,779,1158,null,0,0,0,1]
["13528016",null,null,1,35,280,16,16.5,0,26,30,48.9,3032.8,8165.5551181941737,8348.321999442087,12405.7,1.5,1.1000000000000001,1.1000000000000001,1.1000000000000001,3033,8166,8348,12406,261,702,718,1067,1.2478580800805554,8.4774891611896983,8.8569732543318711,19.143477613141926,2.0829999999999999E-4,1.724,4,1.392796E-3,1250,1278,1900,0.95,0.95,0.95,1250,1278,1900,538,550,817,5.0575445569651576,5.2786547361922693,11.385263573722288,5.6,19.3,20.399999999999999,34.5,null,4460,null,0.68,null,null,0,10,10.6,21.85,null,1,1,1,1250,1278,1900,null,0,0,0,1]
["15028016",null,null,1,50,280,16,16.5,0,26,30,48.9,3613.5200000000004,8165.5551181941737,8348.321999442087,12405.7,1.5,1.1000000000000001,1.1000000000000001,1.1000000000000001,3614,8166,8348,12406,311,702,718,1067,1.7504351207217188,8.4774891611896983,8.8569732543318711,19.143477613141926,2.0829999999999999E-4,1.724,4,1.392796E-3,1250,1278,1900,0.95,0.95,0.95,1250,1278,1900,538,550,817,5.0575445569651576,5.2786547361922693,11.385263573722288,5.6,19.3,20.399999999999999,34.5,null,5314,null,0.68,null,null,0,10,10.6,21.85,null,1,1,1,1250,1278,1900,null,0,0,0,1]
["16528016",null,null,1,65,280,16,16.5,0,26,30,48.9,4137.12,8165.5551181941737,8348.321999442087,12405.7,1.5,1.1000000000000001,1.1000000000000001,1.1000000000000001,4137,8166,8348,12406,356,702,718,1067,2.2729997247937281,8.4774891611896983,8.8569732543318711,19.143477613141926,2.0829999999999999E-4,1.724,4,1.392796E-3,{"$f":"AK344*(1-(($E345-50)*0.005))","v":1156.25},{"$f":"AL344*(1-(($E345-50)*0.005))","v":1182.1500000000001},{"$f":"AM344*(1-(($E345-50)*0.005))","v":1757.5},0.95,0.95,0.95,1156,1182,1758,497,508,756,4.3369571358382482,4.5249837568654003,9.7907661330203499,5.6,19.3,20.399999999999999,34.5,null,6084,null,0.68,null,null,0,10,10.6,21.85,null,1,1,1,1156,1182,1758,null,0,0,0,1]
["13528020",null,null,1,35,280,20,21.5,0,26,30,48.9,4614.4000000000005,7236.8592000000008,7990.1253664397382,10642.44,1.5,1.08,1.08,1.08,4614,7237,7990,10642,397,622,687,915,0.77994178564557815,1.8574060664841625,2.2516092472705127,3.9248647156049832,1.2760000000000001E-4,1.7219,2,3.76611E-4,894.36320000000012,987.455178225689,1315.24,0.95,0.95,0.95,894,987,1315,384,424,565,0.73142402444564503,0.88553710556508203,1.5421797125957473,3.7,19.3,20.399999999999999,34.5,null,5768,null,0.8,null,null,0,10,10.6,21.85,null,1,1,1,894,987,1315,null,0,0,0,1]
["15028020",null,null,1,50,280,20,21.5,0,26,30,48.9,5432,7236.8592000000008,7990.1253664397382,10642.44,1.5,1.08,1.08,1.08,5432,7237,7990,10642,467,622,687,915,1.0671195357136016,1.8574060664841625,2.2516092472705127,3.9248647156049832,1.2760000000000001E-4,1.7219,2,3.76611E-4,894.36320000000012,987.455178225689,1315.24,0.95,0.95,0.95,894,987,1315,384,424,565,0.73142402444564503,0.88553710556508203,1.5421797125957473,3.7,19.3,20.399999999999999,34.5,null,6790,null,0.8,null,null,0,10,10.6,21.85,null,1,1,1,894,987,1315,null,0,0,0,1]
["16528020",null,null,1,65,280,20,21.5,0,26,30,48.9,{"$f":"IF($N348-($BE348*$BG348)>100,$BE348*$BG348,$N348-95)","v":6014.4000000000005},7236.8592000000008,7990.1253664397382,10642.44,1.5,1.08,1.08,1.08,{"$f":"ROUND(M348*POWER(CF_heat,Q348),0)","v":6014},{"$f":"ROUND(N348*POWER(CF_heat,R348),0)","v":7237},{"$f":"ROUND(O348*POWER(CF_heat,S348),0)","v":7990},{"$f":"ROUND(P348*POWER(CF_heat,T348),0)","v":10642},517,622,687,915,1.2988948651521557,1.8574060664841625,2.2516092472705127,3.9248647156049832,{"$f":"IF($G348=$CO$103,CP$103,IF($G348=$CO$104,CP$104,IF($G348=$CO$105,CP$105,IF($G348=$CO$107,CP$107,IF($G348=$CO$108,CP$108,IF($G348=$CO$109,CP$109,IF($G348=$CO$111,CP$111,IF($G348=$CO$112,CP$112,IF($G348=$CO$113,CP$113,IF($G348=$CO$115,CP$115,IF($G348=$CO$116,CP$116,IF($G348=$CO$117,CP$117,IF($G348=$CO$119,CP$119,IF($G348=$CO$120,CP$120,))))))))))))))","v":1.2760000000000001E-4},{"$f":"IF($G348=$CO$103,CQ$103,IF($G348=$CO$104,CQ$104,IF($G348=$CO$105,CQ$105,IF($G348=$CO$107,CQ$107,IF($G348=$CO$108,CQ$108,IF($G348=$CO$109,CQ$109,IF($G348=$CO$111,CQ$111,IF($G348=$CO$112,CQ$112,IF($G348=$CO$113,CQ$113,IF($G348=$CO$115,CQ$115,IF($G348=$CO$116,CQ$116,IF($G348=$CO$117,CQ$117,IF($G348=$CO$119,CQ$119,IF($G348=$CO$120,CQ$120,))))))))))))))","v":1.7219},{"$f":"IF($G348=$CO$103,CR$103,IF($G348=$CO$104,CR$104,IF($G348=$CO$105,CR$105,IF($G348=$CO$107,CR$107,IF($G348=$CO$108,CR$108,IF($G348=$CO$109,CR$109,IF($G348=$CO$111,CR$111,IF($G348=$CO$112,CR$112,IF($G348=$CO$113,CR$113,IF($G348=$CO$115,CR$115,IF($G348=$CO$116,CR$116,IF($G348=$CO$117,CR$117,IF($G348=$CO$119,CR$119,IF($G348=$CO$120,CR$120,))))))))))))))","v":2},{"$f":"IF($G348=$CO$103,CS$103,IF($G348=$CO$104,CS$104,IF($G348=$CO$105,CS$105,IF($G348=$CO$107,CS$107,IF($G348=$CO$108,CS$108,IF($G348=$CO$109,CS$109,IF($G348=$CO$111,CS$111,IF($G348=$CO$112,CS$112,IF($G348=$CO$113,CS$113,IF($G348=$CO$115,CS$115,IF($G348=$CO$116,CS$116,IF($G348=$CO$117,CS$117,IF($G348=$CO$119,CS$119,IF($G348=$CO$120,CS$120,))))))))))))))","v":3.76611E-4},894.36320000000012,987.455178225689,1315.24,0.95,0.95,0.95,{"$f":"ROUND(AK348*POWER(CF_cool,AN348),0)","v":894},{"$f":"ROUND(AL348*POWER(CF_cool,AO348),0)","v":987},{"$f":"ROUND(AM348*POWER(CF_cool,AP348),0)","v":1315},384,424,565,0.73142402444564503,0.88553710556508203,1.5421797125957473,{"$f":"ROUND(IF(G348=10,$CO$92*F348,IF(G348=11,$CO$93*F348,IF(G348=15,$CO$94*F348,IF(G348=16,$CO$95*F348,IF(G348=20,$CO$96*F348,IF(G348=21,$CO$97*F348,)))))),1)","v":3.7},19.3,20.399999999999999,34.5,null,7518,null,{"$f":"IF(G348=10,0.9,IF(G348=11,0.68,IF(G348=15,0.8,IF(G348=16,0.68,IF(G348=20,0.8,IF(G348=21,0.8))))))","v":0.8},null,null,0,10,10.6,21.85,null,1,1,1,{"$f":"AQ348/BO348","v":894},987,1315,null,{"$f":"BR348-AQ348","v":0},{"$f":"BS348-AR348","v":0},{"$f":"BT348-AS348","v":0},1]
[{"$f":"CONCATENATE(D349,E349,F349,G349)","v":"13528021"},null,null,1,35,280,21,21.5,0,26,30,48.9,4735.2,10516.06232539558,10751.439821034392,15976.76,1.5,{"$f":"IF($G349=10,1.08,IF($G349=11,1.1,IF($G349=15,1.08,IF($G349=16,1.1,IF($G349=20,1.08,IF($G349=21,1.05))))))","v":1.05},1.05,1.05,4735,10516,10751,15977,407,904,925,1374,{"$f":"(($AG349*(Y349^$AH349)*((($F349-14.4)*$AI349)/100))+($AJ349*(Y349^2)))*0.0098","v":1.2485667297738259},{"$f":"(($AG349*(Z349^$AH349)*((($F349-14.4)*$AI349)/100))+($AJ349*(Z349^2)))*0.0098","v":5.75336682600242},{"$f":"(($AG349*(AA349^$AH349)*((($F349-14.4)*$AI349)/100))+($AJ349*(AA349^2)))*0.0098","v":6.0128744748590695},{"$f":"(($AG349*(AB349^$AH349)*((($F349-14.4)*$AI349)/100))+($AJ349*(AB349^2)))*0.0098","v":12.875842236012033},1.2760000000000001E-4,1.7219,4,5.1420100000000005E-4,1364.0874548028703,1394.6193667494595,2072.42,0.85,0.85,0.85,1364,1395,2072,587,600,891,{"$f":"(($AG349*(AT349^$AH349)*((($F349-14.4)*$AI349)/100))+($AJ349*(AT349^2)))*0.0098","v":2.5138101209572565},{"$f":"(($AG349*(AU349^$AH349)*((($F349-14.4)*$AI349)/100))+($AJ349*(AU349^2)))*0.0098","v":2.6214541033696332},{"$f":"(($AG349*(AV349^$AH349)*((($F349-14.4)*$AI349)/100))+($AJ349*(AV349^2)))*0.0098","v":5.5954958100538708},7.5,19.3,20.399999999999999,34.5,null,5919,null,0.8,null,null,0,10,10.6,21.85,null,1,1,1,1364,{"$f":"AR349/BP349","v":1395},{"$f":"AS349/BQ349","v":2072},null,0,0,0,1]
["15028021",null,null,1,50,280,21,21.5,0,26,30,48.9,5784,10516.06232539558,10751.439821034392,15976.76,1.5,1.05,1.05,1.05,5784,10516,10751,15977,{"$f":"ROUND(U350*3600/(4186*ABS($O$1-$O$2)),0)","v":497},904,925,1374,1.8284622072599876,5.75336682600242,6.0128744748590695,12.875842236012033,1.2760000000000001E-4,1.7219,4,5.1420100000000005E-4,1364.0874548028703,1394.6193667494595,2072.42,0.85,0.85,0.85,1364,1395,2072,587,600,891,2.5138101209572565,2.6214541033696332,5.5954958100538708,7.5,19.3,20.399999999999999,34.5,null,7230,null,0.8,null,null,0,10,10.6,21.85,null,{"$f":"IF((237.3*LN(($AQ$1*EXP(17.27*($AM$3/($AM$3+237.3))))))/(17.27-LN(($AQ$1*EXP(17.27*($AM$3/($AM$3+237.3))))))<(($AM$1+$AM$2)/2),1,IF(1/(1+((2258*((0.622/((101325/(1*611*EXP(17.27*((($AM$1+$AM$2)/2)/((($AM$1+$AM$2)/2)+237.3))))))-1)*1000-(0.622/((101325/($AQ$1*611*EXP(17.27*($AM$3/($AM$3+237.3))))))-1)*1000))/(1005*((($AM$1+$AM$2)/2)-$AM$3))))>1,1,1/(1+((2258*((0.622/((101325/(1*611*EXP(17.27*((($AM$1+$AM$2)/2)/((($AM$1+$AM$2)/2)+237.3))))))-1)*1000-(0.622/((101325/($AQ$1*611*EXP(17.27*($AM$3/($AM$3+237.3))))))-1)*1000))/(1005*((($AM$1+$AM$2)/2)-$AM$3))))))","v":1},1,1,1364,1395,2072,null,0,0,0,1]
["16528021",null,null,1,65,280,21,21.5,0,26,30,48.9,6787.2000000000007,10516.06232539558,10751.439821034392,15976.76,1.5,1.05,1.05,1.05,6787,10516,10751,15977,{"$f":"ROUND(U351*3600/(4186*ABS($O$1-$O$2)),0)","v":584},{"$f":"ROUND(V351*3600/(4186*ABS($O$1-$O$2)),0)","v":904},{"$f":"ROUND(W351*3600/(4186*ABS($O$1-$O$2)),0)","v":925},{"$f":"ROUND(X351*3600/(4186*ABS($O$1-$O$2)),0)","v":1374},2.4892782901750468,5.75336682600242,6.0128744748590695,12.875842236012033,1.2760000000000001E-4,1.7219,4,5.1420100000000005E-4,{"$f":"AK350*(1-(($E351-50)*0.005))","v":1261.7808956926551},{"$f":"AL350*(1-(($E351-50)*0.005))","v":1290.0229142432502},{"$f":"AM350*(1-(($E351-50)*0.005))","v":1916.9885000000002},0.85,0.85,0.85,1262,1290,1917,{"$f":"ROUND(AQ351*3600/(4186*ABS($AM$1-$AM$2)),0)","v":543},{"$f":"ROUND(AR351*3600/(4186*ABS($AM$1-$AM$2)),0)","v":555},{"$f":"ROUND(AS351*3600/(4186*ABS($AM$1-$AM$2)),0)","v":824},2.1656497129108883,2.258122327655359,4.8155944562823167,7.5,19.3,20.399999999999999,34.5,null,8484,null,0.8,null,null,0,10,10.6,21.85,null,1,1,1,1262,1290,1917,null,0,0,0,1]
["2205010",null,null,2,20,50,10,11.5,0,26,30,38.799999999999997,255.6,649,695,812,1.5,1.08,1.08,1.08,256,649,695,812,{"$f":"ROUND(U352*3600/(4186*ABS($O$1-$O$2)),0)","v":22},{"$f":"ROUND(V352*3600/(4186*ABS($O$1-$O$2)),0)","v":56},{"$f":"ROUND(W352*3600/(4186*ABS($O$1-$O$2)),0)","v":60},{"$f":"ROUND(X352*3600/(4186*ABS($O$1-$O$2)),0)","v":70},2.3325382494761011E-3,1.4273569595905599E-2,1.6323323223458832E-2,2.2034348729889495E-2,3.969E-4,1.7345999999999999,2,3.6734700000000002E-4,90.020119234756137,96.328259324977694,112.64,0.98,0.98,0.98,90,96,113,{"$f":"ROUND(AQ352*3600/(4186*ABS($AM$1-$AM$2)),0)","v":39},{"$f":"ROUND(AR352*3600/(4186*ABS($AM$1-$AM$2)),0)","v":41},{"$f":"ROUND(AS352*3600/(4186*ABS($AM$1-$AM$2)),0)","v":49},7.0687185128054265E-3,7.7890899379448103E-3,1.1010617958771767E-2,0.3,3.6,4.0999999999999996,5.0999999999999996,null,284,null,0.9,null,null,0,14.2,16.2,21.85,null,1,1,1,90,96,113,null,0,0,0,{"$f":"IF(SUM(BV352:BX352)=0,1,0)","v":1}]
["2206010",null,null,2,20,60,10,11.5,0,26,30,40,306.90000000000003,841.69225687813923,901.35950941531064,1066.3800000000001,1.5,1.08,1.08,1.08,307,842,901,1066,26,72,77,92,3.4435850765346123E-3,2.4572994832794695E-2,2.7985026550444856E-2,3.9512902180266693E-2,3.969E-4,1.7345999999999999,2,3.6734700000000002E-4,116.68990721587436,124.96201154556491,147.84,0.98,0.98,0.98,117,125,148,50,54,64,1.214004296048507E-2,1.4086095785072505E-2,1.9563990759703984E-2,0.4,4.8,5.4,6.8,null,341,null,0.9,null,null,0,13.6,15.6,21.85,null,1,1,1,117,125,148,null,0,0,0,1]
["2206015",null,null,2,20,60,15,16.5,0,26,30,41.1,498.40000000000003,957.19258357509659,1027.5250511543745,1359.96,1.5,1.08,1.08,1.08,498,957,1028,1360,43,82,88,117,9.5874509558381369E-3,3.4141898797120353E-2,3.9238605418779701E-2,6.880178174125845E-2,2.0829999999999999E-4,1.724,2,4.6182900000000003E-4,{"$f":"AK42","v":130.66063061772473},140.26129481477255,185.64,1.01,1.01,1.01,131,140,186,56,60,80,1.6115444159911004E-2,1.8458252538956766E-2,3.25208961878376E-2,0.6,4.8,5.5,7.2,null,623,null,0.8,null,null,0,12.3,14.4,21.85,null,1,1,1,131,140,186,null,0,0,0,1]
["2206020",null,null,2,20,60,20,21.5,0,26,30,41.1,668.80000000000007,1346.575008837732,1442.0332127786496,1706.04,1.5,1.08,1.08,1.08,669,1347,1442,1706,58,116,124,147,1.3656085903802771E-2,5.3754545103760785E-2,6.1338725772162643E-2,8.5905652533157156E-2,1.2760000000000001E-4,1.7219,2,3.76611E-4,166.41571994991173,178.21286873827722,210.84,0.95,0.95,0.95,166,178,211,71,77,91,2.0362186770824586E-2,2.3902999958867951E-2,3.3257087321880145E-2,0.8,4.8,5.5,7.2,null,836,null,0.8,null,null,0,12.3,14.4,21.85,null,1,1,1,166,178,211,null,0,0,0,1]
["2207010",null,null,2,20,70,10,11.5,0,26,30,41,358.2,1029.7403904507714,1104.2859635902939,1320.28,1.5,1.08,1.08,1.08,358,1030,1104,1320,31,89,95,114,5.1304140008447512E-3,3.8924960889446435E-2,4.4146590218265697E-2,6.2778209343462163E-2,3.969E-4,1.7345999999999999,2,3.6734700000000002E-4,142.7603849699376,153.09517888293954,183.04,0.98,0.98,0.98,143,153,183,61,66,79,1.8801217016227327E-2,2.1878764945327631E-2,3.093277823234393E-2,0.5,5.5,5.9,7.9,null,398,null,0.9,null,null,0,13.2,15.1,21.85,null,1,1,1,143,153,183,null,0,0,0,1]
["2207015",null,null,2,20,70,15,16.5,0,26,30,41.1,581.6,1070.8273541699666,1149.5094620994566,1521.41,1.5,1.08,1.08,1.08,582,1071,1150,1521,50,92,99,131,1.3242532573726134E-2,4.3822991749213405E-2,5.0617442668221047E-2,8.7813072353079863E-2,2.0829999999999999E-4,1.724,2,4.6182900000000003E-4,135.09481491470635,145.02129350758159,191.94,1.01,1.01,1.01,135,145,192,58,62,83,1.7715040719154605E-2,2.0190861450308E-2,3.5797696205080359E-2,0.7,5.0999999999999996,5.6,7.2,null,727,null,0.8,null,null,0,12.3,14.4,21.85,null,1,1,1,135,145,192,null,0,0,0,1]
["2207020",null,null,2,20,70,20,21.5,0,26,30,41.1,780.80000000000007,1509.840819712653,1619.1421060355642,1935.84,1.5,1.08,1.08,1.08,781,1510,1619,1936,67,130,139,166,1.8506597909955898E-2,6.8444200673944258E-2,7.8121147734999577E-2,0.11095002490928764,1.2760000000000001E-4,1.7219,2,3.76611E-4,170.52628152222005,182.87112058001478,218.64000000000001,0.95,0.95,0.95,171,183,219,74,79,94,2.2511197833279682E-2,2.5608782122359248E-2,3.6084845824600094E-2,0.9,5.0999999999999996,5.6,7.2,null,976,null,0.8,null,null,0,12.3,14.4,21.85,null,1,1,1,171,183,219,null,0,0,0,1]
["2208010",null,null,2,20,80,10,11.5,0,26,30,41.8,408.6,1214.2269940407766,1304.1433704057049,1574.18,1.5,1.08,1.08,1.08,409,1214,1304,1574,35,104,112,135,6.8432210815479776E-3,5.5028754884652663E-2,6.3456869664955617E-2,9.0909861993553942E-2,3.969E-4,1.7345999999999999,2,3.6734700000000002E-4,168.33710197020613,180.80286190736828,218.24,0.98,0.98,0.98,168,181,218,72,78,94,2.7165359623318678E-2,3.167181300086596E-2,4.5312552969066985E-2,0.5,6.3,6.8,9.1,null,454,null,0.9,null,null,0,12.8,14.7,21.85,null,1,1,1,168,181,218,null,0,0,0,1]
["2208015",null,null,2,20,80,15,16.5,0,26,30,42.4,664,1395.33740436932,1496.2563490716184,2007.56,1.5,1.08,1.08,1.08,664,1395,1496,2008,57,120,129,173,1.7555597843805223E-2,7.5461940836559702E-2,8.697073187627373E-2,0.1547867774406054,2.0829999999999999E-4,1.724,2,4.6182900000000003E-4,190.46915773046311,204.24499885412456,274.04000000000002,1.01,1.01,1.01,190,204,274,82,88,118,3.5768909532348576E-2,4.1076258231928696E-2,7.3013760578283488E-2,0.8,6,6.7,9,null,830,null,0.8,null,null,0,11.8,13.7,21.85,null,1,1,1,190,204,274,null,0,0,0,1]
["2208020",null,null,2,20,80,20,21.5,0,26,30,42.4,892,1942.5718983039128,2086.4239348515057,2518.44,1.5,1.08,1.08,1.08,892,1943,2086,2518,77,167,179,217,2.4789104824073191E-2,0.11395554008077592,0.13067872337503861,0.19110006829963533,1.2760000000000001E-4,1.7219,2,3.76611E-4,240.07166246887351,257.84953601562182,311.24,0.95,0.95,0.95,240,258,311,103,111,134,4.3951963441231798E-2,5.0929918356249132E-2,7.381701321036345E-2,1.1000000000000001,6,6.7,9,null,1115,null,0.8,null,null,0,11.8,13.7,21.85,null,1,1,1,240,258,311,null,0,0,0,1]
["2209010",null,null,2,20,90,10,11.5,0,26,30,42.4,459.90000000000003,1395.6272192501513,1501.3000140389001,1828.08,1.5,1.08,1.08,1.08,460,1396,1501,1828,40,120,129,157,9.2950238209758736E-3,7.5608781210671119E-2,8.6853211147160284E-2,0.12662134598395483,3.969E-4,1.7345999999999999,2,3.6734700000000002E-4,193.48593193227777,208.13611852764589,253.44,0.98,0.98,0.98,193,208,253,83,89,109,3.7340239212640722E-2,4.2669333600542279E-2,6.2889336846315577E-2,0.6,6.7,7.4,10.3,null,511,null,0.9,null,null,0,12.5,14.7,21.85,null,1,1,1,193,208,253,null,0,0,0,1]
["2209015",null,null,2,20,90,15,16.5,0,26,30,43.3,747.2,1597.9167676946356,1711.9130538160239,2331.36,1.5,1.08,1.08,1.08,747,1598,1712,2331,64,137,147,200,2.2549820525431925E-2,9.9846629634346956E-2,0.11462442340612437,0.20964202709641322,2.0829999999999999E-4,1.724,2,4.6182900000000003E-4,218.12205414485143,233.68300487544244,318.24,1.01,1.01,1.01,218,234,318,94,101,137,4.7773932289979358E-2,5.4977761599022158E-2,9.9846629634346956E-2,0.9,7,7.7,10.7,null,934,null,0.8,null,null,0,11.3,13.2,21.85,null,1,1,1,218,234,318,null,0,0,0,1]
["2209020",null,null,2,20,90,20,21.5,0,26,30,43.3,1004,2232.7836804230465,2401.8435041457315,2924.64,1.5,1.08,1.08,1.08,1004,2233,2402,2925,86,192,207,252,3.1348805220849138E-2,0.15220989401469975,0.17653301618879313,0.26017862567755984,1.2760000000000001E-4,1.7219,2,3.76611E-4,275.93732338069162,296.83048721840407,361.44,{"$f":"IF($G364=10,0.98,IF($G364=11,0.95,IF($G364=15,1.01,IF($G364=16,0.95,IF($G364=20,0.95,IF($G364=21,0.85))))))","v":0.95},0.95,0.95,276,297,361,119,128,155,5.9353068879593893E-2,6.85057463009488E-2,9.9843942617951306E-2,1.2,7,7.7,10.7,null,1255,null,0.8,null,null,0,11.3,13.2,21.85,null,1,1,1,276,297,361,null,0,0,0,1]
["22010010",null,null,2,20,100,10,11.5,0,26,30,43,511.2,1574.3905475253332,1696.1265760133244,2081.98,1.5,1.08,1.08,1.08,511,1574,1696,2082,44,135,146,179,1.1691796493777074E-2,9.8623231218722851E-2,0.11455551187153463,0.16920060692862343,3.969E-4,1.7345999999999999,2,3.6734700000000002E-4,218.26918973175157,235.14633901405676,288.64,0.98,0.98,0.98,218,235,289,94,101,124,4.9429305306709352E-2,5.6681136080738742E-2,8.3841493078660942E-2,0.7,7.8,8.6999999999999993,12.2,null,568,null,0.9,null,null,0,12.3,14.1,21.85,null,1,1,1,218,235,289,null,0,0,0,1]
["22010015",null,null,2,20,100,15,16.5,0,26,30,44.1,830.40000000000009,1798.7737222599399,1926.0891717740149,2655.16,1.5,1.08,1.08,1.08,830,1799,1926,2655,71,155,166,228,2.8247543347471912E-2,0.12960669873525657,0.14820649885017992,0.27587309609991228,2.0829999999999999E-4,1.724,2,4.6182900000000003E-4,245.53983484833029,262.91890485611941,362.44,1.01,1.01,1.01,246,263,362,106,113,156,6.1693712021988735E-2,6.989545441405931E-2,0.13124694650181259,1,7,7.7,10.7,null,1038,null,0.8,null,null,0,10.9,12.8,21.85,null,1,1,1,246,263,362,null,0,0,0,1]
["22010020",null,null,2,20,100,20,21.5,0,26,30,44.1,1115.2,2518.7768428703835,2713.5353098724395,3330.84,1.5,1.08,1.08,1.08,1115,2519,2714,3331,96,217,233,286,3.9558684939601498E-2,0.19637584927080459,0.22589211718801094,0.33821597295331562,1.2760000000000001E-4,1.7219,2,3.76611E-4,311.2816285378957,335.35074484391049,411.64,0.95,0.95,0.95,311,335,412,134,144,177,7.6117387440108403E-2,8.7676786087461309E-2,0.13152753973488002,1.3,7,7.7,10.7,null,1394,null,0.8,null,null,0,10.9,12.8,21.85,null,1,1,1,311,335,412,null,0,0,0,1]
["22011010",null,null,2,20,110,10,11.5,0,26,30,43.5,562.5,1766.3893947845202,1902.9712804051933,2335.88,1.5,1.08,1.08,1.08,563,1766,1903,2336,48,152,164,201,1.4427445840723906E-2,0.12846635666491932,0.14849855963064404,0.21898283146724631,3.969E-4,1.7345999999999999,2,3.6734700000000002E-4,244.88738360147738,263.82272182064906,323.83999999999997,0.98,0.98,0.98,245,264,324,105,114,139,6.3532409410345894E-2,7.4283678081492499E-2,0.10834103483995079,0.7,8.4,9.3000000000000007,14,null,625,null,0.9,null,null,0,12,13.9,21.85,null,1,1,1,245,264,324,null,0,0,0,1]
["22011015",null,null,2,20,110,15,16.5,0,26,30,44.1,913.6,1908.1501882577959,2043.2071973479594,2816.6099999999997,1.5,1.08,1.08,1.08,914,1908,2043,2817,79,164,176,242,3.5539395795289482E-2,0.14742102741229732,0.1692130010603492,0.31530215896235814,2.0829999999999999E-4,1.724,2,4.6182900000000003E-4,249.80785427097814,267.48901053042016,368.74,1.01,1.01,1.01,250,267,369,108,115,159,6.5293712586279876E-2,7.3788401225819936E-2,0.1387762211751877,1.1000000000000001,7.9,8.8000000000000007,12.5,null,1142,null,0.8,null,null,0,10.9,12.8,21.85,null,1,1,1,250,267,369,null,0,0,0,1]
["22011020",null,null,2,20,110,20,21.5,0,26,30,44.1,1226.4000000000001,2692.551301713082,2900.746468081386,3560.6400000000003,1.5,1.08,1.08,1.08,1226,2693,2901,3561,105,232,249,306,4.7916145790282416E-2,0.22694722640377721,0.26079058599865457,0.3911657832602583,1.2760000000000001E-4,1.7219,2,3.76611E-4,317.17997831584631,341.70517057946222,419.44,0.95,0.95,0.95,317,342,419,136,147,180,7.9544712053658623E-2,9.2650629466224224E-2,0.13785909087762688,1.5,7.9,8.8000000000000007,12.5,null,1533,null,0.8,null,null,0,10.9,12.8,21.85,null,1,1,1,317,342,419,null,0,0,0,1]
["22012010",null,null,2,20,120,10,11.5,0,26,30,44,613.80000000000007,1924.9914127028867,2079.6202422788024,2589.7800000000002,1.5,1.08,1.08,1.08,614,1925,2080,2590,53,166,179,223,1.8157475105599306E-2,0.15749249199599902,0.18178308069124571,0.2762925905995734,3.969E-4,1.7345999999999999,2,3.6734700000000002E-4,266.87553260000635,288.31284965818764,359.04,0.98,0.98,0.98,267,288,359,115,124,154,7.844810437960871E-2,9.0497540707880797E-2,0.13655457969155813,0.8,8.9,9.9,14.8,null,682,null,0.9,null,null,0,11.8,13.7,21.85,null,1,1,1,267,288,359,null,0,0,0,1]
["22012015",null,null,2,20,120,15,16.5,0,26,30,44.8,996.80000000000007,2216.9073865755149,2373.9948983307781,3302.76,1.5,1.08,1.08,1.08,997,2217,2374,3303,86,191,204,284,4.2799503002488283E-2,0.20201741408626139,0.22969478307979363,0.43817875262090578,2.0829999999999999E-4,1.724,2,4.6182900000000003E-4,302.61675876046246,324.05983479376272,450.84,1.01,1.01,1.01,303,324,451,130,139,194,9.5500985484133716E-2,0.10878402336268925,0.20824992292405745,1.2,8.6999999999999993,9.8000000000000007,14.3,null,1246,null,0.8,null,null,0,10.6,12.5,21.85,null,1,1,1,303,324,451,null,0,0,0,1]
["22012020",null,null,2,20,120,20,21.5,0,26,30,44.8,1338.4,3079.6829926739365,3327.0647594078355,4143.24,1.5,1.08,1.08,1.08,1338,3080,3327,4143,115,265,286,356,5.8145065813649886E-2,0.29848242281650889,0.34670295754782865,0.53308564610580933,1.2760000000000001E-4,1.7219,2,3.76611E-4,380.60090160569081,411.17343900116532,512.04,0.95,0.95,0.95,381,411,512,164,177,220,0.11646670942658871,0.13524222402195477,0.20715667478646135,1.6,8.6999999999999993,9.8000000000000007,14.3,null,1673,null,0.8,null,null,0,10.6,12.5,21.85,null,1,1,1,381,411,512,null,0,0,0,1]
["22014010",null,null,2,20,140,10,11.5,0,26,30,44.8,715.5,2267.7915432376717,2456.1428225151312,3097.58,1.5,1.08,1.08,1.08,716,2268,2456,3098,62,195,211,266,2.6398974796288582E-2,0.22855867513090425,0.26538154154463672,0.41180366936575952,3.969E-4,1.7345999999999999,2,3.6734700000000002E-4,314.40040300104783,340.51290804463417,429.44,0.98,0.98,0.98,314,341,429,135,147,184,0.11404996966906063,0.1339431496553784,0.20476735769324847,0.9,10.1,11.2,17.5,null,795,null,0.9,null,null,0,11.5,13.3,21.85,null,1,1,1,314,341,429,null,0,0,0,1]
["22014015",null,null,2,20,140,15,16.5,0,26,30,45.4,1162.4000000000001,2628.9846104428207,2815.4584574952669,3950.36,1.5,1.08,1.08,1.08,1162,2629,2815,3950,100,226,242,340,5.9645073883070839E-2,0.28983635322357215,0.33106971150845382,0.64182959732152445,2.0829999999999999E-4,1.724,2,4.6182900000000003E-4,358.86695423586366,384.32138301819265,539.24,1.01,1.01,1.01,359,384,539,154,165,232,0.137621338941047,0.1573279392829452,0.30498467021762166,1.4,9.6,10.5,16.100000000000001,null,1453,null,0.8,null,null,0,10.4,12.2,21.85,null,1,1,1,359,384,539,null,0,0,0,1]
["22014020",null,null,2,20,140,20,21.5,0,26,30,45.4,1561.6000000000001,3628.1091959950468,3929.4415695377957,4955.6400000000003,1.5,1.08,1.08,1.08,1562,3628,3929,4956,134,312,338,426,8.0718135899598295E-2,0.42118895241344162,0.49271246369818478,0.7756359730733573,1.2760000000000001E-4,1.7219,2,3.76611E-4,448.37784746172167,485.61784045001809,612.44000000000005,0.95,0.95,0.95,448,486,612,193,209,263,0.16455496588623258,0.1922740711354792,0.30142179085547277,1.9,9.6,10.5,16.100000000000001,null,1952,null,0.8,null,null,0,10.4,12.2,21.85,null,1,1,1,448,486,612,null,0,0,0,1]
["22016010",null,null,2,20,160,10,11.5,0,26,30,45.5,818.1,2603.9362232520607,2826.6988006529018,3605.38,1.5,1.08,1.08,1.08,818,2604,2827,3605,70,224,243,310,3.5612383473930066E-2,0.31579069683258104,0.3682343427384388,0.58343322204871984,3.969E-4,1.7345999999999999,2,3.6734700000000002E-4,361.00257998610687,391.88577307200529,499.84,0.98,0.98,0.98,361,392,500,155,169,215,0.15784887533096326,0.18572654509721107,0.29228700277798675,1.1000000000000001,11,12.4,19.2,null,909,null,0.9,null,null,0,11.2,13,21.85,null,1,1,1,361,392,500,null,0,0,0,1]
["22016015",null,null,2,20,160,15,16.5,0,26,30,46.4,1328.8000000000002,3021.1783832091446,3225.6120441880121,4597.96,1.5,1.08,1.08,1.08,1329,3021,3226,4598,114,260,277,395,7.9722010025588153E-2,0.39255304944044445,0.4438617891013007,0.88424755918807496,2.0829999999999999E-4,1.724,2,4.6182900000000003E-4,412.40297880742492,440.30899429620177,627.64,1.01,1.01,1.01,412,440,628,177,189,270,0.18642121393254038,0.21164255392481759,0.42236240265801678,1.6,11.5,12.8,19.600000000000001,null,1661,null,0.8,null,null,0,10,11.8,21.85,null,1,1,1,412,440,628,null,0,0,0,1]
["22016020",null,null,2,20,160,20,21.5,0,26,30,46.4,1784,4165.887726998767,4522.2727563025155,5768.04,1.5,1.08,1.08,1.08,1784,4166,4522,5768,153,358,389,496,0.10743971358775407,0.5639754157614939,0.66342434491024516,1.0674404634562651,1.2760000000000001E-4,1.7219,2,3.76611E-4,514.83890668473202,558.88255136973487,712.84,0.95,0.95,0.95,515,559,713,221,240,307,0.21989661309334549,0.25827229749987091,0.41765567382317259,2.1,11.5,12.8,19.600000000000001,null,2230,null,0.8,null,null,0,10,11.8,21.85,null,1,1,1,515,559,713,null,0,0,0,1]
["22018010",null,null,2,20,180,10,11.5,0,26,30,46,919.80000000000007,2970.6878039917879,3224.8253922941558,4113.18,1.5,1.08,1.08,1.08,920,2971,3225,4113,79,256,277,354,4.7680425600182645E-2,0.42971927512859232,0.49841362806075101,0.79115305439562644,3.969E-4,1.7345999999999999,2,3.6734700000000002E-4,411.84801378696699,447.08095237792156,570.24,0.98,0.98,0.98,412,447,570,177,192,245,0.21495642722836134,0.25036580839638034,0.39566467113231368,1.2,12.2,13.7,22,null,1022,null,0.9,null,null,0,10.9,12.7,21.85,null,1,1,1,412,447,570,null,0,0,0,1]
["22018015",null,null,2,20,180,15,16.5,0,26,30,46.4,1494.4,3233.3460619053994,3452.1364439366635,4920.8599999999997,1.5,1.08,1.08,1.08,1494,3233,3452,4921,128,278,297,423,0.10318198179146938,0.46032647442822744,0.52311768690779403,1.0377569514621654,2.0829999999999999E-4,1.724,2,4.6182900000000003E-4,420.6820520547858,449.14828645115074,640.24,1.01,1.01,1.01,421,449,640,181,193,275,0.2010263623163458,0.22751208445626886,0.45076939507650016,1.8,11.5,12.8,19.600000000000001,null,1868,null,0.8,null,null,0,10,11.8,21.85,null,1,1,1,421,449,640,null,0,0,0,1]
["22018020",null,null,2,20,180,20,21.5,0,26,30,46.4,2007.2,4497.8275192555193,4882.6094666576164,6227.64,1.5,1.08,1.08,1.08,2007,4498,4883,6228,173,387,420,536,0.14003208773976619,0.67105520500225491,0.78724334085603187,1.2676087797406754,1.2760000000000001E-4,1.7219,2,3.76611E-4,526.1057925837863,571.11330132956857,728.44,0.95,0.95,0.95,526,571,728,226,246,313,0.23536033293811029,0.27756656183252509,0.44366421223291913,2.4,11.5,12.8,19.600000000000001,null,2509,null,0.8,null,null,0,10,11.8,21.85,null,1,1,1,526,571,728,null,0,0,0,1]
["22020010",null,null,2,20,200,10,11.5,0,26,30,46.5,1022.4,3259.5785648750903,3552.8677924068675,4620.9799999999996,1.5,1.08,1.08,1.08,1022,3260,3553,4621,88,280,306,397,6.1951750796321238E-2,0.53596049138451529,0.63305954443385948,1.0323113448799708,3.969E-4,1.7345999999999999,2,3.6734700000000002E-4,451.89903695786995,492.55985148767917,640.64,0.98,0.98,0.98,452,493,641,194,212,276,0.26974633951173027,0.31839322337808124,0.52169992911952934,1.3,13.4,14.8,24,null,1136,null,0.9,null,null,0,10.7,12.5,21.85,null,1,1,1,452,493,641,null,0,0,0,1]
["22020015",null,null,2,20,200,15,16.5,0,26,30,47.1,1660.8000000000002,3875.4624109054007,4083.4735576056296,5893.16,1.5,1.08,1.08,1.08,1661,3875,4083,5893,143,333,351,507,0.13193487960877678,0.67100385450414035,0.7427948904408519,1.5124900662854772,2.0829999999999999E-4,1.724,2,4.6182900000000003E-4,529.01617838795164,557.41053504066974,804.44,1.01,1.01,1.01,529,557,804,227,240,346,0.3205762003800503,0.35685612106712633,0.72249739815889857,2,13.2,14.7,23.5,null,2076,null,0.8,null,null,0,10,11.4,21.85,null,1,1,1,529,557,804,null,0,0,0,1]
["22020020",null,null,2,20,200,20,21.5,0,26,30,47.1,2230.4,5214.8121821672385,5684.028740747025,7392.84,1.5,1.08,1.08,1.08,2230,5215,5684,7393,192,448,489,636,0.17571248900286082,0.91133281879191153,1.0808827382560606,1.804767358434455,1.2760000000000001E-4,1.7219,2,3.76611E-4,644.46964929787134,702.45751547390614,913.64,0.95,0.95,0.95,644,702,914,277,302,393,0.35773067054432378,0.42311312971539766,0.70617331390652549,2.7,13.2,14.7,23.5,null,2788,null,0.8,null,null,0,10,11.4,21.85,null,1,1,1,644,702,914,null,0,0,0,1]
["22022010",null,null,2,20,220,10,11.5,0,26,30,46.9,1125,3560.7045070849035,3890.5075371280445,5128.78,1.5,1.08,1.08,1.08,1125,3561,3891,5129,97,306,335,441,7.8562835387433222E-2,0.66495285135759441,0.7876316236324602,1.3181530375289372,3.969E-4,1.7345999999999999,2,3.6734700000000002E-4,493.64631212835212,539.36930014536108,711.04,0.98,0.98,0.98,494,539,711,212,232,306,0.33526766264658142,0.39659808957963044,0.66495285135759441,1.5,13.4,14.8,24,null,1250,null,0.9,null,null,0,10.5,12.3,21.85,null,1,1,1,494,539,711,null,0,0,0,1]
["22022015",null,null,2,20,220,15,16.5,0,26,30,47.8,1827.2,4302.5567439745028,4481.7988603493422,6540.76,1.5,1.08,1.08,1.08,1827,4303,4482,6541,157,370,385,563,0.16281016440490217,0.84427064665866536,0.91145906255959874,1.8978591317759046,2.0829999999999999E-4,1.724,2,4.6182900000000003E-4,587.31626956044784,611.78353807115786,892.84,1.01,1.01,1.01,587,612,893,252,263,384,0.40328748590288432,0.43778400702821296,0.90690223440245954,2.2000000000000002,15.5,16.8,27.5,null,2284,null,0.8,null,null,0,10,11.1,21.85,null,1,1,1,587,612,893,null,0,0,0,1]
["22022020",null,null,2,20,220,20,21.5,0,26,30,47.8,2453.6,5696.5662496175182,6224.1991397456159,8205.24,1.5,1.08,1.08,1.08,2454,5697,6224,8205,211,490,535,706,0.21599629167686921,1.1066428651103115,1.3128927046129348,2.2531321307295649,1.2760000000000001E-4,1.7219,2,3.76611E-4,704.00695650122941,769.21417236639559,1014.04,0.95,0.95,0.95,704,769,1014,303,331,436,0.43521399990720622,0.5165738484716168,0.88193136480825907,2.9,15.5,16.8,27.5,null,3067,null,0.8,null,null,0,10,11.1,21.85,null,1,1,1,704,769,1014,null,0,0,0,1]
["22024010",null,null,2,20,240,10,11.5,0,26,30,47.2,1226.7,3860.4188735925432,4228.9855673527691,5636.58,1.5,1.08,1.08,1.08,1227,3860,4229,5637,106,332,364,485,9.7646418271271393E-2,0.81122806847196882,0.96312721192929007,1.6465778870546586,3.969E-4,1.7345999999999999,2,3.6734700000000002E-4,535.19789031294818,586.29496640731588,781.44,0.98,0.98,0.98,535,586,781,230,252,336,0.40968486620571454,0.48550351822928639,0.82954646870937465,1.6,14.8,16.600000000000001,28,null,1363,null,0.9,null,null,0,10.4,12.2,21.85,null,1,1,1,535,586,781,null,0,0,0,1]
["22024015",null,null,2,20,240,15,16.5,0,26,30,48.1,1992.8000000000002,4729.715265656896,4901.7743245246338,7188.36,1.5,1.08,1.08,1.08,1993,4730,4902,7188,171,407,422,618,0.1975008474352466,1.0402677068624975,1.1152542227427753,2.3255236596425677,2.0829999999999999E-4,1.724,2,4.6182900000000003E-4,645.62512273636446,669.11187505864359,981.24,1.01,1.01,1.01,646,669,981,278,288,422,0.50037899202077363,0.5354561461459616,1.1152542227427753,2.4,16.399999999999999,17.7,29.7,null,2491,null,0.8,null,null,0,10,10.9,21.85,null,1,1,1,646,669,981,null,0,0,0,1]
["22024020",null,null,2,20,240,20,21.5,0,26,30,48.1,2676.8,6176.0620183272586,6765.7106634844222,9017.64,1.5,1.08,1.08,1.08,2677,6176,6766,9018,230,531,582,776,0.26102436085222624,1.3184926701217123,1.5755203313321131,2.756451557337142,1.2760000000000001E-4,1.7219,2,3.76611E-4,763.26517311676128,836.13657141043336,1114.44,0.95,0.95,0.95,763,836,1114,328,359,479,0.51827708039997999,0.61727233073709142,1.0794747424565225,3.2,16.399999999999999,17.7,29.7,null,3346,null,0.8,null,null,0,10,10.9,21.85,null,1,1,1,763,836,1114,null,0,0,0,1]
["22026010",null,null,2,20,260,10,11.5,0,26,30,47.8,1329.3,4178.1784000000007,4608.2849999999999,6144.38,1.5,1.08,1.08,1.08,1329,4178,4608,6144,114,359,396,528,0.11742918584910622,0.98066442194259407,1.1770680299869807,2.0125184153009763,3.969E-4,1.7345999999999999,2,3.6734700000000002E-4,579.25120000000004,638.88,851.84,0.98,0.98,0.98,579,639,852,249,275,366,0.4971168110898011,0.59766089099899167,1.0165350975712137,1.7,16.2,18.600000000000001,31.4,null,1477,null,0.9,null,null,0,10.199999999999999,11.9,21.85,null,1,1,1,579,639,852,null,0,0,0,1]
["22026015",null,null,2,20,260,15,16.5,0,26,30,47.8,2159.2000000000003,5669.0920000000006,6252.6749999999993,8336.9,1.5,1.08,1.08,1.08,2159,5669,6253,8337,186,488,538,717,0.2385789051965948,1.5103449618725466,1.8217333349966933,3.1663593552136882,2.0829999999999999E-4,1.724,2,4.6182900000000003E-4,949.51120000000003,1047.2549999999999,1396.34,1.01,1.01,1.01,950,1047,1396,409,450,600,1.0760967217157777,1.2926072229862295,2.2469315346740024,2.6,16.2,18.600000000000001,31.4,null,2699,null,0.8,null,null,0,10,10.9,21.85,null,1,1,1,950,1047,1396,null,0,0,0,1]
["22026020",null,null,2,20,260,20,21.5,0,26,30,48.1,2899.2000000000003,6444.5232000000005,7107.93,9477.24,1.5,1.08,1.08,1.08,2899,6445,7108,9477,249,554,611,815,0.31093397241735937,1.4581371213480712,1.7629893390377123,3.0840089604891157,1.2760000000000001E-4,1.7219,2,3.76611E-4,768.42720000000008,847.53,1130.04,0.95,0.95,0.95,768,848,1130,330,365,486,0.53526796134941879,0.65032127694667174,1.1314386418343181,3.5,16.399999999999999,17.7,29.7,null,3624,null,0.8,null,null,0,10,10.9,21.85,null,1,1,1,768,848,1130,null,0,0,0,1]
["22028010",null,null,2,20,280,10,11.5,0,26,30,47.8,1431.9,4331.3824000000004,4782.2249168521384,6369.68,1.5,1.08,1.08,1.08,1432,4331,4782,6370,123,372,411,548,0.14162389243175394,1.0925143603098122,1.3146532792613241,2.2448293163328641,3.969E-4,1.7345999999999999,2,3.6734700000000002E-4,587.68320000000006,648.85364133524638,864.24,0.98,0.98,0.98,588,649,864,253,279,372,0.53495403421136267,0.64106400571541289,1.0925143603098122,1.9,16.2,18.600000000000001,31.4,null,1591,null,0.9,null,null,0,10.199999999999999,11.9,21.85,null,1,1,1,588,649,864,null,0,0,0,1]
["22028015",null,null,2,20,280,15,16.5,0,26,30,48.9,2324.8000000000002,5583.9635634029,5708.9475468201636,8483.56,1.5,1.08,1.08,1.08,2325,5584,5709,8484,200,480,491,730,0.28153304863501788,1.4973769906672623,1.5638277222676435,3.3484388456827587,2.0829999999999999E-4,1.724,2,4.6182900000000003E-4,762.23344503523219,779.29426056038062,1158.04,1.01,1.01,1.01,762,779,1158,328,335,498,0.72271492130345638,0.75246226647382841,1.6068391234938044,2.8,19.3,20.399999999999999,34.5,null,2906,null,0.8,null,null,0,10,10.6,21.85,null,1,1,1,762,779,1158,null,0,0,0,{"$f":"IF(SUM(BV396:BX396)=0,1,0)","v":1}]
["22028020",null,null,2,20,280,20,21.5,0,26,30,48.9,3122.4,7236.8592000000008,7990.1253664397382,10642.44,1.5,1.08,1.08,1.08,3122,7237,7990,10642,268,622,687,915,0.36585919870099931,1.8574060664841625,2.2516092472705127,3.9248647156049832,1.2760000000000001E-4,1.7219,2,3.76611E-4,894.36320000000012,987.455178225689,1315.24,0.95,0.95,0.95,894,987,1315,384,424,565,0.73142402444564503,0.88553710556508203,1.5421797125957473,3.7,19.3,20.399999999999999,34.5,null,3903,null,0.8,null,null,0,10,10.6,21.85,null,1,1,1,894,987,1315,null,0,0,0,1]
["2355010",null,null,2,35,50,10,11.5,0,26,30,{"$f":"L28","v":38.799999999999997},353.7,{"$f":"N28","v":649},{"$f":"O28","v":695},812,1.5,1.08,1.08,1.08,354,649,695,812,{"$f":"ROUND(U398*3600/(4186*ABS($O$1-$O$2)),0)","v":30},{"$f":"ROUND(V398*3600/(4186*ABS($O$1-$O$2)),0)","v":56},{"$f":"ROUND(W398*3600/(4186*ABS($O$1-$O$2)),0)","v":60},{"$f":"ROUND(X398*3600/(4186*ABS($O$1-$O$2)),0)","v":70},4.2506526724246478E-3,1.4273569595905599E-2,1.6323323223458832E-2,2.2034348729889495E-2,3.969E-4,1.7345999999999999,2,3.6734700000000002E-4,{"$f":"AK28","v":90.020119234756137},96.328259324977694,112.64,0.98,0.98,0.98,90,96,113,{"$f":"ROUND(AQ398*3600/(4186*ABS($AM$1-$AM$2)),0)","v":39},{"$f":"ROUND(AR398*3600/(4186*ABS($AM$1-$AM$2)),0)","v":41},{"$f":"ROUND(AS398*3600/(4186*ABS($AM$1-$AM$2)),0)","v":49},7.0687185128054265E-3,7.7890899379448103E-3,1.1010617958771767E-2,0.3,{"$f":"BA28","v":3.6},{"$f":"BB28","v":4.0999999999999996},5.0999999999999996,null,393,null,0.9,null,null,0,{"$f":"BK352","v":14.2},{"$f":"BL352","v":16.2},21.85,null,1,1,1,90,96,113,null,0,0,0,1]
["2355011",null,null,2,35,50,11,11.5,0,26,30,{"$f":"L31","v":38.799999999999997},373.32000000000005,{"$f":"N31","v":881.02076921515595},{"$f":"O31","v":942.75810617769378},1102.4000000000001,1.5,1.1000000000000001,1.1000000000000001,1.1000000000000001,373,881,943,1102,32,76,81,95,8.0238333645090195E-3,4.2643686555216082E-2,4.8246206994949491E-2,6.5720039533966129E-2,3.969E-4,1.7345999999999999,4,5.7428799999999995E-4,{"$f":"AK31","v":147.56138863197239},{"$f":"AL31","v":157.90172054122763},184.64,0.95,0.95,0.95,148,158,185,64,68,80,3.0575828151930776E-2,3.4381682232525662E-2,4.7098764109165574E-2,0.7,{"$f":"BA31","v":3.6},{"$f":"BB31","v":4.0999999999999996},5.0999999999999996,null,549,null,0.68,null,null,0,{"$f":"BK398","v":14.2},{"$f":"BL398","v":16.2},21.85,null,1,1,1,148,158,185,null,0,0,0,1]
["2356010",null,null,2,35,60,10,11.5,0,26,30,{"$f":"L34","v":40},423.90000000000003,{"$f":"N34","v":841.69225687813923},{"$f":"O34","v":901.35950941531064},1066.3800000000001,1.5,1.08,1.08,1.08,424,842,901,1066,36,72,77,92,6.4416881672429262E-3,2.4572994832794695E-2,2.7985026550444856E-2,3.9512902180266693E-2,3.969E-4,1.7345999999999999,2,3.6734700000000002E-4,{"$f":"AK34","v":116.68990721587436},124.96201154556491,147.84,0.98,0.98,0.98,117,125,148,50,54,64,1.214004296048507E-2,1.4086095785072505E-2,1.9563990759703984E-2,0.4,{"$f":"BA34","v":4.8},{"$f":"BB34","v":5.4},6.8,null,471,null,0.9,null,null,0,{"$f":"BK353","v":13.6},{"$f":"BL353","v":15.6},21.85,null,1,1,1,117,125,148,null,0,0,0,1]
["2356011",null,null,2,35,60,11,11.5,0,26,30,{"$f":"L38","v":40},448.12,{"$f":"N38","v":1142.0361657917249},{"$f":"O38","v":1222.9946868592929},1446.9,1.5,1.1000000000000001,1.1000000000000001,1.1000000000000001,448,1142,1223,1447,39,98,105,124,1.2641467158566712E-2,7.4231136705466674E-2,8.4794000672714892E-2,0.11688804961164248,3.969E-4,1.7345999999999999,4,5.7428799999999995E-4,{"$f":"AK38","v":191},205,242,0.95,0.95,0.95,191,205,242,82,88,104,5.2655498392101936E-2,6.0326342797888885E-2,8.3243311217863464E-2,0.8,{"$f":"BA38","v":4.8},{"$f":"BB38","v":5.4},6.8,null,659,null,0.68,null,null,0,{"$f":"BK400","v":13.6},{"$f":"BL400","v":15.6},21.85,null,1,1,1,191,205,242,null,0,0,0,1]
["2356015",null,null,2,35,60,15,16.5,0,26,30,{"$f":"L42","v":41.1},632,{"$f":"N42","v":957.19258357509659},{"$f":"O42","v":1027.5250511543745},1359.96,1.5,1.08,1.08,1.08,632,957,1028,1360,54,82,88,117,1.5002926741459546E-2,3.4141898797120353E-2,3.9238605418779701E-2,6.880178174125845E-2,2.0829999999999999E-4,1.724,2,4.6182900000000003E-4,{"$f":"AK42","v":130.66063061772473},140.26129481477255,185.64,1.01,1.01,1.01,131,140,186,56,60,80,1.6115444159911004E-2,1.8458252538956766E-2,3.25208961878376E-2,0.6,{"$f":"BA42","v":4.8},{"$f":"BB42","v":5.5},7.2,null,790,null,0.8,null,null,0,{"$f":"BK354","v":12.3},{"$f":"BL354","v":14.4},21.85,null,1,1,1,131,140,186,null,0,0,0,1]
["2356016",null,null,2,35,60,16,16.5,0,26,30,{"$f":"L46","v":41.1},663,{"$f":"N46","v":1399.7241764138612},{"$f":"O46","v":1502.5729206967153},1988.7,1.5,1.1000000000000001,1.1000000000000001,1.1000000000000001,663,1400,1503,1989,57,120,129,171,4.831030799740238E-2,0.21085507991814395,0.24334273125065864,0.42546271730679758,2.0829999999999999E-4,1.724,4,1.392796E-3,{"$f":"AK46","v":214},230,305,0.95,0.95,0.95,214,230,305,92,99,131,0.12457564927087089,0.14404410806926615,0.25087593311274681,1.2,{"$f":"BA46","v":4.8},{"$f":"BB46","v":5.5},7.2,null,975,null,0.68,null,null,0,{"$f":"BK402","v":12.3},{"$f":"BL402","v":14.4},21.85,null,1,1,1,214,230,305,null,0,0,0,1]
["2356020",null,null,2,35,60,20,21.5,0,26,30,{"$f":"L50","v":41.1},864.80000000000007,{"$f":"N50","v":1346.575008837732},{"$f":"O50","v":1442.0332127786496},1706.04,1.5,1.08,1.08,1.08,865,1347,1442,1706,74,116,124,147,2.209744894110708E-2,5.3754545103760785E-2,6.1338725772162643E-2,8.5905652533157156E-2,1.2760000000000001E-4,1.7219,2,3.76611E-4,{"$f":"AK50","v":166.41571994991173},178.21286873827722,210.84,0.95,0.95,0.95,166,178,211,71,77,91,2.0362186770824586E-2,2.3902999958867951E-2,3.3257087321880145E-2,0.8,{"$f":"BA50","v":4.8},{"$f":"BB50","v":5.5},7.2,null,1081,null,0.8,null,null,0,{"$f":"BK403","v":12.3},14.4,21.85,null,1,1,1,166,178,211,null,0,0,0,1]
["2356021",null,null,2,35,60,21,21.5,0,26,30,{"$f":"L54","v":41.1},997.6,{"$f":"N54","v":1802.6437228662567},{"$f":"O54","v":1935.0981352499616},2561.16,1.5,1.05,1.05,1.05,998,1803,1935,2561,86,155,166,220,4.2157511548033891E-2,0.13454431150760796,0.15402657304252074,0.26852892559558028,1.2760000000000001E-4,1.7219,4,5.1420100000000005E-4,{"$f":"AK54","v":233.82931859416351},251.01059773412922,332.22,0.85,0.85,0.85,234,251,332,101,108,143,5.7851346790324013E-2,6.601213332318584E-2,0.1147780548995266,1.6,{"$f":"BA54","v":4.8},{"$f":"BB54","v":5.5},7.2,null,1247,null,0.8,null,null,0,{"$f":"BK404","v":12.3},14.4,21.85,null,1,1,1,234,251,332,null,0,0,0,1]
["2357010",null,null,2,35,70,10,11.5,0,26,30,{"$f":"L58","v":41},495,{"$f":"N58","v":1029.7403904507714},{"$f":"O58","v":1104.2859635902939},1320.28,1.5,1.08,1.08,1.08,495,1030,1104,1320,43,89,95,114,9.6037146876370022E-3,3.8924960889446435E-2,4.4146590218265697E-2,6.2778209343462163E-2,3.969E-4,1.7345999999999999,2,3.6734700000000002E-4,{"$f":"AK58","v":142.7603849699376},153.09517888293954,183.04,0.98,0.98,0.98,143,153,183,61,66,79,1.8801217016227327E-2,2.1878764945327631E-2,3.093277823234393E-2,0.5,{"$f":"BA58","v":5.5},{"$f":"BB58","v":5.9},7.9,null,550,null,0.9,null,null,0,{"$f":"BK356","v":13.2},{"$f":"BL356","v":15.1},21.85,null,1,1,1,143,153,183,null,0,0,0,1]
["2357011",null,null,2,35,70,11,11.5,0,26,30,{"$f":"L62","v":41},522.92000000000007,{"$f":"N62","v":1397.1861540381678},{"$f":"O62","v":1498.3320774196782},1791.4,1.5,1.1000000000000001,1.1000000000000001,1.1000000000000001,523,1397,1498,1791,45,120,129,154,1.7775037160540595E-2,0.11600499755813,0.13329019125147809,0.18736507468697711,3.969E-4,1.7345999999999999,4,5.7428799999999995E-4,{"$f":"AK62","v":234.01347195356249},250.95431311209123,300.04000000000002,0.95,0.95,0.95,234,251,300,101,108,129,8.3337593553421352E-2,9.4767092758545599E-2,0.13329019125147809,0.9,{"$f":"BA62","v":5.5},{"$f":"BB62","v":5.9},7.9,null,769,null,0.68,null,null,0,{"$f":"BK406","v":13.2},{"$f":"BL406","v":15.1},21.85,null,1,1,1,234,251,300,null,0,0,0,1]
["2357015",null,null,2,35,70,15,16.5,0,26,30,{"$f":"L66","v":41.1},737.6,{"$f":"N66","v":1070.8273541699666},{"$f":"O66","v":1149.5094620994566},1521.41,1.5,1.08,1.08,1.08,738,1071,1150,1521,63,92,99,131,2.0834724019940309E-2,4.3822991749213405E-2,5.0617442668221047E-2,8.7813072353079863E-2,2.0829999999999999E-4,1.724,2,4.6182900000000003E-4,{"$f":"AK66","v":135.09481491470635},145.02129350758159,191.94,1.01,1.01,1.01,135,145,192,58,62,83,1.7715040719154605E-2,2.0190861450308E-2,3.5797696205080359E-2,0.7,{"$f":"BA66","v":5.0999999999999996},{"$f":"BB66","v":5.6},7.2,null,922,null,0.8,null,null,0,{"$f":"BK357","v":12.3},{"$f":"BL357","v":14.4},21.85,null,1,1,1,135,145,192,null,0,0,0,1]
["2357016",null,null,2,35,70,16,16.5,0,26,30,{"$f":"L70","v":41.1},773.84,{"$f":"N70","v":1627.62717250317},{"$f":"O70","v":1747.2217424001376},2312.5,1.5,1.1000000000000001,1.1000000000000001,1.1000000000000001,774,1628,1747,2313,67,140,150,199,6.7657780452007918E-2,0.2902779131483183,0.33273460547085354,0.58224305620495909,2.0829999999999999E-4,1.724,4,1.392796E-3,{"$f":"AK70","v":219.59769851718443},235.73326859625641,312,0.95,0.95,0.95,220,236,312,95,101,134,0.1348444213322838,0.1521944098151945,0.26618360536544905,1.4,{"$f":"BA70","v":5.0999999999999996},{"$f":"BB70","v":5.6},7.2,null,1138,null,0.68,null,null,0,{"$f":"BK408","v":12.3},{"$f":"BL408","v":14.4},21.85,null,1,1,1,220,236,312,null,0,0,0,1]
["2357020",null,null,2,35,70,20,21.5,0,26,30,{"$f":"L74","v":41.1},1008.8000000000001,{"$f":"N74","v":1509.840819712653},{"$f":"O74","v":1619.1421060355642},1935.84,1.5,1.08,1.08,1.08,1009,1510,1619,1936,87,130,139,166,3.0975335955806562E-2,6.8444200673944258E-2,7.8121147734999577E-2,0.11095002490928764,1.2760000000000001E-4,1.7219,2,3.76611E-4,{"$f":"AK74","v":170.52628152222005},182.87112058001478,218.64000000000001,0.95,0.95,0.95,171,183,219,74,79,94,2.2511197833279682E-2,2.5608782122359248E-2,3.6084845824600094E-2,0.9,{"$f":"BA74","v":5.0999999999999996},{"$f":"BB74","v":5.6},7.2,null,1261,null,0.8,null,null,0,{"$f":"BK409","v":12.3},14.4,21.85,null,1,1,1,171,183,219,null,0,0,0,1]
["2357021",null,null,2,35,70,21,21.5,0,26,30,{"$f":"L78","v":41.1},1164,{"$f":"N78","v":1977.8291945358951},{"$f":"O78","v":2123.1558613833213},2810.06,1.5,1.05,1.05,1.05,1164,1978,2123,2810,100,170,183,242,5.811870904430734E-2,0.16489933699427986,0.1906306494771868,0.33050578585065171,1.2760000000000001E-4,1.7219,4,5.1420100000000005E-4,{"$f":"AK78","v":240.30463534531125},257.96170693632649,341.42,0.85,0.85,0.85,240,258,341,103,111,147,6.1591027996900249E-2,7.1335725011536941E-2,0.12389224890734116,1.9,{"$f":"BA78","v":5.0999999999999996},{"$f":"BB78","v":5.6},7.2,null,1455,null,0.8,null,null,0,{"$f":"BK410","v":12.3},14.4,21.85,null,1,1,1,240,258,341,null,0,0,0,1]
["2358010",null,null,2,35,80,10,11.5,0,26,30,{"$f":"L82","v":41.8},{"$f":"IF($N412-($BE412*$BG412)>100,$BE412*$BG412,$N412-95)","v":565.20000000000005},{"$f":"N82","v":1214.2269940407766},{"$f":"O82","v":1304.1433704057049},1574.18,1.5,1.08,1.08,1.08,{"$f":"ROUND(M412*POWER(CF_heat,Q412),0)","v":565},{"$f":"ROUND(N412*POWER(CF_heat,R412),0)","v":1214},{"$f":"ROUND(O412*POWER(CF_heat,S412),0)","v":1304},{"$f":"ROUND(P412*POWER(CF_heat,T412),0)","v":1574},49,104,112,135,1.3005294799927751E-2,5.5028754884652663E-2,6.3456869664955617E-2,9.0909861993553942E-2,{"$f":"IF($G412=$CO$103,CP$103,IF($G412=$CO$104,CP$104,IF($G412=$CO$105,CP$105,IF($G412=$CO$107,CP$107,IF($G412=$CO$108,CP$108,IF($G412=$CO$109,CP$109,IF($G412=$CO$111,CP$111,IF($G412=$CO$112,CP$112,IF($G412=$CO$113,CP$113,IF($G412=$CO$115,CP$115,IF($G412=$CO$116,CP$116,IF($G412=$CO$117,CP$117,IF($G412=$CO$119,CP$119,IF($G412=$CO$120,CP$120,))))))))))))))","v":3.969E-4},{"$f":"IF($G412=$CO$103,CQ$103,IF($G412=$CO$104,CQ$104,IF($G412=$CO$105,CQ$105,IF($G412=$CO$107,CQ$107,IF($G412=$CO$108,CQ$108,IF($G412=$CO$109,CQ$109,IF($G412=$CO$111,CQ$111,IF($G412=$CO$112,CQ$112,IF($G412=$CO$113,CQ$113,IF($G412=$CO$115,CQ$115,IF($G412=$CO$116,CQ$116,IF($G412=$CO$117,CQ$117,IF($G412=$CO$119,CQ$119,IF($G412=$CO$120,CQ$120,))))))))))))))","v":1.7345999999999999},{"$f":"IF($G412=$CO$103,CR$103,IF($G412=$CO$104,CR$104,IF($G412=$CO$105,CR$105,IF($G412=$CO$107,CR$107,IF($G412=$CO$108,CR$108,IF($G412=$CO$109,CR$109,IF($G412=$CO$111,CR$111,IF($G412=$CO$112,CR$112,IF($G412=$CO$113,CR$113,IF($G412=$CO$115,CR$115,IF($G412=$CO$116,CR$116,IF($G412=$CO$117,CR$117,IF($G412=$CO$119,CR$119,IF($G412=$CO$120,CR$120,))))))))))))))","v":2},{"$f":"IF($G412=$CO$103,CS$103,IF($G412=$CO$104,CS$104,IF($G412=$CO$105,CS$105,IF($G412=$CO$107,CS$107,IF($G412=$CO$108,CS$108,IF($G412=$CO$109,CS$109,IF($G412=$CO$111,CS$111,IF($G412=$CO$112,CS$112,IF($G412=$CO$113,CS$113,IF($G412=$CO$115,CS$115,IF($G412=$CO$116,CS$116,IF($G412=$CO$117,CS$117,IF($G412=$CO$119,CS$119,IF($G412=$CO$120,CS$120,))))))))))))))","v":3.6734700000000002E-4},{"$f":"AK82","v":168.33710197020613},180.80286190736828,218.24,0.98,0.98,0.98,{"$f":"ROUND(AK412*POWER(CF_cool,AN412),0)","v":168},{"$f":"ROUND(AL412*POWER(CF_cool,AO412),0)","v":181},{"$f":"ROUND(AM412*POWER(CF_cool,AP412),0)","v":218},72,78,94,2.7165359623318678E-2,3.167181300086596E-2,4.5312552969066985E-2,{"$f":"ROUND(IF(G412=10,$CO$92*F412,IF(G412=11,$CO$93*F412,IF(G412=15,$CO$94*F412,IF(G412=16,$CO$95*F412,IF(G412=20,$CO$96*F412,IF(G412=21,$CO$97*F412,)))))),1)","v":0.5},{"$f":"BA82","v":6.3},{"$f":"BB82","v":6.8},9.1,null,628,null,{"$f":"IF(G412=10,0.9,IF(G412=11,0.68,IF(G412=15,0.8,IF(G412=16,0.68,IF(G412=20,0.8,IF(G412=21,0.8))))))","v":0.9},null,null,0,{"$f":"BK359","v":12.8},{"$f":"BL359","v":14.7},21.85,null,1,1,1,{"$f":"AQ412/BO412","v":168},181,218,null,{"$f":"BR412-AQ412","v":0},{"$f":"BS412-AR412","v":0},{"$f":"BT412-AS412","v":0},1]
[{"$f":"CONCATENATE(D413,E413,F413,G413)","v":"2358011"},null,null,2,35,80,11,11.5,0,26,30,{"$f":"L86","v":41.8},597.04000000000008,{"$f":"N86","v":1647.5037394527276},{"$f":"O86","v":1769.505282019556},2135.9,1.5,{"$f":"IF($G413=10,1.08,IF($G413=11,1.1,IF($G413=15,1.08,IF($G413=16,1.1,IF($G413=20,1.08,IF($G413=21,1.05))))))","v":1.1000000000000001},1.1000000000000001,1.1000000000000001,597,1648,1770,2136,51,142,152,184,{"$f":"(($AG413*(Y413^$AH413)*((($F413-14.4)*$AI413)/100))+($AJ413*(Y413^2)))*0.0098","v":2.3988714945683883E-2},{"$f":"(($AG413*(Z413^$AH413)*((($F413-14.4)*$AI413)/100))+($AJ413*(Z413^2)))*0.0098","v":0.1687204798043572},{"$f":"(($AG413*(AA413^$AH413)*((($F413-14.4)*$AI413)/100))+($AJ413*(AA413^2)))*0.0098","v":0.19218780961004492},{"$f":"(($AG413*(AB413^$AH413)*((($F413-14.4)*$AI413)/100))+($AJ413*(AB413^2)))*0.0098","v":0.27712360618498821},3.969E-4,1.7345999999999999,4,5.7428799999999995E-4,{"$f":"AK86","v":276},296,358,0.95,0.95,0.95,276,296,358,119,127,154,{"$f":"(($AG413*(AT413^$AH413)*((($F413-14.4)*$AI413)/100))+($AJ413*(AT413^2)))*0.0098","v":0.12035350001470055},{"$f":"(($AG413*(AU413^$AH413)*((($F413-14.4)*$AI413)/100))+($AJ413*(AU413^2)))*0.0098","v":0.13628668965853094},{"$f":"(($AG413*(AV413^$AH413)*((($F413-14.4)*$AI413)/100))+($AJ413*(AV413^2)))*0.0098","v":0.19705768178204491},1.1000000000000001,{"$f":"BA86","v":6.3},{"$f":"BB86","v":6.8},9.1,null,878,null,0.68,null,null,0,{"$f":"BK412","v":12.8},{"$f":"BL412","v":14.7},21.85,null,1,1,1,276,{"$f":"AR413/BP413","v":296},{"$f":"AS413/BQ413","v":358},null,0,0,0,1]
["2358015",null,null,2,35,80,15,16.5,0,26,30,{"$f":"L90","v":42.4},843.2,{"$f":"N90","v":1395.33740436932},{"$f":"O90","v":1496.2563490716184},2007.56,1.5,1.08,1.08,1.08,843,1395,1496,2008,72,120,129,173,2.7727109890838781E-2,7.5461940836559702E-2,8.697073187627373E-2,0.1547867774406054,2.0829999999999999E-4,1.724,2,4.6182900000000003E-4,{"$f":"AK90","v":190.46915773046311},204.24499885412456,274.04000000000002,1.01,1.01,1.01,190,204,274,82,88,118,3.5768909532348576E-2,4.1076258231928696E-2,7.3013760578283488E-2,0.8,{"$f":"BA90","v":6},{"$f":"BB90","v":6.7},9,null,1054,null,0.8,null,null,0,{"$f":"BK360","v":11.8},{"$f":"BL360","v":13.7},21.85,null,{"$f":"IF((237.3*LN(($AQ$1*EXP(17.27*($AM$3/($AM$3+237.3))))))/(17.27-LN(($AQ$1*EXP(17.27*($AM$3/($AM$3+237.3))))))<(($AM$1+$AM$2)/2),1,IF(1/(1+((2258*((0.622/((101325/(1*611*EXP(17.27*((($AM$1+$AM$2)/2)/((($AM$1+$AM$2)/2)+237.3))))))-1)*1000-(0.622/((101325/($AQ$1*611*EXP(17.27*($AM$3/($AM$3+237.3))))))-1)*1000))/(1005*((($AM$1+$AM$2)/2)-$AM$3))))>1,1,1/(1+((2258*((0.622/((101325/(1*611*EXP(17.27*((($AM$1+$AM$2)/2)/((($AM$1+$AM$2)/2)+237.3))))))-1)*1000-(0.622/((101325/($AQ$1*611*EXP(17.27*($AM$3/($AM$3+237.3))))))-1)*1000))/(1005*((($AM$1+$AM$2)/2)-$AM$3))))))","v":1},1,1,190,204,274,null,0,0,0,1]
["2358016",null,null,2,35,80,16,16.5,0,26,30,{"$f":"L94","v":42.4},884.00000000000011,{"$f":"N94","v":2040.4331716148024},{"$f":"O94","v":2188.0092071816284},2935.7,1.5,1.1000000000000001,1.1000000000000001,1.1000000000000001,884,2040,2188,2936,76,175,188,252,8.8201654144229133E-2,0.45744743887251921,0.52704418993994806,0.94073397666389191,2.0829999999999999E-4,1.724,4,1.392796E-3,{"$f":"AK94","v":312},335,450,0.95,0.95,0.95,312,335,450,134,144,194,0.26997766374686077,0.31121106327333475,0.56081193423750164,1.6,{"$f":"BA94","v":6},{"$f":"BB94","v":6.7},9,null,1300,null,0.68,null,null,0,{"$f":"BK414","v":11.8},{"$f":"BL414","v":13.7},21.85,null,1,1,1,312,335,450,null,0,0,0,1]
["2358020",null,null,2,35,80,20,21.5,0,26,30,{"$f":"L98","v":42.4},1152.8,{"$f":"N98","v":1942.5718983039128},{"$f":"O98","v":2086.4239348515057},2518.44,1.5,1.08,1.08,1.08,1153,1943,2086,2518,99,167,179,217,4.0653584663894897E-2,0.11395554008077592,0.13067872337503861,0.19110006829963533,1.2760000000000001E-4,1.7219,2,3.76611E-4,{"$f":"AK98","v":240.07166246887351},257.84953601562182,311.24,0.95,0.95,0.95,240,258,311,103,111,134,4.3951963441231798E-2,5.0929918356249132E-2,7.381701321036345E-2,1.1000000000000001,{"$f":"BA98","v":6},{"$f":"BB98","v":6.7},9,null,1441,null,0.8,null,null,0,{"$f":"BK415","v":11.8},13.7,21.85,null,1,1,1,240,258,311,null,0,0,0,1]
["2358021",null,null,2,35,80,21,21.5,0,26,30,{"$f":"L102","v":42.4},1329.6000000000001,{"$f":"N102","v":2627.7848955664344},{"$f":"O102","v":2817.8416357747774},3780.76,1.5,1.05,1.05,1.05,1330,2628,2818,3781,114,226,242,325,7.6913230906096156E-2,0.29449823797779945,0.33687122572177608,0.60164522481343263,1.2760000000000001E-4,1.7219,4,5.1420100000000005E-4,{"$f":"AK102","v":340.86222571220884},365.51537125251701,490.42,0.85,0.85,0.85,341,366,490,147,157,211,0.12659023968056798,0.14403307699408213,0.25732674402542394,2.1,{"$f":"BA102","v":6},{"$f":"BB102","v":6.7},9,null,1662,null,0.8,null,null,0,{"$f":"BK416","v":11.8},13.7,21.85,null,1,1,1,341,366,490,null,0,0,0,1]
["2359010",null,null,2,35,90,10,11.5,0,26,30,{"$f":"L106","v":42.4},636.30000000000007,{"$f":"N106","v":1395.6272192501513},{"$f":"O106","v":1501.3000140389001},1828.08,1.5,1.08,1.08,1.08,636,1396,1501,1828,55,120,129,157,1.7031751142641705E-2,7.5608781210671119E-2,8.6853211147160284E-2,0.12662134598395483,3.969E-4,1.7345999999999999,2,3.6734700000000002E-4,{"$f":"AK106","v":193.48593193227777},208.13611852764589,253.44,0.98,0.98,0.98,193,208,253,83,89,109,3.7340239212640722E-2,4.2669333600542279E-2,6.2889336846315577E-2,0.6,{"$f":"BA106","v":6.7},{"$f":"BB106","v":7.4},10.3,null,707,null,0.9,null,null,0,{"$f":"BK362","v":12.5},{"$f":"BL362","v":14.7},21.85,null,1,1,1,193,208,253,null,0,0,0,1]
["2359011",null,null,2,35,90,11,11.5,0,26,30,{"$f":"L110","v":42.4},671.84,{"$f":"N110","v":1893.6336235985709},{"$f":"O110","v":2037.0140009310799},2480.4,1.5,1.1000000000000001,1.1000000000000001,1.1000000000000001,672,1894,2037,2480,58,163,175,213,3.2401537288077764E-2,0.23039387696616745,0.26382483336744583,0.38395411039699373,3.969E-4,1.7345999999999999,4,5.7428799999999995E-4,{"$f":"AK110","v":317.16301910489852},341.17767156378318,415.44,0.95,0.95,0.95,317,341,415,136,147,178,0.16316026903161293,0.18921140887221088,0.27252186122633548,1.2,{"$f":"BA110","v":6.7},{"$f":"BB110","v":7.4},10.3,null,988,null,0.68,null,null,0,{"$f":"BK418","v":12.5},{"$f":"BL418","v":14.7},21.85,null,1,1,1,317,341,415,null,0,0,0,1]
["2359015",null,null,2,35,90,15,16.5,0,26,30,{"$f":"L114","v":43.3},948,{"$f":"N114","v":1597.9167676946356},{"$f":"O114","v":1711.9130538160239},2331.36,1.5,1.08,1.08,1.08,948,1598,1712,2331,82,137,147,200,3.6582414899962695E-2,9.9846629634346956E-2,0.11462442340612437,0.20964202709641322,2.0829999999999999E-4,1.724,2,4.6182900000000003E-4,{"$f":"AK114","v":218.12205414485143},233.68300487544244,318.24,1.01,1.01,1.01,218,234,318,94,101,137,4.7773932289979358E-2,5.4977761599022158E-2,9.9846629634346956E-2,0.9,{"$f":"BA114","v":7},{"$f":"BB114","v":7.7},10.7,null,1185,null,0.8,null,null,0,{"$f":"BK363","v":11.3},{"$f":"BL363","v":13.2},21.85,null,1,1,1,218,234,318,null,0,0,0,1]
["2359016",null,null,2,35,90,16,16.5,0,26,30,{"$f":"L118","v":43.3},994.84,{"$f":"N118","v":2336.669516687492},{"$f":"O118","v":2503.3688418217644},3409.2,1.5,1.1000000000000001,1.1000000000000001,1.1000000000000001,995,2337,2503,3409,86,201,215,293,0.11430377195350823,0.60915360332621049,0.69575042058868541,1.2822911322288062,2.0829999999999999E-4,1.724,4,1.392796E-3,{"$f":"AK118","v":357.77938745479025},383.30357134546551,522,0.95,0.95,0.95,358,383,522,154,165,224,0.36016635113087053,0.41266687566708049,0.75442675175462648,1.8,{"$f":"BA118","v":7},{"$f":"BB118","v":7.7},10.7,null,1463,null,0.68,null,null,0,{"$f":"BK420","v":11.3},{"$f":"BL420","v":13.2},21.85,null,1,1,1,358,383,522,null,0,0,0,1]
["2359020",null,null,2,35,90,20,21.5,0,26,30,{"$f":"L122","v":43.3},1296.8000000000002,{"$f":"N122","v":2232.7836804230465},{"$f":"O122","v":2401.8435041457315},2924.64,1.5,1.08,1.08,1.08,1297,2233,2402,2925,112,192,207,252,5.2682479647340047E-2,0.15220989401469975,0.17653301618879313,0.26017862567755984,1.2760000000000001E-4,1.7219,2,3.76611E-4,{"$f":"AK122","v":275.93732338069162},296.83048721840407,361.44,0.95,0.95,0.95,276,297,361,119,128,155,5.9353068879593893E-2,6.85057463009488E-2,9.9843942617951306E-2,1.2,{"$f":"BA122","v":7},{"$f":"BB122","v":7.7},10.7,null,1621,null,0.8,null,null,0,{"$f":"BK421","v":11.3},13.2,21.85,null,1,1,1,276,297,361,null,0,0,0,1]
["2359021",null,null,2,35,90,21,21.5,0,26,30,{"$f":"L126","v":43.3},1496,{"$f":"N126","v":3009.2947651024979},{"$f":"O126","v":3223.9795559512399},4390.5600000000004,1.5,1.05,1.05,1.05,1496,3009,3224,4391,129,259,277,378,0.10014539466079872,0.39212285066283958,0.44737503001439571,0.82373176047688912,1.2760000000000001E-4,1.7219,4,5.1420100000000005E-4,{"$f":"AK126","v":390.34964893343317},418.19741370243202,569.52,0.85,0.85,0.85,390,418,570,168,180,245,0.16789509816318576,0.19217671661448937,0.35163070513405226,2.4,{"$f":"BA126","v":7},{"$f":"BB126","v":7.7},10.7,null,1870,null,0.8,null,null,0,{"$f":"BK422","v":11.3},13.2,21.85,null,1,1,1,390,418,570,null,0,0,0,1]
["23510010",null,null,2,35,100,10,11.5,0,26,30,{"$f":"L130","v":43},706.5,{"$f":"N130","v":1574.3905475253332},{"$f":"O130","v":1696.1265760133244},2081.98,1.5,1.08,1.08,1.08,707,1574,1696,2082,61,135,146,179,2.1717915640486678E-2,9.8623231218722851E-2,0.11455551187153463,0.16920060692862343,3.969E-4,1.7345999999999999,2,3.6734700000000002E-4,{"$f":"AK130","v":218.26918973175157},235.14633901405676,288.64,0.98,0.98,0.98,218,235,289,94,101,124,4.9429305306709352E-2,5.6681136080738742E-2,8.3841493078660942E-2,0.7,{"$f":"BA130","v":7.8},{"$f":"BB130","v":8.6999999999999993},12.2,null,785,null,0.9,null,null,0,{"$f":"BK365","v":12.3},{"$f":"BL365","v":14.1},21.85,null,1,1,1,218,235,289,null,0,0,0,1]
["23510011",null,null,2,35,100,11,11.5,0,26,30,{"$f":"L134","v":43},746.6400000000001,{"$f":"N134","v":2136.1856779144437},{"$f":"O134","v":2301.3611872256411},2824.9,1.5,1.1000000000000001,1.1000000000000001,1.1000000000000001,747,2136,2301,2825,64,184,198,243,4.1142469165316699E-2,0.30352033783455779,0.34894385970841529,0.51535542526976641,3.969E-4,1.7345999999999999,4,5.7428799999999995E-4,{"$f":"AK134","v":358},385,473,0.95,0.95,0.95,358,385,473,154,166,203,0.21644289597218058,0.2495876591101075,0.36590011099410291,1.3,{"$f":"BA134","v":7.8},{"$f":"BB134","v":8.6999999999999993},12.2,null,1098,null,0.68,null,null,0,{"$f":"BK424","v":12.3},{"$f":"BL424","v":14.1},21.85,null,1,1,1,358,385,473,null,0,0,0,1]
["23510015",null,null,2,35,100,15,16.5,0,26,30,{"$f":"L138","v":44.1},1053.6000000000001,{"$f":"N138","v":1798.7737222599399},{"$f":"O138","v":1926.0891717740149},2655.16,1.5,1.08,1.08,1.08,1054,1799,1926,2655,91,155,166,228,4.5812275859649483E-2,0.12960669873525657,0.14820649885017992,0.27587309609991228,2.0829999999999999E-4,1.724,2,4.6182900000000003E-4,{"$f":"AK138","v":245.53983484833029},262.91890485611941,362.44,1.01,1.01,1.01,246,263,362,106,113,156,6.1693712021988735E-2,6.989545441405931E-2,0.13124694650181259,1,{"$f":"BA138","v":7},{"$f":"BB138","v":7.7},10.7,null,1317,null,0.8,null,null,0,{"$f":"BK366","v":10.9},{"$f":"BL366","v":12.8},21.85,null,1,1,1,246,263,362,null,0,0,0,1]
["23510016",null,null,2,35,100,16,16.5,0,26,30,{"$f":"L142","v":44.1},1105,{"$f":"N142","v":2630.3871448118639},{"$f":"O142","v":2816.5633812075234},3882.7,1.5,1.1000000000000001,1.1000000000000001,1.1000000000000001,1105,2630,2817,3883,95,226,242,334,0.1411350215727247,0.77712770761656835,0.88934367498091926,1.6794877029795134,2.0829999999999999E-4,1.724,4,1.392796E-3,{"$f":"AK142","v":403},431,595,0.95,0.95,0.95,403,431,595,173,185,256,0.45896052508691165,0.52378160296818432,0.99366847477469411,2,{"$f":"BA142","v":7},{"$f":"BB142","v":7.7},10.7,null,1625,null,0.68,null,null,0,{"$f":"BK426","v":10.9},{"$f":"BL426","v":12.8},21.85,null,1,1,1,403,431,595,null,0,0,0,1]
["23510020",null,null,2,35,100,20,21.5,0,26,30,{"$f":"L146","v":44.1},1440.8000000000002,{"$f":"N146","v":2518.7768428703835},{"$f":"O146","v":2713.5353098724395},3330.84,1.5,1.08,1.08,1.08,1441,2519,2714,3331,124,217,233,286,6.5364315736515841E-2,0.19637584927080459,0.22589211718801094,0.33821597295331562,1.2760000000000001E-4,1.7219,2,3.76611E-4,{"$f":"AK146","v":311.2816285378957},335.35074484391049,411.64,{"$f":"IF($G428=10,0.98,IF($G428=11,0.95,IF($G428=15,1.01,IF($G428=16,0.95,IF($G428=20,0.95,IF($G428=21,0.85))))))","v":0.95},0.95,0.95,311,335,412,134,144,177,7.6117387440108403E-2,8.7676786087461309E-2,0.13152753973488002,1.3,{"$f":"BA146","v":7},{"$f":"BB146","v":7.7},10.7,null,1801,null,0.8,null,null,0,{"$f":"BK427","v":10.9},12.8,21.85,null,1,1,1,311,335,412,null,0,0,0,1]
["23510021",null,null,2,35,100,21,21.5,0,26,30,{"$f":"L150","v":44.1},1662.4,{"$f":"N150","v":3387.5608889256064},{"$f":"O150","v":3627.3291443724347},5000.3599999999997,1.5,1.05,1.05,1.05,1662,3388,3627,5000,143,291,312,430,0.12506934582876045,0.50157125518840051,0.57492378341496886,1.0783579804788856,1.2760000000000001E-4,1.7219,4,5.1420100000000005E-4,{"$f":"AK150","v":439.41631078060919},470.51776864522725,648.62,0.85,0.85,0.85,439,471,649,189,203,279,0.21560419169801393,0.24792046126884393,0.46186798350799674,2.7,{"$f":"BA150","v":7},{"$f":"BB150","v":7.7},10.7,null,2078,null,0.8,null,null,0,{"$f":"BK428","v":10.9},12.8,21.85,null,1,1,1,439,471,649,null,0,0,0,1]
["23511010",null,null,2,35,110,10,11.5,0,26,30,{"$f":"L154","v":43.5},777.6,{"$f":"N154","v":1766.3893947845202},{"$f":"O154","v":1902.9712804051933},2335.88,1.5,1.08,1.08,1.08,778,1766,1903,2336,67,152,164,201,2.7097558911765737E-2,0.12846635666491932,0.14849855963064404,0.21898283146724631,3.969E-4,1.7345999999999999,2,3.6734700000000002E-4,{"$f":"AK154","v":244.88738360147738},263.82272182064906,323.83999999999997,0.98,0.98,0.98,245,264,324,105,114,139,6.3532409410345894E-2,7.4283678081492499E-2,0.10834103483995079,0.7,{"$f":"BA154","v":8.4},{"$f":"BB154","v":9.3000000000000007},14,null,864,null,0.9,null,null,0,{"$f":"BK368","v":12},{"$f":"BL368","v":13.9},21.85,null,1,1,1,245,264,324,null,0,0,0,1]
["23511011",null,null,2,35,110,11,11.5,0,26,30,{"$f":"L158","v":43.5},821.44,{"$f":"N158","v":2396.6961264405954},{"$f":"O158","v":2582.0149905458411},3169.4,1.5,1.1000000000000001,1.1000000000000001,1.1000000000000001,821,2397,2582,3169,71,206,222,273,5.2559853977011808E-2,0.39231335542301654,0.4521181336762668,0.66959643399325008,3.969E-4,1.7345999999999999,4,5.7428799999999995E-4,{"$f":"AK158","v":401.42051232401269},432.4594048025981,530.84,0.95,0.95,0.95,401,432,531,172,186,228,0.27874588734236166,0.32327190223067265,0.47558723983145007,1.5,{"$f":"BA158","v":8.4},{"$f":"BB158","v":9.3000000000000007},14,null,1208,null,0.68,null,null,0,{"$f":"BK430","v":12},{"$f":"BL430","v":13.9},21.85,null,1,1,1,401,432,531,null,0,0,0,1]
["23511015",null,null,2,35,110,15,16.5,0,26,30,{"$f":"L162","v":44.1},1159.2,{"$f":"N162","v":1908.1501882577959},{"$f":"O162","v":2043.2071973479594},2816.6099999999997,1.5,1.08,1.08,1.08,1159,1908,2043,2817,100,164,176,242,5.6208967541573021E-2,0.14742102741229732,0.1692130010603492,0.31530215896235814,2.0829999999999999E-4,1.724,2,4.6182900000000003E-4,{"$f":"AK162","v":249.80785427097814},267.48901053042016,368.74,1.01,1.01,1.01,250,267,369,108,115,159,6.5293712586279876E-2,7.3788401225819936E-2,0.1387762211751877,1.1000000000000001,{"$f":"BA162","v":7.9},{"$f":"BB162","v":8.8000000000000007},12.5,null,1449,null,0.8,null,null,0,{"$f":"BK366","v":10.9},{"$f":"BL366","v":12.8},21.85,null,1,1,1,250,267,369,null,0,0,0,1]
["23511016",null,null,2,35,110,16,16.5,0,26,30,{"$f":"L166","v":44.1},1215.8400000000001,{"$f":"N166","v":2849.7497938679544},{"$f":"O166","v":3051.4523045945984},4206.5,1.5,1.1000000000000001,1.1000000000000001,1.1000000000000001,1216,2850,3051,4207,105,245,262,362,0.17430584082681674,0.92195448057549512,1.0521845346704815,1.9898808014753209,2.0829999999999999E-4,1.724,4,1.392796E-3,{"$f":"AK166","v":407.83296705301524},436.69898665540194,602,0.95,0.95,0.95,408,437,602,175,188,259,0.47548152700019564,0.54744957167687558,1.0285851673079258,2.2000000000000002,{"$f":"BA166","v":7.9},{"$f":"BB166","v":8.8000000000000007},12.5,null,1788,null,0.68,null,null,0,{"$f":"BK432","v":10.9},{"$f":"BL432","v":12.8},21.85,null,1,1,1,408,437,602,null,0,0,0,1]
["23511020",null,null,2,35,110,20,21.5,0,26,30,{"$f":"L170","v":44.1},1584.8000000000002,{"$f":"N170","v":2692.551301713082},{"$f":"O170","v":2900.746468081386},3560.6400000000003,1.5,1.08,1.08,1.08,1585,2693,2901,3561,136,232,249,306,7.9544712053658623E-2,0.22694722640377721,0.26079058599865457,0.3911657832602583,1.2760000000000001E-4,1.7219,2,3.76611E-4,{"$f":"AK170","v":317.17997831584631},341.70517057946222,419.44,0.95,0.95,0.95,317,342,419,136,147,180,7.9544712053658623E-2,9.2650629466224224E-2,0.13785909087762688,1.5,{"$f":"BA170","v":7.9},{"$f":"BB170","v":8.8000000000000007},12.5,null,1981,null,0.8,null,null,0,{"$f":"BK433","v":10.9},12.8,21.85,null,1,1,1,317,342,419,null,0,0,0,1]
["23511021",null,null,2,35,110,21,21.5,0,26,30,{"$f":"L174","v":44.1},1828.8000000000002,{"$f":"N174","v":3556.1815292902165},{"$f":"O174","v":3807.8845891872675},5249.2599999999993,1.5,1.05,1.05,1.05,1829,3556,3808,5249,157,306,327,451,0.15309828153396723,0.56299805703171679,0.64102009569515583,1.2027269290583564,1.2760000000000001E-4,1.7219,4,5.1420100000000005E-4,{"$f":"AK174","v":445.64897406447591},477.19157375690452,657.82,0.85,0.85,0.85,446,477,658,192,205,283,0.22661573879571267,0.25750136415425773,0.48325773512719011,2.9,{"$f":"BA174","v":7.9},{"$f":"BB174","v":8.8000000000000007},12.5,null,2286,null,0.8,null,null,0,{"$f":"BK434","v":10.9},12.8,21.85,null,1,1,1,446,477,658,null,0,0,0,1]
["23512010",null,null,2,35,120,10,11.5,0,26,30,{"$f":"L178","v":44},847.80000000000007,{"$f":"N178","v":1924.9914127028867},{"$f":"O178","v":2079.6202422788024},2589.7800000000002,1.5,1.08,1.08,1.08,848,1925,2080,2590,73,166,179,223,3.3203528634013511E-2,0.15749249199599902,0.18178308069124571,0.2762925905995734,3.969E-4,1.7345999999999999,2,3.6734700000000002E-4,{"$f":"AK178","v":266.87553260000635},288.31284965818764,359.04,0.98,0.98,0.98,267,288,359,115,124,154,7.844810437960871E-2,9.0497540707880797E-2,0.13655457969155813,0.8,{"$f":"BA178","v":8.9},{"$f":"BB178","v":9.9},14.8,null,942,null,0.9,null,null,0,{"$f":"BK371","v":11.8},{"$f":"BL371","v":13.7},21.85,null,1,1,1,267,288,359,null,0,0,0,1]
["23512011",null,null,2,35,120,11,11.5,0,26,30,{"$f":"L182","v":44},896.24,{"$f":"N182","v":2611.8926414972211},{"$f":"O182","v":2821.6982019103875},3513.9,1.5,1.1000000000000001,1.1000000000000001,1.1000000000000001,896,2612,2822,3514,77,225,243,302,6.412511446159723E-2,0.48249130904551651,0.55811858661840352,0.8424915609755409,3.969E-4,1.7345999999999999,4,5.7428799999999995E-4,{"$f":"AK182","v":437},473,589,0.95,0.95,0.95,437,473,589,188,203,253,0.34358909156864093,0.39720266611384658,0.60239378849067871,1.6,{"$f":"BA182","v":8.9},{"$f":"BB182","v":9.9},14.8,null,1318,null,0.68,null,null,0,{"$f":"BK436","v":11.8},{"$f":"BL436","v":13.7},21.85,null,1,1,1,437,473,589,null,0,0,0,1]
["23512015",null,null,2,35,120,15,16.5,0,26,30,{"$f":"L186","v":44.8},1264,{"$f":"N186","v":2216.9073865755149},{"$f":"O186","v":2373.9948983307781},3302.76,1.5,1.08,1.08,1.08,1264,2217,2374,3303,109,191,204,284,6.7804924354008353E-2,0.20201741408626139,0.22969478307979363,0.43817875262090578,2.0829999999999999E-4,1.724,2,4.6182900000000003E-4,{"$f":"AK186","v":302.61675876046246},324.05983479376272,450.84,1.01,1.01,1.01,303,324,451,130,139,194,9.5500985484133716E-2,0.10878402336268925,0.20824992292405745,1.2,{"$f":"BA186","v":8.6999999999999993},{"$f":"BB186","v":9.8000000000000007},14.3,null,1580,null,0.8,null,null,0,{"$f":"BK372","v":10.6},{"$f":"BL372","v":12.5},21.85,null,1,1,1,303,324,451,null,0,0,0,1]
["23512016",null,null,2,35,120,16,16.5,0,26,30,{"$f":"L190","v":44.8},1326,{"$f":"N190","v":3241.8333772189817},{"$f":"O190","v":3471.5459677567114},4829.7,1.5,1.1000000000000001,1.1000000000000001,1.1000000000000001,1326,3242,3472,4830,114,279,299,415,0.20770859174356085,1.204343316710782,1.3801140974321322,2.632057975603213,2.0829999999999999E-4,1.724,4,1.392796E-3,{"$f":"AK190","v":496},532,740,0.95,0.95,0.95,496,532,740,213,229,318,0.70833668732811383,0.81671249966312653,1.5580377368272431,2.4,{"$f":"BA190","v":8.6999999999999993},{"$f":"BB190","v":9.8000000000000007},14.3,null,1950,null,0.68,null,null,0,{"$f":"BK438","v":10.6},{"$f":"BL438","v":12.5},21.85,null,1,1,1,496,532,740,null,0,0,0,1]
["23512020",null,null,2,35,120,20,21.5,0,26,30,{"$f":"L194","v":44.8},1728.8000000000002,{"$f":"N194","v":3079.6829926739365},{"$f":"O194","v":3327.0647594078355},4143.24,1.5,1.08,1.08,1.08,1729,3080,3327,4143,149,265,286,356,9.6519937866428429E-2,0.29848242281650889,0.34670295754782865,0.53308564610580933,1.2760000000000001E-4,1.7219,2,3.76611E-4,{"$f":"AK194","v":380.60090160569081},411.17343900116532,512.04,0.95,0.95,0.95,381,411,512,164,177,220,0.11646670942658871,0.13524222402195477,0.20715667478646135,1.6,{"$f":"BA194","v":8.6999999999999993},{"$f":"BB194","v":9.8000000000000007},14.3,null,2161,null,0.8,null,null,0,{"$f":"BK439","v":10.6},12.5,21.85,null,1,1,1,381,411,512,null,0,0,0,1]
["23512021",null,null,2,35,120,21,21.5,0,26,30,{"$f":"L198","v":44.8},1995.2,{"$f":"N198","v":4175.015825613802},{"$f":"O198","v":4470.8526528786542},6219.96,1.5,1.05,1.05,1.05,1995,4175,4471,6220,172,359,385,535,0.18641731873230047,0.78201485926088143,0.89645307864469181,1.7058196412629565,1.2760000000000001E-4,1.7219,4,5.1420100000000005E-4,{"$f":"AK198","v":541.56076058716258},579.9351342123673,806.82,0.85,0.85,0.85,542,580,807,233,249,347,0.33654397258851859,0.38303545484733642,0.73178556707416287,3.2,{"$f":"BA198","v":8.6999999999999993},{"$f":"BB198","v":9.8000000000000007},14.3,null,2494,null,0.8,null,null,0,{"$f":"BK440","v":10.6},12.5,21.85,null,1,1,1,542,580,807,null,0,0,0,1]
["23514010",null,null,2,35,140,10,11.5,0,26,30,{"$f":"L202","v":44.8},989.1,{"$f":"N202","v":2267.7915432376717},{"$f":"O202","v":2456.1428225151312},3097.58,1.5,1.08,1.08,1.08,989,2268,2456,3098,85,195,211,266,4.772185674867694E-2,0.22855867513090425,0.26538154154463672,0.41180366936575952,3.969E-4,1.7345999999999999,2,3.6734700000000002E-4,{"$f":"AK202","v":314.40040300104783},340.51290804463417,429.44,0.98,0.98,0.98,314,341,429,135,147,184,0.11404996966906063,0.1339431496553784,0.20476735769324847,0.9,{"$f":"BA202","v":10.1},{"$f":"BB202","v":11.2},17.5,null,1099,null,0.9,null,null,0,{"$f":"BK374","v":11.5},{"$f":"BL374","v":13.3},21.85,null,1,1,1,314,341,429,null,0,0,0,1]
["23514011",null,null,2,35,140,11,11.5,0,26,30,{"$f":"L206","v":44.8},1045.1600000000001,{"$f":"N206","v":3077.015307780141},{"$f":"O206","v":3332.5766142436496},4202.8999999999996,1.5,1.1000000000000001,1.1000000000000001,1.1000000000000001,1045,3077,3333,4203,90,265,287,361,9.3536677893130943E-2,0.70734607634958468,0.82199994803261212,1.2670408781957792,3.969E-4,1.7345999999999999,4,5.7428799999999995E-4,{"$f":"AK206","v":515},558,704,0.95,0.95,0.95,515,558,704,221,240,303,0.5026708586376617,0.58700184508997044,0.91049538023254029,1.9,{"$f":"BA206","v":10.1},{"$f":"BB206","v":11.2},17.5,null,1537,null,0.68,null,null,0,{"$f":"BK442","v":11.5},{"$f":"BL442","v":13.3},21.85,null,1,1,1,515,558,704,null,0,0,0,1]
["23514015",null,null,2,35,140,15,16.5,0,26,30,{"$f":"L210","v":45.4},1475.2,{"$f":"N210","v":2628.9846104428207},{"$f":"O210","v":2815.4584574952669},3950.36,1.5,1.08,1.08,1.08,1475,2629,2815,3950,127,226,242,340,9.4720270617638908E-2,0.28983635322357215,0.33106971150845382,0.64182959732152445,2.0829999999999999E-4,1.724,2,4.6182900000000003E-4,{"$f":"AK210","v":358.86695423586366},384.32138301819265,539.24,1.01,1.01,1.01,359,384,539,154,165,232,0.137621338941047,0.1573279392829452,0.30498467021762166,1.4,{"$f":"BA210","v":9.6},{"$f":"BB210","v":10.5},16.100000000000001,null,1844,null,0.8,null,null,0,{"$f":"BK375","v":10.4},{"$f":"BL375","v":12.2},21.85,null,1,1,1,359,384,539,null,0,0,0,1]
["23514016",null,null,2,35,140,16,16.5,0,26,30,{"$f":"L214","v":45.4},1547,{"$f":"N214","v":3844.4231409656436},{"$f":"O214","v":4117.1080284867467},5776.7,1.5,1.1000000000000001,1.1000000000000001,1.1000000000000001,1547,3844,4117,5777,133,331,354,497,0.28848618877368931,1.7219838483818737,1.9648470126541058,3.8280696316652558,2.0829999999999999E-4,1.724,4,1.392796E-3,{"$f":"AK214","v":589},630,885,0.95,0.95,0.95,589,630,885,253,271,381,1.0162271216516092,1.1628994061160329,2.2700825079676186,2.8,{"$f":"BA214","v":9.6},{"$f":"BB214","v":10.5},16.100000000000001,null,2275,null,0.68,null,null,0,{"$f":"BK444","v":10.4},{"$f":"BL444","v":12.2},21.85,null,1,1,1,589,630,885,null,0,0,0,1]
["23514020",null,null,2,35,140,20,21.5,0,26,30,{"$f":"L218","v":45.4},1936.8000000000002,{"$f":"N218","v":3628.1091959950468},{"$f":"O218","v":3929.4415695377957},4955.6400000000003,1.5,1.08,1.08,1.08,1937,3628,3929,4956,167,312,338,426,0.1240376978184978,0.42118895241344162,0.49271246369818478,0.7756359730733573,1.2760000000000001E-4,1.7219,2,3.76611E-4,{"$f":"AK218","v":448.37784746172167},485.61784045001809,612.44000000000005,0.95,0.95,0.95,448,486,612,193,209,263,0.16455496588623258,0.1922740711354792,0.30142179085547277,1.9,{"$f":"BA218","v":9.6},{"$f":"BB218","v":10.5},16.100000000000001,null,2421,null,0.8,null,null,0,{"$f":"BK445","v":10.4},12.2,21.85,null,1,1,1,448,486,612,null,0,0,0,1]
["23514021",null,null,2,35,140,21,21.5,0,26,30,{"$f":"L222","v":45.4},2327.2000000000003,{"$f":"N222","v":4951.0649025572329},{"$f":"O222","v":5302.2438770247491},7439.56,1.5,1.05,1.05,1.05,2327,4951,5302,7440,200,426,456,640,0.25914656260541474,1.1261815111859146,1.285836312641885,2.4907095980414304,1.2760000000000001E-4,1.7219,4,5.1420100000000005E-4,{"$f":"AK222","v":642.22570316870622},687.77876463210498,965.02,0.85,0.85,0.85,642,688,965,276,296,415,0.48412380536530875,0.55460694628885931,1.0702397452319661,3.7,{"$f":"BA222","v":9.6},{"$f":"BB222","v":10.5},16.100000000000001,null,2909,null,0.8,null,null,0,{"$f":"BK446","v":10.4},12.2,21.85,null,1,1,1,642,688,965,null,0,0,0,1]
["23516010",null,null,2,35,160,10,11.5,0,26,30,{"$f":"L226","v":45.5},1130.4000000000001,{"$f":"N226","v":2603.9362232520607},{"$f":"O226","v":2826.6988006529018},3605.38,1.5,1.08,1.08,1.08,1130,2604,2827,3605,97,224,243,310,6.552088118255972E-2,0.31579069683258104,0.3682343427384388,0.58343322204871984,3.969E-4,1.7345999999999999,2,3.6734700000000002E-4,{"$f":"AK226","v":361.00257998610687},391.88577307200529,499.84,0.98,0.98,0.98,361,392,500,155,169,215,0.15784887533096326,0.18572654509721107,0.29228700277798675,1.1000000000000001,{"$f":"BA226","v":11},{"$f":"BB226","v":12.4},19.2,null,1256,null,0.9,null,null,0,{"$f":"BK377","v":11.2},{"$f":"BL377","v":13},21.85,null,1,1,1,361,392,500,null,0,0,0,1]
["23516011",null,null,2,35,160,11,11.5,0,26,30,{"$f":"L229","v":45.5},1194.76,{"$f":"N229","v":3533.107636511756},{"$f":"O229","v":3835.359341571188},4891.8999999999996,1.5,1.1000000000000001,1.1000000000000001,1.1000000000000001,1195,3533,3835,4892,103,304,330,421,0.12994954765830097,0.97923387090071334,1.1422415218620434,1.8051385479062783,3.969E-4,1.7345999999999999,4,5.7428799999999995E-4,{"$f":"AK229","v":592},642,819,0.95,0.95,0.95,592,642,819,255,276,352,0.70442666719486835,0.81698629969873737,1.2893886583447325,2.1,{"$f":"BA229","v":11},{"$f":"BB229","v":12.4},19.2,null,1757,null,0.68,null,null,0,{"$f":"BK448","v":11.2},{"$f":"BL448","v":13},21.85,null,1,1,1,592,642,819,null,0,0,0,1]
["23516015",null,null,2,35,160,15,16.5,0,26,30,{"$f":"L232","v":46.4},1685.6000000000001,{"$f":"N232","v":3021.1783832091446},{"$f":"O232","v":3225.6120441880121},4597.96,1.5,1.08,1.08,1.08,1686,3021,3226,4598,145,260,277,395,0.12680256010301474,0.39255304944044445,0.4438617891013007,0.88424755918807496,2.0829999999999999E-4,1.724,2,4.6182900000000003E-4,{"$f":"AK232","v":412.40297880742492},440.30899429620177,627.64,1.01,1.01,1.01,412,440,628,177,189,270,0.18642121393254038,0.21164255392481759,0.42236240265801678,1.6,{"$f":"BA232","v":11.5},{"$f":"BB232","v":12.8},19.600000000000001,null,2107,null,0.8,null,null,0,{"$f":"BK378","v":10},{"$f":"BL378","v":11.8},21.85,null,1,1,1,412,440,628,null,0,0,0,1]
["23516016",null,null,2,35,160,16,16.5,0,26,30,{"$f":"L235","v":46.4},1768.0000000000002,{"$f":"N235","v":4417.9368883555589},{"$f":"O235","v":4716.8848144627045},6723.7,1.5,1.1000000000000001,1.1000000000000001,1.1000000000000001,1768,4418,4717,6724,152,380,406,578,0.38400488921756454,2.304157087904469,2.6233653218162551,5.2466408934953108,2.0829999999999999E-4,1.724,4,1.392796E-3,{"$f":"AK235","v":676},722,1030,0.95,0.95,0.95,676,722,1030,291,310,443,1.3661686148172167,1.5462621883682115,3.112728234709111,3.2,{"$f":"BA235","v":11.5},{"$f":"BB235","v":12.8},19.600000000000001,null,2600,null,0.68,null,null,0,{"$f":"BK450","v":10},{"$f":"BL450","v":11.8},21.85,null,1,1,1,676,722,1030,null,0,0,0,1]
["23516020",null,null,2,35,160,20,21.5,0,26,30,{"$f":"L238","v":46.4},2305.6,{"$f":"N238","v":4165.887726998767},{"$f":"O238","v":4522.2727563025155},5768.04,1.5,1.08,1.08,1.08,2306,4166,4522,5768,198,358,389,496,0.17749531164356872,0.5639754157614939,0.66342434491024516,1.0674404634562651,1.2760000000000001E-4,1.7219,2,3.76611E-4,{"$f":"AK238","v":514.83890668473202},558.88255136973487,712.84,0.95,0.95,0.95,515,559,713,221,240,307,0.21989661309334549,0.25827229749987091,0.41765567382317259,2.1,{"$f":"BA238","v":11.5},{"$f":"BB238","v":12.8},19.600000000000001,null,2882,null,0.8,null,null,0,{"$f":"BK451","v":10},11.8,21.85,null,1,1,1,515,559,713,null,0,0,0,1]
["23516021",null,null,2,35,160,21,21.5,0,26,30,{"$f":"L241","v":46.4},2660,{"$f":"N241","v":5689.6682460807178},{"$f":"O241","v":6074.6702425752001},8659.16,1.5,1.05,1.05,1.05,2660,5690,6075,8659,229,489,522,745,0.34853411749818719,1.516156598549864,1.721314141488552,3.4393517119933592,1.2760000000000001E-4,1.7219,4,5.1420100000000005E-4,{"$f":"AK241","v":738.0333851508442},787.97378843505794,1123.22,0.85,0.85,0.85,738,788,1123,317,339,483,0.65390832051840242,0.74470210261054104,1.4802227109968673,4.3,{"$f":"BA241","v":11.5},{"$f":"BB241","v":12.8},19.600000000000001,null,3325,null,0.8,null,null,0,{"$f":"BK452","v":10},11.8,21.85,null,1,1,1,738,788,1123,null,0,0,0,1]
["23518010",null,null,2,35,180,10,11.5,0,26,30,{"$f":"L244","v":46},1271.7,{"$f":"N244","v":2970.6878039917879},{"$f":"O244","v":3224.8253922941558},4113.18,1.5,1.08,1.08,1.08,1272,2971,3225,4113,109,256,277,354,8.6839015081691284E-2,0.42971927512859232,0.49841362806075101,0.79115305439562644,3.969E-4,1.7345999999999999,2,3.6734700000000002E-4,{"$f":"AK244","v":411.84801378696699},447.08095237792156,570.24,0.98,0.98,0.98,412,447,570,177,192,245,0.21495642722836134,0.25036580839638034,0.39566467113231368,1.2,{"$f":"BA244","v":12.2},{"$f":"BB244","v":13.7},22,null,1413,null,0.9,null,null,0,{"$f":"BK380","v":10.9},{"$f":"BL380","v":12.7},21.85,null,1,1,1,412,447,570,null,0,0,0,1]
["23518011",null,null,2,35,180,11,11.5,0,26,30,{"$f":"L247","v":46},1343.68,{"$f":"N247","v":4030.7284303866513},{"$f":"O247","v":4375.55079813051},5580.9,1.5,1.1000000000000001,1.1000000000000001,1.1000000000000001,1344,4031,4376,5581,116,347,376,480,0.17391367587413878,1.334539960528933,1.5506696983380099,2.4499067566992552,3.969E-4,1.7345999999999999,4,5.7428799999999995E-4,{"$f":"AK247","v":675.10313623602258},732.85712932403612,934.74,0.95,0.95,0.95,675,733,935,290,315,402,0.95449169552535984,1.1138291531732329,1.7573589514811909,2.4,{"$f":"BA247","v":12.2},{"$f":"BB247","v":13.7},22,null,1976,null,0.68,null,null,0,{"$f":"BK454","v":10.9},{"$f":"BL454","v":12.7},21.85,null,1,1,1,675,733,935,null,0,0,0,1]
["23518015",null,null,2,35,180,15,16.5,0,26,30,{"$f":"L250","v":46.4},1896.8000000000002,{"$f":"N250","v":3233.3460619053994},{"$f":"O250","v":3452.1364439366635},4920.8599999999997,1.5,1.08,1.08,1.08,1897,3233,3452,4921,163,278,297,423,0.16428621705509305,0.46032647442822744,0.52311768690779403,1.0377569514621654,2.0829999999999999E-4,1.724,2,4.6182900000000003E-4,{"$f":"AK250","v":420.6820520547858},449.14828645115074,640.24,1.01,1.01,1.01,421,449,640,181,193,275,0.2010263623163458,0.22751208445626886,0.45076939507650016,1.8,{"$f":"BA250","v":11.5},{"$f":"BB250","v":12.8},19.600000000000001,null,2371,null,0.8,null,null,0,{"$f":"BK381","v":10},{"$f":"BL381","v":11.8},21.85,null,1,1,1,421,449,640,null,0,0,0,1]
["23518016",null,null,2,35,180,16,16.5,0,26,30,{"$f":"L253","v":46.4},1989.0000000000002,{"$f":"N253","v":4843.4549704976926},{"$f":"O253","v":5171.1963699821436},7371.3,1.5,1.1000000000000001,1.1000000000000001,1.1000000000000001,1989,4843,5171,7371,171,417,445,634,0.49478005550152798,2.8182657536071059,3.2004400554381953,6.4023363853790576,2.0829999999999999E-4,1.724,4,1.392796E-3,{"$f":"AK253","v":686.3088894339993},732.7492584003295,1044.5,0.95,0.95,0.95,686,733,1045,295,315,449,1.4327504054076798,1.6285969093831283,3.2569852229594378,3.6,{"$f":"BA253","v":11.5},{"$f":"BB253","v":12.8},19.600000000000001,null,2925,null,0.68,null,null,0,{"$f":"BK456","v":10},{"$f":"BL456","v":11.8},21.85,null,1,1,1,686,733,1045,null,0,0,0,1]
["23518020",null,null,2,35,180,20,21.5,0,26,30,{"$f":"L256","v":46.4},2593.6000000000004,{"$f":"N256","v":4497.8275192555193},{"$f":"O256","v":4882.6094666576164},6227.64,1.5,1.08,1.08,1.08,2594,4498,4883,6228,223,387,420,536,0.22932313263294668,0.67105520500225491,0.78724334085603187,1.2676087797406754,1.2760000000000001E-4,1.7219,2,3.76611E-4,{"$f":"AK256","v":526.1057925837863},571.11330132956857,728.44,0.95,0.95,0.95,526,571,728,226,246,313,0.23536033293811029,0.27756656183252509,0.44366421223291913,2.4,{"$f":"BA256","v":11.5},{"$f":"BB256","v":12.8},19.600000000000001,null,3242,null,0.8,null,null,0,{"$f":"BK457","v":10},11.8,21.85,null,1,1,1,526,571,728,null,0,0,0,1]
["23518021",null,null,2,35,180,21,21.5,0,26,30,{"$f":"L259","v":46.4},2992,{"$f":"N259","v":6016.7573462820046},{"$f":"O259","v":6423.892435808023},9156.9599999999991,1.5,1.05,1.05,1.05,2992,6017,6424,9157,257,517,552,788,0.4497446184655074,1.7364585854055543,1.9715108987105545,3.9339119327078702,1.2760000000000001E-4,1.7219,4,5.1420100000000005E-4,{"$f":"AK259","v":750.12346036921247},800.88196110577712,1141.6200000000001,0.85,0.85,0.85,750,801,1142,323,344,491,0.69902928526631702,0.78946623977507491,1.5712748482814811,4.8,{"$f":"BA259","v":11.5},{"$f":"BB259","v":12.8},19.600000000000001,null,3740,null,0.8,null,null,0,{"$f":"BK458","v":10},11.8,21.85,null,1,1,1,750,801,1142,null,0,0,0,1]
["23520010",null,null,2,35,200,10,11.5,0,26,30,{"$f":"L262","v":46.5},1413,{"$f":"N262","v":3259.5785648750903},{"$f":"O262","v":3552.8677924068675},4620.9799999999996,1.5,1.08,1.08,1.08,1413,3260,3553,4621,122,280,306,397,0.1136326706344874,0.53596049138451529,0.63305954443385948,1.0323113448799708,3.969E-4,1.7345999999999999,2,3.6734700000000002E-4,{"$f":"AK262","v":451.89903695786995},492.55985148767917,640.64,0.98,0.98,0.98,452,493,641,194,212,276,0.26974633951173027,0.31839322337808124,0.52169992911952934,1.3,{"$f":"BA262","v":13.4},{"$f":"BB262","v":14.8},24,null,1570,null,0.9,null,null,0,{"$f":"BK383","v":10.7},{"$f":"BL383","v":12.5},21.85,null,1,1,1,452,493,641,null,0,0,0,{"$f":"IF(SUM(BV460:BX460)=0,1,0)","v":1}]
["23520011",null,null,2,35,200,11,11.5,0,26,30,{"$f":"L265","v":46.5},1493.2800000000002,{"$f":"N265","v":4422.7050634086982},{"$f":"O265","v":4820.649682883678},6269.9,1.5,1.1000000000000001,1.1000000000000001,1.1000000000000001,1493,4423,4821,6270,128,380,415,539,0.22273988362192765,1.6745484974017948,1.9734656930316881,3.2154295434805311,3.969E-4,1.7345999999999999,4,5.7428799999999995E-4,{"$f":"AK265","v":741},807,1050,0.95,0.95,0.95,741,807,1050,319,347,452,1.2089524361917552,1.4138727396795772,2.3143510148052444,2.7,{"$f":"BA265","v":13.4},{"$f":"BB265","v":14.8},24,null,2196,null,0.68,null,null,0,{"$f":"BK460","v":10.7},{"$f":"BL460","v":12.5},21.85,null,1,1,1,741,807,1050,null,0,0,0,1]
["23520015",null,null,2,35,200,15,16.5,0,26,30,{"$f":"L268","v":47.1},2107.2000000000003,{"$f":"N268","v":3875.4624109054007},{"$f":"O268","v":4083.4735576056296},5893.16,1.5,1.08,1.08,1.08,2107,3875,4083,5893,{"$f":"ROUND(U462*3600/(4186*ABS($O$1-$O$2)),0)","v":181},{"$f":"ROUND(V462*3600/(4186*ABS($O$1-$O$2)),0)","v":333},{"$f":"ROUND(W462*3600/(4186*ABS($O$1-$O$2)),0)","v":351},{"$f":"ROUND(X462*3600/(4186*ABS($O$1-$O$2)),0)","v":507},0.20739744439365809,0.67100385450414035,0.7427948904408519,1.5124900662854772,2.0829999999999999E-4,1.724,2,4.6182900000000003E-4,{"$f":"AK268","v":529.01617838795164},557.41053504066974,804.44,1.01,1.01,1.01,529,557,804,{"$f":"ROUND(AQ462*3600/(4186*ABS($AM$1-$AM$2)),0)","v":227},{"$f":"ROUND(AR462*3600/(4186*ABS($AM$1-$AM$2)),0)","v":240},{"$f":"ROUND(AS462*3600/(4186*ABS($AM$1-$AM$2)),0)","v":346},0.3205762003800503,0.35685612106712633,0.72249739815889857,2,{"$f":"BA268","v":13.2},{"$f":"BB268","v":14.7},23.5,null,2634,null,0.8,null,null,0,{"$f":"BK384","v":10},{"$f":"BL384","v":11.4},21.85,null,1,1,1,529,557,804,null,0,0,0,1]
["23520016",null,null,2,35,200,16,16.5,0,26,30,{"$f":"L271","v":47.1},2210,{"$f":"N271","v":5667.1755761695722},{"$f":"O271","v":5971.3549398587584},8617.7000000000007,1.5,1.1000000000000001,1.1000000000000001,1.1000000000000001,2210,5667,5971,8618,190,487,514,741,0.62130889070695494,3.8886229634946341,4.3210309689101214,8.8377623616344323,2.0829999999999999E-4,1.724,4,1.392796E-3,{"$f":"AK271","v":868},914,1320,0.95,0.95,0.95,868,914,1320,373,393,568,2.3103470177002245,2.5582125224157561,5.2529022162438315,4,{"$f":"BA271","v":13.2},{"$f":"BB271","v":14.7},23.5,null,3250,null,0.68,null,null,0,{"$f":"BK462","v":10},{"$f":"BL462","v":11.4},21.85,null,1,1,1,868,914,1320,null,0,0,0,1]
["23520020",null,null,2,35,200,20,21.5,0,26,30,{"$f":"L274","v":47.1},2881.6000000000004,{"$f":"N274","v":5214.8121821672385},{"$f":"O274","v":5684.028740747025},7392.84,1.5,1.08,1.08,1.08,2882,5215,5684,7393,248,448,489,636,0.28861386746342282,0.91133281879191153,1.0808827382560606,1.804767358434455,1.2760000000000001E-4,1.7219,2,3.76611E-4,{"$f":"AK274","v":644.46964929787134},702.45751547390614,913.64,0.95,0.95,0.95,644,702,914,277,302,393,0.35773067054432378,0.42311312971539766,0.70617331390652549,2.7,{"$f":"BA274","v":13.2},{"$f":"BB274","v":14.7},23.5,null,3602,null,0.8,null,null,0,{"$f":"BK463","v":10},11.4,21.85,null,1,1,1,644,702,914,null,0,0,0,1]
["23520021",null,null,2,35,200,21,21.5,0,26,30,{"$f":"L277","v":47.1},3324.8,{"$f":"N277","v":7298.5082710627348},{"$f":"O277","v":7690.2476078687869},11098.36,1.5,1.05,1.05,1.05,3325,7299,7690,11098,286,628,661,954,0.56970236703496135,2.5976371030133358,2.8682489622749725,5.8399447479033668,1.2760000000000001E-4,1.7219,4,5.1420100000000005E-4,{"$f":"AK277","v":946.7235228616961},997.53785795739748,1439.62,0.85,0.85,0.85,947,998,1440,407,429,619,1.123918147974541,1.2440371883056511,2.5261009474966261,5.3,{"$f":"BA277","v":13.2},{"$f":"BB277","v":14.7},23.5,null,4156,null,0.8,null,null,0,{"$f":"BK464","v":10},11.4,21.85,null,1,1,1,947,998,1440,null,0,0,0,1]
["23522010",null,null,2,35,220,10,11.5,0,26,30,{"$f":"L280","v":46.9},1554.3,{"$f":"N280","v":3560.7045070849035},{"$f":"O280","v":3890.5075371280445},5128.78,1.5,1.08,1.08,1.08,1554,3561,3891,5129,134,306,335,441,0.14291898766423078,0.66495285135759441,0.7876316236324602,1.3181530375289372,3.969E-4,1.7345999999999999,2,3.6734700000000002E-4,{"$f":"AK280","v":493.64631212835212},539.36930014536108,711.04,0.98,0.98,0.98,494,539,711,212,232,306,0.33526766264658142,0.39659808957963044,0.66495285135759441,1.5,{"$f":"BA280","v":13.4},{"$f":"BB280","v":14.8},24,null,1727,null,0.9,null,null,0,{"$f":"BK386","v":10.5},{"$f":"BL386","v":12.3},21.85,null,1,1,1,494,539,711,null,0,0,0,1]
["23522011",null,null,2,35,220,11,11.5,0,26,30,{"$f":"L283","v":46.9},1642.88,{"$f":"N283","v":4831.2827990970827},{"$f":"O283","v":5278.770565343093},6958.9,1.5,1.1000000000000001,1.1000000000000001,1.1000000000000001,1643,4831,5279,6959,141,415,454,598,0.2829023837236197,2.0816746946687235,2.4599536452154176,4.1089164306330286,3.969E-4,1.7345999999999999,4,5.7428799999999995E-4,{"$f":"AK283","v":809.18727868766814},884.1366084769129,1165.54,0.95,0.95,0.95,809,884,1166,348,380,501,1.5011980733038943,1.7674215645183677,2.9547969820093392,2.9,{"$f":"BA283","v":13.4},{"$f":"BB283","v":14.8},24,null,2416,null,0.68,null,null,0,{"$f":"BK466","v":10.5},{"$f":"BL466","v":12.3},21.85,null,1,1,1,809,884,1166,null,0,0,0,1]
["23522015",null,null,2,35,220,15,16.5,0,26,30,{"$f":"L286","v":47.8},2317.6,{"$f":"N286","v":4302.5567439745028},{"$f":"O286","v":4481.7988603493422},6540.76,1.5,1.08,1.08,1.08,2318,4303,4482,6541,199,370,385,563,0.25635541004929985,0.84427064665866536,0.91145906255959874,1.8978591317759046,2.0829999999999999E-4,1.724,2,4.6182900000000003E-4,{"$f":"AK286","v":587.31626956044784},611.78353807115786,892.84,1.01,1.01,1.01,587,612,893,252,263,384,0.40328748590288432,0.43778400702821296,0.90690223440245954,2.2000000000000002,{"$f":"BA286","v":15.5},{"$f":"BB286","v":16.8},27.5,null,2897,null,0.8,null,null,0,{"$f":"BK387","v":10},{"$f":"BL387","v":11.1},21.85,null,1,1,1,587,612,893,null,0,0,0,1]
["23522016",null,null,2,35,220,16,16.5,0,26,30,{"$f":"L289","v":47.8},2431,{"$f":"N289","v":6291.7251954043459},{"$f":"O289","v":6553.83496101116},9564.7000000000007,1.5,1.1000000000000001,1.1000000000000001,1.1000000000000001,2431,6292,6554,9565,209,541,564,823,0.76407307032927907,4.8599490065570379,5.2712218393505692,11.028120296891252,2.0829999999999999E-4,1.724,4,1.392796E-3,{"$f":"AK289","v":963.35813446001066},1003.4910975149082,1464.5,0.95,0.95,0.95,963,1003,1465,414,431,630,2.8848425296225417,3.1200973344986664,6.542211558205909,4.4000000000000004,{"$f":"BA289","v":15.5},{"$f":"BB289","v":16.8},27.5,null,3575,null,0.68,null,null,0,{"$f":"BK468","v":10},{"$f":"BL468","v":11.1},21.85,null,1,1,1,963,1003,1465,null,0,0,0,1]
["23522020",null,null,2,35,220,20,21.5,0,26,30,{"$f":"L292","v":47.8},3169.6000000000004,{"$f":"N292","v":5696.5662496175182},{"$f":"O292","v":6224.1991397456159},8205.24,1.5,1.08,1.08,1.08,3170,5697,6224,8205,273,490,535,706,0.35560083870937009,1.1066428651103115,1.3128927046129348,2.2531321307295649,1.2760000000000001E-4,1.7219,2,3.76611E-4,{"$f":"AK292","v":704.00695650122941},769.21417236639559,1014.04,0.95,0.95,0.95,704,769,1014,303,331,436,0.43521399990720622,0.5165738484716168,0.88193136480825907,2.9,{"$f":"BA292","v":15.5},{"$f":"BB292","v":16.8},27.5,null,3962,null,0.8,null,null,0,{"$f":"BK469","v":10},11.1,21.85,null,1,1,1,704,769,1014,null,0,0,0,1]
["23522021",null,null,2,35,220,21,21.5,0,26,30,{"$f":"L295","v":47.8},3657.6000000000004,{"$f":"N295","v":8102.8384881891643},{"$f":"O295","v":8440.3982243391856},12317.96,1.5,1.05,1.05,1.05,3658,8103,8440,12318,315,697,726,1059,0.70607499160947773,3.2570253321888645,3.523799431798829,7.3137051488079097,1.2760000000000001E-4,1.7219,4,5.1420100000000005E-4,{"$f":"AK295","v":1051.0569439418873},1094.8433905300585,1597.82,0.85,0.85,0.85,1051,1095,1598,452,471,687,1.4132675404061716,1.529835024440543,3.1674021588285153,5.9,{"$f":"BA295","v":15.5},{"$f":"BB295","v":16.8},27.5,null,4572,null,0.8,null,null,0,{"$f":"BK470","v":10},11.1,21.85,null,1,1,1,1051,1095,1598,null,0,0,0,1]
["23524010",null,null,2,35,240,10,11.5,0,26,30,{"$f":"L298","v":47.2},1695.6000000000001,{"$f":"N298","v":3860.4188735925432},{"$f":"O298","v":4228.9855673527691},5636.58,1.5,1.08,1.08,1.08,1696,3860,4229,5637,146,332,364,485,0.17640721597750245,0.81122806847196882,0.96312721192929007,1.6465778870546586,3.969E-4,1.7345999999999999,2,3.6734700000000002E-4,{"$f":"AK298","v":535.19789031294818},586.29496640731588,781.44,0.98,0.98,0.98,535,586,781,230,252,336,0.40968486620571454,0.48550351822928639,0.82954646870937465,1.6,{"$f":"BA298","v":14.8},{"$f":"BB298","v":16.600000000000001},28,null,1884,null,0.9,null,null,0,{"$f":"BK389","v":10.4},{"$f":"BL389","v":12.2},21.85,null,1,1,1,535,586,781,null,0,0,0,1]
["23524011",null,null,2,35,240,11,11.5,0,26,30,{"$f":"L301","v":47.2},1791.8000000000002,{"$f":"N301","v":5237.9452617275747},{"$f":"O301","v":5738.028861571599},7647.9,1.5,1.1000000000000001,1.1000000000000001,1.1000000000000001,1792,5238,5738,7648,154,450,493,658,0.3521393953031301,2.5443263605089523,3.0134634241110767,5.1519252843624956,3.969E-4,1.7345999999999999,4,5.7428799999999995E-4,{"$f":"AK301","v":877},961,1281,0.95,0.95,0.95,877,961,1281,377,413,551,1.8332088548014907,2.1703781533558777,3.704430979547201,3.2,{"$f":"BA301","v":14.8},{"$f":"BB301","v":16.600000000000001},28,null,2635,null,0.68,null,null,0,{"$f":"BK472","v":10.4},{"$f":"BL472","v":12.2},21.85,null,1,1,1,877,961,1281,null,0,0,0,1]
["23524015",null,null,2,35,240,15,16.5,0,26,30,{"$f":"L304","v":48.1},2528.8000000000002,{"$f":"N304","v":4729.715265656896},{"$f":"O304","v":4901.7743245246338},7188.36,1.5,1.08,1.08,1.08,2529,4730,4902,7188,217,407,422,618,0.31137315828074114,1.0402677068624975,1.1152542227427753,2.3255236596425677,2.0829999999999999E-4,1.724,2,4.6182900000000003E-4,{"$f":"AK304","v":645.62512273636446},669.11187505864359,981.24,1.01,1.01,1.01,646,669,981,278,288,422,0.50037899202077363,0.5354561461459616,1.1152542227427753,2.4,{"$f":"BA304","v":16.399999999999999},{"$f":"BB304","v":17.7},29.7,null,3161,null,0.8,null,null,0,{"$f":"BK390","v":10},{"$f":"BL390","v":10.9},21.85,null,1,1,1,646,669,981,null,0,0,0,1]
["23524016",null,null,2,35,240,16,16.5,0,26,30,{"$f":"L307","v":48.1},2652,{"$f":"N307","v":6916.3686790875245},{"$f":"O307","v":7167.9744986485921},10511.7,1.5,1.1000000000000001,1.1000000000000001,1.1000000000000001,2652,6916,7168,10512,228,595,616,904,0.92354076149310038,5.9505892618562521,6.3666227323503541,13.454619784961755,2.0829999999999999E-4,1.724,4,1.392796E-3,{"$f":"AK307","v":1059},1098,1610,0.95,0.95,0.95,1059,1098,1610,455,472,692,3.5300159430065703,3.7910912175214273,7.987173009623401,4.8,{"$f":"BA307","v":16.399999999999999},{"$f":"BB307","v":17.7},29.7,null,3900,null,0.68,null,null,0,{"$f":"BK474","v":10},{"$f":"BL474","v":10.9},21.85,null,1,1,1,1059,1098,1610,null,0,0,0,1]
["23524020",null,null,2,35,240,20,21.5,0,26,30,{"$f":"L310","v":48.1},{"$f":"IF($N476-($BE476*$BG476)>100,$BE476*$BG476,$N476-95)","v":3457.6000000000004},{"$f":"N310","v":6176.0620183272586},{"$f":"O310","v":6765.7106634844222},9017.64,1.5,1.08,1.08,1.08,{"$f":"ROUND(M476*POWER(CF_heat,Q476),0)","v":3458},{"$f":"ROUND(N476*POWER(CF_heat,R476),0)","v":6176},{"$f":"ROUND(O476*POWER(CF_heat,S476),0)","v":6766},{"$f":"ROUND(P476*POWER(CF_heat,T476),0)","v":9018},297,531,582,776,0.42772170946619681,1.3184926701217123,1.5755203313321131,2.756451557337142,{"$f":"IF($G476=$CO$103,CP$103,IF($G476=$CO$104,CP$104,IF($G476=$CO$105,CP$105,IF($G476=$CO$107,CP$107,IF($G476=$CO$108,CP$108,IF($G476=$CO$109,CP$109,IF($G476=$CO$111,CP$111,IF($G476=$CO$112,CP$112,IF($G476=$CO$113,CP$113,IF($G476=$CO$115,CP$115,IF($G476=$CO$116,CP$116,IF($G476=$CO$117,CP$117,IF($G476=$CO$119,CP$119,IF($G476=$CO$120,CP$120,))))))))))))))","v":1.2760000000000001E-4},{"$f":"IF($G476=$CO$103,CQ$103,IF($G476=$CO$104,CQ$104,IF($G476=$CO$105,CQ$105,IF($G476=$CO$107,CQ$107,IF($G476=$CO$108,CQ$108,IF($G476=$CO$109,CQ$109,IF($G476=$CO$111,CQ$111,IF($G476=$CO$112,CQ$112,IF($G476=$CO$113,CQ$113,IF($G476=$CO$115,CQ$115,IF($G476=$CO$116,CQ$116,IF($G476=$CO$117,CQ$117,IF($G476=$CO$119,CQ$119,IF($G476=$CO$120,CQ$120,))))))))))))))","v":1.7219},{"$f":"IF($G476=$CO$103,CR$103,IF($G476=$CO$104,CR$104,IF($G476=$CO$105,CR$105,IF($G476=$CO$107,CR$107,IF($G476=$CO$108,CR$108,IF($G476=$CO$109,CR$109,IF($G476=$CO$111,CR$111,IF($G476=$CO$112,CR$112,IF($G476=$CO$113,CR$113,IF($G476=$CO$115,CR$115,IF($G476=$CO$116,CR$116,IF($G476=$CO$117,CR$117,IF($G476=$CO$119,CR$119,IF($G476=$CO$120,CR$120,))))))))))))))","v":2},{"$f":"IF($G476=$CO$103,CS$103,IF($G476=$CO$104,CS$104,IF($G476=$CO$105,CS$105,IF($G476=$CO$107,CS$107,IF($G476=$CO$108,CS$108,IF($G476=$CO$109,CS$109,IF($G476=$CO$111,CS$111,IF($G476=$CO$112,CS$112,IF($G476=$CO$113,CS$113,IF($G476=$CO$115,CS$115,IF($G476=$CO$116,CS$116,IF($G476=$CO$117,CS$117,IF($G476=$CO$119,CS$119,IF($G476=$CO$120,CS$120,))))))))))))))","v":3.76611E-4},{"$f":"AK310","v":763.26517311676128},836.13657141043336,1114.44,0.95,0.95,0.95,{"$f":"ROUND(AK476*POWER(CF_cool,AN476),0)","v":763},{"$f":"ROUND(AL476*POWER(CF_cool,AO476),0)","v":836},{"$f":"ROUND(AM476*POWER(CF_cool,AP476),0)","v":1114},328,359,479,0.51827708039997999,0.61727233073709142,1.0794747424565225,{"$f":"ROUND(IF(G476=10,$CO$92*F476,IF(G476=11,$CO$93*F476,IF(G476=15,$CO$94*F476,IF(G476=16,$CO$95*F476,IF(G476=20,$CO$96*F476,IF(G476=21,$CO$97*F476,)))))),1)","v":3.2},{"$f":"BA310","v":16.399999999999999},{"$f":"BB310","v":17.7},29.7,null,4322,null,{"$f":"IF(G476=10,0.9,IF(G476=11,0.68,IF(G476=15,0.8,IF(G476=16,0.68,IF(G476=20,0.8,IF(G476=21,0.8))))))","v":0.8},null,null,0,{"$f":"BK475","v":10},10.9,21.85,null,1,1,1,{"$f":"AQ476/BO476","v":763},836,1114,null,{"$f":"BR476-AQ476","v":0},{"$f":"BS476-AR476","v":0},{"$f":"BT476-AS476","v":0},1]
[{"$f":"CONCATENATE(D477,E477,F477,G477)","v":"23524021"},null,null,2,35,240,21,21.5,0,26,30,{"$f":"L313","v":48.1},3989.6000000000004,{"$f":"N313","v":8907.2895892451361},{"$f":"O313","v":9231.3217513746804},13537.56,1.5,{"$f":"IF($G477=10,1.08,IF($G477=11,1.1,IF($G477=15,1.08,IF($G477=16,1.1,IF($G477=20,1.08,IF($G477=21,1.05))))))","v":1.05},1.05,1.05,3990,8907,9231,13538,343,766,794,1164,{"$f":"(($AG477*(Y477^$AH477)*((($F477-14.4)*$AI477)/100))+($AJ477*(Y477^2)))*0.0098","v":0.85467085435215173},{"$f":"(($AG477*(Z477^$AH477)*((($F477-14.4)*$AI477)/100))+($AJ477*(Z477^2)))*0.0098","v":4.0010729190713317},{"$f":"(($AG477*(AA477^$AH477)*((($F477-14.4)*$AI477)/100))+($AJ477*(AA477^2)))*0.0098","v":4.2877786386288861},{"$f":"(($AG477*(AB477^$AH477)*((($F477-14.4)*$AI477)/100))+($AJ477*(AB477^2)))*0.0098","v":8.9740973699602584},1.2760000000000001E-4,1.7219,4,5.1420100000000005E-4,{"$f":"AK313","v":1155.4060454399644},1197.4377673560793,1756.02,0.85,0.85,0.85,1155,1197,1756,497,515,755,{"$f":"(($AG477*(AT477^$AH477)*((($F477-14.4)*$AI477)/100))+($AJ477*(AT477^2)))*0.0098","v":1.7405492683847181},{"$f":"(($AG477*(AU477^$AH477)*((($F477-14.4)*$AI477)/100))+($AJ477*(AU477^2)))*0.0098","v":1.8636668369026486},{"$f":"(($AG477*(AV477^$AH477)*((($F477-14.4)*$AI477)/100))+($AJ477*(AV477^2)))*0.0098","v":3.8910739231720726},6.4,{"$f":"BA313","v":16.399999999999999},{"$f":"BB313","v":17.7},29.7,null,4987,null,0.8,null,null,0,{"$f":"BK476","v":10},10.9,21.85,null,1,1,1,1155,{"$f":"AR477/BP477","v":1197},{"$f":"AS477/BQ477","v":1756},null,0,0,0,1]
["23526010",null,null,2,35,260,10,11.5,0,26,30,{"$f":"L316","v":47.8},1836.9,{"$f":"N316","v":4178.1784000000007},{"$f":"O316","v":4608.2849999999999},6144.38,1.5,1.08,1.08,1.08,1837,4178,4608,6144,158,359,396,528,0.21430930132070103,0.98066442194259407,1.1770680299869807,2.0125184153009763,3.969E-4,1.7345999999999999,2,3.6734700000000002E-4,{"$f":"AK316","v":579.25120000000004},638.88,851.84,0.98,0.98,0.98,579,639,852,249,275,366,0.4971168110898011,0.59766089099899167,1.0165350975712137,1.7,{"$f":"BA316","v":16.2},{"$f":"BB316","v":18.600000000000001},31.4,null,2041,null,0.9,null,null,0,{"$f":"BK392","v":10.199999999999999},{"$f":"BL392","v":11.9},21.85,null,{"$f":"IF((237.3*LN(($AQ$1*EXP(17.27*($AM$3/($AM$3+237.3))))))/(17.27-LN(($AQ$1*EXP(17.27*($AM$3/($AM$3+237.3))))))<(($AM$1+$AM$2)/2),1,IF(1/(1+((2258*((0.622/((101325/(1*611*EXP(17.27*((($AM$1+$AM$2)/2)/((($AM$1+$AM$2)/2)+237.3))))))-1)*1000-(0.622/((101325/($AQ$1*611*EXP(17.27*($AM$3/($AM$3+237.3))))))-1)*1000))/(1005*((($AM$1+$AM$2)/2)-$AM$3))))>1,1,1/(1+((2258*((0.622/((101325/(1*611*EXP(17.27*((($AM$1+$AM$2)/2)/((($AM$1+$AM$2)/2)+237.3))))))-1)*1000-(0.622/((101325/($AQ$1*611*EXP(17.27*($AM$3/($AM$3+237.3))))))-1)*1000))/(1005*((($AM$1+$AM$2)/2)-$AM$3))))))","v":1},1,1,579,639,852,null,0,0,0,1]
["23526011",null,null,2,35,260,11,11.5,0,26,30,{"$f":"L319","v":47.8},1941.4,{"$f":"N319","v":5669.0920000000006},{"$f":"O319","v":6252.6749999999993},8336.9,1.5,1.1000000000000001,1.1000000000000001,1.1000000000000001,1941,5669,6253,8337,167,488,538,717,0.43094033176646795,3.1003441376081904,3.7135384223781238,6.3239752846398876,3.969E-4,1.7345999999999999,4,5.7428799999999995E-4,{"$f":"AK319","v":949.51120000000003},1047.2549999999999,1396.34,0.95,0.95,0.95,950,1047,1396,409,450,600,2.2371204011135477,2.6688522314760581,4.5447894857124886,3.5,{"$f":"BA319","v":16.2},{"$f":"BB319","v":18.600000000000001},31.4,null,2855,null,0.68,null,null,0,{"$f":"BK478","v":10.199999999999999},{"$f":"BL478","v":11.9},21.85,null,1,1,1,950,1047,1396,null,0,0,0,1]
["23526015",null,null,2,35,260,15,16.5,0,26,30,{"$f":"L322","v":48.1},2739.2000000000003,{"$f":"N322","v":4942.1733310961072},{"$f":"O322","v":5121.9619484404784},7511.2599999999993,1.5,1.08,1.08,1.08,2739,4942,5122,7511,236,425,440,646,0.37569167796640274,1.1583081112063738,1.2380335504785773,2.5902194067464457,2.0829999999999999E-4,1.724,2,4.6182900000000003E-4,{"$f":"AK322","v":653.91552727192982},677.70396216321694,993.84,1.01,1.01,1.01,654,678,994,281,292,427,0.52438185580177876,0.5643390276130934,1.1687899905071639,2.6,{"$f":"BA322","v":16.399999999999999},{"$f":"BB322","v":17.7},29.7,null,3424,null,0.8,null,null,0,{"$f":"BK393","v":10},{"$f":"BL393","v":10.9},21.85,null,1,1,1,654,678,994,null,0,0,0,1]
["23526016",null,null,2,35,260,16,16.5,0,26,30,{"$f":"L325","v":48.1},2893.4,{"$f":"N325","v":7342.4691534710291},{"$f":"O325","v":7609.5768181679023},11159.300000000001,1.5,1.1000000000000001,1.1000000000000001,1.1000000000000001,2893,7342,7610,11159,249,631,654,960,1.1174525760999618,6.7819280650427034,7.2711118135096351,15.356693366889139,2.0829999999999999E-4,1.724,4,1.392796E-3,{"$f":"AK325","v":1068.8700133353962},1107.7538502516963,1624.5,0.95,0.95,0.95,1069,1108,1625,460,476,699,3.66947790801381,3.9213280612116019,8.2763568685468254,5.2,{"$f":"BA325","v":16.399999999999999},{"$f":"BB325","v":17.7},29.7,null,4255,null,0.68,null,null,0,{"$f":"BK480","v":10},{"$f":"BL480","v":10.9},21.85,null,1,1,1,1069,1108,1625,null,0,0,0,1]
["23526020",null,null,2,35,260,20,21.5,0,26,30,{"$f":"L328","v":48.1},3746.4,{"$f":"N328","v":6444.5232000000005},{"$f":"O328","v":7107.93},9477.24,1.5,1.08,1.08,1.08,3746,6445,7108,9477,322,554,611,815,0.51049956274882635,1.4581371213480712,1.7629893390377123,3.0840089604891157,1.2760000000000001E-4,1.7219,2,3.76611E-4,{"$f":"AK328","v":768.42720000000008},847.53,1130.04,0.95,0.95,0.95,768,848,1130,330,365,486,0.53526796134941879,0.65032127694667174,1.1314386418343181,3.5,{"$f":"BA328","v":16.399999999999999},{"$f":"BB328","v":17.7},29.7,null,4683,null,0.8,null,null,0,{"$f":"BK481","v":10},10.9,21.85,null,1,1,1,768,848,1130,null,0,0,0,1]
["23526021",null,null,2,35,260,21,21.5,0,26,30,{"$f":"L331","v":48.1},4322.4000000000005,{"$f":"N331","v":9234.8263652613623},{"$f":"O331","v":9570.7750567366256},14035.359999999999,1.5,1.05,1.05,1.05,4322,9235,9571,14035,372,794,823,1207,1.0251208820386326,4.3862630877952062,4.6996233793878117,9.8287737597437417,1.2760000000000001E-4,1.7219,4,5.1420100000000005E-4,{"$f":"AK331","v":1167.5126679363457},1209.9849719689844,1774.42,0.85,0.85,0.85,1168,1210,1774,502,520,763,1.8190609839698662,1.9461054883013664,4.0628828592588073,6.9,{"$f":"BA331","v":16.399999999999999},{"$f":"BB331","v":17.7},29.7,null,5403,null,0.8,null,null,0,{"$f":"BK482","v":10},10.9,21.85,null,1,1,1,1168,1210,1774,null,0,0,0,1]
["23528010",null,null,2,35,280,10,11.5,0,26,30,{"$f":"L334","v":47.8},1978.2,{"$f":"N334","v":4331.3824000000004},{"$f":"O334","v":4782.2249168521384},6369.68,1.5,1.08,1.08,1.08,1978,4331,4782,6370,170,372,411,548,0.25683248324048413,1.0925143603098122,1.3146532792613241,2.2448293163328641,3.969E-4,1.7345999999999999,2,3.6734700000000002E-4,{"$f":"AK334","v":587.68320000000006},648.85364133524638,864.24,0.98,0.98,0.98,588,649,864,253,279,372,0.53495403421136267,0.64106400571541289,1.0925143603098122,1.9,{"$f":"BA334","v":16.2},{"$f":"BB334","v":18.600000000000001},31.4,null,2198,null,0.9,null,null,0,{"$f":"BK395","v":10.199999999999999},{"$f":"BL395","v":11.9},21.85,null,1,1,1,588,649,864,null,0,0,0,1]
["23528011",null,null,2,35,280,11,11.5,0,26,30,{"$f":"L337","v":47.8},2090.3200000000002,{"$f":"N337","v":5976.8600000000006},{"$f":"O337","v":6598.9760720588583},8789.5,1.5,1.1000000000000001,1.1000000000000001,1.1000000000000001,2090,5977,6599,8790,180,514,568,756,0.51978354482484246,3.5696256833176774,4.2925175377176981,7.2836639593144552,3.969E-4,1.7345999999999999,4,5.7428799999999995E-4,{"$f":"AK337","v":956},1056,1406,0.95,0.95,0.95,956,1056,1406,411,454,605,2.3637663276478489,2.839310118041396,4.8232973600811606,3.7,{"$f":"BA337","v":16.2},{"$f":"BB337","v":18.600000000000001},31.4,null,3074,null,0.68,null,null,0,{"$f":"BK484","v":10.199999999999999},{"$f":"BL484","v":11.9},21.85,null,1,1,1,956,1056,1406,null,0,0,0,1]
["23528015",null,null,2,35,280,15,16.5,0,26,30,{"$f":"L340","v":48.9},2950.4,{"$f":"N340","v":5583.9635634029},{"$f":"O340","v":5708.9475468201636},8483.56,1.5,1.08,1.08,1.08,2950,5584,5709,8484,254,480,491,730,0.4437368525747169,1.4973769906672623,1.5638277222676435,3.3484388456827587,2.0829999999999999E-4,1.724,2,4.6182900000000003E-4,{"$f":"AK340","v":762.23344503523219},779.29426056038062,1158.04,1.01,1.01,1.01,762,779,1158,328,335,498,0.72271492130345638,0.75246226647382841,1.6068391234938044,2.8,{"$f":"BA340","v":19.3},{"$f":"BB340","v":20.399999999999999},34.5,null,3688,null,0.8,null,null,0,{"$f":"BK396","v":10},{"$f":"BL396","v":10.6},21.85,null,1,1,1,762,779,1158,null,0,0,0,1]
["23528016",null,null,2,35,280,16,16.5,0,26,30,{"$f":"L343","v":48.9},3094,{"$f":"N343","v":8165.5551181941737},{"$f":"O343","v":8348.321999442087},12405.7,1.5,1.1000000000000001,1.1000000000000001,1.1000000000000001,3094,8166,8348,12406,266,702,718,1067,1.2944010572243509,8.4774891611896983,8.8569732543318711,19.143477613141926,2.0829999999999999E-4,1.724,4,1.392796E-3,{"$f":"AK343","v":1250},1278,1900,0.95,0.95,0.95,1250,1278,1900,538,550,817,5.0575445569651576,5.2786547361922693,11.385263573722288,5.6,{"$f":"BA343","v":19.3},{"$f":"BB343","v":20.399999999999999},34.5,null,4550,null,0.68,null,null,0,{"$f":"BK486","v":10},{"$f":"BL486","v":10.6},21.85,null,1,1,1,1250,1278,1900,null,0,0,0,1]
["23528020",null,null,2,35,280,20,21.5,0,26,30,{"$f":"L346","v":48.9},4034.4,{"$f":"N346","v":7236.8592000000008},{"$f":"O346","v":7990.1253664397382},10642.44,1.5,1.08,1.08,1.08,4034,7237,7990,10642,347,622,687,915,0.60163143430042576,1.8574060664841625,2.2516092472705127,3.9248647156049832,1.2760000000000001E-4,1.7219,2,3.76611E-4,{"$f":"AK346","v":894.36320000000012},987.455178225689,1315.24,0.95,0.95,0.95,894,987,1315,384,424,565,0.73142402444564503,0.88553710556508203,1.5421797125957473,3.7,{"$f":"BA346","v":19.3},{"$f":"BB346","v":20.399999999999999},34.5,null,5043,null,0.8,null,null,0,{"$f":"BK487","v":10},10.6,21.85,null,1,1,1,894,987,1315,null,0,0,0,1]
["23528021",null,null,2,35,280,21,21.5,0,26,30,{"$f":"L351","v":48.9},4654.4000000000005,{"$f":"N351","v":10516.06232539558},10751.439821034392,15976.76,1.5,1.05,1.05,1.05,4654,10516,10751,15977,400,904,925,1374,1.2079209967076849,5.75336682600242,6.0128744748590695,12.875842236012033,1.2760000000000001E-4,1.7219,4,5.1420100000000005E-4,{"$f":"AK351","v":1261.7808956926551},1290.0229142432502,1916.9885000000002,0.85,0.85,0.85,1262,1290,1917,543,555,824,2.1656497129108883,2.258122327655359,4.8155944562823167,7.5,{"$f":"BA351","v":19.3},{"$f":"BB351","v":20.399999999999999},34.5,null,5818,null,0.8,null,null,0,{"$f":"BK488","v":10},10.6,21.85,null,1,1,1,1262,1290,1917,null,0,0,0,1]
["2505010",null,null,2,50,50,10,11.5,0,26,30,38.799999999999997,433.8,649,695,812,1.5,1.08,1.08,1.08,434,649,695,812,37,56,60,70,6.3824861040434073E-3,1.4273569595905599E-2,1.6323323223458832E-2,2.2034348729889495E-2,3.969E-4,1.7345999999999999,2,3.6734700000000002E-4,90.020119234756137,96.328259324977694,112.64,0.98,0.98,0.98,90,96,113,39,41,49,7.0687185128054265E-3,7.7890899379448103E-3,1.1010617958771767E-2,0.3,3.6,4.0999999999999996,5.0999999999999996,null,482,null,0.9,null,null,0,14.2,16.2,21.85,null,1,1,1,90,96,113,null,0,0,0,1]
["2505011",null,null,2,50,50,11,11.5,0,26,30,38.799999999999997,445.40000000000003,881.02076921515595,942.75810617769378,1102.4000000000001,1.5,1.1000000000000001,1.1000000000000001,1.1000000000000001,445,881,943,1102,38,76,81,95,1.1172723315042652E-2,4.2643686555216082E-2,4.8246206994949491E-2,6.5720039533966129E-2,3.969E-4,1.7345999999999999,4,5.7428799999999995E-4,147.56138863197239,157.90172054122763,184.64,0.95,0.95,0.95,148,158,185,64,68,80,3.0575828151930776E-2,3.4381682232525662E-2,4.7098764109165574E-2,0.7,3.6,4.0999999999999996,5.0999999999999996,null,655,null,0.68,null,null,0,14.2,16.2,21.85,null,1,1,1,148,158,185,null,0,0,0,1]
["2506010",null,null,2,50,60,10,11.5,0,26,30,40,520.20000000000005,841.69225687813923,901.35950941531064,1066.3800000000001,1.5,1.08,1.08,1.08,520,842,901,1066,45,72,77,92,9.9055597231353532E-3,2.4572994832794695E-2,2.7985026550444856E-2,3.9512902180266693E-2,3.969E-4,1.7345999999999999,2,3.6734700000000002E-4,116.68990721587436,124.96201154556491,147.84,{"$f":"IF($G492=10,0.98,IF($G492=11,0.95,IF($G492=15,1.01,IF($G492=16,0.95,IF($G492=20,0.95,IF($G492=21,0.85))))))","v":0.98},0.98,0.98,117,125,148,50,54,64,1.214004296048507E-2,1.4086095785072505E-2,1.9563990759703984E-2,0.4,4.8,5.4,6.8,null,578,null,0.9,null,null,0,13.6,15.6,21.85,null,1,1,1,117,125,148,null,0,0,0,1]
["2506011",null,null,2,50,60,11,11.5,0,26,30,40,533.80000000000007,1142.0361657917249,1222.9946868592929,1446.9,1.5,1.1000000000000001,1.1000000000000001,1.1000000000000001,534,1142,1223,1447,46,98,105,124,1.7343297173321202E-2,7.4231136705466674E-2,8.4794000672714892E-2,0.11688804961164248,3.969E-4,1.7345999999999999,4,5.7428799999999995E-4,191,205,242,0.95,0.95,0.95,191,205,242,82,88,104,5.2655498392101936E-2,6.0326342797888885E-2,8.3243311217863464E-2,0.8,4.8,5.4,6.8,null,785,null,0.68,null,null,0,13.6,15.6,21.85,null,1,1,1,191,205,242,null,0,0,0,1]
["2506015",null,null,2,50,60,15,16.5,0,26,30,41.1,736,957.19258357509659,1027.5250511543745,1359.96,1.5,1.08,1.08,1.08,736,957,1028,1360,63,82,88,117,2.0318297604447446E-2,3.4141898797120353E-2,3.9238605418779701E-2,6.880178174125845E-2,2.0829999999999999E-4,1.724,2,4.6182900000000003E-4,{"$f":"AK42","v":130.66063061772473},140.26129481477255,185.64,1.01,1.01,1.01,131,140,186,56,60,80,1.6115444159911004E-2,1.8458252538956766E-2,3.25208961878376E-2,0.6,4.8,5.5,7.2,null,920,null,0.8,null,null,0,12.3,14.4,21.85,null,1,1,1,131,140,186,null,0,0,0,1]
["2506016",null,null,2,50,60,16,16.5,0,26,30,41.1,796.28000000000009,1399.7241764138612,1502.5729206967153,1988.7,1.5,1.1000000000000001,1.1000000000000001,1.1000000000000001,796,1400,1503,1989,68,120,129,171,6.848744213266493E-2,0.21085507991814395,0.24334273125065864,0.42546271730679758,2.0829999999999999E-4,1.724,4,1.392796E-3,214,230,305,0.95,0.95,0.95,214,230,305,92,99,131,0.12457564927087089,0.14404410806926615,0.25087593311274681,1.2,4.8,5.5,7.2,null,1171,null,0.68,null,null,0,12.3,14.4,21.85,null,1,1,1,214,230,305,null,0,0,0,1]
["2506020",null,null,2,50,60,20,21.5,0,26,30,41.1,1017.6,1346.575008837732,1442.0332127786496,1706.04,1.5,1.08,1.08,1.08,1018,1347,1442,1706,88,116,124,147,3.1124050530016552E-2,5.3754545103760785E-2,6.1338725772162643E-2,8.5905652533157156E-2,1.2760000000000001E-4,1.7219,2,3.76611E-4,166.41571994991173,178.21286873827722,210.84,0.95,0.95,0.95,166,178,211,71,77,91,2.0362186770824586E-2,2.3902999958867951E-2,3.3257087321880145E-2,0.8,4.8,5.5,7.2,null,1272,null,0.8,null,null,0,12.3,14.4,21.85,null,1,1,1,166,178,211,null,0,0,0,1]
["2506021",null,null,2,50,60,21,21.5,0,26,30,41.1,1230.4000000000001,1802.6437228662567,1935.0981352499616,2561.16,1.5,1.05,1.05,1.05,1230,1803,1935,2561,106,155,166,220,6.36262025425961E-2,0.13454431150760796,0.15402657304252074,0.26852892559558028,1.2760000000000001E-4,1.7219,4,5.1420100000000005E-4,233.82931859416351,251.01059773412922,332.22,0.85,0.85,0.85,234,251,332,101,108,143,5.7851346790324013E-2,6.601213332318584E-2,0.1147780548995266,1.6,4.8,5.5,7.2,null,1538,null,0.8,null,null,0,12.3,14.4,21.85,null,1,1,1,234,251,332,null,0,0,0,1]
["2507010",null,null,2,50,70,10,11.5,0,26,30,41,607.5,1029.7403904507714,1104.2859635902939,1320.28,1.5,1.08,1.08,1.08,608,1030,1104,1320,52,89,95,114,1.3832584756950001E-2,3.8924960889446435E-2,4.4146590218265697E-2,6.2778209343462163E-2,3.969E-4,1.7345999999999999,2,3.6734700000000002E-4,142.7603849699376,153.09517888293954,183.04,0.98,0.98,0.98,143,153,183,61,66,79,1.8801217016227327E-2,2.1878764945327631E-2,3.093277823234393E-2,0.5,5.5,5.9,7.9,null,675,null,0.9,null,null,0,13.2,15.1,21.85,null,1,1,1,143,153,183,null,0,0,0,1]
["2507011",null,null,2,50,70,11,11.5,0,26,30,41,622.88,1397.1861540381678,1498.3320774196782,1791.4,1.5,1.1000000000000001,1.1000000000000001,1.1000000000000001,623,1397,1498,1791,54,120,129,154,2.5162202282096108E-2,0.11600499755813,0.13329019125147809,0.18736507468697711,3.969E-4,1.7345999999999999,4,5.7428799999999995E-4,234.01347195356249,250.95431311209123,300.04000000000002,0.95,0.95,0.95,234,251,300,101,108,129,8.3337593553421352E-2,9.4767092758545599E-2,0.13329019125147809,0.9,5.5,5.9,7.9,null,916,null,0.68,null,null,0,13.2,15.1,21.85,null,1,1,1,234,251,300,null,0,0,0,1]
["2507015",null,null,2,50,70,15,16.5,0,26,30,41.1,858.40000000000009,1070.8273541699666,1149.5094620994566,1521.41,1.5,1.08,1.08,1.08,858,1071,1150,1521,74,92,99,131,2.8573406003003711E-2,4.3822991749213405E-2,5.0617442668221047E-2,8.7813072353079863E-2,2.0829999999999999E-4,1.724,2,4.6182900000000003E-4,135.09481491470635,145.02129350758159,191.94,1.01,1.01,1.01,135,145,192,58,62,83,1.7715040719154605E-2,2.0190861450308E-2,3.5797696205080359E-2,0.7,5.0999999999999996,5.6,7.2,null,1073,null,0.8,null,null,0,12.3,14.4,21.85,null,1,1,1,135,145,192,null,0,0,0,1]
["2507016",null,null,2,50,70,16,16.5,0,26,30,41.1,928.88000000000011,1627.62717250317,1747.2217424001376,2312.5,1.5,1.1000000000000001,1.1000000000000001,1.1000000000000001,929,1628,1747,2313,80,140,150,199,9.6025330063674141E-2,0.2902779131483183,0.33273460547085354,0.58224305620495909,2.0829999999999999E-4,1.724,4,1.392796E-3,219.59769851718443,235.73326859625641,312,0.95,0.95,0.95,220,236,312,95,101,134,0.1348444213322838,0.1521944098151945,0.26618360536544905,1.4,5.0999999999999996,5.6,7.2,null,1366,null,0.68,null,null,0,12.3,14.4,21.85,null,1,1,1,220,236,312,null,0,0,0,1]
["2507020",null,null,2,50,70,20,21.5,0,26,30,41.1,1187.2,1509.840819712653,1619.1421060355642,1935.84,1.5,1.08,1.08,1.08,1187,1510,1619,1936,102,130,139,166,4.2396471925119035E-2,6.8444200673944258E-2,7.8121147734999577E-2,0.11095002490928764,1.2760000000000001E-4,1.7219,2,3.76611E-4,170.52628152222005,182.87112058001478,218.64000000000001,0.95,0.95,0.95,171,183,219,74,79,94,2.2511197833279682E-2,2.5608782122359248E-2,3.6084845824600094E-2,0.9,5.0999999999999996,5.6,7.2,null,1484,null,0.8,null,null,0,12.3,14.4,21.85,null,1,1,1,171,183,219,null,0,0,0,1]
["2508010",null,null,2,50,80,10,11.5,0,26,30,41.8,693.9,1214.2269940407766,1304.1433704057049,1574.18,1.5,1.08,1.08,1.08,694,1214,1304,1574,60,104,112,135,1.9157582546598294E-2,5.5028754884652663E-2,6.3456869664955617E-2,9.0909861993553942E-2,3.969E-4,1.7345999999999999,2,3.6734700000000002E-4,168.33710197020613,180.80286190736828,218.24,0.98,0.98,0.98,168,181,218,72,78,94,2.7165359623318678E-2,3.167181300086596E-2,4.5312552969066985E-2,0.5,6.3,6.8,9.1,null,771,null,0.9,null,null,0,12.8,14.7,21.85,null,1,1,1,168,181,218,null,0,0,0,1]
["2508011",null,null,2,50,80,11,11.5,0,26,30,41.8,711.96,1647.5037394527276,1769.505282019556,2135.9,1.5,1.1000000000000001,1.1000000000000001,1.1000000000000001,712,1648,1770,2136,61,142,152,184,3.369756666716088E-2,0.1687204798043572,0.19218780961004492,0.27712360618498821,3.969E-4,1.7345999999999999,4,5.7428799999999995E-4,276,296,358,0.95,0.95,0.95,276,296,358,119,127,154,0.12035350001470055,0.13628668965853094,0.19705768178204491,1.1000000000000001,6.3,6.8,9.1,null,1047,null,0.68,null,null,0,12.8,14.7,21.85,null,1,1,1,276,296,358,null,0,0,0,1]
["2508016",null,null,2,50,80,16,16.5,0,26,30,42.4,1061.48,2040.4331716148024,2188.0092071816284,2935.7,1.5,1.1000000000000001,1.1000000000000001,1.1000000000000001,1061,2040,2188,2936,91,175,188,252,0.12580291232152629,0.45744743887251921,0.52704418993994806,0.94073397666389191,2.0829999999999999E-4,1.724,4,1.392796E-3,312,335,450,0.95,0.95,0.95,312,335,450,134,144,194,0.26997766374686077,0.31121106327333475,0.56081193423750164,1.6,6,6.7,9,null,1561,null,0.68,null,null,0,11.8,13.7,21.85,null,1,1,1,312,335,450,null,0,0,0,1]
["2508020",null,null,2,50,80,20,21.5,0,26,30,42.4,1356.8000000000002,1942.5718983039128,2086.4239348515057,2518.44,1.5,1.08,1.08,1.08,1357,1943,2086,2518,117,167,179,217,5.6496569750753234E-2,0.11395554008077592,0.13067872337503861,0.19110006829963533,1.2760000000000001E-4,1.7219,2,3.76611E-4,240.07166246887351,257.84953601562182,311.24,0.95,0.95,0.95,240,258,311,103,111,134,4.3951963441231798E-2,5.0929918356249132E-2,7.381701321036345E-2,1.1000000000000001,6,6.7,9,null,1696,null,0.8,null,null,0,11.8,13.7,21.85,null,1,1,1,240,258,311,null,0,0,0,1]
["2509010",null,null,2,50,90,10,11.5,0,26,30,42.4,781.2,1395.6272192501513,1501.3000140389001,1828.08,1.5,1.08,1.08,1.08,781,1396,1501,1828,67,120,129,157,2.480945091629173E-2,7.5608781210671119E-2,8.6853211147160284E-2,0.12662134598395483,3.969E-4,1.7345999999999999,2,3.6734700000000002E-4,193.48593193227777,208.13611852764589,253.44,0.98,0.98,0.98,193,208,253,83,89,109,3.7340239212640722E-2,4.2669333600542279E-2,6.2889336846315577E-2,0.6,6.7,7.4,10.3,null,868,null,0.9,null,null,0,12.5,14.7,21.85,null,1,1,1,193,208,253,null,0,0,0,1]
["2509011",null,null,2,50,90,11,11.5,0,26,30,42.4,801.04000000000008,1893.6336235985709,2037.0140009310799,2480.4,1.5,1.1000000000000001,1.1000000000000001,1.1000000000000001,801,1894,2037,2480,69,163,175,213,4.499858573860898E-2,0.23039387696616745,0.26382483336744583,0.38395411039699373,3.969E-4,1.7345999999999999,4,5.7428799999999995E-4,317.16301910489852,341.17767156378318,415.44,0.95,0.95,0.95,317,341,415,136,147,178,0.16316026903161293,0.18921140887221088,0.27252186122633548,1.2,6.7,7.4,10.3,null,1178,null,0.68,null,null,0,12.5,14.7,21.85,null,1,1,1,317,341,415,null,0,0,0,1]
["2509016",null,null,2,50,90,16,16.5,0,26,30,43.3,1194.0800000000002,2336.669516687492,2503.3688418217644,3409.2,1.5,1.1000000000000001,1.1000000000000001,1.1000000000000001,1194,2337,2503,3409,103,201,215,293,0.1630298553184906,0.60915360332621049,0.69575042058868541,1.2822911322288062,2.0829999999999999E-4,1.724,4,1.392796E-3,357.77938745479025,383.30357134546551,522,0.95,0.95,0.95,358,383,522,154,165,224,0.36016635113087053,0.41266687566708049,0.75442675175462648,1.8,7,7.7,10.7,null,1756,null,0.68,null,null,0,11.3,13.2,21.85,null,1,1,1,358,383,522,null,0,0,0,1]
["2509020",null,null,2,50,90,20,21.5,0,26,30,43.3,1526.4,2232.7836804230465,2401.8435041457315,2924.64,1.5,1.08,1.08,1.08,1526,2233,2402,2925,131,192,207,252,7.1700530261989179E-2,0.15220989401469975,0.17653301618879313,0.26017862567755984,1.2760000000000001E-4,1.7219,2,3.76611E-4,275.93732338069162,296.83048721840407,361.44,0.95,0.95,0.95,276,297,361,119,128,155,5.9353068879593893E-2,6.85057463009488E-2,9.9843942617951306E-2,1.2,7,7.7,10.7,null,1908,null,0.8,null,null,0,11.3,13.2,21.85,null,1,1,1,276,297,361,null,0,0,0,1]
["25010010",null,null,2,50,100,10,11.5,0,26,30,43,867.6,1574.3905475253332,1696.1265760133244,2081.98,1.5,1.08,1.08,1.08,868,1574,1696,2082,75,135,146,179,3.2159467003479145E-2,9.8623231218722851E-2,0.11455551187153463,0.16920060692862343,3.969E-4,1.7345999999999999,2,3.6734700000000002E-4,218.26918973175157,235.14633901405676,288.64,0.98,0.98,0.98,218,235,289,94,101,124,4.9429305306709352E-2,5.6681136080738742E-2,8.3841493078660942E-2,0.7,7.8,8.6999999999999993,12.2,null,964,null,0.9,null,null,0,12.3,14.1,21.85,null,1,1,1,218,235,289,null,0,0,0,1]
["25010011",null,null,2,50,100,11,11.5,0,26,30,43,890.12000000000012,2136.1856779144437,2301.3611872256411,2824.9,1.5,1.1000000000000001,1.1000000000000001,1.1000000000000001,890,2136,2301,2825,77,184,198,243,5.8300006572961388E-2,0.30352033783455779,0.34894385970841529,0.51535542526976641,3.969E-4,1.7345999999999999,4,5.7428799999999995E-4,358,385,473,0.95,0.95,0.95,358,385,473,154,166,203,0.21644289597218058,0.2495876591101075,0.36590011099410291,1.3,7.8,8.6999999999999993,12.2,null,1309,null,0.68,null,null,0,12.3,14.1,21.85,null,1,1,1,358,385,473,null,0,0,0,1]
["25010016",null,null,2,50,100,16,16.5,0,26,30,44.1,1326.68,2630.3871448118639,2816.5633812075234,3882.7,1.5,1.1000000000000001,1.1000000000000001,1.1000000000000001,1327,2630,2817,3883,114,226,242,334,0.2019659820945531,0.77712770761656835,0.88934367498091926,1.6794877029795134,2.0829999999999999E-4,1.724,4,1.392796E-3,403,431,595,0.95,0.95,0.95,403,431,595,173,185,256,0.45896052508691165,0.52378160296818432,0.99366847477469411,2,7,7.7,10.7,null,1951,null,0.68,null,null,0,10.9,12.8,21.85,null,1,1,1,403,431,595,null,0,0,0,1]
["25010020",null,null,2,50,100,20,21.5,0,26,30,44.1,1696,2518.7768428703835,2713.5353098724395,3330.84,1.5,1.08,1.08,1.08,1696,2519,2714,3331,146,217,233,286,9.0085303897928015E-2,0.19637584927080459,0.22589211718801094,0.33821597295331562,1.2760000000000001E-4,1.7219,2,3.76611E-4,311.2816285378957,335.35074484391049,411.64,0.95,0.95,0.95,311,335,412,134,144,177,7.6117387440108403E-2,8.7676786087461309E-2,0.13152753973488002,1.3,7,7.7,10.7,null,2120,null,0.8,null,null,0,10.9,12.8,21.85,null,1,1,1,311,335,412,null,0,0,0,1]
["25011011",null,null,2,50,110,11,11.5,0,26,30,43.5,979.2,2396.6961264405954,2582.0149905458411,3169.4,1.5,1.1000000000000001,1.1000000000000001,1.1000000000000001,979,2397,2582,3169,84,206,222,273,7.209155445448262E-2,0.39231335542301654,0.4521181336762668,0.66959643399325008,3.969E-4,1.7345999999999999,4,5.7428799999999995E-4,401.42051232401269,432.4594048025981,530.84,0.95,0.95,0.95,401,432,531,172,186,228,0.27874588734236166,0.32327190223067265,0.47558723983145007,1.5,8.4,9.3000000000000007,14,null,1440,null,0.68,null,null,0,12,13.9,21.85,null,1,1,1,401,432,531,null,0,0,0,1]
["25011015",null,null,2,50,110,15,16.5,0,26,30,44.1,1348.8000000000002,1908.1501882577959,2043.2071973479594,2816.6099999999997,1.5,1.08,1.08,1.08,1349,1908,2043,2817,116,164,176,242,7.5043421340762764E-2,0.14742102741229732,0.1692130010603492,0.31530215896235814,2.0829999999999999E-4,1.724,2,4.6182900000000003E-4,249.80785427097814,267.48901053042016,368.74,1.01,1.01,1.01,250,267,369,108,115,159,6.5293712586279876E-2,7.3788401225819936E-2,0.1387762211751877,1.1000000000000001,7.9,8.8000000000000007,12.5,null,1686,null,0.8,null,null,0,10.9,12.8,21.85,null,1,1,1,250,267,369,null,0,0,0,{"$f":"IF(SUM(BV524:BX524)=0,1,0)","v":1}]
["25011020",null,null,2,50,110,20,21.5,0,26,30,44.1,1865.6000000000001,2692.551301713082,2900.746468081386,3560.6400000000003,1.5,1.08,1.08,1.08,1866,2693,2901,3561,{"$f":"ROUND(U526*3600/(4186*ABS($O$1-$O$2)),0)","v":160},{"$f":"ROUND(V526*3600/(4186*ABS($O$1-$O$2)),0)","v":232},{"$f":"ROUND(W526*3600/(4186*ABS($O$1-$O$2)),0)","v":249},{"$f":"ROUND(X526*3600/(4186*ABS($O$1-$O$2)),0)","v":306},0.10940657314092882,0.22694722640377721,0.26079058599865457,0.3911657832602583,1.2760000000000001E-4,1.7219,2,3.76611E-4,317.17997831584631,341.70517057946222,419.44,0.95,0.95,0.95,317,342,419,{"$f":"ROUND(AQ526*3600/(4186*ABS($AM$1-$AM$2)),0)","v":136},{"$f":"ROUND(AR526*3600/(4186*ABS($AM$1-$AM$2)),0)","v":147},{"$f":"ROUND(AS526*3600/(4186*ABS($AM$1-$AM$2)),0)","v":180},7.9544712053658623E-2,9.2650629466224224E-2,0.13785909087762688,1.5,7.9,8.8000000000000007,12.5,null,2332,null,0.8,null,null,0,10.9,12.8,21.85,null,1,1,1,317,342,419,null,0,0,0,1]
["25011021",null,null,2,50,110,21,21.5,0,26,30,44.1,2256,3556.1815292902165,3807.8845891872675,5249.2599999999993,1.5,1.05,1.05,1.05,2256,3556,3808,5249,194,306,327,451,0.23124146655080796,0.56299805703171679,0.64102009569515583,1.2027269290583564,1.2760000000000001E-4,1.7219,4,5.1420100000000005E-4,445.64897406447591,477.19157375690452,657.82,0.85,0.85,0.85,446,477,658,192,205,283,0.22661573879571267,0.25750136415425773,0.48325773512719011,2.9,7.9,8.8000000000000007,12.5,null,2820,null,0.8,null,null,0,10.9,12.8,21.85,null,1,1,1,446,477,658,null,0,0,0,1]
["25012011",null,null,2,50,120,11,11.5,0,26,30,44,1068.28,2611.8926414972211,2821.6982019103875,3513.9,1.5,1.1000000000000001,1.1000000000000001,1.1000000000000001,1068,2612,2822,3514,92,225,243,302,8.9516620802245747E-2,0.48249130904551651,0.55811858661840352,0.8424915609755409,3.969E-4,1.7345999999999999,4,5.7428799999999995E-4,437,473,589,0.95,0.95,0.95,437,473,589,188,203,253,0.34358909156864093,0.39720266611384658,0.60239378849067871,1.6,8.9,9.9,14.8,null,1571,null,0.68,null,null,0,11.8,13.7,21.85,null,1,1,1,437,473,589,null,0,0,0,1]
["25012015",null,null,2,50,120,15,16.5,0,26,30,44.8,1472,2216.9073865755149,2373.9948983307781,3302.76,1.5,1.08,1.08,1.08,1472,2217,2374,3303,127,191,204,284,9.1261410873078555E-2,0.20201741408626139,0.22969478307979363,0.43817875262090578,2.0829999999999999E-4,1.724,2,4.6182900000000003E-4,302.61675876046246,324.05983479376272,450.84,1.01,1.01,1.01,303,324,451,130,139,194,9.5500985484133716E-2,0.10878402336268925,0.20824992292405745,1.2,8.6999999999999993,9.8000000000000007,14.3,null,1840,null,0.8,null,null,0,10.6,12.5,21.85,null,1,1,1,303,324,451,null,0,0,0,1]
["25012020",null,null,2,50,120,20,21.5,0,26,30,44.8,2035.2,3079.6829926739365,3327.0647594078355,4143.24,1.5,1.08,1.08,1.08,2035,3080,3327,4143,175,265,286,356,0.1322638568077355,0.29848242281650889,0.34670295754782865,0.53308564610580933,1.2760000000000001E-4,1.7219,2,3.76611E-4,380.60090160569081,411.17343900116532,512.04,0.95,0.95,0.95,381,411,512,164,177,220,0.11646670942658871,0.13524222402195477,0.20715667478646135,1.6,8.6999999999999993,9.8000000000000007,14.3,null,2544,null,0.8,null,null,0,10.6,12.5,21.85,null,1,1,1,381,411,512,null,0,0,0,1]
["25012021",null,null,2,50,120,21,21.5,0,26,30,44.8,2461.6000000000004,4175.015825613802,4470.8526528786542,6219.96,1.5,1.05,1.05,1.05,2462,4175,4471,6220,212,359,385,535,0.28000072769935458,0.78201485926088143,0.89645307864469181,1.7058196412629565,1.2760000000000001E-4,1.7219,4,5.1420100000000005E-4,541.56076058716258,579.9351342123673,806.82,0.85,0.85,0.85,542,580,807,233,249,347,0.33654397258851859,0.38303545484733642,0.73178556707416287,3.2,8.6999999999999993,9.8000000000000007,14.3,null,3077,null,0.8,null,null,0,10.6,12.5,21.85,null,1,1,1,542,580,807,null,0,0,0,1]
["25014011",null,null,2,50,140,11,11.5,0,26,30,44.8,1246.44,3077.015307780141,3332.5766142436496,4202.8999999999996,1.5,1.1000000000000001,1.1000000000000001,1.1000000000000001,1246,3077,3333,4203,107,265,287,361,0.12916825403228771,0.70734607634958468,0.82199994803261212,1.2670408781957792,3.969E-4,1.7345999999999999,4,5.7428799999999995E-4,515,558,704,0.95,0.95,0.95,515,558,704,221,240,303,0.5026708586376617,0.58700184508997044,0.91049538023254029,1.9,10.1,11.2,17.5,null,1833,null,0.68,null,null,0,11.5,13.3,21.85,null,1,1,1,515,558,704,null,0,0,0,1]
["25014015",null,null,2,50,140,15,16.5,0,26,30,45.4,1716.8000000000002,2628.9846104428207,2815.4584574952669,3950.36,1.5,1.08,1.08,1.08,1717,2629,2815,3950,148,226,242,340,0.12741498238083399,0.28983635322357215,0.33106971150845382,0.64182959732152445,2.0829999999999999E-4,1.724,2,4.6182900000000003E-4,358.86695423586366,384.32138301819265,539.24,1.01,1.01,1.01,359,384,539,154,165,232,0.137621338941047,0.1573279392829452,0.30498467021762166,1.4,9.6,10.5,16.100000000000001,null,2146,null,0.8,null,null,0,10.4,12.2,21.85,null,1,1,1,359,384,539,null,0,0,0,1]
["25014020",null,null,2,50,140,20,21.5,0,26,30,45.4,2374.4,3628.1091959950468,3929.4415695377957,4955.6400000000003,1.5,1.08,1.08,1.08,2374,3628,3929,4956,204,312,338,426,0.1833843206653504,0.42118895241344162,0.49271246369818478,0.7756359730733573,1.2760000000000001E-4,1.7219,2,3.76611E-4,448.37784746172167,485.61784045001809,612.44000000000005,0.95,0.95,0.95,448,486,612,193,209,263,0.16455496588623258,0.1922740711354792,0.30142179085547277,1.9,9.6,10.5,16.100000000000001,null,2968,null,0.8,null,null,0,10.4,12.2,21.85,null,1,1,1,448,486,612,null,0,0,0,1]
["25014021",null,null,2,50,140,21,21.5,0,26,30,45.4,2872,4951.0649025572329,5302.2438770247491,7439.56,1.5,1.05,1.05,1.05,2872,4951,5302,7440,247,426,456,640,0.39025014098590649,1.1261815111859146,1.285836312641885,2.4907095980414304,1.2760000000000001E-4,1.7219,4,5.1420100000000005E-4,642.22570316870622,687.77876463210498,965.02,0.85,0.85,0.85,642,688,965,276,296,415,0.48412380536530875,0.55460694628885931,1.0702397452319661,3.7,9.6,10.5,16.100000000000001,null,3590,null,0.8,null,null,0,10.4,12.2,21.85,null,1,1,1,642,688,965,null,0,0,0,1]
[{"$f":"CONCATENATE(D541,E541,F541,G541)","v":"25016011"},null,null,2,50,160,11,11.5,0,26,30,45.5,1423.92,3533.107636511756,3835.359341571188,4891.8999999999996,1.5,{"$f":"IF($G541=10,1.08,IF($G541=11,1.1,IF($G541=15,1.08,IF($G541=16,1.1,IF($G541=20,1.08,IF($G541=21,1.05))))))","v":1.1000000000000001},1.1000000000000001,1.1000000000000001,1424,3533,3835,4892,122,304,330,421,{"$f":"(($AG541*(Y541^$AH541)*((($F541-14.4)*$AI541)/100))+($AJ541*(Y541^2)))*0.0098","v":0.17798427531663369},{"$f":"(($AG541*(Z541^$AH541)*((($F541-14.4)*$AI541)/100))+($AJ541*(Z541^2)))*0.0098","v":0.97923387090071334},{"$f":"(($AG541*(AA541^$AH541)*((($F541-14.4)*$AI541)/100))+($AJ541*(AA541^2)))*0.0098","v":1.1422415218620434},{"$f":"(($AG541*(AB541^$AH541)*((($F541-14.4)*$AI541)/100))+($AJ541*(AB541^2)))*0.0098","v":1.8051385479062783},3.969E-4,1.7345999999999999,4,5.7428799999999995E-4,592,642,819,0.95,0.95,0.95,592,642,819,255,276,352,{"$f":"(($AG541*(AT541^$AH541)*((($F541-14.4)*$AI541)/100))+($AJ541*(AT541^2)))*0.0098","v":0.70442666719486835},{"$f":"(($AG541*(AU541^$AH541)*((($F541-14.4)*$AI541)/100))+($AJ541*(AU541^2)))*0.0098","v":0.81698629969873737},{"$f":"(($AG541*(AV541^$AH541)*((($F541-14.4)*$AI541)/100))+($AJ541*(AV541^2)))*0.0098","v":1.2893886583447325},2.1,11,12.4,19.2,null,2094,null,0.68,null,null,0,11.2,13,21.85,null,1,1,1,592,{"$f":"AR541/BP541","v":642},{"$f":"AS541/BQ541","v":819},null,0,0,0,1]
["25016015",null,null,2,50,160,15,16.5,0,26,30,46.4,1962.4,3021.1783832091446,3225.6120441880121,4597.96,1.5,1.08,1.08,1.08,1962,3021,3226,4598,169,260,277,395,0.17047309738820757,0.39255304944044445,0.4438617891013007,0.88424755918807496,2.0829999999999999E-4,1.724,2,4.6182900000000003E-4,412.40297880742492,440.30899429620177,627.64,1.01,1.01,1.01,412,440,628,177,189,270,0.18642121393254038,0.21164255392481759,0.42236240265801678,1.6,11.5,12.8,19.600000000000001,null,2453,null,0.8,null,null,0,10,11.8,21.85,null,{"$f":"IF((237.3*LN(($AQ$1*EXP(17.27*($AM$3/($AM$3+237.3))))))/(17.27-LN(($AQ$1*EXP(17.27*($AM$3/($AM$3+237.3))))))<(($AM$1+$AM$2)/2),1,IF(1/(1+((2258*((0.622/((101325/(1*611*EXP(17.27*((($AM$1+$AM$2)/2)/((($AM$1+$AM$2)/2)+237.3))))))-1)*1000-(0.622/((101325/($AQ$1*611*EXP(17.27*($AM$3/($AM$3+237.3))))))-1)*1000))/(1005*((($AM$1+$AM$2)/2)-$AM$3))))>1,1,1/(1+((2258*((0.622/((101325/(1*611*EXP(17.27*((($AM$1+$AM$2)/2)/((($AM$1+$AM$2)/2)+237.3))))))-1)*1000-(0.622/((101325/($AQ$1*611*EXP(17.27*($AM$3/($AM$3+237.3))))))-1)*1000))/(1005*((($AM$1+$AM$2)/2)-$AM$3))))))","v":1},1,1,412,440,628,null,0,0,0,1]
["25016020",null,null,2,50,160,20,21.5,0,26,30,46.4,2713.6000000000004,4165.887726998767,4522.2727563025155,5768.04,1.5,1.08,1.08,1.08,2714,4166,4522,5768,233,358,389,496,0.24378202722105596,0.5639754157614939,0.66342434491024516,1.0674404634562651,1.2760000000000001E-4,1.7219,2,3.76611E-4,514.83890668473202,558.88255136973487,712.84,0.95,0.95,0.95,515,559,713,221,240,307,0.21989661309334549,0.25827229749987091,0.41765567382317259,2.1,11.5,12.8,19.600000000000001,null,3392,null,0.8,null,null,0,10,11.8,21.85,null,1,1,1,515,559,713,null,0,0,0,1]
["25016021",null,null,2,50,160,21,21.5,0,26,30,46.4,3281.6000000000004,5689.6682460807178,6074.6702425752001,8659.16,1.5,1.05,1.05,1.05,3282,5690,6075,8659,282,489,522,745,0.52134458884834656,1.516156598549864,1.721314141488552,3.4393517119933592,1.2760000000000001E-4,1.7219,4,5.1420100000000005E-4,738.0333851508442,787.97378843505794,1123.22,0.85,0.85,0.85,738,788,1123,317,339,483,0.65390832051840242,0.74470210261054104,1.4802227109968673,4.3,11.5,12.8,19.600000000000001,null,4102,null,0.8,null,null,0,10,11.8,21.85,null,1,1,1,738,788,1123,null,0,0,0,1]
["25018011",null,null,2,50,180,11,11.5,0,26,30,46,1602.0800000000002,4030.7284303866513,4375.55079813051,5580.9,1.5,1.1000000000000001,1.1000000000000001,1.1000000000000001,1602,4031,4376,5581,138,347,376,480,0.23987725937759558,1.334539960528933,1.5506696983380099,2.4499067566992552,3.969E-4,1.7345999999999999,4,5.7428799999999995E-4,675.10313623602258,732.85712932403612,934.74,0.95,0.95,0.95,675,733,935,290,315,402,0.95449169552535984,1.1138291531732329,1.7573589514811909,2.4,12.2,13.7,22,null,2356,null,0.68,null,null,0,10.9,12.7,21.85,null,1,1,1,675,733,935,null,0,0,0,1]
["25018015",null,null,2,50,180,15,16.5,0,26,30,46.4,2207.2000000000003,3233.3460619053994,3452.1364439366635,4920.8599999999997,1.5,1.08,1.08,1.08,2207,3233,3452,4921,190,278,297,423,0.22074160288331829,0.46032647442822744,0.52311768690779403,1.0377569514621654,2.0829999999999999E-4,1.724,2,4.6182900000000003E-4,420.6820520547858,449.14828645115074,640.24,1.01,1.01,1.01,421,449,640,181,193,275,0.2010263623163458,0.22751208445626886,0.45076939507650016,1.8,11.5,12.8,19.600000000000001,null,2759,null,0.8,null,null,0,10,11.8,21.85,null,1,1,1,421,449,640,null,0,0,0,1]
["25018020",null,null,2,50,180,20,21.5,0,26,30,46.4,3052.8,4497.8275192555193,4882.6094666576164,6227.64,1.5,1.08,1.08,1.08,3053,4498,4883,6228,263,387,420,536,0.31611404866352139,0.67105520500225491,0.78724334085603187,1.2676087797406754,1.2760000000000001E-4,1.7219,2,3.76611E-4,526.1057925837863,571.11330132956857,728.44,0.95,0.95,0.95,526,571,728,226,246,313,0.23536033293811029,0.27756656183252509,0.44366421223291913,2.4,11.5,12.8,19.600000000000001,null,3816,null,0.8,null,null,0,10,11.8,21.85,null,1,1,1,526,571,728,null,0,0,0,1]
["25018021",null,null,2,50,180,21,21.5,0,26,30,46.4,3692,6016.7573462820046,6423.892435808023,9156.9599999999991,1.5,1.05,1.05,1.05,3692,6017,6424,9157,318,517,552,788,0.67828537660671862,1.7364585854055543,1.9715108987105545,3.9339119327078702,1.2760000000000001E-4,1.7219,4,5.1420100000000005E-4,750.12346036921247,800.88196110577712,1141.6200000000001,0.85,0.85,0.85,750,801,1142,323,344,491,0.69902928526631702,0.78946623977507491,1.5712748482814811,4.8,11.5,12.8,19.600000000000001,null,4615,null,0.8,null,null,0,10,11.8,21.85,null,1,1,1,750,801,1142,null,0,0,0,1]
["25020011",null,null,2,50,200,11,11.5,0,26,30,46.5,1780.2400000000002,4422.7050634086982,4820.649682883678,6269.9,1.5,1.1000000000000001,1.1000000000000001,1.1000000000000001,1780,4423,4821,6270,153,380,415,539,0.30961973014009025,1.6745484974017948,1.9734656930316881,3.2154295434805311,3.969E-4,1.7345999999999999,4,5.7428799999999995E-4,741,807,1050,0.95,0.95,0.95,741,807,1050,319,347,452,1.2089524361917552,1.4138727396795772,2.3143510148052444,2.7,13.4,14.8,24,null,2618,null,0.68,null,null,0,10.7,12.5,21.85,null,1,1,1,741,807,1050,null,0,0,0,1]
["25020015",null,null,2,50,200,15,16.5,0,26,30,47.1,2452.8000000000002,3875.4624109054007,4083.4735576056296,5893.16,1.5,1.08,1.08,1.08,2453,3875,4083,5893,211,333,351,507,0.27851561249107537,0.67100385450414035,0.7427948904408519,1.5124900662854772,2.0829999999999999E-4,1.724,2,4.6182900000000003E-4,529.01617838795164,557.41053504066974,804.44,1.01,1.01,1.01,529,557,804,227,240,346,0.3205762003800503,0.35685612106712633,0.72249739815889857,2,13.2,14.7,23.5,null,3066,null,0.8,null,null,0,10,11.4,21.85,null,1,1,1,529,557,804,null,0,0,0,1]
["25020020",null,null,2,50,200,20,21.5,0,26,30,47.1,3392,5214.8121821672385,5684.028740747025,7392.84,1.5,1.08,1.08,1.08,3392,5215,5684,7393,292,448,489,636,0.39631713075107605,0.91133281879191153,1.0808827382560606,1.804767358434455,1.2760000000000001E-4,1.7219,2,3.76611E-4,644.46964929787134,702.45751547390614,913.64,{"$f":"IF($G556=10,0.98,IF($G556=11,0.95,IF($G556=15,1.01,IF($G556=16,0.95,IF($G556=20,0.95,IF($G556=21,0.85))))))","v":0.95},0.95,0.95,644,702,914,277,302,393,0.35773067054432378,0.42311312971539766,0.70617331390652549,2.7,13.2,14.7,23.5,null,4240,null,0.8,null,null,0,10,11.4,21.85,null,1,1,1,644,702,914,null,0,0,0,1]
["25020021",null,null,2,50,200,21,21.5,0,26,30,47.1,4102.4000000000005,7298.5082710627348,7690.2476078687869,11098.36,1.5,1.05,1.05,1.05,4102,7299,7690,11098,353,628,661,954,0.85424853818247171,2.5976371030133358,2.8682489622749725,5.8399447479033668,1.2760000000000001E-4,1.7219,4,5.1420100000000005E-4,946.7235228616961,997.53785795739748,1439.62,0.85,0.85,0.85,947,998,1440,407,429,619,1.123918147974541,1.2440371883056511,2.5261009474966261,5.3,13.2,14.7,23.5,null,5128,null,0.8,null,null,0,10,11.4,21.85,null,1,1,1,947,998,1440,null,0,0,0,1]
["25022011",null,null,2,50,220,11,11.5,0,26,30,46.9,1958.4,4831.2827990970827,5278.770565343093,6958.9,1.5,1.1000000000000001,1.1000000000000001,1.1000000000000001,1958,4831,5279,6959,168,415,454,598,0.39059104247648951,2.0816746946687235,2.4599536452154176,4.1089164306330286,3.969E-4,1.7345999999999999,4,5.7428799999999995E-4,809.18727868766814,884.1366084769129,1165.54,0.95,0.95,0.95,809,884,1166,348,380,501,1.5011980733038943,1.7674215645183677,2.9547969820093392,2.9,13.4,14.8,24,null,2880,null,0.68,null,null,0,10.5,12.3,21.85,null,1,1,1,809,884,1166,null,0,0,0,1]
["25022015",null,null,2,50,220,15,16.5,0,26,30,47.8,2698.4,4302.5567439745028,4481.7988603493422,6540.76,1.5,1.08,1.08,1.08,2698,4303,4482,6541,232,370,385,563,0.3440810562538138,0.84427064665866536,0.91145906255959874,1.8978591317759046,2.0829999999999999E-4,1.724,2,4.6182900000000003E-4,587.31626956044784,611.78353807115786,892.84,1.01,1.01,1.01,587,612,893,252,263,384,0.40328748590288432,0.43778400702821296,0.90690223440245954,2.2000000000000002,15.5,16.8,27.5,null,3373,null,0.8,null,null,0,10,11.1,21.85,null,1,1,1,587,612,893,null,0,0,0,1]
["25022020",null,null,2,50,220,20,21.5,0,26,30,47.8,3731.2000000000003,5696.5662496175182,6224.1991397456159,8205.24,1.5,1.08,1.08,1.08,3731,5697,6224,8205,321,490,535,706,0.48673658511440021,1.1066428651103115,1.3128927046129348,2.2531321307295649,1.2760000000000001E-4,1.7219,2,3.76611E-4,704.00695650122941,769.21417236639559,1014.04,0.95,0.95,0.95,704,769,1014,303,331,436,0.43521399990720622,0.5165738484716168,0.88193136480825907,2.9,15.5,16.8,27.5,null,4664,null,0.8,null,null,0,10,11.1,21.85,null,1,1,1,704,769,1014,null,0,0,0,1]
["25022021",null,null,2,50,220,21,21.5,0,26,30,47.8,4512.8,8102.8384881891643,8440.3982243391856,12317.96,1.5,1.05,1.05,1.05,4513,8103,8440,12318,388,697,726,1059,1.0536488304738314,3.2570253321888645,3.523799431798829,7.3137051488079097,1.2760000000000001E-4,1.7219,4,5.1420100000000005E-4,1051.0569439418873,1094.8433905300585,1597.82,0.85,0.85,0.85,1051,1095,1598,452,471,687,1.4132675404061716,1.529835024440543,3.1674021588285153,5.9,15.5,16.8,27.5,null,5641,null,0.8,null,null,0,10,11.1,21.85,null,1,1,1,1051,1095,1598,null,0,0,0,1]
["25024015",null,null,2,50,240,15,16.5,0,26,30,48.1,2943.2000000000003,4729.715265656896,4901.7743245246338,7188.36,1.5,1.08,1.08,1.08,2943,4730,4902,7188,253,407,422,618,0.41771587093347951,1.0402677068624975,1.1152542227427753,2.3255236596425677,2.0829999999999999E-4,1.724,2,4.6182900000000003E-4,645.62512273636446,669.11187505864359,981.24,1.01,1.01,1.01,646,669,981,278,288,422,0.50037899202077363,0.5354561461459616,1.1152542227427753,2.4,16.399999999999999,17.7,29.7,null,3679,null,0.8,null,null,0,10,10.9,21.85,null,1,1,1,646,669,981,null,0,0,0,1]
["25024016",null,null,2,50,240,16,16.5,0,26,30,48.1,3183.76,6916.3686790875245,7167.9744986485921,10511.7,1.5,1.1000000000000001,1.1000000000000001,1.1000000000000001,3184,6916,7168,10512,274,595,616,904,1.3185049463056606,5.9505892618562521,6.3666227323503541,13.454619784961755,2.0829999999999999E-4,1.724,4,1.392796E-3,1059,1098,1610,0.95,0.95,0.95,1059,1098,1610,455,472,692,3.5300159430065703,3.7910912175214273,7.987173009623401,4.8,16.399999999999999,17.7,29.7,null,4682,null,0.68,null,null,0,10,10.9,21.85,null,1,1,1,1059,1098,1610,null,0,0,0,1]
["25024021",null,null,2,50,240,21,21.5,0,26,30,48.1,4923.2000000000007,8907.2895892451361,9231.3217513746804,13537.56,1.5,1.05,1.05,1.05,4923,8907,9231,13538,423,766,794,1164,1.2772931663364691,4.0010729190713317,4.2877786386288861,8.9740973699602584,1.2760000000000001E-4,1.7219,4,5.1420100000000005E-4,1155.4060454399644,1197.4377673560793,1756.02,0.85,0.85,0.85,1155,1197,1756,497,515,755,1.7405492683847181,1.8636668369026486,3.8910739231720726,6.4,16.399999999999999,17.7,29.7,null,6154,null,0.8,null,null,0,10,10.9,21.85,null,1,1,1,1155,1197,1756,null,0,0,0,1]
["25026010",null,null,2,50,260,10,11.5,0,26,30,47.8,2255.4,4178.1784000000007,4608.2849999999999,6144.38,1.5,1.08,1.08,1.08,2255,4178,4608,6144,194,359,396,528,0.31314829541586731,0.98066442194259407,1.1770680299869807,2.0125184153009763,3.969E-4,1.7345999999999999,2,3.6734700000000002E-4,579.25120000000004,638.88,851.84,0.98,0.98,0.98,579,639,852,249,275,366,0.4971168110898011,0.59766089099899167,1.0165350975712137,1.7,16.2,18.600000000000001,31.4,null,2506,null,0.9,null,null,0,10.199999999999999,11.9,21.85,null,1,1,1,579,639,852,null,0,0,0,1]
["25026015",null,null,2,50,260,15,16.5,0,26,30,48.1,3188.8,4942.1733310961072,5121.9619484404784,7511.2599999999993,1.5,1.08,1.08,1.08,3189,4942,5122,7511,274,425,440,646,0.49969093998454095,1.1583081112063738,1.2380335504785773,2.5902194067464457,2.0829999999999999E-4,1.724,2,4.6182900000000003E-4,653.91552727192982,677.70396216321694,993.84,1.01,1.01,1.01,654,678,994,281,292,427,0.52438185580177876,0.5643390276130934,1.1687899905071639,2.6,16.399999999999999,17.7,29.7,null,3986,null,0.8,null,null,0,10,10.9,21.85,null,1,1,1,654,678,994,null,0,0,0,1]
["25026016",null,null,2,50,260,16,16.5,0,26,30,48.1,3449.6400000000003,7342.4691534710291,7609.5768181679023,11159.300000000001,1.5,1.1000000000000001,1.1000000000000001,1.1000000000000001,3450,7342,7610,11159,297,631,654,960,1.5714817808584867,6.7819280650427034,7.2711118135096351,15.356693366889139,2.0829999999999999E-4,1.724,4,1.392796E-3,1068.8700133353962,1107.7538502516963,1624.5,0.95,0.95,0.95,1069,1108,1625,460,476,699,3.66947790801381,3.9213280612116019,8.2763568685468254,5.2,16.399999999999999,17.7,29.7,null,5073,null,0.68,null,null,0,10,10.9,21.85,null,1,1,1,1069,1108,1625,null,0,0,0,1]
["25026021",null,null,2,50,260,21,21.5,0,26,30,48.1,5332.8,9234.8263652613623,9570.7750567366256,14035.359999999999,1.5,1.05,1.05,1.05,5333,9235,9571,14035,459,794,823,1207,1.5323531802891677,4.3862630877952062,4.6996233793878117,9.8287737597437417,1.2760000000000001E-4,1.7219,4,5.1420100000000005E-4,1167.5126679363457,1209.9849719689844,1774.42,0.85,0.85,0.85,1168,1210,1774,502,520,763,1.8190609839698662,1.9461054883013664,4.0628828592588073,6.9,16.399999999999999,17.7,29.7,null,6666,null,0.8,null,null,0,10,10.9,21.85,null,1,1,1,1168,1210,1774,null,0,0,0,1]
["25028010",null,null,2,50,280,10,11.5,0,26,30,47.8,2429.1,4331.3824000000004,4782.2249168521384,6369.68,1.5,1.08,1.08,1.08,2429,4331,4782,6370,209,372,411,548,0.37587217937646272,1.0925143603098122,1.3146532792613241,2.2448293163328641,3.969E-4,1.7345999999999999,2,3.6734700000000002E-4,587.68320000000006,648.85364133524638,864.24,0.98,0.98,0.98,588,649,864,253,279,372,0.53495403421136267,0.64106400571541289,1.0925143603098122,1.9,16.2,18.600000000000001,31.4,null,2699,null,0.9,null,null,0,10.199999999999999,11.9,21.85,null,1,1,1,588,649,864,null,0,0,0,1]
["25028015",null,null,2,50,280,15,16.5,0,26,30,48.9,3433.6000000000004,5583.9635634029,5708.9475468201636,8483.56,1.5,1.08,1.08,1.08,3434,5584,5709,8484,295,480,491,730,0.59027085268739066,1.4973769906672623,1.5638277222676435,3.3484388456827587,2.0829999999999999E-4,1.724,2,4.6182900000000003E-4,762.23344503523219,779.29426056038062,1158.04,1.01,1.01,1.01,762,779,1158,328,335,498,0.72271492130345638,0.75246226647382841,1.6068391234938044,2.8,19.3,20.399999999999999,34.5,null,4292,null,0.8,null,null,0,10,10.6,21.85,null,1,1,1,762,779,1158,null,0,0,0,1]
["25028016",null,null,2,50,280,16,16.5,0,26,30,48.9,3714.84,8165.5551181941737,8348.321999442087,12405.7,1.5,1.1000000000000001,1.1000000000000001,1.1000000000000001,3715,8166,8348,12406,319,702,718,1067,1.8384858339153047,8.4774891611896983,8.8569732543318711,19.143477613141926,2.0829999999999999E-4,1.724,4,1.392796E-3,1250,1278,1900,0.95,0.95,0.95,1250,1278,1900,538,550,817,5.0575445569651576,5.2786547361922693,11.385263573722288,5.6,19.3,20.399999999999999,34.5,null,5463,null,0.68,null,null,0,10,10.6,21.85,null,1,1,1,1250,1278,1900,null,0,0,0,1]
["25028021",null,null,2,50,280,21,21.5,0,26,30,48.1,5743.2000000000007,10516.06232539558,10751.439821034392,15976.76,1.5,1.05,1.05,1.05,5743,10516,10751,15977,494,904,925,1374,1.8074267072074164,5.75336682600242,6.0128744748590695,12.875842236012033,1.2760000000000001E-4,1.7219,4,5.1420100000000005E-4,1261.7808956926551,1290.0229142432502,1916.9885000000002,0.85,0.85,0.85,1262,1290,1917,543,555,824,2.1656497129108883,2.258122327655359,4.8155944562823167,7.5,19.3,20.399999999999999,34.5,null,7179,null,0.8,null,null,0,10,10.6,21.85,null,1,1,1,1262,1290,1917,null,0,0,0,1]
["2655010",null,null,2,65,50,10,11.5,0,26,30,38.799999999999997,504.90000000000003,649,695,812,1.5,1.08,1.08,1.08,505,649,695,812,43,56,60,70,8.5435299472639802E-3,1.4273569595905599E-2,1.6323323223458832E-2,2.2034348729889495E-2,3.969E-4,1.7345999999999999,2,3.6734700000000002E-4,{"$f":"AK490","v":90.020119234756137},{"$f":"AL490","v":96.328259324977694},112.64,0.98,0.98,0.98,90,96,113,39,41,49,7.0687185128054265E-3,7.7890899379448103E-3,1.1010617958771767E-2,0.3,3.6,4.0999999999999996,5.0999999999999996,null,561,null,0.9,null,null,0,14.2,16.2,21.85,null,1,1,1,90,96,113,null,0,0,0,1]
["2656010",null,null,2,65,60,10,11.5,0,26,30,40,605.70000000000005,841.69225687813923,901.35950941531064,1066.3800000000001,1.5,1.08,1.08,1.08,606,842,901,1066,52,72,77,92,1.3095501459369064E-2,2.4572994832794695E-2,2.7985026550444856E-2,3.9512902180266693E-2,3.969E-4,1.7345999999999999,2,3.6734700000000002E-4,{"$f":"AK492","v":116.68990721587436},{"$f":"AL492","v":124.96201154556491},147.84,0.98,0.98,0.98,117,125,148,50,54,64,1.214004296048507E-2,1.4086095785072505E-2,1.9563990759703984E-2,0.4,4.8,5.4,6.8,null,673,null,0.9,null,null,0,13.6,15.6,21.85,null,1,1,1,117,125,148,null,0,0,0,1]
["2656011",null,null,2,65,60,11,11.5,0,26,30,40,605.20000000000005,1142.0361657917249,1222.9946868592929,1446.9,1.5,1.1000000000000001,1.1000000000000001,1.1000000000000001,605,1142,1223,1447,52,98,105,124,2.194037224353813E-2,7.4231136705466674E-2,8.4794000672714892E-2,0.11688804961164248,3.969E-4,1.7345999999999999,4,5.7428799999999995E-4,{"$f":"AK493*(1-(($E585-50)*0.005))","v":176.67500000000001},{"$f":"AL493*(1-(($E585-50)*0.005))","v":189.625},223.85000000000002,0.95,0.95,0.95,177,190,224,76,82,96,4.5490941940838581E-2,5.2655498392101936E-2,7.1338470336604037E-2,0.8,4.8,5.4,6.8,null,890,null,0.68,null,null,0,13.6,15.6,21.85,null,1,1,1,177,190,224,null,0,0,0,1]
["2656016",null,null,2,65,60,16,16.5,0,26,30,41.1,908.48,1399.7241764138612,1502.5729206967153,1988.7,1.5,1.1000000000000001,1.1000000000000001,1.1000000000000001,908,1400,1503,1989,78,120,129,171,8.9849257400599264E-2,0.21085507991814395,0.24334273125065864,0.42546271730679758,2.0829999999999999E-4,1.724,4,1.392796E-3,{"$f":"AK495*(1-(($E587-50)*0.005))","v":197.95000000000002},{"$f":"AL495*(1-(($E587-50)*0.005))","v":212.75},282.125,0.95,0.95,0.95,198,213,282,85,92,121,0.10651021711320637,0.12457564927087089,0.21435070156236344,1.2,4.8,5.5,7.2,null,1336,null,0.68,null,null,0,12.3,14.4,21.85,null,1,1,1,198,213,282,null,0,0,0,1]
["2656020",null,null,2,65,60,20,21.5,0,26,30,41.1,1148,1346.575008837732,1442.0332127786496,1706.04,1.5,1.08,1.08,1.08,1148,1347,1442,1706,99,116,124,147,3.9287678128500113E-2,5.3754545103760785E-2,6.1338725772162643E-2,8.5905652533157156E-2,1.2760000000000001E-4,1.7219,2,3.76611E-4,{"$f":"AK496","v":166.41571994991173},{"$f":"AL496","v":178.21286873827722},210.84,0.95,0.95,0.95,166,178,211,71,77,91,2.0362186770824586E-2,2.3902999958867951E-2,3.3257087321880145E-2,0.8,4.8,5.5,7.2,null,1435,null,0.8,null,null,0,12.3,14.4,21.85,null,1,1,1,166,178,211,null,0,0,0,{"$f":"IF(SUM(BV588:BX588)=0,1,0)","v":1}]
["2657010",null,null,2,65,70,10,11.5,0,26,30,41,706.5,1029.7403904507714,1104.2859635902939,1320.28,1.5,1.08,1.08,1.08,707,1030,1104,1320,{"$f":"ROUND(U590*3600/(4186*ABS($O$1-$O$2)),0)","v":61},{"$f":"ROUND(V590*3600/(4186*ABS($O$1-$O$2)),0)","v":89},{"$f":"ROUND(W590*3600/(4186*ABS($O$1-$O$2)),0)","v":95},{"$f":"ROUND(X590*3600/(4186*ABS($O$1-$O$2)),0)","v":114},1.8801217016227327E-2,3.8924960889446435E-2,4.4146590218265697E-2,6.2778209343462163E-2,3.969E-4,1.7345999999999999,2,3.6734700000000002E-4,{"$f":"AK498","v":142.7603849699376},{"$f":"AL498","v":153.09517888293954},183.04,0.98,0.98,0.98,143,153,183,{"$f":"ROUND(AQ590*3600/(4186*ABS($AM$1-$AM$2)),0)","v":61},{"$f":"ROUND(AR590*3600/(4186*ABS($AM$1-$AM$2)),0)","v":66},{"$f":"ROUND(AS590*3600/(4186*ABS($AM$1-$AM$2)),0)","v":79},1.8801217016227327E-2,2.1878764945327631E-2,3.093277823234393E-2,0.5,5.5,5.9,7.9,null,785,null,0.9,null,null,0,13.2,15.1,21.85,null,1,1,1,143,153,183,null,0,0,0,1]
["2657011",null,null,2,65,70,11,11.5,0,26,30,41,705.84,1397.1861540381678,1498.3320774196782,1791.4,1.5,1.1000000000000001,1.1000000000000001,1.1000000000000001,706,1397,1498,1791,61,120,129,154,3.1753100917654646E-2,0.11600499755813,0.13329019125147809,0.18736507468697711,3.969E-4,1.7345999999999999,4,5.7428799999999995E-4,{"$f":"AK499*(1-(($E591-50)*0.005))","v":216.46246155704532},{"$f":"AL499*(1-(($E591-50)*0.005))","v":232.13273962868439},277.53700000000003,0.95,0.95,0.95,216,232,278,93,100,120,7.1145182973201465E-2,8.1762719577362683E-2,0.11600499755813,0.9,5.5,5.9,7.9,null,1038,null,0.68,null,null,0,13.2,15.1,21.85,null,1,1,1,216,232,278,null,0,0,0,1]
["2657016",null,null,2,65,70,16,16.5,0,26,30,41.1,1060.1200000000001,1627.62717250317,1747.2217424001376,2312.5,1.5,1.1000000000000001,1.1000000000000001,1.1000000000000001,1060,1628,1747,2313,91,140,150,199,0.12385592691043998,0.2902779131483183,0.33273460547085354,0.58224305620495909,2.0829999999999999E-4,1.724,4,1.392796E-3,{"$f":"AK501*(1-(($E593-50)*0.005))","v":203.12787112839561},{"$f":"AL501*(1-(($E593-50)*0.005))","v":218.05327345153719},288.60000000000002,0.95,0.95,0.95,203,218,289,87,94,124,0.11333032140726006,0.13205391903673999,0.22832797696070714,1.4,5.0999999999999996,5.6,7.2,null,1559,null,0.68,null,null,0,12.3,14.4,21.85,null,1,1,1,203,218,289,null,0,0,0,1]
["2657020",null,null,2,65,70,20,21.5,0,26,30,41.1,1339.2,1509.840819712653,1619.1421060355642,1935.84,1.5,1.08,1.08,1.08,1339,1510,1619,1936,115,130,139,166,5.3725370189289141E-2,6.8444200673944258E-2,7.8121147734999577E-2,0.11095002490928764,1.2760000000000001E-4,1.7219,2,3.76611E-4,{"$f":"AK502","v":170.52628152222005},{"$f":"AL502","v":182.87112058001478},218.64000000000001,0.95,0.95,0.95,171,183,219,74,79,94,2.2511197833279682E-2,2.5608782122359248E-2,3.6084845824600094E-2,0.9,5.0999999999999996,5.6,7.2,null,1674,null,0.8,null,null,0,12.3,14.4,21.85,null,1,1,1,171,183,219,null,0,0,0,1]
["2658010",null,null,2,65,80,10,11.5,0,26,30,41.8,807.30000000000007,1214.2269940407766,1304.1433704057049,1574.18,1.5,1.08,1.08,1.08,807,1214,1304,1574,69,104,112,135,2.5037448515653631E-2,5.5028754884652663E-2,6.3456869664955617E-2,9.0909861993553942E-2,3.969E-4,1.7345999999999999,2,3.6734700000000002E-4,{"$f":"AK504","v":168.33710197020613},{"$f":"AL504","v":180.80286190736828},218.24,0.98,0.98,0.98,168,181,218,72,78,94,2.7165359623318678E-2,3.167181300086596E-2,4.5312552969066985E-2,0.5,6.3,6.8,9.1,null,897,null,0.9,null,null,0,12.8,14.7,21.85,null,1,1,1,168,181,218,null,0,0,0,1]
["2658011",null,null,2,65,80,11,11.5,0,26,30,41.8,806.48,1647.5037394527276,1769.505282019556,2135.9,1.5,1.1000000000000001,1.1000000000000001,1.1000000000000001,806,1648,1770,2136,69,142,152,184,4.2590705964507265E-2,0.1687204798043572,0.19218780961004492,0.27712360618498821,3.969E-4,1.7345999999999999,4,5.7428799999999995E-4,{"$f":"AK505*(1-(($E597-50)*0.005))","v":255.3},{"$f":"AL505*(1-(($E597-50)*0.005))","v":273.8},331.15000000000003,0.95,0.95,0.95,255,274,331,110,118,142,0.10356985253432938,0.11842888168254465,0.1687204798043572,1.1000000000000001,6.3,6.8,9.1,null,1186,null,0.68,null,null,0,12.8,14.7,21.85,null,1,1,1,255,274,331,null,0,0,0,1]
["2658016",null,null,2,65,80,16,16.5,0,26,30,42.4,1211.76,2040.4331716148024,2188.0092071816284,2935.7,1.5,1.1000000000000001,1.1000000000000001,1.1000000000000001,1212,2040,2188,2936,104,175,188,252,0.16371038659618098,0.45744743887251921,0.52704418993994806,0.94073397666389191,2.0829999999999999E-4,1.724,4,1.392796E-3,{"$f":"AK507*(1-(($E599-50)*0.005))","v":288.60000000000002},{"$f":"AL507*(1-(($E599-50)*0.005))","v":309.875},416.25,0.95,0.95,0.95,289,310,416,124,133,179,0.2316471838419854,0.26601392538714985,0.47834176754860941,1.6,6,6.7,9,null,1782,null,0.68,null,null,0,11.8,13.7,21.85,null,1,1,1,289,310,416,null,0,0,0,1]
["2658020",null,null,2,65,80,20,21.5,0,26,30,42.4,1530.4,1942.5718983039128,2086.4239348515057,2518.44,1.5,1.08,1.08,1.08,1530,1943,2086,2518,132,167,179,217,7.1660647873601949E-2,0.11395554008077592,0.13067872337503861,0.19110006829963533,1.2760000000000001E-4,1.7219,2,3.76611E-4,{"$f":"AK508","v":240.07166246887351},{"$f":"AL508","v":257.84953601562182},311.24,0.95,0.95,0.95,240,258,311,103,111,134,4.3951963441231798E-2,5.0929918356249132E-2,7.381701321036345E-2,1.1000000000000001,6,6.7,9,null,1913,null,0.8,null,null,0,11.8,13.7,21.85,null,1,1,1,240,258,311,null,0,0,0,1]
["2659010",null,null,2,65,90,10,11.5,0,26,30,42.4,908.1,1395.6272192501513,1501.3000140389001,1828.08,1.5,1.08,1.08,1.08,908,1396,1501,1828,78,120,129,157,3.3161052231119925E-2,7.5608781210671119E-2,8.6853211147160284E-2,0.12662134598395483,3.969E-4,1.7345999999999999,2,3.6734700000000002E-4,{"$f":"AK510","v":193.48593193227777},{"$f":"AL510","v":208.13611852764589},253.44,0.98,0.98,0.98,193,208,253,83,89,109,3.7340239212640722E-2,4.2669333600542279E-2,6.2889336846315577E-2,0.6,6.7,7.4,10.3,null,1009,null,0.9,null,null,0,12.5,14.7,21.85,null,1,1,1,193,208,253,null,0,0,0,1]
["2659011",null,null,2,65,90,11,11.5,0,26,30,42.4,907.80000000000007,1893.6336235985709,2037.0140009310799,2480.4,1.5,1.1000000000000001,1.1000000000000001,1.1000000000000001,908,1894,2037,2480,78,163,175,213,5.6758185443039844E-2,0.23039387696616745,0.26382483336744583,0.38395411039699373,3.969E-4,1.7345999999999999,4,5.7428799999999995E-4,{"$f":"AK511*(1-(($E603-50)*0.005))","v":293.37579267203114},{"$f":"AL511*(1-(($E603-50)*0.005))","v":315.58934619649943},384.28200000000004,0.95,0.95,0.95,293,316,384,126,136,165,0.14108634794348476,0.16316026903161293,0.23581464895791238,1.2,6.7,7.4,10.3,null,1335,null,0.68,null,null,0,12.5,14.7,21.85,null,1,1,1,293,316,384,null,0,0,0,1]
[{"$f":"CONCATENATE(D605,E605,F605,G605)","v":"2659016"},null,null,2,65,90,16,16.5,0,26,30,43.3,1362.72,2336.669516687492,2503.3688418217644,3409.2,1.5,{"$f":"IF($G605=10,1.08,IF($G605=11,1.1,IF($G605=15,1.08,IF($G605=16,1.1,IF($G605=20,1.08,IF($G605=21,1.05))))))","v":1.1000000000000001},1.1000000000000001,1.1000000000000001,1363,2337,2503,3409,117,201,215,293,{"$f":"(($AG605*(Y605^$AH605)*((($F605-14.4)*$AI605)/100))+($AJ605*(Y605^2)))*0.0098","v":0.20954788640119376},{"$f":"(($AG605*(Z605^$AH605)*((($F605-14.4)*$AI605)/100))+($AJ605*(Z605^2)))*0.0098","v":0.60915360332621049},{"$f":"(($AG605*(AA605^$AH605)*((($F605-14.4)*$AI605)/100))+($AJ605*(AA605^2)))*0.0098","v":0.69575042058868541},{"$f":"(($AG605*(AB605^$AH605)*((($F605-14.4)*$AI605)/100))+($AJ605*(AB605^2)))*0.0098","v":1.2822911322288062},2.0829999999999999E-4,1.724,4,1.392796E-3,{"$f":"AK513*(1-(($E605-50)*0.005))","v":330.94593339568098},{"$f":"AL513*(1-(($E605-50)*0.005))","v":354.55580349455562},482.85,0.95,0.95,0.95,331,355,483,142,153,208,{"$f":"(($AG605*(AT605^$AH605)*((($F605-14.4)*$AI605)/100))+($AJ605*(AT605^2)))*0.0098","v":0.30692527513830892},{"$f":"(($AG605*(AU605^$AH605)*((($F605-14.4)*$AI605)/100))+($AJ605*(AU605^2)))*0.0098","v":0.35556881420821179},{"$f":"(($AG605*(AV605^$AH605)*((($F605-14.4)*$AI605)/100))+($AJ605*(AV605^2)))*0.0098","v":0.65173992320045004},1.8,7,7.7,10.7,null,2004,null,0.68,null,null,0,11.3,13.2,21.85,null,1,1,1,331,{"$f":"AR605/BP605","v":355},{"$f":"AS605/BQ605","v":483},null,0,0,0,1]
["2659020",null,null,2,65,90,20,21.5,0,26,30,43.3,1721.6000000000001,2232.7836804230465,2401.8435041457315,2924.64,1.5,1.08,1.08,1.08,1722,2233,2402,2925,148,192,207,252,9.1161174330522982E-2,0.15220989401469975,0.17653301618879313,0.26017862567755984,1.2760000000000001E-4,1.7219,2,3.76611E-4,{"$f":"AK514","v":275.93732338069162},{"$f":"AL514","v":296.83048721840407},361.44,0.95,0.95,0.95,276,297,361,119,128,155,5.9353068879593893E-2,6.85057463009488E-2,9.9843942617951306E-2,1.2,7,7.7,10.7,null,2152,null,0.8,null,null,0,11.3,13.2,21.85,null,{"$f":"IF((237.3*LN(($AQ$1*EXP(17.27*($AM$3/($AM$3+237.3))))))/(17.27-LN(($AQ$1*EXP(17.27*($AM$3/($AM$3+237.3))))))<(($AM$1+$AM$2)/2),1,IF(1/(1+((2258*((0.622/((101325/(1*611*EXP(17.27*((($AM$1+$AM$2)/2)/((($AM$1+$AM$2)/2)+237.3))))))-1)*1000-(0.622/((101325/($AQ$1*611*EXP(17.27*($AM$3/($AM$3+237.3))))))-1)*1000))/(1005*((($AM$1+$AM$2)/2)-$AM$3))))>1,1,1/(1+((2258*((0.622/((101325/(1*611*EXP(17.27*((($AM$1+$AM$2)/2)/((($AM$1+$AM$2)/2)+237.3))))))-1)*1000-(0.622/((101325/($AQ$1*611*EXP(17.27*($AM$3/($AM$3+237.3))))))-1)*1000))/(1005*((($AM$1+$AM$2)/2)-$AM$3))))))","v":1},1,1,276,297,361,null,0,0,0,1]
["26510011",null,null,2,65,100,11,11.5,0,26,30,43,1008.44,2136.1856779144437,2301.3611872256411,2824.9,1.5,1.1000000000000001,1.1000000000000001,1.1000000000000001,1008,2136,2301,2825,87,184,198,243,7.3411291695833408E-2,0.30352033783455779,0.34894385970841529,0.51535542526976641,3.969E-4,1.7345999999999999,4,5.7428799999999995E-4,{"$f":"AK517*(1-(($E609-50)*0.005))","v":331.15000000000003},{"$f":"AL517*(1-(($E609-50)*0.005))","v":356.125},437.52500000000003,0.95,0.95,0.95,331,356,438,142,153,188,0.1855610396003198,0.21378279383702437,0.31618904083700439,1.3,7.8,8.6999999999999993,12.2,null,1483,null,0.68,null,null,0,12.3,14.1,21.85,null,1,1,1,331,356,438,null,0,0,0,1]
["26510015",null,null,2,65,100,15,16.5,0,26,30,44.1,1372,1798.7737222599399,1926.0891717740149,2655.16,1.5,1.08,1.08,1.08,1372,1799,1926,2655,118,155,166,228,7.6060953266540651E-2,0.12960669873525657,0.14820649885017992,0.27587309609991228,2.0829999999999999E-4,1.724,2,4.6182900000000003E-4,{"$f":"AK518","v":245.53983484833029},{"$f":"AL518","v":262.91890485611941},362.44,1.01,1.01,1.01,246,263,362,106,113,156,6.1693712021988735E-2,6.989545441405931E-2,0.13124694650181259,1,7,7.7,10.7,null,1715,null,0.8,null,null,0,10.9,12.8,21.85,null,1,1,1,246,263,362,null,0,0,0,1]
["26510020",null,null,2,65,100,20,21.5,0,26,30,44.1,1912.8000000000002,2518.7768428703835,2713.5353098724395,3330.84,1.5,1.08,1.08,1.08,1913,2519,2714,3331,165,217,233,286,0.11457024189698231,0.19637584927080459,0.22589211718801094,0.33821597295331562,1.2760000000000001E-4,1.7219,2,3.76611E-4,{"$f":"AK520","v":311.2816285378957},{"$f":"AL520","v":335.35074484391049},411.64,0.95,0.95,0.95,311,335,412,134,144,177,7.6117387440108403E-2,8.7676786087461309E-2,0.13152753973488002,1.3,7,7.7,10.7,null,2391,null,0.8,null,null,0,10.9,12.8,21.85,null,1,1,1,311,335,412,null,0,0,0,1]
["26510021",null,null,2,65,100,21,21.5,0,26,30,44.1,2404,3387.5608889256064,3627.3291443724347,5000.3599999999997,1.5,1.05,1.05,1.05,2404,3388,3627,5000,207,291,312,430,0.25756042639798765,0.50157125518840051,0.57492378341496886,1.0783579804788856,1.2760000000000001E-4,1.7219,4,5.1420100000000005E-4,{"$f":"AK521*(1-(($E613-50)*0.005))","v":406.46008747206355},{"$f":"AL521*(1-(($E613-50)*0.005))","v":435.22893599683522},599.97350000000006,0.85,0.85,0.85,406,435,600,175,187,258,0.18550612673564695,0.21116854253394793,0.39626579576401511,2.7,7,7.7,10.7,null,3005,null,0.8,null,null,0,10.9,12.8,21.85,null,1,1,1,406,435,600,null,0,0,0,1]
["26511011",null,null,2,65,110,11,11.5,0,26,30,43.5,1109.0800000000002,2396.6961264405954,2582.0149905458411,3169.4,1.5,1.1000000000000001,1.1000000000000001,1.1000000000000001,1109,2397,2582,3169,95,206,222,273,9.0878136231661868E-2,0.39231335542301654,0.4521181336762668,0.66959643399325008,3.969E-4,1.7345999999999999,4,5.7428799999999995E-4,{"$f":"AK523*(1-(($E615-50)*0.005))","v":371.31397389971175},{"$f":"AL523*(1-(($E615-50)*0.005))","v":400.02494944240328},491.02700000000004,0.95,0.95,0.95,371,400,491,160,172,211,0.243090227688014,0.27874588734236166,0.41056718300834116,1.5,8.4,9.3000000000000007,14,null,1631,null,0.68,null,null,0,12,13.9,21.85,null,1,1,1,371,400,491,null,0,0,0,1]
["26511015",null,null,2,65,110,15,16.5,0,26,30,44.1,1509.6000000000001,1908.1501882577959,2043.2071973479594,2816.6099999999997,1.5,1.08,1.08,1.08,1510,1908,2043,2817,130,164,176,242,9.3700524640939239E-2,0.14742102741229732,0.1692130010603492,0.31530215896235814,2.0829999999999999E-4,1.724,2,4.6182900000000003E-4,{"$f":"AK524","v":249.80785427097814},{"$f":"AL524","v":267.48901053042016},368.74,1.01,1.01,1.01,250,267,369,108,115,159,6.5293712586279876E-2,7.3788401225819936E-2,0.1387762211751877,1.1000000000000001,7.9,8.8000000000000007,12.5,null,1887,null,0.8,null,null,0,10.9,12.8,21.85,null,1,1,1,250,267,369,null,0,0,0,1]
["26511020",null,null,2,65,110,20,21.5,0,26,30,44.1,2104,2692.551301713082,2900.746468081386,3560.6400000000003,1.5,1.08,1.08,1.08,2104,2693,2901,3561,181,232,249,306,0.13936666093513697,0.22694722640377721,0.26079058599865457,0.3911657832602583,1.2760000000000001E-4,1.7219,2,3.76611E-4,{"$f":"AK526","v":317.17997831584631},{"$f":"AL526","v":341.70517057946222},419.44,0.95,0.95,0.95,317,342,419,136,147,180,7.9544712053658623E-2,9.2650629466224224E-2,0.13785909087762688,1.5,7.9,8.8000000000000007,12.5,null,2630,null,0.8,null,null,0,10.9,12.8,21.85,null,1,1,1,317,342,419,null,0,0,0,1]
["26511021",null,null,2,65,110,21,21.5,0,26,30,44.1,2644.8,3556.1815292902165,3807.8845891872675,5249.2599999999993,1.5,1.05,1.05,1.05,2645,3556,3808,5249,227,306,327,451,0.31416828187937967,0.56299805703171679,0.64102009569515583,1.2027269290583564,1.2760000000000001E-4,1.7219,4,5.1420100000000005E-4,{"$f":"AK527*(1-(($E619-50)*0.005))","v":412.22530100964025},{"$f":"AL527*(1-(($E619-50)*0.005))","v":441.4022057251367},608.48350000000005,0.85,0.85,0.85,412,441,608,177,190,261,0.19338453244863477,0.22203583444111574,0.41258520497574347,2.9,7.9,8.8000000000000007,12.5,null,3306,null,0.8,null,null,0,10.9,12.8,21.85,null,1,1,1,412,441,608,null,0,0,0,1]
["26512011",null,null,2,65,120,11,11.5,0,26,30,44,1210.4000000000001,2611.8926414972211,2821.6982019103875,3513.9,1.5,1.1000000000000001,1.1000000000000001,1.1000000000000001,1210,2612,2822,3514,104,225,243,302,0.11267833876978904,0.48249130904551651,0.55811858661840352,0.8424915609755409,3.969E-4,1.7345999999999999,4,5.7428799999999995E-4,{"$f":"AK529*(1-(($E621-50)*0.005))","v":404.22500000000002},{"$f":"AL529*(1-(($E621-50)*0.005))","v":437.52500000000003},544.82500000000005,0.95,0.95,0.95,404,438,545,174,188,234,0.29689321527590273,0.34358909156864093,0.51964975177923689,1.6,8.9,9.9,14.8,null,1780,null,0.68,null,null,0,11.8,13.7,21.85,null,1,1,1,404,438,545,null,0,0,0,1]
["26512015",null,null,2,65,120,15,16.5,0,26,30,44.8,1646.4,2216.9073865755149,2373.9948983307781,3302.76,1.5,1.08,1.08,1.08,1646,2217,2374,3303,142,191,204,284,0.11339955026582847,0.20201741408626139,0.22969478307979363,0.43817875262090578,2.0829999999999999E-4,1.724,2,4.6182900000000003E-4,{"$f":"AK530","v":302.61675876046246},{"$f":"AL530","v":324.05983479376272},450.84,1.01,1.01,1.01,303,324,451,130,139,194,9.5500985484133716E-2,0.10878402336268925,0.20824992292405745,1.2,8.6999999999999993,9.8000000000000007,14.3,null,2058,null,0.8,null,null,0,10.6,12.5,21.85,null,1,1,1,303,324,451,null,0,0,0,1]
["26512020",null,null,2,65,120,20,21.5,0,26,30,44.8,2295.2000000000003,3079.6829926739365,3327.0647594078355,4143.24,1.5,1.08,1.08,1.08,2295,3080,3327,4143,197,265,286,356,0.16681949008703023,0.29848242281650889,0.34670295754782865,0.53308564610580933,1.2760000000000001E-4,1.7219,2,3.76611E-4,{"$f":"AK532","v":380.60090160569081},{"$f":"AL532","v":411.17343900116532},512.04,0.95,0.95,0.95,381,411,512,164,177,220,0.11646670942658871,0.13524222402195477,0.20715667478646135,1.6,8.6999999999999993,9.8000000000000007,14.3,null,2869,null,0.8,null,null,0,10.6,12.5,21.85,null,1,1,1,381,411,512,null,0,0,0,1]
["26512021",null,null,2,65,120,21,21.5,0,26,30,44.8,2884.8,4175.015825613802,4470.8526528786542,6219.96,1.5,1.05,1.05,1.05,2885,4175,4471,6220,248,359,385,535,0.38004346497241909,0.78201485926088143,0.89645307864469181,1.7058196412629565,1.2760000000000001E-4,1.7219,4,5.1420100000000005E-4,{"$f":"AK533*(1-(($E625-50)*0.005))","v":500.94370354312542},{"$f":"AL533*(1-(($E625-50)*0.005))","v":536.43999914643973},746.30850000000009,0.85,0.85,0.85,501,536,746,215,230,321,0.2877666589992251,0.32815493761612674,0.62857419857368524,3.2,8.6999999999999993,9.8000000000000007,14.3,null,3606,null,0.8,null,null,0,10.6,12.5,21.85,null,1,1,1,501,536,746,null,0,0,0,1]
["26514011",null,null,2,65,140,11,11.5,0,26,30,44.8,1411.68,3077.015307780141,3332.5766142436496,4202.8999999999996,1.5,1.1000000000000001,1.1000000000000001,1.1000000000000001,1412,3077,3333,4203,121,265,287,361,0.16252271115584735,0.70734607634958468,0.82199994803261212,1.2670408781957792,3.969E-4,1.7345999999999999,4,5.7428799999999995E-4,{"$f":"AK535*(1-(($E627-50)*0.005))","v":476.375},{"$f":"AL535*(1-(($E627-50)*0.005))","v":516.15},651.20000000000005,0.95,0.95,0.95,476,516,651,205,222,280,0.43646931918504489,0.50695495722689443,0.78463445410904231,1.9,10.1,11.2,17.5,null,2076,null,0.68,null,null,0,11.5,13.3,21.85,null,1,1,1,476,516,651,null,0,0,0,1]
["26514015",null,null,2,65,140,15,16.5,0,26,30,45.4,1920.8000000000002,2628.9846104428207,2815.4584574952669,3950.36,1.5,1.08,1.08,1.08,1921,2629,2815,3950,165,226,242,340,0.1573279392829452,0.28983635322357215,0.33106971150845382,0.64182959732152445,2.0829999999999999E-4,1.724,2,4.6182900000000003E-4,{"$f":"AK536","v":358.86695423586366},{"$f":"AL536","v":384.32138301819265},539.24,1.01,1.01,1.01,359,384,539,154,165,232,0.137621338941047,0.1573279392829452,0.30498467021762166,1.4,9.6,10.5,16.100000000000001,null,2401,null,0.8,null,null,0,10.4,12.2,21.85,null,1,1,1,359,384,539,null,0,0,0,1]
["26514020",null,null,2,65,140,20,21.5,0,26,30,45.4,2677.6000000000004,3628.1091959950468,3929.4415695377957,4955.6400000000003,1.5,1.08,1.08,1.08,2678,3628,3929,4956,230,312,338,426,0.23186581199042383,0.42118895241344162,0.49271246369818478,0.7756359730733573,1.2760000000000001E-4,1.7219,2,3.76611E-4,{"$f":"AK538","v":448.37784746172167},{"$f":"AL538","v":485.61784045001809},612.44000000000005,0.95,0.95,0.95,448,486,612,193,209,263,0.16455496588623258,0.1922740711354792,0.30142179085547277,1.9,9.6,10.5,16.100000000000001,null,3347,null,0.8,null,null,0,10.4,12.2,21.85,null,1,1,1,448,486,612,null,0,0,0,1]
["26514021",null,null,2,65,140,21,21.5,0,26,30,45.4,3365.6000000000004,4951.0649025572329,5302.2438770247491,7439.56,1.5,1.05,1.05,1.05,3366,4951,5302,7440,289,426,456,640,0.52940564452316707,1.1261815111859146,1.285836312641885,2.4907095980414304,1.2760000000000001E-4,1.7219,4,5.1420100000000005E-4,{"$f":"AK539*(1-(($E631-50)*0.005))","v":594.05877543105328},{"$f":"AL539*(1-(($E631-50)*0.005))","v":636.19535728469714},892.64350000000002,0.85,0.85,0.85,594,636,893,255,273,384,0.41515990120672369,0.4739551655402911,0.92010190227933408,3.7,9.6,10.5,16.100000000000001,null,4207,null,0.8,null,null,0,10.4,12.2,21.85,null,1,1,1,594,636,893,null,0,0,0,1]
["26516011",null,null,2,65,160,11,11.5,0,26,30,45.5,1613.64,3533.107636511756,3835.359341571188,4891.8999999999996,1.5,1.1000000000000001,1.1000000000000001,1.1000000000000001,1614,3533,3835,4892,139,304,330,421,0.22688039369446436,0.97923387090071334,1.1422415218620434,1.8051385479062783,3.969E-4,1.7345999999999999,4,5.7428799999999995E-4,{"$f":"AK541*(1-(($E633-50)*0.005))","v":547.6},{"$f":"AL541*(1-(($E633-50)*0.005))","v":593.85},757.57500000000005,0.95,0.95,0.95,548,594,758,236,255,326,0.6093833662343594,0.70442666719486835,1.1163933738472955,2.1,11,12.4,19.2,null,2373,null,0.68,null,null,0,11.2,13,21.85,null,1,1,1,548,594,758,null,0,0,0,1]
["26516015",null,null,2,65,160,15,16.5,0,26,30,46.4,2195.2000000000003,3021.1783832091446,3225.6120441880121,4597.96,1.5,1.08,1.08,1.08,2195,3021,3226,4598,189,260,277,395,0.21164255392481759,0.39255304944044445,0.4438617891013007,0.88424755918807496,2.0829999999999999E-4,1.724,2,4.6182900000000003E-4,{"$f":"AK542","v":412.40297880742492},{"$f":"AL542","v":440.30899429620177},627.64,1.01,1.01,1.01,412,440,628,177,189,270,0.18642121393254038,0.21164255392481759,0.42236240265801678,1.6,11.5,12.8,19.600000000000001,null,2744,null,0.8,null,null,0,10,11.8,21.85,null,1,1,1,412,440,628,null,0,0,0,1]
["26516020",null,null,2,65,160,20,21.5,0,26,30,46.4,3060.8,4165.887726998767,4522.2727563025155,5768.04,1.5,1.08,1.08,1.08,3061,4166,4522,5768,263,358,389,496,0.30876791975949708,0.5639754157614939,0.66342434491024516,1.0674404634562651,1.2760000000000001E-4,1.7219,2,3.76611E-4,{"$f":"AK544","v":514.83890668473202},{"$f":"AL544","v":558.88255136973487},712.84,0.95,0.95,0.95,515,559,713,221,240,307,0.21989661309334549,0.25827229749987091,0.41765567382317259,2.1,11.5,12.8,19.600000000000001,null,3826,null,0.8,null,null,0,10,11.8,21.85,null,1,1,1,515,559,713,null,0,0,0,1]
["26516021",null,null,2,65,160,21,21.5,0,26,30,46.4,3846.4,5689.6682460807178,6074.6702425752001,8659.16,1.5,1.05,1.05,1.05,3846,5690,6075,8659,331,489,522,745,0.71102064766775075,1.516156598549864,1.721314141488552,3.4393517119933592,1.2760000000000001E-4,1.7219,4,5.1420100000000005E-4,{"$f":"AK545*(1-(($E637-50)*0.005))","v":682.68088126453097},{"$f":"AL545*(1-(($E637-50)*0.005))","v":728.87575430242862},1038.9785000000002,0.85,0.85,0.85,683,729,1039,294,313,447,0.56514789147038746,0.6380188401493293,1.2734730104129646,4.3,11.5,12.8,19.600000000000001,null,4808,null,0.8,null,null,0,10,11.8,21.85,null,1,1,1,683,729,1039,null,0,0,0,1]
["26518011",null,null,2,65,180,11,11.5,0,26,30,46,1814.92,4030.7284303866513,4375.55079813051,5580.9,1.5,1.1000000000000001,1.1000000000000001,1.1000000000000001,1815,4031,4376,5581,156,347,376,480,0.30110619786292941,1.334539960528933,1.5506696983380099,2.4499067566992552,3.969E-4,1.7345999999999999,4,5.7428799999999995E-4,{"$f":"AK547*(1-(($E639-50)*0.005))","v":624.4704010183209},{"$f":"AL547*(1-(($E639-50)*0.005))","v":677.89284462473347},864.6345,0.95,0.95,0.95,624,678,865,268,292,372,0.82386054296562061,0.96681346624204301,1.5199529421439992,2.4,12.2,13.7,22,null,2669,null,0.68,null,null,0,10.9,12.7,21.85,null,1,1,1,624,678,865,null,0,0,0,1]
["26518015",null,null,2,65,180,15,16.5,0,26,30,46.4,2469.6000000000004,3233.3460619053994,3452.1364439366635,4920.8599999999997,1.5,1.08,1.08,1.08,2470,3233,3452,4921,212,278,297,423,0.27269326789193904,0.46032647442822744,0.52311768690779403,1.0377569514621654,2.0829999999999999E-4,1.724,2,4.6182900000000003E-4,{"$f":"AK548","v":420.6820520547858},{"$f":"AL548","v":449.14828645115074},640.24,1.01,1.01,1.01,421,449,640,181,193,275,0.2010263623163458,0.22751208445626886,0.45076939507650016,1.8,11.5,12.8,19.600000000000001,null,3087,null,0.8,null,null,0,10,11.8,21.85,null,1,1,1,421,449,640,null,0,0,0,1]
["26518020",null,null,2,65,180,20,21.5,0,26,30,46.4,3443.2000000000003,4497.8275192555193,4882.6094666576164,6227.64,1.5,1.08,1.08,1.08,3443,4498,4883,6228,296,387,420,536,0.39792835157287731,0.67105520500225491,0.78724334085603187,1.2676087797406754,1.2760000000000001E-4,1.7219,2,3.76611E-4,{"$f":"AK550","v":526.1057925837863},{"$f":"AL550","v":571.11330132956857},728.44,0.95,0.95,0.95,526,571,728,226,246,313,0.23536033293811029,0.27756656183252509,0.44366421223291913,2.4,11.5,12.8,19.600000000000001,null,4304,null,0.8,null,null,0,10,11.8,21.85,null,1,1,1,526,571,728,null,0,0,0,1]
["26518021",null,null,2,65,180,21,21.5,0,26,30,46.4,4327.2,6016.7573462820046,6423.892435808023,9156.9599999999991,1.5,1.05,1.05,1.05,4327,6017,6424,9157,372,517,552,788,0.91835201935608124,1.7364585854055543,1.9715108987105545,3.9339119327078702,1.2760000000000001E-4,1.7219,4,5.1420100000000005E-4,{"$f":"AK551*(1-(($E643-50)*0.005))","v":693.86420084152155},{"$f":"AL551*(1-(($E643-50)*0.005))","v":740.81581402284382},1055.9985000000001,0.85,0.85,0.85,694,741,1056,298,319,454,0.59835008289121183,0.68240986136996196,1.3500986543574247,4.8,11.5,12.8,19.600000000000001,null,5409,null,0.8,null,null,0,10,11.8,21.85,null,1,1,1,694,741,1056,null,0,0,0,1]
["26520011",null,null,2,65,200,11,11.5,0,26,30,46.5,2016.88,4422.7050634086982,4820.649682883678,6269.9,1.5,1.1000000000000001,1.1000000000000001,1.1000000000000001,2017,4423,4821,6270,173,380,415,539,0.38856128725544986,1.6745484974017948,1.9734656930316881,3.2154295434805311,3.969E-4,1.7345999999999999,4,5.7428799999999995E-4,{"$f":"AK553*(1-(($E645-50)*0.005))","v":685.42500000000007},{"$f":"AL553*(1-(($E645-50)*0.005))","v":746.47500000000002},971.25,0.95,0.95,0.95,685,746,971,295,321,418,1.0452969961684331,1.223091481259345,2.0001552183357725,2.7,13.4,14.8,24,null,2966,null,0.68,null,null,0,10.7,12.5,21.85,null,1,1,1,685,746,971,null,0,0,0,1]
["26520015",null,null,2,65,200,15,16.5,0,26,30,47.1,2744,3875.4624109054007,4083.4735576056296,5893.16,1.5,1.08,1.08,1.08,2744,3875,4083,5893,236,333,351,507,0.34549237738255839,0.67100385450414035,0.7427948904408519,1.5124900662854772,2.0829999999999999E-4,1.724,2,4.6182900000000003E-4,{"$f":"AK554","v":529.01617838795164},{"$f":"AL554","v":557.41053504066974},804.44,1.01,1.01,1.01,529,557,804,227,240,346,0.3205762003800503,0.35685612106712633,0.72249739815889857,2,13.2,14.7,23.5,null,3430,null,0.8,null,null,0,10,11.4,21.85,null,1,1,1,529,557,804,null,0,0,0,1]
["26520020",null,null,2,65,200,20,21.5,0,26,30,47.1,3825.6000000000004,5214.8121821672385,5684.028740747025,7392.84,1.5,1.08,1.08,1.08,3826,5215,5684,7393,329,448,489,636,0.49973531847341052,0.91133281879191153,1.0808827382560606,1.804767358434455,1.2760000000000001E-4,1.7219,2,3.76611E-4,{"$f":"AK556","v":644.46964929787134},{"$f":"AL556","v":702.45751547390614},913.64,0.95,0.95,0.95,644,702,914,277,302,393,0.35773067054432378,0.42311312971539766,0.70617331390652549,2.7,13.2,14.7,23.5,null,4782,null,0.8,null,null,0,10,11.4,21.85,null,1,1,1,644,702,914,null,0,0,0,1]
["26520021",null,null,2,65,200,21,21.5,0,26,30,47.1,4808,7298.5082710627348,7690.2476078687869,11098.36,1.5,1.05,1.05,1.05,4808,7299,7690,11098,413,628,661,954,1.1560906155681474,2.5976371030133358,2.8682489622749725,5.8399447479033668,1.2760000000000001E-4,1.7219,4,5.1420100000000005E-4,{"$f":"AK557*(1-(($E649-50)*0.005))","v":875.71925864706895},{"$f":"AL557*(1-(($E649-50)*0.005))","v":922.72251861059272},1331.6485,0.85,0.85,0.85,876,923,1332,377,397,573,0.96967651460445303,1.0712774010557167,2.1756776792914172,5.3,13.2,14.7,23.5,null,6010,null,0.8,null,null,0,10,11.4,21.85,null,1,1,1,876,923,1332,null,0,0,0,1]
["26522015",null,null,2,65,220,15,16.5,0,26,30,47.8,3018.4,4302.5567439745028,4481.7988603493422,6540.76,1.5,1.08,1.08,1.08,3018,4303,4482,6541,260,370,385,563,0.42824009896810011,0.84427064665866536,0.91145906255959874,1.8978591317759046,2.0829999999999999E-4,1.724,2,4.6182900000000003E-4,{"$f":"AK560","v":587.31626956044784},{"$f":"AL560","v":611.78353807115786},892.84,1.01,1.01,1.01,587,612,893,252,263,384,0.40328748590288432,0.43778400702821296,0.90690223440245954,2.2000000000000002,15.5,16.8,27.5,null,3773,null,0.8,null,null,0,10,11.1,21.85,null,1,1,1,587,612,893,null,0,0,0,{"$f":"IF(SUM(BV652:BX652)=0,1,0)","v":1}]
["26522016",null,null,2,65,220,16,16.5,0,26,30,47.8,3331.32,6291.7251954043459,6553.83496101116,9564.7000000000007,1.5,1.1000000000000001,1.1000000000000001,1.1000000000000001,3331,6292,6554,9565,286,541,564,823,1.4047191571820703,4.8599490065570379,5.2712218393505692,11.028120296891252,2.0829999999999999E-4,1.724,4,1.392796E-3,{"$f":"AK561*(1-(($E653-50)*0.005))","v":891.10627437550988},{"$f":"AL561*(1-(($E653-50)*0.005))","v":928.2292652012901},1354.6625000000001,0.95,0.95,0.95,891,928,1355,383,399,583,2.4791233352665301,2.6847693120569986,5.6233172989312203,4.4000000000000004,15.5,16.8,27.5,null,4899,null,0.68,null,null,0,10,11.1,21.85,null,1,1,1,891,928,1355,null,0,0,0,1]
["26522021",null,null,2,65,220,21,21.5,0,26,30,47.8,5288.8,8102.8384881891643,8440.3982243391856,12317.96,1.5,1.05,1.05,1.05,5289,8103,8440,12318,455,697,726,1059,1.4313752665498505,3.2570253321888645,3.523799431798829,7.3137051488079097,1.2760000000000001E-4,1.7219,4,5.1420100000000005E-4,{"$f":"AK563*(1-(($E655-50)*0.005))","v":972.22767314624582},{"$f":"AL563*(1-(($E655-50)*0.005))","v":1012.7301362403042},1477.9835,0.85,0.85,0.85,972,1013,1478,418,436,636,1.2158640841145845,1.3185807566597181,2.7292518146347087,5.9,15.5,16.8,27.5,null,6611,null,0.8,null,null,0,10,11.1,21.85,null,1,1,1,972,1013,1478,null,0,0,0,1]
["26524010",null,null,2,65,240,10,11.5,0,26,30,47.2,2421,3860.4188735925432,4228.9855673527691,5636.58,1.5,1.08,1.08,1.08,2421,3860,4229,5637,208,332,364,485,0.3399077206261335,0.81122806847196882,0.96312721192929007,1.6465778870546586,3.969E-4,1.7345999999999999,2,3.6734700000000002E-4,{"$f":"AK564","v":535.19789031294818},{"$f":"AL564","v":586.29496640731588},781.44,0.98,0.98,0.98,535,586,781,230,252,336,0.40968486620571454,0.48550351822928639,0.82954646870937465,1.6,14.8,16.600000000000001,28,null,2690,null,0.9,null,null,0,10.4,12.2,21.85,null,1,1,1,535,586,781,null,0,0,0,1]
["26524015",null,null,2,65,240,15,16.5,0,26,30,48.1,3292.8,4729.715265656896,4901.7743245246338,7188.36,1.5,1.08,1.08,1.08,3293,4730,4902,7188,283,407,422,618,0.51777416709000623,1.0402677068624975,1.1152542227427753,2.3255236596425677,2.0829999999999999E-4,1.724,2,4.6182900000000003E-4,{"$f":"AK566","v":645.62512273636446},{"$f":"AL566","v":669.11187505864359},981.24,1.01,1.01,1.01,646,669,981,278,288,422,0.50037899202077363,0.5354561461459616,1.1152542227427753,2.4,16.399999999999999,17.7,29.7,null,4116,null,0.8,null,null,0,10,10.9,21.85,null,1,1,1,646,669,981,null,0,0,0,1]
["26524016",null,null,2,65,240,16,16.5,0,26,30,48.1,3634.6000000000004,6916.3686790875245,7167.9744986485921,10511.7,1.5,1.1000000000000001,1.1000000000000001,1.1000000000000001,3635,6916,7168,10512,313,595,616,904,1.7067338255024092,5.9505892618562521,6.3666227323503541,13.454619784961755,2.0829999999999999E-4,1.724,4,1.392796E-3,{"$f":"AK567*(1-(($E659-50)*0.005))","v":979.57500000000005},{"$f":"AL567*(1-(($E659-50)*0.005))","v":1015.6500000000001},1489.25,0.95,0.95,0.95,980,1016,1489,421,437,640,3.0352278492996239,3.2635202379938697,6.8589389653075363,4.8,16.399999999999999,17.7,29.7,null,5345,null,0.68,null,null,0,10,10.9,21.85,null,1,1,1,980,1016,1489,null,0,0,0,1]
["26524021",null,null,2,65,240,21,21.5,0,26,30,48.1,5769.6,8907.2895892451361,9231.3217513746804,13537.56,1.5,1.05,1.05,1.05,5770,8907,9231,13538,496,766,794,1164,1.7338287777202417,4.0010729190713317,4.2877786386288861,8.9740973699602584,1.2760000000000001E-4,1.7219,4,5.1420100000000005E-4,{"$f":"AK569*(1-(($E661-50)*0.005))","v":1068.750592031967},{"$f":"AL569*(1-(($E661-50)*0.005))","v":1107.6299348043735},1624.3185000000001,0.85,0.85,0.85,1069,1108,1624,460,476,698,1.500277154983225,1.6020615860345597,3.3449407424486819,6.4,16.399999999999999,17.7,29.7,null,7212,null,0.8,null,null,0,10,10.9,21.85,null,1,1,1,1069,1108,1624,null,0,0,0,1]
["26526010",null,null,2,65,260,10,11.5,0,26,30,47.8,2623.5,4178.1784000000007,4608.2849999999999,6144.38,1.5,1.08,1.08,1.08,2624,4178,4608,6144,226,359,396,528,0.4154008368642006,0.98066442194259407,1.1770680299869807,2.0125184153009763,3.969E-4,1.7345999999999999,2,3.6734700000000002E-4,{"$f":"AK570","v":579.25120000000004},{"$f":"AL570","v":638.88},851.84,0.98,0.98,0.98,579,639,852,249,275,366,0.4971168110898011,0.59766089099899167,1.0165350975712137,1.7,16.2,18.600000000000001,31.4,null,2915,null,0.9,null,null,0,10.199999999999999,11.9,21.85,null,1,1,1,579,639,852,null,0,0,0,1]
["26526015",null,null,2,65,260,15,16.5,0,26,30,48.1,3567.2000000000003,4942.1733310961072,5121.9619484404784,7511.2599999999993,1.5,1.08,1.08,1.08,3567,4942,5122,7511,307,425,440,646,0.62109995593820555,1.1583081112063738,1.2380335504785773,2.5902194067464457,2.0829999999999999E-4,1.724,2,4.6182900000000003E-4,{"$f":"AK572","v":653.91552727192982},{"$f":"AL572","v":677.70396216321694},993.84,1.01,1.01,1.01,654,678,994,281,292,427,0.52438185580177876,0.5643390276130934,1.1687899905071639,2.6,16.399999999999999,17.7,29.7,null,4459,null,0.8,null,null,0,10,10.9,21.85,null,1,1,1,654,678,994,null,0,0,0,1]
["26526016",null,null,2,65,260,16,16.5,0,26,30,48.1,3937.2000000000003,7342.4691534710291,7609.5768181679023,11159.300000000001,1.5,1.1000000000000001,1.1000000000000001,1.1000000000000001,3937,7342,7610,11159,339,631,654,960,2.0302051053347387,6.7819280650427034,7.2711118135096351,15.356693366889139,2.0829999999999999E-4,1.724,4,1.392796E-3,{"$f":"AK573*(1-(($E665-50)*0.005))","v":988.70476233524153},{"$f":"AL573*(1-(($E665-50)*0.005))","v":1024.6723114828192},1502.6625000000001,0.95,0.95,0.95,989,1025,1503,425,441,646,3.1470491246627477,3.3810160108754932,7.0990709908512901,5.2,16.399999999999999,17.7,29.7,null,5790,null,0.68,null,null,0,10,10.9,21.85,null,1,1,1,989,1025,1503,null,0,0,0,1]
["26526021",null,null,2,65,260,21,21.5,0,26,30,48.1,6250.4000000000005,9234.8263652613623,9570.7750567366256,14035.359999999999,1.5,1.05,1.05,1.05,6250,9235,9571,14035,538,794,823,1207,2.0772845151283539,4.3862630877952062,4.6996233793878117,9.8287737597437417,1.2760000000000001E-4,1.7219,4,5.1420100000000005E-4,{"$f":"AK575*(1-(($E667-50)*0.005))","v":1079.9492178411199},{"$f":"AL575*(1-(($E667-50)*0.005))","v":1119.2360990713107},1641.3385000000001,0.85,0.85,0.85,1080,1119,1641,464,481,706,1.5644725083651521,1.6760794134881409,3.4996239591687601,6.9,16.399999999999999,17.7,29.7,null,7813,null,0.8,null,null,0,10,10.9,21.85,null,1,1,1,1080,1119,1641,null,0,0,0,1]
["26528010",null,null,2,65,280,10,11.5,0,26,30,47.8,{"$f":"IF($N668-($BE668*$BG668)>100,$BE668*$BG668,$N668-95)","v":2825.1},4331.3824000000004,4782.2249168521384,6369.68,1.5,1.08,1.08,1.08,{"$f":"ROUND(M668*POWER(CF_heat,Q668),0)","v":2825},{"$f":"ROUND(N668*POWER(CF_heat,R668),0)","v":4331},{"$f":"ROUND(O668*POWER(CF_heat,S668),0)","v":4782},{"$f":"ROUND(P668*POWER(CF_heat,T668),0)","v":6370},243,372,411,548,0.49652382678434998,1.0925143603098122,1.3146532792613241,2.2448293163328641,{"$f":"IF($G668=$CO$103,CP$103,IF($G668=$CO$104,CP$104,IF($G668=$CO$105,CP$105,IF($G668=$CO$107,CP$107,IF($G668=$CO$108,CP$108,IF($G668=$CO$109,CP$109,IF($G668=$CO$111,CP$111,IF($G668=$CO$112,CP$112,IF($G668=$CO$113,CP$113,IF($G668=$CO$115,CP$115,IF($G668=$CO$116,CP$116,IF($G668=$CO$117,CP$117,IF($G668=$CO$119,CP$119,IF($G668=$CO$120,CP$120,))))))))))))))","v":3.969E-4},{"$f":"IF($G668=$CO$103,CQ$103,IF($G668=$CO$104,CQ$104,IF($G668=$CO$105,CQ$105,IF($G668=$CO$107,CQ$107,IF($G668=$CO$108,CQ$108,IF($G668=$CO$109,CQ$109,IF($G668=$CO$111,CQ$111,IF($G668=$CO$112,CQ$112,IF($G668=$CO$113,CQ$113,IF($G668=$CO$115,CQ$115,IF($G668=$CO$116,CQ$116,IF($G668=$CO$117,CQ$117,IF($G668=$CO$119,CQ$119,IF($G668=$CO$120,CQ$120,))))))))))))))","v":1.7345999999999999},{"$f":"IF($G668=$CO$103,CR$103,IF($G668=$CO$104,CR$104,IF($G668=$CO$105,CR$105,IF($G668=$CO$107,CR$107,IF($G668=$CO$108,CR$108,IF($G668=$CO$109,CR$109,IF($G668=$CO$111,CR$111,IF($G668=$CO$112,CR$112,IF($G668=$CO$113,CR$113,IF($G668=$CO$115,CR$115,IF($G668=$CO$116,CR$116,IF($G668=$CO$117,CR$117,IF($G668=$CO$119,CR$119,IF($G668=$CO$120,CR$120,))))))))))))))","v":2},{"$f":"IF($G668=$CO$103,CS$103,IF($G668=$CO$104,CS$104,IF($G668=$CO$105,CS$105,IF($G668=$CO$107,CS$107,IF($G668=$CO$108,CS$108,IF($G668=$CO$109,CS$109,IF($G668=$CO$111,CS$111,IF($G668=$CO$112,CS$112,IF($G668=$CO$113,CS$113,IF($G668=$CO$115,CS$115,IF($G668=$CO$116,CS$116,IF($G668=$CO$117,CS$117,IF($G668=$CO$119,CS$119,IF($G668=$CO$120,CS$120,))))))))))))))","v":3.6734700000000002E-4},{"$f":"AK576","v":587.68320000000006},{"$f":"AL576","v":648.85364133524638},864.24,0.98,0.98,0.98,{"$f":"ROUND(AK668*POWER(CF_cool,AN668),0)","v":588},{"$f":"ROUND(AL668*POWER(CF_cool,AO668),0)","v":649},{"$f":"ROUND(AM668*POWER(CF_cool,AP668),0)","v":864},253,279,372,0.53495403421136267,0.64106400571541289,1.0925143603098122,{"$f":"ROUND(IF(G668=10,$CO$92*F668,IF(G668=11,$CO$93*F668,IF(G668=15,$CO$94*F668,IF(G668=16,$CO$95*F668,IF(G668=20,$CO$96*F668,IF(G668=21,$CO$97*F668,)))))),1)","v":1.9},16.2,18.600000000000001,31.4,null,3139,null,{"$f":"IF(G668=10,0.9,IF(G668=11,0.68,IF(G668=15,0.8,IF(G668=16,0.68,IF(G668=20,0.8,IF(G668=21,0.8))))))","v":0.9},null,null,0,10.199999999999999,11.9,21.85,null,1,1,1,{"$f":"AQ668/BO668","v":588},649,864,null,{"$f":"BR668-AQ668","v":0},{"$f":"BS668-AR668","v":0},{"$f":"BT668-AS668","v":0},1]
["26528015",null,null,2,65,280,15,16.5,0,26,30,48.9,3841.6000000000004,5583.9635634029,5708.9475468201636,8483.56,1.5,1.08,1.08,1.08,3842,5584,5709,8484,330,480,491,730,0.73115525933394765,1.4973769906672623,1.5638277222676435,3.3484388456827587,2.0829999999999999E-4,1.724,2,4.6182900000000003E-4,{"$f":"AK578","v":762.23344503523219},{"$f":"AL578","v":779.29426056038062},1158.04,1.01,1.01,1.01,762,779,1158,328,335,498,0.72271492130345638,0.75246226647382841,1.6068391234938044,2.8,19.3,20.399999999999999,34.5,null,4802,null,0.8,null,null,0,10,10.6,21.85,null,{"$f":"IF((237.3*LN(($AQ$1*EXP(17.27*($AM$3/($AM$3+237.3))))))/(17.27-LN(($AQ$1*EXP(17.27*($AM$3/($AM$3+237.3))))))<(($AM$1+$AM$2)/2),1,IF(1/(1+((2258*((0.622/((101325/(1*611*EXP(17.27*((($AM$1+$AM$2)/2)/((($AM$1+$AM$2)/2)+237.3))))))-1)*1000-(0.622/((101325/($AQ$1*611*EXP(17.27*($AM$3/($AM$3+237.3))))))-1)*1000))/(1005*((($AM$1+$AM$2)/2)-$AM$3))))>1,1,1/(1+((2258*((0.622/((101325/(1*611*EXP(17.27*((($AM$1+$AM$2)/2)/((($AM$1+$AM$2)/2)+237.3))))))-1)*1000-(0.622/((101325/($AQ$1*611*EXP(17.27*($AM$3/($AM$3+237.3))))))-1)*1000))/(1005*((($AM$1+$AM$2)/2)-$AM$3))))))","v":1},1,1,762,779,1158,null,0,0,0,1]
["26528016",null,null,2,65,280,16,16.5,0,26,30,48.9,4240.4800000000005,8165.5551181941737,8348.321999442087,12405.7,1.5,1.1000000000000001,1.1000000000000001,1.1000000000000001,4240,8166,8348,12406,365,702,718,1067,2.3854587167962675,8.4774891611896983,8.8569732543318711,19.143477613141926,2.0829999999999999E-4,1.724,4,1.392796E-3,{"$f":"AK579*(1-(($E671-50)*0.005))","v":1156.25},{"$f":"AL579*(1-(($E671-50)*0.005))","v":1182.1500000000001},1757.5,0.95,0.95,0.95,1156,1182,1758,497,508,756,4.3369571358382482,4.5249837568654003,9.7907661330203499,5.6,19.3,20.399999999999999,34.5,null,6236,null,0.68,null,null,0,10,10.6,21.85,null,1,1,1,1156,1182,1758,null,0,0,0,1]
["26528021",null,null,2,65,280,21,21.5,0,26,30,48.1,6731.2000000000007,10516.06232539558,10751.439821034392,15976.76,1.5,1.05,1.05,1.05,6731,10516,10751,15977,579,904,925,1374,2.4486496649049156,5.75336682600242,6.0128744748590695,12.875842236012033,1.2760000000000001E-4,1.7219,4,5.1420100000000005E-4,{"$f":"AK581*(1-(($E673-50)*0.005))","v":1167.147328515706},{"$f":"AL581*(1-(($E673-50)*0.005))","v":1193.2711956750065},1773.2143625000003,0.85,0.85,0.85,1167,1193,1773,502,513,762,1.8637816710782267,1.9426288928778552,4.144400705426194,7.5,19.3,20.399999999999999,34.5,null,8414,null,0.8,null,null,0,10,10.6,21.85,null,1,1,1,1167,1193,1773,null,0,0,0,1]
["2956010",null,null,2,95,60,10,11.5,0,26,30,40,746.69225687813923,841.69225687813923,901.35950941531064,1066.3800000000001,1.5,1.08,1.08,1.08,747,842,901,1066,64,72,77,92,1.9563990759703984E-2,2.4572994832794695E-2,2.7985026550444856E-2,3.9512902180266693E-2,3.969E-4,1.7345999999999999,2,3.6734700000000002E-4,{"$f":"AK492","v":116.68990721587436},{"$f":"AL492","v":124.96201154556491},147.84,0.98,0.98,0.98,117,125,148,50,54,64,1.214004296048507E-2,1.4086095785072505E-2,1.9563990759703984E-2,0.4,4.8,5.4,6.8,null,838,null,0.9,null,null,0,{"$f":"BK584","v":13.6},{"$f":"BL584","v":15.6},21.85,null,1,1,1,117,125,148,null,0,0,0,1]
["2956015",null,null,2,95,60,15,16.5,0,26,30,41.1,862.19258357509659,957.19258357509659,1027.5250511543745,1359.96,1.5,1.08,1.08,1.08,862,957,1028,1360,74,82,88,117,2.7891851131815994E-2,3.4141898797120353E-2,3.9238605418779701E-2,6.880178174125845E-2,2.0829999999999999E-4,1.724,2,4.6182900000000003E-4,{"$f":"AK494","v":130.66063061772473},{"$f":"AL494","v":140.26129481477255},185.64,1.01,1.01,1.01,131,140,186,56,60,80,1.6115444159911004E-2,1.8458252538956766E-2,3.25208961878376E-2,0.6,4.8,5.5,7.2,null,1210,null,0.8,null,null,0,12.3,14.4,21.85,null,1,1,1,131,140,186,null,0,0,0,1]
["2956016",null,null,2,95,60,16,16.5,0,26,30,41.1,1093.44,1399.7241764138612,1502.5729206967153,1988.7,1.5,1.1000000000000001,1.1000000000000001,1.1000000000000001,1093,1400,1503,1989,94,120,129,171,0.12999495976193065,0.21085507991814395,0.24334273125065864,0.42546271730679758,2.0829999999999999E-4,1.724,4,1.392796E-3,{"$f":"AK495*(1-(($E677-50)*0.005))","v":165.85},{"$f":"AL495*(1-(($E677-50)*0.005))","v":178.25},236.375,0.95,0.95,0.95,166,178,236,71,77,101,7.4594376889818667E-2,8.7583862537394974E-2,0.1498640371075696,1.2,4.8,5.5,7.2,null,1608,null,0.68,null,null,0,12.3,14.4,21.85,null,1,1,1,166,178,236,null,0,0,0,1]
["2956021",null,null,2,95,60,21,21.5,0,26,30,41.1,1707.6437228662567,1802.6437228662567,1935.0981352499616,2561.16,1.5,1.05,1.05,1.05,1708,1803,1935,2561,147,155,166,220,0.12119425813411434,0.13454431150760796,0.15402657304252074,0.26852892559558028,1.2760000000000001E-4,1.7219,4,5.1420100000000005E-4,{"$f":"AK497*(1-(($E679-50)*0.005))","v":181.21772191047671},{"$f":"AL497*(1-(($E679-50)*0.005))","v":194.53321324395014},257.47050000000002,0.85,0.85,0.85,181,195,257,78,84,111,3.4789728424513867E-2,4.0250111924183894E-2,6.9672395172375626E-2,1.6,4.8,5.5,7.2,null,2290,null,0.8,null,null,0,12.3,14.4,21.85,null,1,1,1,181,195,257,null,0,0,0,1]
["2957010",null,null,2,95,70,10,11.5,0,26,30,41,879.30000000000007,1029.7403904507714,1104.2859635902939,1320.28,1.5,1.08,1.08,1.08,879,1030,1104,1320,76,89,95,114,2.8708973437630535E-2,3.8924960889446435E-2,4.4146590218265697E-2,6.2778209343462163E-2,3.969E-4,1.7345999999999999,2,3.6734700000000002E-4,{"$f":"AK498","v":142.7603849699376},{"$f":"AL498","v":153.09517888293954},183.04,0.98,0.98,0.98,143,153,183,61,66,79,1.8801217016227327E-2,2.1878764945327631E-2,3.093277823234393E-2,0.5,5.5,5.9,7.9,null,977,null,0.9,null,null,0,13.2,15.1,21.85,null,1,1,1,143,153,183,null,0,0,0,1]
["2957015",null,null,2,95,70,15,16.5,0,26,30,41.1,975.82735416996661,1070.8273541699666,1149.5094620994566,1521.41,1.5,1.08,1.08,1.08,976,1071,1150,1521,84,92,99,131,3.6649876914223174E-2,4.3822991749213405E-2,5.0617442668221047E-2,8.7813072353079863E-2,2.0829999999999999E-4,1.724,2,4.6182900000000003E-4,{"$f":"AK500","v":135.09481491470635},{"$f":"AL500","v":145.02129350758159},191.94,1.01,1.01,1.01,135,145,192,58,62,83,1.7715040719154605E-2,2.0190861450308E-2,3.5797696205080359E-2,0.7,5.0999999999999996,5.6,7.2,null,1411,null,0.8,null,null,0,12.3,14.4,21.85,null,1,1,1,135,145,192,null,0,0,0,1]
["2957016",null,null,2,95,70,16,16.5,0,26,30,41.1,1275.68,1627.62717250317,1747.2217424001376,2312.5,1.5,1.1000000000000001,1.1000000000000001,1.1000000000000001,1276,1628,1747,2313,110,140,150,199,0.18016880127763313,0.2902779131483183,0.33273460547085354,0.58224305620495909,2.0829999999999999E-4,1.724,4,1.392796E-3,{"$f":"AK501*(1-(($E683-50)*0.005))","v":170.18821635081792},{"$f":"AL501*(1-(($E683-50)*0.005))","v":182.69328316209871},241.8,0.95,0.95,0.95,170,183,242,73,79,104,8.0140844201789879E-2,9.3669101170786917E-2,0.16125940069017777,1.4,5.0999999999999996,5.6,7.2,null,1876,null,0.68,null,null,0,12.3,14.4,21.85,null,1,1,1,170,183,242,null,0,0,0,1]
["2957021",null,null,2,95,70,21,21.5,0,26,30,41.1,1882.8291945358951,1977.8291945358951,2123.1558613833213,2810.06,1.5,1.05,1.05,1.05,1883,1978,2123,2810,162,170,183,242,0.14998069549460102,0.16489933699427986,0.1906306494771868,0.33050578585065171,1.2760000000000001E-4,1.7219,4,5.1420100000000005E-4,{"$f":"AK503*(1-(($E685-50)*0.005))","v":186.23609239261623},{"$f":"AL503*(1-(($E685-50)*0.005))","v":199.92032287565303},264.60050000000001,0.85,0.85,0.85,186,200,265,80,86,114,3.751258176855251E-2,4.3229400080322014E-2,7.5171740024191261E-2,1.9,5.0999999999999996,5.6,7.2,null,2671,null,0.8,null,null,0,12.3,14.4,21.85,null,1,1,1,186,200,265,null,0,0,0,1]
["2958010",null,null,2,95,80,10,11.5,0,26,30,41.8,1005.3000000000001,1214.2269940407766,1304.1433704057049,1574.18,1.5,1.08,1.08,1.08,1005,1214,1304,1574,86,104,112,135,3.819796677405591E-2,5.5028754884652663E-2,6.3456869664955617E-2,9.0909861993553942E-2,3.969E-4,1.7345999999999999,2,3.6734700000000002E-4,{"$f":"AK504","v":168.33710197020613},{"$f":"AL504","v":180.80286190736828},218.24,0.98,0.98,0.98,168,181,218,72,78,94,2.7165359623318678E-2,3.167181300086596E-2,4.5312552969066985E-2,0.5,6.3,6.8,9.1,null,1117,null,0.9,null,null,0,12.8,14.7,21.85,null,1,1,1,168,181,218,null,0,0,0,1]
["2958015",null,null,2,95,80,15,16.5,0,26,30,42.4,1290.4000000000001,1395.33740436932,1496.2563490716184,2007.56,1.5,1.08,1.08,1.08,1290,1395,1496,2008,111,120,129,173,6.475859784380715E-2,7.5461940836559702E-2,8.697073187627373E-2,0.1547867774406054,2.0829999999999999E-4,1.724,2,4.6182900000000003E-4,{"$f":"AK506","v":190.46915773046311},{"$f":"AL506","v":204.24499885412456},274.04000000000002,1.01,1.01,1.01,190,204,274,82,88,118,3.5768909532348576E-2,4.1076258231928696E-2,7.3013760578283488E-2,0.8,6,6.7,9,null,1613,null,0.8,null,null,0,11.8,13.7,21.85,null,1,1,1,190,204,274,null,0,0,0,1]
["2958016",null,null,2,95,80,16,16.5,0,26,30,42.4,1457.92,2040.4331716148024,2188.0092071816284,2935.7,1.5,1.1000000000000001,1.1000000000000001,1.1000000000000001,1458,2040,2188,2936,125,175,188,252,0.23534949655891071,0.45744743887251921,0.52704418993994806,0.94073397666389191,2.0829999999999999E-4,1.724,4,1.392796E-3,{"$f":"AK507*(1-(($E689-50)*0.005))","v":241.8},{"$f":"AL507*(1-(($E689-50)*0.005))","v":259.625},348.75,0.95,0.95,0.95,242,260,349,104,112,150,0.16371038659618098,0.18948776812934515,0.33734307444043155,1.6,6,6.7,9,null,2144,null,0.68,null,null,0,11.8,13.7,21.85,null,1,1,1,242,260,349,null,0,0,0,1]
["2959010",null,null,2,95,90,10,11.5,0,26,30,42.4,1130.4000000000001,1395.6272192501513,1501.3000140389001,1828.08,1.5,1.08,1.08,1.08,1130,1396,1501,1828,97,120,129,157,5.0305267943540621E-2,7.5608781210671119E-2,8.6853211147160284E-2,0.12662134598395483,3.969E-4,1.7345999999999999,2,3.6734700000000002E-4,{"$f":"AK510","v":193.48593193227777},{"$f":"AL510","v":208.13611852764589},253.44,0.98,0.98,0.98,193,208,253,83,89,109,3.7340239212640722E-2,4.2669333600542279E-2,6.2889336846315577E-2,0.6,6.7,7.4,10.3,null,1256,null,0.9,null,null,0,12.5,14.7,21.85,null,1,1,1,193,208,253,null,0,0,0,1]
["2959011",null,null,2,95,90,11,11.5,0,26,30,42.4,1075.76,1893.6336235985709,2037.0140009310799,2480.4,1.5,1.1000000000000001,1.1000000000000001,1.1000000000000001,1076,1894,2037,2480,93,163,175,213,7.9227347446439403E-2,0.23039387696616745,0.26382483336744583,0.38395411039699373,3.969E-4,1.7345999999999999,4,5.7428799999999995E-4,{"$f":"AK511*(1-(($E693-50)*0.005))","v":245.80133980629637},{"$f":"AL511*(1-(($E693-50)*0.005))","v":264.41269546193195},321.96600000000001,0.95,0.95,0.95,246,264,322,106,114,138,0.10157049294564785,0.11663245094015465,0.1677592154689023,1.2,6.7,7.4,10.3,null,1582,null,0.68,null,null,0,12.5,14.7,21.85,null,1,1,1,246,264,322,null,0,0,0,1]
["2959016",null,null,2,95,90,16,16.5,0,26,30,43.3,1640.16,2336.669516687492,2503.3688418217644,3409.2,1.5,1.1000000000000001,1.1000000000000001,1.1000000000000001,1640,2337,2503,3409,141,201,215,293,0.302678626742097,0.60915360332621049,0.69575042058868541,1.2822911322288062,2.0829999999999999E-4,1.724,4,1.392796E-3,{"$f":"AK513*(1-(($E695-50)*0.005))","v":277.27902527746244},{"$f":"AL513*(1-(($E695-50)*0.005))","v":297.06026779273577},404.55,0.95,0.95,0.95,277,297,405,119,128,174,0.21666354439365651,0.25013674069294162,0.45824838024611242,1.8,7,7.7,10.7,null,2412,null,0.68,null,null,0,11.3,13.2,21.85,null,1,1,1,277,297,405,null,0,0,0,1]
["2959020",null,null,2,95,90,20,21.5,0,26,30,43.3,2048,2232.7836804230465,2401.8435041457315,2924.64,1.5,1.08,1.08,1.08,2048,2233,2402,2925,176,192,207,252,0.12823102893947599,0.15220989401469975,0.17653301618879313,0.26017862567755984,1.2760000000000001E-4,1.7219,2,3.76611E-4,{"$f":"AK514","v":275.93732338069162},{"$f":"AL514","v":296.83048721840407},361.44,0.95,0.95,0.95,276,297,361,119,128,155,5.9353068879593893E-2,6.85057463009488E-2,9.9843942617951306E-2,1.2,7,7.7,10.7,null,2560,null,0.8,null,null,0,11.3,13.2,21.85,null,1,1,1,276,297,361,null,0,0,0,1]
["29510010",null,null,2,95,100,10,11.5,0,26,30,43,1256.4000000000001,1574.3905475253332,1696.1265760133244,2081.98,1.5,1.08,1.08,1.08,1256,1574,1696,2082,108,135,146,179,6.4407938112710658E-2,9.8623231218722851E-2,0.11455551187153463,0.16920060692862343,3.969E-4,1.7345999999999999,2,3.6734700000000002E-4,{"$f":"AK516","v":218.26918973175157},{"$f":"AL516","v":235.14633901405676},288.64,0.98,0.98,0.98,218,235,289,94,101,124,4.9429305306709352E-2,5.6681136080738742E-2,8.3841493078660942E-2,0.7,7.8,8.6999999999999993,12.2,null,1396,null,0.9,null,null,0,12.3,14.1,21.85,null,1,1,1,218,235,289,null,0,0,0,1]
["29510011",null,null,2,95,100,11,11.5,0,26,30,43,1195.44,2136.1856779144437,2301.3611872256411,2824.9,1.5,1.1000000000000001,1.1000000000000001,1.1000000000000001,1195,2136,2301,2825,103,184,198,243,0.10100372704702308,0.30352033783455779,0.34894385970841529,0.51535542526976641,3.969E-4,1.7345999999999999,4,5.7428799999999995E-4,{"$f":"AK517*(1-(($E699-50)*0.005))","v":277.45},{"$f":"AL517*(1-(($E699-50)*0.005))","v":298.375},366.57499999999999,0.95,0.95,0.95,277,298,367,119,128,158,0.13274833989527998,0.15241102337390627,0.22724036708041567,1.3,7.8,8.6999999999999993,12.2,null,1758,null,0.68,null,null,0,12.3,14.1,21.85,null,1,1,1,277,298,367,null,0,0,0,1]
["29510016",null,null,2,95,100,16,16.5,0,26,30,44.1,1822.4,2630.3871448118639,2816.5633812075234,3882.7,1.5,1.1000000000000001,1.1000000000000001,1.1000000000000001,1822,2630,2817,3883,157,226,242,334,0.37911972616747958,0.77712770761656835,0.88934367498091926,1.6794877029795134,2.0829999999999999E-4,1.724,4,1.392796E-3,{"$f":"AK519*(1-(($E701-50)*0.005))","v":312.32499999999999},{"$f":"AL519*(1-(($E701-50)*0.005))","v":334.02500000000003},461.125,0.95,0.95,0.95,312,334,461,134,144,198,0.27756578050968417,0.31980163896983926,0.59877598380752439,2,7,7.7,10.7,null,2680,null,0.68,null,null,0,10.9,12.8,21.85,null,1,1,1,312,334,461,null,0,0,0,1]
["29510020",null,null,2,95,100,20,21.5,0,26,30,44.1,2275.2000000000003,2518.7768428703835,2713.5353098724395,3330.84,1.5,1.08,1.08,1.08,2275,2519,2714,3331,196,217,233,286,0.16073561067277087,0.19637584927080459,0.22589211718801094,0.33821597295331562,1.2760000000000001E-4,1.7219,2,3.76611E-4,{"$f":"AK520","v":311.2816285378957},{"$f":"AL520","v":335.35074484391049},411.64,0.95,0.95,0.95,311,335,412,134,144,177,7.6117387440108403E-2,8.7676786087461309E-2,0.13152753973488002,1.3,7,7.7,10.7,null,2844,null,0.8,null,null,0,10.9,12.8,21.85,null,1,1,1,311,335,412,null,0,0,0,1]
["29511010",null,null,2,95,110,10,11.5,0,26,30,43.5,1382.4,1766.3893947845202,1902.9712804051933,2335.88,1.5,1.08,1.08,1.08,1382,1766,1903,2336,119,152,164,201,8.0603275811184871E-2,0.12846635666491932,0.14849855963064404,0.21898283146724631,3.969E-4,1.7345999999999999,2,3.6734700000000002E-4,{"$f":"AK522","v":244.88738360147738},{"$f":"AL522","v":263.82272182064906},323.83999999999997,0.98,0.98,0.98,245,264,324,105,114,139,6.3532409410345894E-2,7.4283678081492499E-2,0.10834103483995079,0.7,8.4,9.3000000000000007,14,null,1536,null,0.9,null,null,0,12,13.9,21.85,null,1,1,1,245,264,324,null,0,0,0,1]
["29511011",null,null,2,95,110,11,11.5,0,26,30,43.5,1315.1200000000001,2396.6961264405954,2582.0149905458411,3169.4,1.5,1.1000000000000001,1.1000000000000001,1.1000000000000001,1315,2397,2582,3169,113,206,222,273,0.12602624713685845,0.39231335542301654,0.4521181336762668,0.66959643399325008,3.969E-4,1.7345999999999999,4,5.7428799999999995E-4,{"$f":"AK523*(1-(($E705-50)*0.005))","v":311.10089705110983},{"$f":"AL523*(1-(($E705-50)*0.005))","v":335.15603872201353},411.40100000000001,0.95,0.95,0.95,311,335,411,134,144,177,0.17385168491035621,0.19917735207332266,0.29428702881790797,1.5,8.4,9.3000000000000007,14,null,1934,null,0.68,null,null,0,12,13.9,21.85,null,1,1,1,311,335,411,null,0,0,0,1]
["29511016",null,null,2,95,110,16,16.5,0,26,30,44.1,2004.64,2849.7497938679544,3051.4523045945984,4206.5,1.5,1.1000000000000001,1.1000000000000001,1.1000000000000001,2005,2850,3051,4207,172,245,262,362,0.45958461330511147,0.92195448057549512,1.0521845346704815,1.9898808014753209,2.0829999999999999E-4,1.724,4,1.392796E-3,{"$f":"AK525*(1-(($E707-50)*0.005))","v":316.07054946608685},{"$f":"AL525*(1-(($E707-50)*0.005))","v":338.44171465793653},466.55,0.95,0.95,0.95,316,338,467,136,145,201,0.28966885772381273,0.32853445351079952,0.62441925454457303,2.2000000000000002,7.9,8.8000000000000007,12.5,null,2948,null,0.68,null,null,0,10.9,12.8,21.85,null,1,1,1,316,338,467,null,0,0,0,1]
["29511020",null,null,2,95,110,20,21.5,0,26,30,44.1,2502.4,2692.551301713082,2900.746468081386,3560.6400000000003,1.5,1.08,1.08,1.08,2502,2693,2901,3561,215,232,249,306,0.19542601712246171,0.22694722640377721,0.26079058599865457,0.3911657832602583,1.2760000000000001E-4,1.7219,2,3.76611E-4,{"$f":"AK526","v":317.17997831584631},{"$f":"AL526","v":341.70517057946222},419.44,0.95,0.95,0.95,317,342,419,136,147,180,7.9544712053658623E-2,9.2650629466224224E-2,0.13785909087762688,1.5,7.9,8.8000000000000007,12.5,null,3128,null,0.8,null,null,0,10.9,12.8,21.85,null,1,1,1,317,342,419,null,0,0,0,1]
["29512010",null,null,2,95,120,10,11.5,0,26,30,44,1507.5,1924.9914127028867,2079.6202422788024,2589.7800000000002,1.5,1.08,1.08,1.08,1508,1925,2080,2590,130,166,179,223,9.8985854052659E-2,0.15749249199599902,0.18178308069124571,0.2762925905995734,3.969E-4,1.7345999999999999,2,3.6734700000000002E-4,{"$f":"AK528","v":266.87553260000635},{"$f":"AL528","v":288.31284965818764},359.04,0.98,0.98,0.98,267,288,359,115,124,154,7.844810437960871E-2,9.0497540707880797E-2,0.13655457969155813,0.8,8.9,9.9,14.8,null,1675,null,0.9,null,null,0,11.8,13.7,21.85,null,1,1,1,267,288,359,null,0,0,0,1]
["29512011",null,null,2,95,120,11,11.5,0,26,30,44,1434.8000000000002,2611.8926414972211,2821.6982019103875,3513.9,1.5,1.1000000000000001,1.1000000000000001,1.1000000000000001,1435,2612,2822,3514,123,225,243,302,0.15445389187017058,0.48249130904551651,0.55811858661840352,0.8424915609755409,3.969E-4,1.7345999999999999,4,5.7428799999999995E-4,{"$f":"AK529*(1-(($E711-50)*0.005))","v":338.67500000000001},{"$f":"AL529*(1-(($E711-50)*0.005))","v":366.57499999999999},456.47500000000002,0.95,0.95,0.95,339,367,456,146,158,196,0.21327463910111719,0.24750728668013899,0.37172332179516204,1.6,8.9,9.9,14.8,null,2110,null,0.68,null,null,0,11.8,13.7,21.85,null,1,1,1,339,367,456,null,0,0,0,1]
["29512016",null,null,2,95,120,16,16.5,0,26,30,44.8,2186.88,3241.8333772189817,3471.5459677567114,4829.7,1.5,1.1000000000000001,1.1000000000000001,1.1000000000000001,2187,3242,3472,4830,188,279,299,415,0.55425136558918475,1.204343316710782,1.3801140974321322,2.632057975603213,2.0829999999999999E-4,1.724,4,1.392796E-3,{"$f":"AK531*(1-(($E713-50)*0.005))","v":384.40000000000003},{"$f":"AL531*(1-(($E713-50)*0.005))","v":412.3},573.5,0.95,0.95,0.95,384,412,574,165,177,247,0.42896129586036635,0.49235797410866955,0.94772330907241786,2.4,8.6999999999999993,9.8000000000000007,14.3,null,3216,null,0.68,null,null,0,10.6,12.5,21.85,null,1,1,1,384,412,574,null,0,0,0,1]
["29512020",null,null,2,95,120,20,21.5,0,26,30,44.8,2730.4,3079.6829926739365,3327.0647594078355,4143.24,1.5,1.08,1.08,1.08,2730,3080,3327,4143,235,265,286,356,0.23577681339157305,0.29848242281650889,0.34670295754782865,0.53308564610580933,1.2760000000000001E-4,1.7219,2,3.76611E-4,{"$f":"AK532","v":380.60090160569081},{"$f":"AL532","v":411.17343900116532},512.04,0.95,0.95,0.95,381,411,512,164,177,220,0.11646670942658871,0.13524222402195477,0.20715667478646135,1.6,8.6999999999999993,9.8000000000000007,14.3,null,3413,null,0.8,null,null,0,10.6,12.5,21.85,null,1,1,1,381,411,512,null,0,0,0,{"$f":"IF(SUM(BV714:BX714)=0,1,0)","v":1}]
["29514010",null,null,2,95,140,10,11.5,0,26,30,44.8,1758.6000000000001,2267.7915432376717,2456.1428225151312,3097.58,1.5,1.08,1.08,1.08,1759,2268,2456,3098,151,195,211,266,0.14091109064366686,0.22855867513090425,0.26538154154463672,0.41180366936575952,3.969E-4,1.7345999999999999,2,3.6734700000000002E-4,{"$f":"AK534","v":314.40040300104783},{"$f":"AL534","v":340.51290804463417},429.44,0.98,0.98,0.98,314,341,429,135,147,184,0.11404996966906063,0.1339431496553784,0.20476735769324847,0.9,10.1,11.2,17.5,null,1954,null,0.9,null,null,0,11.5,13.3,21.85,null,1,1,1,314,341,429,null,0,0,0,1]
["29514011",null,null,2,95,140,11,11.5,0,26,30,44.8,1673.48,3077.015307780141,3332.5766142436496,4202.8999999999996,1.5,1.1000000000000001,1.1000000000000001,1.1000000000000001,1673,3077,3333,4203,144,265,287,361,0.22505852767591347,0.70734607634958468,0.82199994803261212,1.2670408781957792,3.969E-4,1.7345999999999999,4,5.7428799999999995E-4,{"$f":"AK535*(1-(($E717-50)*0.005))","v":399.125},{"$f":"AL535*(1-(($E717-50)*0.005))","v":432.45},545.6,0.95,0.95,0.95,399,432,546,172,186,235,0.31396967583423258,0.36361651706757825,0.56421016775479216,1.9,10.1,11.2,17.5,null,2461,null,0.68,null,null,0,11.5,13.3,21.85,null,1,1,1,399,432,546,null,0,0,0,1]
["29514016",null,null,2,95,140,16,16.5,0,26,30,45.4,2551.36,3844.4231409656436,4117.1080284867467,5776.7,1.5,1.1000000000000001,1.1000000000000001,1.1000000000000001,2551,3844,4117,5777,219,331,354,497,0.76578409095756372,1.7219838483818737,1.9648470126541058,3.8280696316652558,2.0829999999999999E-4,1.724,4,1.392796E-3,{"$f":"AK537*(1-(($E719-50)*0.005))","v":456.47500000000002},{"$f":"AL537*(1-(($E719-50)*0.005))","v":488.25},685.875,0.95,0.95,0.95,456,488,686,196,210,295,0.61614941249378397,0.70532679104282126,1.3735930863768393,2.8,9.6,10.5,16.100000000000001,null,3752,null,0.68,null,null,0,10.4,12.2,21.85,null,1,1,1,456,488,686,null,0,0,0,1]
["29514020",null,null,2,95,140,20,21.5,0,26,30,45.4,3185.6000000000004,3628.1091959950468,3929.4415695377957,4955.6400000000003,1.5,1.08,1.08,1.08,3186,3628,3929,4956,274,312,338,426,0.32659572642393642,0.42118895241344162,0.49271246369818478,0.7756359730733573,1.2760000000000001E-4,1.7219,2,3.76611E-4,{"$f":"AK538","v":448.37784746172167},{"$f":"AL538","v":485.61784045001809},612.44000000000005,0.95,0.95,0.95,448,486,612,193,209,263,0.16455496588623258,0.1922740711354792,0.30142179085547277,1.9,9.6,10.5,16.100000000000001,null,3982,null,0.8,null,null,0,10.4,12.2,21.85,null,1,1,1,448,486,612,null,0,0,0,1]
["3205010",null,null,3,20,50,10,11.5,0,26,30,38.799999999999997,295.2,649,695,812,1.5,1.08,1.08,1.08,295,649,695,812,25,56,60,70,2.9866380167511189E-3,1.4273569595905599E-2,1.6323323223458832E-2,2.2034348729889495E-2,3.969E-4,1.7345999999999999,2,3.6734700000000002E-4,90.020119234756137,96.328259324977694,112.64,0.98,0.98,0.98,90,96,113,39,41,49,7.0687185128054265E-3,7.7890899379448103E-3,1.1010617958771767E-2,0.3,3.6,4.0999999999999996,5.0999999999999996,null,328,null,0.9,null,null,0,14.2,16.2,21.85,null,1,1,1,90,96,113,null,0,0,0,1]
["3206010",null,null,3,20,60,10,11.5,0,26,30,40,353.7,841.69225687813923,901.35950941531064,1066.3800000000001,1.5,1.08,1.08,1.08,354,842,901,1066,30,72,77,92,4.534543720858538E-3,2.4572994832794695E-2,2.7985026550444856E-2,3.9512902180266693E-2,3.969E-4,1.7345999999999999,2,3.6734700000000002E-4,116.68990721587436,124.96201154556491,147.84,0.98,0.98,0.98,117,125,148,50,54,64,1.214004296048507E-2,1.4086095785072505E-2,1.9563990759703984E-2,0.4,4.8,5.4,6.8,null,393,null,0.9,null,null,0,13.6,15.6,21.85,null,1,1,1,117,125,148,null,0,0,0,1]
["3206020",null,null,3,20,60,20,21.5,0,26,30,41.1,735.2,1346.575008837732,1442.0332127786496,1706.04,1.5,1.08,1.08,1.08,735,1347,1442,1706,63,116,124,147,1.6078802775391067E-2,5.3754545103760785E-2,6.1338725772162643E-2,8.5905652533157156E-2,1.2760000000000001E-4,1.7219,2,3.76611E-4,166.41571994991173,178.21286873827722,210.84,0.95,0.95,0.95,166,178,211,71,77,91,2.0362186770824586E-2,2.3902999958867951E-2,3.3257087321880145E-2,0.8,4.8,5.5,7.2,null,919,null,0.8,null,null,0,12.3,14.4,21.85,null,1,1,1,166,178,211,null,0,0,0,1]
["3207010",null,null,3,20,70,10,11.5,0,26,30,41,413.1,1029.7403904507714,1104.2859635902939,1320.28,1.5,1.08,1.08,1.08,413,1030,1104,1320,36,89,95,114,6.8311810158488305E-3,3.8924960889446435E-2,4.4146590218265697E-2,6.2778209343462163E-2,3.969E-4,1.7345999999999999,2,3.6734700000000002E-4,142.7603849699376,153.09517888293954,183.04,0.98,0.98,0.98,143,153,183,61,66,79,1.8801217016227327E-2,2.1878764945327631E-2,3.093277823234393E-2,0.5,5.5,5.9,7.9,null,459,null,0.9,null,null,0,13.2,15.1,21.85,null,1,1,1,143,153,183,null,0,0,0,1]
["3207020",null,null,3,20,70,20,21.5,0,26,30,41.1,857.6,1509.840819712653,1619.1421060355642,1935.84,1.5,1.08,1.08,1.08,858,1510,1619,1936,74,130,139,166,2.2511197833279682E-2,6.8444200673944258E-2,7.8121147734999577E-2,0.11095002490928764,1.2760000000000001E-4,1.7219,2,3.76611E-4,170.52628152222005,182.87112058001478,218.64000000000001,0.95,0.95,0.95,171,183,219,74,79,94,2.2511197833279682E-2,2.5608782122359248E-2,3.6084845824600094E-2,0.9,5.0999999999999996,5.6,7.2,null,1072,null,0.8,null,null,0,12.3,14.4,21.85,null,1,1,1,171,183,219,null,0,0,0,1]
["3208010",null,null,3,20,80,10,11.5,0,26,30,41.8,471.6,1214.2269940407766,1304.1433704057049,1574.18,1.5,1.08,1.08,1.08,472,1214,1304,1574,41,104,112,135,9.2532660019994245E-3,5.5028754884652663E-2,6.3456869664955617E-2,9.0909861993553942E-2,3.969E-4,1.7345999999999999,2,3.6734700000000002E-4,168.33710197020613,180.80286190736828,218.24,0.98,0.98,0.98,168,181,218,72,78,94,2.7165359623318678E-2,3.167181300086596E-2,4.5312552969066985E-2,0.5,6.3,6.8,9.1,null,524,null,0.9,null,null,0,12.8,14.7,21.85,null,1,1,1,168,181,218,null,0,0,0,1]
["3208020",null,null,3,20,80,20,21.5,0,26,30,42.4,980.80000000000007,1942.5718983039128,2086.4239348515057,2518.44,1.5,1.08,1.08,1.08,981,1943,2086,2518,84,167,179,217,2.9418390338391921E-2,0.11395554008077592,0.13067872337503861,0.19110006829963533,1.2760000000000001E-4,1.7219,2,3.76611E-4,240.07166246887351,257.84953601562182,311.24,0.95,0.95,0.95,240,258,311,103,111,134,4.3951963441231798E-2,5.0929918356249132E-2,7.381701321036345E-2,1.1000000000000001,6,6.7,9,null,1226,null,0.8,null,null,0,11.8,13.7,21.85,null,1,1,1,240,258,311,null,0,0,0,1]
["3209010",null,null,3,20,90,10,11.5,0,26,30,42.4,{"$f":"IF($N732-($BE732*$BG732)>100,$BE732*$BG732,$N732-95)","v":531},1395.6272192501513,1501.3000140389001,1828.08,1.5,1.08,1.08,1.08,{"$f":"ROUND(M732*POWER(CF_heat,Q732),0)","v":531},{"$f":"ROUND(N732*POWER(CF_heat,R732),0)","v":1396},{"$f":"ROUND(O732*POWER(CF_heat,S732),0)","v":1501},{"$f":"ROUND(P732*POWER(CF_heat,T732),0)","v":1828},46,120,129,157,1.2122434319863627E-2,7.5608781210671119E-2,8.6853211147160284E-2,0.12662134598395483,{"$f":"IF($G732=$CO$103,CP$103,IF($G732=$CO$104,CP$104,IF($G732=$CO$105,CP$105,IF($G732=$CO$107,CP$107,IF($G732=$CO$108,CP$108,IF($G732=$CO$109,CP$109,IF($G732=$CO$111,CP$111,IF($G732=$CO$112,CP$112,IF($G732=$CO$113,CP$113,IF($G732=$CO$115,CP$115,IF($G732=$CO$116,CP$116,IF($G732=$CO$117,CP$117,IF($G732=$CO$119,CP$119,IF($G732=$CO$120,CP$120,))))))))))))))","v":3.969E-4},{"$f":"IF($G732=$CO$103,CQ$103,IF($G732=$CO$104,CQ$104,IF($G732=$CO$105,CQ$105,IF($G732=$CO$107,CQ$107,IF($G732=$CO$108,CQ$108,IF($G732=$CO$109,CQ$109,IF($G732=$CO$111,CQ$111,IF($G732=$CO$112,CQ$112,IF($G732=$CO$113,CQ$113,IF($G732=$CO$115,CQ$115,IF($G732=$CO$116,CQ$116,IF($G732=$CO$117,CQ$117,IF($G732=$CO$119,CQ$119,IF($G732=$CO$120,CQ$120,))))))))))))))","v":1.7345999999999999},{"$f":"IF($G732=$CO$103,CR$103,IF($G732=$CO$104,CR$104,IF($G732=$CO$105,CR$105,IF($G732=$CO$107,CR$107,IF($G732=$CO$108,CR$108,IF($G732=$CO$109,CR$109,IF($G732=$CO$111,CR$111,IF($G732=$CO$112,CR$112,IF($G732=$CO$113,CR$113,IF($G732=$CO$115,CR$115,IF($G732=$CO$116,CR$116,IF($G732=$CO$117,CR$117,IF($G732=$CO$119,CR$119,IF($G732=$CO$120,CR$120,))))))))))))))","v":2},{"$f":"IF($G732=$CO$103,CS$103,IF($G732=$CO$104,CS$104,IF($G732=$CO$105,CS$105,IF($G732=$CO$107,CS$107,IF($G732=$CO$108,CS$108,IF($G732=$CO$109,CS$109,IF($G732=$CO$111,CS$111,IF($G732=$CO$112,CS$112,IF($G732=$CO$113,CS$113,IF($G732=$CO$115,CS$115,IF($G732=$CO$116,CS$116,IF($G732=$CO$117,CS$117,IF($G732=$CO$119,CS$119,IF($G732=$CO$120,CS$120,))))))))))))))","v":3.6734700000000002E-4},193.48593193227777,208.13611852764589,253.44,0.98,0.98,0.98,{"$f":"ROUND(AK732*POWER(CF_cool,AN732),0)","v":193},{"$f":"ROUND(AL732*POWER(CF_cool,AO732),0)","v":208},{"$f":"ROUND(AM732*POWER(CF_cool,AP732),0)","v":253},83,89,109,3.7340239212640722E-2,4.2669333600542279E-2,6.2889336846315577E-2,{"$f":"ROUND(IF(G732=10,$CO$92*F732,IF(G732=11,$CO$93*F732,IF(G732=15,$CO$94*F732,IF(G732=16,$CO$95*F732,IF(G732=20,$CO$96*F732,IF(G732=21,$CO$97*F732,)))))),1)","v":0.6},6.7,7.4,10.3,null,590,null,{"$f":"IF(G732=10,0.9,IF(G732=11,0.68,IF(G732=15,0.8,IF(G732=16,0.68,IF(G732=20,0.8,IF(G732=21,0.8))))))","v":0.9},null,null,0,12.5,14.7,21.85,null,1,1,1,{"$f":"AQ732/BO732","v":193},208,253,null,{"$f":"BR732-AQ732","v":0},{"$f":"BS732-AR732","v":0},{"$f":"BT732-AS732","v":0},1]
["32010010",null,null,3,20,100,10,11.5,0,26,30,43,589.5,1574.3905475253332,1696.1265760133244,2081.98,1.5,1.08,1.08,1.08,590,1574,1696,2082,51,135,146,179,1.5464055640547413E-2,9.8623231218722851E-2,0.11455551187153463,0.16920060692862343,3.969E-4,1.7345999999999999,2,3.6734700000000002E-4,218.26918973175157,235.14633901405676,288.64,0.98,0.98,0.98,218,235,289,94,101,124,4.9429305306709352E-2,5.6681136080738742E-2,8.3841493078660942E-2,0.7,7.8,8.6999999999999993,12.2,null,655,null,0.9,null,null,0,12.3,14.1,21.85,null,1,1,1,218,235,289,null,0,0,0,1]
["32010015",null,null,3,20,100,15,16.5,0,26,30,44.1,872,1798.7737222599399,1926.0891717740149,2655.16,1.5,1.08,1.08,1.08,872,1799,1926,2655,75,155,166,228,3.1429016388355262E-2,0.12960669873525657,0.14820649885017992,0.27587309609991228,2.0829999999999999E-4,1.724,2,4.6182900000000003E-4,245.53983484833029,262.91890485611941,362.44,1.01,1.01,1.01,246,263,362,106,113,156,6.1693712021988735E-2,6.989545441405931E-2,0.13124694650181259,1,7,7.7,10.7,null,1090,null,0.8,null,null,0,10.9,12.8,21.85,null,1,1,1,246,263,362,null,0,0,0,{"$f":"IF(SUM(BV736:BX736)=0,1,0)","v":1}]
["32011010",null,null,3,20,110,10,11.5,0,26,30,43.5,648.9,1766.3893947845202,1902.9712804051933,2335.88,1.5,1.08,1.08,1.08,649,1766,1903,2336,56,152,164,201,1.9302728664959978E-2,0.12846635666491932,0.14849855963064404,0.21898283146724631,3.969E-4,1.7345999999999999,2,3.6734700000000002E-4,244.88738360147738,263.82272182064906,323.83999999999997,0.98,0.98,0.98,245,264,324,105,114,139,6.3532409410345894E-2,7.4283678081492499E-2,0.10834103483995079,0.7,8.4,9.3000000000000007,14,null,721,null,0.9,null,null,0,12,13.9,21.85,null,1,1,1,245,264,324,null,0,0,0,1]
["32011015",null,null,3,20,110,15,16.5,0,26,30,44.1,959.2,1908.1501882577959,2043.2071973479594,2816.6099999999997,1.5,1.08,1.08,1.08,959,1908,2043,2817,82,164,176,242,3.8209425635190919E-2,0.14742102741229732,0.1692130010603492,0.31530215896235814,2.0829999999999999E-4,1.724,2,4.6182900000000003E-4,249.80785427097814,267.48901053042016,368.74,1.01,1.01,1.01,250,267,369,108,115,159,6.5293712586279876E-2,7.3788401225819936E-2,0.1387762211751877,1.1000000000000001,7.9,8.8000000000000007,12.5,null,1199,null,0.8,null,null,0,10.9,12.8,21.85,null,1,1,1,250,267,369,null,0,0,0,1]
["32012010",null,null,3,20,120,10,11.5,0,26,30,44,707.4,1924.9914127028867,2079.6202422788024,2589.7800000000002,1.5,1.08,1.08,1.08,707,1925,2080,2590,61,166,179,223,2.3662381389992906E-2,0.15749249199599902,0.18178308069124571,0.2762925905995734,3.969E-4,1.7345999999999999,2,3.6734700000000002E-4,266.87553260000635,288.31284965818764,359.04,0.98,0.98,0.98,267,288,359,115,124,154,7.844810437960871E-2,9.0497540707880797E-2,0.13655457969155813,0.8,8.9,9.9,14.8,null,786,null,0.9,null,null,0,11.8,13.7,21.85,null,1,1,1,267,288,359,null,0,0,0,1]
["32012015",null,null,3,20,120,15,16.5,0,26,30,44.8,1046.4000000000001,2216.9073865755149,2373.9948983307781,3302.76,1.5,1.08,1.08,1.08,1046,2217,2374,3303,90,191,204,284,4.6746087786418117E-2,0.20201741408626139,0.22969478307979363,0.43817875262090578,2.0829999999999999E-4,1.724,2,4.6182900000000003E-4,302.61675876046246,324.05983479376272,450.84,1.01,1.01,1.01,303,324,451,130,139,194,9.5500985484133716E-2,0.10878402336268925,0.20824992292405745,1.2,8.6999999999999993,9.8000000000000007,14.3,null,1308,null,0.8,null,null,0,10.6,12.5,21.85,null,1,1,1,303,324,451,null,0,0,0,1]
["32014010",null,null,3,20,140,10,11.5,0,26,30,44.8,825.30000000000007,2267.7915432376717,2456.1428225151312,3097.58,1.5,1.08,1.08,1.08,825,2268,2456,3098,71,195,211,266,3.4037443653060481E-2,0.22855867513090425,0.26538154154463672,0.41180366936575952,3.969E-4,1.7345999999999999,2,3.6734700000000002E-4,314.40040300104783,340.51290804463417,429.44,0.98,0.98,0.98,314,341,429,135,147,184,0.11404996966906063,0.1339431496553784,0.20476735769324847,0.9,10.1,11.2,17.5,null,917,null,0.9,null,null,0,11.5,13.3,21.85,null,1,1,1,314,341,429,null,0,0,0,1]
["32014015",null,null,3,20,140,15,16.5,0,26,30,45.4,1220.8,2628.9846104428207,2815.4584574952669,3950.36,1.5,1.08,1.08,1.08,1221,2629,2815,3950,105,226,242,340,6.554654832203026E-2,0.28983635322357215,0.33106971150845382,0.64182959732152445,2.0829999999999999E-4,1.724,2,4.6182900000000003E-4,358.86695423586366,384.32138301819265,539.24,1.01,1.01,1.01,359,384,539,154,165,232,0.137621338941047,0.1573279392829452,0.30498467021762166,1.4,9.6,10.5,16.100000000000001,null,1526,null,0.8,null,null,0,10.4,12.2,21.85,null,1,1,1,359,384,539,null,0,0,0,1]
["32016010",null,null,3,20,160,10,11.5,0,26,30,45.5,943.2,2603.9362232520607,2826.6988006529018,3605.38,1.5,1.08,1.08,1.08,943,2604,2827,3605,81,224,243,310,4.6769905837678746E-2,0.31579069683258104,0.3682343427384388,0.58343322204871984,3.969E-4,1.7345999999999999,2,3.6734700000000002E-4,361.00257998610687,391.88577307200529,499.84,0.98,0.98,0.98,361,392,500,155,169,215,0.15784887533096326,0.18572654509721107,0.29228700277798675,1.1000000000000001,11,12.4,19.2,null,1048,null,0.9,null,null,0,11.2,13,21.85,null,1,1,1,361,392,500,null,0,0,0,1]
["32016015",null,null,3,20,160,15,16.5,0,26,30,46.4,1395.2,3021.1783832091446,3225.6120441880121,4597.96,1.5,1.08,1.08,1.08,1395,3021,3226,4598,120,260,277,395,8.8009053466510556E-2,0.39255304944044445,0.4438617891013007,0.88424755918807496,2.0829999999999999E-4,1.724,2,4.6182900000000003E-4,412.40297880742492,440.30899429620177,627.64,{"$f":"IF($G748=10,0.98,IF($G748=11,0.95,IF($G748=15,1.01,IF($G748=16,0.95,IF($G748=20,0.95,IF($G748=21,0.85))))))","v":1.01},1.01,1.01,412,440,628,177,189,270,0.18642121393254038,0.21164255392481759,0.42236240265801678,1.6,11.5,12.8,19.600000000000001,null,1744,null,0.8,null,null,0,10,11.8,21.85,null,1,1,1,412,440,628,null,0,0,0,1]
["32018010",null,null,3,20,180,10,11.5,0,26,30,46,1061.1000000000001,2970.6878039917879,3224.8253922941558,4113.18,1.5,1.08,1.08,1.08,1061,2971,3225,4113,91,256,277,354,6.2033472051822941E-2,0.42971927512859232,0.49841362806075101,0.79115305439562644,3.969E-4,1.7345999999999999,2,3.6734700000000002E-4,411.84801378696699,447.08095237792156,570.24,0.98,0.98,0.98,412,447,570,177,192,245,0.21495642722836134,0.25036580839638034,0.39566467113231368,1.2,12.2,13.7,22,null,1179,null,0.9,null,null,0,10.9,12.7,21.85,null,1,1,1,412,447,570,null,0,0,0,1]
["32018015",null,null,3,20,180,15,16.5,0,26,30,46.4,1569.6000000000001,3233.3460619053994,3452.1364439366635,4920.8599999999997,1.5,1.08,1.08,1.08,1570,3233,3452,4921,135,278,297,423,0.11430503560955189,0.46032647442822744,0.52311768690779403,1.0377569514621654,2.0829999999999999E-4,1.724,2,4.6182900000000003E-4,420.6820520547858,449.14828645115074,640.24,1.01,1.01,1.01,421,449,640,181,193,275,0.2010263623163458,0.22751208445626886,0.45076939507650016,1.8,11.5,12.8,19.600000000000001,null,1962,null,0.8,null,null,0,10,11.8,21.85,null,1,1,1,421,449,640,null,0,0,0,1]
["32020010",null,null,3,20,200,10,11.5,0,26,30,46.5,1179,3259.5785648750903,3552.8677924068675,4620.9799999999996,1.5,1.08,1.08,1.08,1179,3260,3553,4621,101,280,306,397,7.9996007529498953E-2,0.53596049138451529,0.63305954443385948,1.0323113448799708,3.969E-4,1.7345999999999999,2,3.6734700000000002E-4,451.89903695786995,492.55985148767917,640.64,0.98,0.98,0.98,452,493,641,194,212,276,0.26974633951173027,0.31839322337808124,0.52169992911952934,1.3,13.4,14.8,24,null,1310,null,0.9,null,null,0,10.7,12.5,21.85,null,1,1,1,452,493,641,null,0,0,0,1]
["32020015",null,null,3,20,200,15,16.5,0,26,30,47.1,1744,3875.4624109054007,4083.4735576056296,5893.16,1.5,1.08,1.08,1.08,1744,3875,4083,5893,150,333,351,507,0.14459988653768366,0.67100385450414035,0.7427948904408519,1.5124900662854772,2.0829999999999999E-4,1.724,2,4.6182900000000003E-4,529.01617838795164,557.41053504066974,804.44,1.01,1.01,1.01,529,557,804,227,240,346,0.3205762003800503,0.35685612106712633,0.72249739815889857,2,13.2,14.7,23.5,null,2180,null,0.8,null,null,0,10,11.4,21.85,null,1,1,1,529,557,804,null,0,0,0,1]
["32022010",null,null,3,20,220,10,11.5,0,26,30,46.9,1296.9000000000001,3560.7045070849035,3890.5075371280445,5128.78,1.5,1.08,1.08,1.08,1297,3561,3891,5129,112,306,335,441,0.1025084656923609,0.66495285135759441,0.7876316236324602,1.3181530375289372,3.969E-4,1.7345999999999999,2,3.6734700000000002E-4,493.64631212835212,539.36930014536108,711.04,0.98,0.98,0.98,494,539,711,212,232,306,0.33526766264658142,0.39659808957963044,0.66495285135759441,1.5,13.4,14.8,24,null,1441,null,0.9,null,null,0,10.5,12.3,21.85,null,1,1,1,494,539,711,null,0,0,0,1]
["32022015",null,null,3,20,220,15,16.5,0,26,30,47.8,1918.4,4302.5567439745028,4481.7988603493422,6540.76,1.5,1.08,1.08,1.08,1918,4303,4482,6541,165,370,385,563,0.17905383287399307,0.84427064665866536,0.91145906255959874,1.8978591317759046,2.0829999999999999E-4,1.724,2,4.6182900000000003E-4,587.31626956044784,611.78353807115786,892.84,1.01,1.01,1.01,587,612,893,252,263,384,0.40328748590288432,0.43778400702821296,0.90690223440245954,2.2000000000000002,15.5,16.8,27.5,null,2398,null,0.8,null,null,0,10,11.1,21.85,null,1,1,1,587,612,893,null,0,0,0,1]
["32024010",null,null,3,20,240,10,11.5,0,26,30,47.2,1414.8,3860.4188735925432,4228.9855673527691,5636.58,1.5,1.08,1.08,1.08,1415,3860,4229,5637,122,332,364,485,0.12657453738105795,0.81122806847196882,0.96312721192929007,1.6465778870546586,3.969E-4,1.7345999999999999,2,3.6734700000000002E-4,535.19789031294818,586.29496640731588,781.44,0.98,0.98,0.98,535,586,781,230,252,336,0.40968486620571454,0.48550351822928639,0.82954646870937465,1.6,14.8,16.600000000000001,28,null,1572,null,0.9,null,null,0,10.4,12.2,21.85,null,1,1,1,535,586,781,null,0,0,0,1]
["32024015",null,null,3,20,240,15,16.5,0,26,30,48.1,2092.8000000000002,4729.715265656896,4901.7743245246338,7188.36,1.5,1.08,1.08,1.08,2093,4730,4902,7188,180,407,422,618,0.21782260775858386,1.0402677068624975,1.1152542227427753,2.3255236596425677,2.0829999999999999E-4,1.724,2,4.6182900000000003E-4,645.62512273636446,669.11187505864359,981.24,1.01,1.01,1.01,646,669,981,278,288,422,0.50037899202077363,0.5354561461459616,1.1152542227427753,2.4,16.399999999999999,17.7,29.7,null,2616,null,0.8,null,null,0,10,10.9,21.85,null,1,1,1,646,669,981,null,0,0,0,1]
["32026010",null,null,3,20,260,10,11.5,0,26,30,47.8,1532.7,4178.1784000000007,4608.2849999999999,6144.38,1.5,1.08,1.08,1.08,1533,4178,4608,6144,132,359,396,528,0.15382529803895695,0.98066442194259407,1.1770680299869807,2.0125184153009763,3.969E-4,1.7345999999999999,2,3.6734700000000002E-4,579.25120000000004,638.88,851.84,0.98,0.98,0.98,579,639,852,249,275,366,0.4971168110898011,0.59766089099899167,1.0165350975712137,1.7,16.2,18.600000000000001,31.4,null,1703,null,0.9,null,null,0,10.199999999999999,11.9,21.85,null,1,1,1,579,639,852,null,0,0,0,1]
["32026015",null,null,3,20,260,15,16.5,0,26,30,47.8,2267.2000000000003,5669.0920000000006,6252.6749999999993,8336.9,1.5,1.08,1.08,1.08,2267,5669,6253,8337,195,488,538,717,0.26105798083487358,1.5103449618725466,1.8217333349966933,3.1663593552136882,2.0829999999999999E-4,1.724,2,4.6182900000000003E-4,949.51120000000003,1047.2549999999999,1396.34,1.01,1.01,1.01,950,1047,1396,409,450,600,1.0760967217157777,1.2926072229862295,2.2469315346740024,2.6,16.2,18.600000000000001,31.4,null,2834,null,0.8,null,null,0,10,10.9,21.85,null,1,1,1,950,1047,1396,null,0,0,0,1]
["32028010",null,null,3,20,280,10,11.5,0,26,30,47.8,1650.6000000000001,4331.3824000000004,4782.2249168521384,6369.68,1.5,1.08,1.08,1.08,1651,4331,4782,6370,142,372,411,548,0.18441172914359147,1.0925143603098122,1.3146532792613241,2.2448293163328641,3.969E-4,1.7345999999999999,2,3.6734700000000002E-4,587.68320000000006,648.85364133524638,864.24,0.98,0.98,0.98,588,649,864,253,279,372,0.53495403421136267,0.64106400571541289,1.0925143603098122,1.9,16.2,18.600000000000001,31.4,null,1834,null,0.9,null,null,0,10.199999999999999,11.9,21.85,null,1,1,1,588,649,864,null,0,0,0,1]
["32028015",null,null,3,20,280,15,16.5,0,26,30,48.9,2441.6,5583.9635634029,5708.9475468201636,8483.56,1.5,1.08,1.08,1.08,2442,5584,5709,8484,210,480,491,730,0.30890818598833336,1.4973769906672623,1.5638277222676435,3.3484388456827587,2.0829999999999999E-4,1.724,2,4.6182900000000003E-4,762.23344503523219,779.29426056038062,1158.04,1.01,1.01,1.01,762,779,1158,328,335,498,0.72271492130345638,0.75246226647382841,1.6068391234938044,2.8,19.3,20.399999999999999,34.5,null,3052,null,0.8,null,null,0,10,10.6,21.85,null,1,1,1,762,779,1158,null,0,0,0,1]
["3305010",null,null,3,30,50,10,11.5,0,26,30,38.799999999999997,371.7,649,695,812,1.5,1.08,1.08,1.08,372,649,695,812,32,56,60,70,4.81676982785451E-3,1.4273569595905599E-2,1.6323323223458832E-2,2.2034348729889495E-2,3.969E-4,1.7345999999999999,2,3.6734700000000002E-4,90.020119234756137,96.328259324977694,112.64,0.98,0.98,0.98,90,{"$f":"ROUND(AL768*POWER(CF_cool,AO768),0)","v":96},{"$f":"ROUND(AM768*POWER(CF_cool,AP768),0)","v":113},39,41,49,7.0687185128054265E-3,7.7890899379448103E-3,1.1010617958771767E-2,0.3,3.6,4.0999999999999996,5.0999999999999996,null,413,null,0.9,null,null,0,14.2,16.2,21.85,null,1,1,1,90,96,113,null,0,0,0,{"$f":"IF(SUM(BV768:BX768)=0,1,0)","v":1}]
["3305011",null,null,3,30,50,11,11.5,0,26,30,38.799999999999997,381.48,881.02076921515595,942.75810617769378,1102.4000000000001,1.5,1.1000000000000001,1.1000000000000001,1.1000000000000001,381,881,943,1102,33,76,81,95,8.5136037221624286E-3,4.2643686555216082E-2,4.8246206994949491E-2,6.5720039533966129E-2,3.969E-4,1.7345999999999999,4,5.7428799999999995E-4,147.56138863197239,157.90172054122763,184.64,0.95,0.95,0.95,148,158,185,64,68,80,3.0575828151930776E-2,3.4381682232525662E-2,4.7098764109165574E-2,0.7,3.6,4.0999999999999996,5.0999999999999996,null,561,null,0.68,null,null,0,14.2,16.2,21.85,null,1,1,1,148,158,185,null,0,0,0,1]
["3306011",null,null,3,30,60,11,11.5,0,26,30,40,457.64000000000004,1142.0361657917249,1222.9946868592929,1446.9,1.5,1.1000000000000001,1.1000000000000001,1.1000000000000001,458,1142,1223,1447,39,98,105,124,1.2641467158566712E-2,7.4231136705466674E-2,8.4794000672714892E-2,0.11688804961164248,3.969E-4,1.7345999999999999,4,5.7428799999999995E-4,191,205,242,0.95,0.95,0.95,191,205,242,82,88,104,5.2655498392101936E-2,6.0326342797888885E-2,8.3243311217863464E-2,0.8,4.8,5.4,6.8,null,673,null,0.68,null,null,0,13.6,15.6,21.85,null,1,1,1,191,205,242,null,0,0,0,1]
["3306015",null,null,3,30,60,15,16.5,0,26,30,41.1,652,957.19258357509659,1027.5250511543745,1359.96,1.5,1.08,1.08,1.08,652,957,1028,1360,56,82,88,117,1.6115444159911004E-2,3.4141898797120353E-2,3.9238605418779701E-2,6.880178174125845E-2,2.0829999999999999E-4,1.724,2,4.6182900000000003E-4,{"$f":"AK42","v":130.66063061772473},140.26129481477255,185.64,1.01,1.01,1.01,131,140,186,56,60,80,1.6115444159911004E-2,1.8458252538956766E-2,3.25208961878376E-2,0.6,4.8,5.5,7.2,null,815,null,0.8,null,null,0,12.3,14.4,21.85,null,1,1,1,131,140,186,null,0,0,0,1]
["3306020",null,null,3,30,60,20,21.5,0,26,30,41.1,915.2,1346.575008837732,1442.0332127786496,1706.04,1.5,1.08,1.08,1.08,915,1347,1442,1706,79,116,124,147,2.5145728981611184E-2,5.3754545103760785E-2,6.1338725772162643E-2,8.5905652533157156E-2,1.2760000000000001E-4,1.7219,2,3.76611E-4,166.41571994991173,178.21286873827722,210.84,0.95,0.95,0.95,166,178,211,71,77,91,2.0362186770824586E-2,2.3902999958867951E-2,3.3257087321880145E-2,0.8,4.8,5.5,7.2,null,1144,null,0.8,null,null,0,12.3,14.4,21.85,null,1,1,1,166,178,211,null,0,0,0,1]
["3306021",null,null,3,30,60,21,21.5,0,26,30,41.1,935.2,1802.6437228662567,1935.0981352499616,2561.16,1.5,1.05,1.05,1.05,935,1803,1935,2561,80,155,166,220,3.6566197767014287E-2,0.13454431150760796,0.15402657304252074,0.26852892559558028,1.2760000000000001E-4,1.7219,4,5.1420100000000005E-4,233.82931859416351,251.01059773412922,332.22,0.85,0.85,0.85,234,251,332,101,108,143,5.7851346790324013E-2,6.601213332318584E-2,0.1147780548995266,1.6,4.8,5.5,7.2,null,1169,null,0.8,null,null,0,12.3,14.4,21.85,null,1,1,1,234,251,332,null,0,0,0,1]
["3307015",null,null,3,30,70,15,16.5,0,26,30,41.1,760.80000000000007,1070.8273541699666,1149.5094620994566,1521.41,1.5,1.08,1.08,1.08,761,1071,1150,1521,65,92,99,131,2.2152309746863368E-2,4.3822991749213405E-2,5.0617442668221047E-2,8.7813072353079863E-2,2.0829999999999999E-4,1.724,2,4.6182900000000003E-4,135.09481491470635,145.02129350758159,191.94,1.01,1.01,1.01,135,145,192,58,62,83,1.7715040719154605E-2,2.0190861450308E-2,3.5797696205080359E-2,0.7,5.0999999999999996,5.6,7.2,null,951,null,0.8,null,null,0,12.3,14.4,21.85,null,1,1,1,135,145,192,null,0,0,0,1]
["3307016",null,null,3,30,70,16,16.5,0,26,30,41.1,704.48,1627.62717250317,1747.2217424001376,2312.5,1.5,1.1000000000000001,1.1000000000000001,1.1000000000000001,704,1628,1747,2313,61,140,150,199,5.6221407904648489E-2,0.2902779131483183,0.33273460547085354,0.58224305620495909,2.0829999999999999E-4,1.724,4,1.392796E-3,219.59769851718443,235.73326859625641,312,0.95,0.95,0.95,220,236,312,95,101,134,0.1348444213322838,0.1521944098151945,0.26618360536544905,1.4,5.0999999999999996,5.6,7.2,null,1036,null,0.68,null,null,0,12.3,14.4,21.85,null,1,1,1,220,236,312,null,0,0,0,1]
["3307021",null,null,3,30,70,21,21.5,0,26,30,41.1,1091.2,1977.8291945358951,2123.1558613833213,2810.06,1.5,1.05,1.05,1.05,1091,1978,2123,2810,94,170,183,242,5.1472194000400186E-2,0.16489933699427986,0.1906306494771868,0.33050578585065171,1.2760000000000001E-4,1.7219,4,5.1420100000000005E-4,240.30463534531125,257.96170693632649,341.42,0.85,0.85,0.85,240,258,341,103,111,147,6.1591027996900249E-2,7.1335725011536941E-2,0.12389224890734116,1.9,5.0999999999999996,5.6,7.2,null,1364,null,0.8,null,null,0,12.3,14.4,21.85,null,1,1,1,240,258,341,null,0,0,0,1]
["3308010",null,null,3,30,80,10,11.5,0,26,30,41.8,594.9,1214.2269940407766,1304.1433704057049,1574.18,1.5,1.08,1.08,1.08,595,1214,1304,1574,{"$f":"ROUND(U782*3600/(4186*ABS($O$1-$O$2)),0)","v":51},{"$f":"ROUND(V782*3600/(4186*ABS($O$1-$O$2)),0)","v":104},{"$f":"ROUND(W782*3600/(4186*ABS($O$1-$O$2)),0)","v":112},{"$f":"ROUND(X782*3600/(4186*ABS($O$1-$O$2)),0)","v":135},1.4038715902241943E-2,5.5028754884652663E-2,6.3456869664955617E-2,9.0909861993553942E-2,3.969E-4,1.7345999999999999,2,3.6734700000000002E-4,168.33710197020613,180.80286190736828,218.24,0.98,0.98,0.98,168,181,218,{"$f":"ROUND(AQ782*3600/(4186*ABS($AM$1-$AM$2)),0)","v":72},{"$f":"ROUND(AR782*3600/(4186*ABS($AM$1-$AM$2)),0)","v":78},{"$f":"ROUND(AS782*3600/(4186*ABS($AM$1-$AM$2)),0)","v":94},2.7165359623318678E-2,3.167181300086596E-2,4.5312552969066985E-2,0.5,6.3,6.8,9.1,null,661,null,0.9,null,null,0,12.8,14.7,21.85,null,1,1,1,168,181,218,null,0,0,0,1]
["3308015",null,null,3,30,80,15,16.5,0,26,30,42.4,869.6,1395.33740436932,1496.2563490716184,2007.56,1.5,1.08,1.08,1.08,870,1395,1496,2008,75,120,129,173,3.0033994714674123E-2,7.5461940836559702E-2,8.697073187627373E-2,0.1547867774406054,2.0829999999999999E-4,1.724,2,4.6182900000000003E-4,190.46915773046311,204.24499885412456,274.04000000000002,1.01,1.01,1.01,190,204,274,82,88,118,3.5768909532348576E-2,4.1076258231928696E-2,7.3013760578283488E-2,0.8,6,6.7,9,null,1087,null,0.8,null,null,0,11.8,13.7,21.85,null,1,1,1,190,204,274,null,0,0,0,1]
["3308016",null,null,3,30,80,16,16.5,0,26,30,42.4,805.12,2040.4331716148024,2188.0092071816284,2935.7,1.5,1.1000000000000001,1.1000000000000001,1.1000000000000001,805,2040,2188,2936,69,175,188,252,7.2910814378266048E-2,0.45744743887251921,0.52704418993994806,0.94073397666389191,2.0829999999999999E-4,1.724,4,1.392796E-3,312,335,450,0.95,0.95,0.95,312,335,450,134,144,194,0.26997766374686077,0.31121106327333475,0.56081193423750164,1.6,6,6.7,9,null,1184,null,0.68,null,null,0,11.8,13.7,21.85,null,1,1,1,312,335,450,null,0,0,0,1]
["3308021",null,null,3,30,80,21,21.5,0,26,30,42.4,1246.4000000000001,2627.7848955664344,2817.8416357747774,3780.76,1.5,1.05,1.05,1.05,1246,2628,2818,3781,107,226,242,325,6.7936675208787003E-2,0.29449823797779945,0.33687122572177608,0.60164522481343263,1.2760000000000001E-4,1.7219,4,5.1420100000000005E-4,340.86222571220884,365.51537125251701,490.42,0.85,0.85,0.85,341,366,490,147,157,211,0.12659023968056798,0.14403307699408213,0.25732674402542394,2.1,6,6.7,9,null,1558,null,0.8,null,null,0,11.8,13.7,21.85,null,1,1,1,341,366,490,null,0,0,0,1]
["3309010",null,null,3,30,90,10,11.5,0,26,30,42.4,668.7,1395.6272192501513,1501.3000140389001,1828.08,1.5,1.08,1.08,1.08,669,1396,1501,1828,58,120,129,157,1.8844836985638887E-2,7.5608781210671119E-2,8.6853211147160284E-2,0.12662134598395483,3.969E-4,1.7345999999999999,2,3.6734700000000002E-4,193.48593193227777,208.13611852764589,253.44,0.98,0.98,0.98,193,208,253,83,89,109,3.7340239212640722E-2,4.2669333600542279E-2,6.2889336846315577E-2,0.6,6.7,7.4,10.3,null,743,null,0.9,null,null,0,12.5,14.7,21.85,null,1,1,1,193,208,253,null,0,0,0,1]
["3309015",null,null,3,30,90,15,16.5,0,26,30,43.3,978.40000000000009,1597.9167676946356,1711.9130538160239,2331.36,1.5,1.08,1.08,1.08,978,1598,1712,2331,84,137,147,200,3.8345904165670359E-2,9.9846629634346956E-2,0.11462442340612437,0.20964202709641322,2.0829999999999999E-4,1.724,2,4.6182900000000003E-4,218.12205414485143,233.68300487544244,318.24,1.01,1.01,1.01,218,234,318,94,101,137,4.7773932289979358E-2,5.4977761599022158E-2,9.9846629634346956E-2,0.9,7,7.7,10.7,null,1223,null,0.8,null,null,0,11.3,13.2,21.85,null,1,1,1,218,234,318,null,0,0,0,1]
["3309016",null,null,3,30,90,16,16.5,0,26,30,43.3,905.7600000000001,2336.669516687492,2503.3688418217644,3409.2,1.5,1.1000000000000001,1.1000000000000001,1.1000000000000001,906,2337,2503,3409,78,201,215,293,9.4327088277835633E-2,0.60915360332621049,0.69575042058868541,1.2822911322288062,2.0829999999999999E-4,1.724,4,1.392796E-3,357.77938745479025,383.30357134546551,522,0.95,0.95,0.95,358,383,522,154,165,224,0.36016635113087053,0.41266687566708049,0.75442675175462648,1.8,7,7.7,10.7,null,1332,null,0.68,null,null,0,11.3,13.2,21.85,null,1,1,1,358,383,522,null,0,0,0,1]
["3309021",null,null,3,30,90,21,21.5,0,26,30,43.3,1402.4,3009.2947651024979,3223.9795559512399,4390.5600000000004,1.5,1.05,1.05,1.05,1402,3009,3224,4391,121,259,277,378,8.8366851561980431E-2,0.39212285066283958,0.44737503001439571,0.82373176047688912,1.2760000000000001E-4,1.7219,4,5.1420100000000005E-4,390.34964893343317,418.19741370243202,569.52,0.85,0.85,0.85,390,418,570,168,180,245,0.16789509816318576,0.19217671661448937,0.35163070513405226,2.4,7,7.7,10.7,null,1753,null,0.8,null,null,0,11.3,13.2,21.85,null,1,1,1,390,418,570,null,0,0,0,1]
["33010010",null,null,3,30,100,10,11.5,0,26,30,43,743.4,1574.3905475253332,1696.1265760133244,2081.98,1.5,1.08,1.08,1.08,743,1574,1696,2082,64,135,146,179,2.3790647165058351E-2,9.8623231218722851E-2,0.11455551187153463,0.16920060692862343,3.969E-4,1.7345999999999999,2,3.6734700000000002E-4,218.26918973175157,235.14633901405676,288.64,0.98,0.98,0.98,218,235,289,94,101,124,4.9429305306709352E-2,5.6681136080738742E-2,8.3841493078660942E-2,0.7,7.8,8.6999999999999993,12.2,null,826,null,0.9,null,null,0,12.3,14.1,21.85,null,1,1,1,218,235,289,null,0,0,0,1]
["33010015",null,null,3,30,100,15,16.5,0,26,30,44.1,{"$f":"IF($N796-($BE796*$BG796)>100,$BE796*$BG796,$N796-95)","v":1087.2},1798.7737222599399,1926.0891717740149,2655.16,1.5,1.08,1.08,1.08,{"$f":"ROUND(M796*POWER(CF_heat,Q796),0)","v":1087},{"$f":"ROUND(N796*POWER(CF_heat,R796),0)","v":1799},{"$f":"ROUND(O796*POWER(CF_heat,S796),0)","v":1926},{"$f":"ROUND(P796*POWER(CF_heat,T796),0)","v":2655},93,155,166,228,4.7796064960526422E-2,0.12960669873525657,0.14820649885017992,0.27587309609991228,{"$f":"IF($G796=$CO$103,CP$103,IF($G796=$CO$104,CP$104,IF($G796=$CO$105,CP$105,IF($G796=$CO$107,CP$107,IF($G796=$CO$108,CP$108,IF($G796=$CO$109,CP$109,IF($G796=$CO$111,CP$111,IF($G796=$CO$112,CP$112,IF($G796=$CO$113,CP$113,IF($G796=$CO$115,CP$115,IF($G796=$CO$116,CP$116,IF($G796=$CO$117,CP$117,IF($G796=$CO$119,CP$119,IF($G796=$CO$120,CP$120,))))))))))))))","v":2.0829999999999999E-4},{"$f":"IF($G796=$CO$103,CQ$103,IF($G796=$CO$104,CQ$104,IF($G796=$CO$105,CQ$105,IF($G796=$CO$107,CQ$107,IF($G796=$CO$108,CQ$108,IF($G796=$CO$109,CQ$109,IF($G796=$CO$111,CQ$111,IF($G796=$CO$112,CQ$112,IF($G796=$CO$113,CQ$113,IF($G796=$CO$115,CQ$115,IF($G796=$CO$116,CQ$116,IF($G796=$CO$117,CQ$117,IF($G796=$CO$119,CQ$119,IF($G796=$CO$120,CQ$120,))))))))))))))","v":1.724},{"$f":"IF($G796=$CO$103,CR$103,IF($G796=$CO$104,CR$104,IF($G796=$CO$105,CR$105,IF($G796=$CO$107,CR$107,IF($G796=$CO$108,CR$108,IF($G796=$CO$109,CR$109,IF($G796=$CO$111,CR$111,IF($G796=$CO$112,CR$112,IF($G796=$CO$113,CR$113,IF($G796=$CO$115,CR$115,IF($G796=$CO$116,CR$116,IF($G796=$CO$117,CR$117,IF($G796=$CO$119,CR$119,IF($G796=$CO$120,CR$120,))))))))))))))","v":2},{"$f":"IF($G796=$CO$103,CS$103,IF($G796=$CO$104,CS$104,IF($G796=$CO$105,CS$105,IF($G796=$CO$107,CS$107,IF($G796=$CO$108,CS$108,IF($G796=$CO$109,CS$109,IF($G796=$CO$111,CS$111,IF($G796=$CO$112,CS$112,IF($G796=$CO$113,CS$113,IF($G796=$CO$115,CS$115,IF($G796=$CO$116,CS$116,IF($G796=$CO$117,CS$117,IF($G796=$CO$119,CS$119,IF($G796=$CO$120,CS$120,))))))))))))))","v":4.6182900000000003E-4},245.53983484833029,262.91890485611941,362.44,1.01,1.01,1.01,{"$f":"ROUND(AK796*POWER(CF_cool,AN796),0)","v":246},263,362,106,113,156,6.1693712021988735E-2,6.989545441405931E-2,0.13124694650181259,{"$f":"ROUND(IF(G796=10,$CO$92*F796,IF(G796=11,$CO$93*F796,IF(G796=15,$CO$94*F796,IF(G796=16,$CO$95*F796,IF(G796=20,$CO$96*F796,IF(G796=21,$CO$97*F796,)))))),1)","v":1},7,7.7,10.7,null,1359,null,{"$f":"IF(G796=10,0.9,IF(G796=11,0.68,IF(G796=15,0.8,IF(G796=16,0.68,IF(G796=20,0.8,IF(G796=21,0.8))))))","v":0.8},null,null,0,10.9,12.8,21.85,null,1,1,1,{"$f":"AQ796/BO796","v":246},263,362,null,{"$f":"BR796-AQ796","v":0},{"$f":"BS796-AR796","v":0},{"$f":"BT796-AS796","v":0},1]
[{"$f":"CONCATENATE(D797,E797,F797,G797)","v":"33010016"},null,null,3,30,100,16,16.5,0,26,30,44.1,1006.4000000000001,2630.3871448118639,2816.5633812075234,3882.7,1.5,{"$f":"IF($G797=10,1.08,IF($G797=11,1.1,IF($G797=15,1.08,IF($G797=16,1.1,IF($G797=20,1.08,IF($G797=21,1.05))))))","v":1.1000000000000001},1.1000000000000001,1.1000000000000001,1006,2630,2817,3883,87,226,242,334,{"$f":"(($AG797*(Y797^$AH797)*((($F797-14.4)*$AI797)/100))+($AJ797*(Y797^2)))*0.0098","v":0.11873572073391116},{"$f":"(($AG797*(Z797^$AH797)*((($F797-14.4)*$AI797)/100))+($AJ797*(Z797^2)))*0.0098","v":0.77712770761656835},{"$f":"(($AG797*(AA797^$AH797)*((($F797-14.4)*$AI797)/100))+($AJ797*(AA797^2)))*0.0098","v":0.88934367498091926},{"$f":"(($AG797*(AB797^$AH797)*((($F797-14.4)*$AI797)/100))+($AJ797*(AB797^2)))*0.0098","v":1.6794877029795134},2.0829999999999999E-4,1.724,4,1.392796E-3,403,431,595,0.95,0.95,0.95,403,431,595,173,185,256,{"$f":"(($AG797*(AT797^$AH797)*((($F797-14.4)*$AI797)/100))+($AJ797*(AT797^2)))*0.0098","v":0.45896052508691165},{"$f":"(($AG797*(AU797^$AH797)*((($F797-14.4)*$AI797)/100))+($AJ797*(AU797^2)))*0.0098","v":0.52378160296818432},{"$f":"(($AG797*(AV797^$AH797)*((($F797-14.4)*$AI797)/100))+($AJ797*(AV797^2)))*0.0098","v":0.99366847477469411},2,7,7.7,10.7,null,1480,null,0.68,null,null,0,10.9,12.8,21.85,null,1,1,1,403,{"$f":"AR797/BP797","v":431},{"$f":"AS797/BQ797","v":595},null,0,0,0,1]
["33010021",null,null,3,30,100,21,21.5,0,26,30,44.1,1558.4,3387.5608889256064,3627.3291443724347,5000.3599999999997,1.5,1.05,1.05,1.05,1558,3388,3627,5000,134,291,312,430,0.1101745363354168,0.50157125518840051,0.57492378341496886,1.0783579804788856,1.2760000000000001E-4,1.7219,4,5.1420100000000005E-4,439.41631078060919,470.51776864522725,648.62,0.85,0.85,0.85,439,471,649,189,203,279,0.21560419169801393,0.24792046126884393,0.46186798350799674,2.7,7,7.7,10.7,null,1948,null,0.8,null,null,0,10.9,12.8,21.85,null,1,1,1,439,471,649,null,0,0,0,1]
["33011010",null,null,3,30,110,10,11.5,0,26,30,43.5,818.1,1766.3893947845202,1902.9712804051933,2335.88,1.5,1.08,1.08,1.08,818,1766,1903,2336,70,152,164,201,2.9440549499366166E-2,0.12846635666491932,0.14849855963064404,0.21898283146724631,3.969E-4,1.7345999999999999,2,3.6734700000000002E-4,244.88738360147738,263.82272182064906,323.83999999999997,0.98,0.98,0.98,245,264,324,105,114,139,6.3532409410345894E-2,7.4283678081492499E-2,0.10834103483995079,0.7,8.4,9.3000000000000007,14,null,909,null,0.9,null,null,0,12,13.9,21.85,null,1,1,1,245,264,324,null,0,0,0,1]
["33011015",null,null,3,30,110,15,16.5,0,26,30,44.1,1196,1908.1501882577959,2043.2071973479594,2816.6099999999997,1.5,1.08,1.08,1.08,1196,1908,2043,2817,103,164,176,242,5.9537708603086915E-2,0.14742102741229732,0.1692130010603492,0.31530215896235814,2.0829999999999999E-4,1.724,2,4.6182900000000003E-4,249.80785427097814,267.48901053042016,368.74,1.01,1.01,1.01,250,267,369,108,115,159,6.5293712586279876E-2,7.3788401225819936E-2,0.1387762211751877,1.1000000000000001,7.9,8.8000000000000007,12.5,null,1495,null,0.8,null,null,0,10.9,12.8,21.85,null,1,1,1,250,267,369,null,0,0,0,1]
["33011016",null,null,3,30,110,16,16.5,0,26,30,44.1,1107.0400000000002,2849.7497938679544,3051.4523045945984,4206.5,1.5,1.1000000000000001,1.1000000000000001,1.1000000000000001,1107,2850,3051,4207,95,245,262,362,0.14323188831953834,0.92195448057549512,1.0521845346704815,1.9898808014753209,2.0829999999999999E-4,1.724,4,1.392796E-3,407.83296705301524,436.69898665540194,602,0.95,0.95,0.95,408,437,602,175,188,259,0.47548152700019564,0.54744957167687558,1.0285851673079258,2.2000000000000002,7.9,8.8000000000000007,12.5,null,1628,null,0.68,null,null,0,10.9,12.8,21.85,null,1,1,1,408,437,602,null,0,0,0,1]
["33011021",null,null,3,30,110,21,21.5,0,26,30,44.1,1714.4,3556.1815292902165,3807.8845891872675,5249.2599999999993,1.5,1.05,1.05,1.05,1714,3556,3808,5249,147,306,327,451,0.13468421200024849,0.56299805703171679,0.64102009569515583,1.2027269290583564,1.2760000000000001E-4,1.7219,4,5.1420100000000005E-4,445.64897406447591,477.19157375690452,657.82,0.85,0.85,0.85,446,477,658,192,205,283,0.22661573879571267,0.25750136415425773,0.48325773512719011,2.9,7.9,8.8000000000000007,12.5,null,2143,null,0.8,null,null,0,10.9,12.8,21.85,null,1,1,1,446,477,658,null,0,0,0,1]
["33012010",null,null,3,30,120,10,11.5,0,26,30,44,891.9,1924.9914127028867,2079.6202422788024,2589.7800000000002,1.5,1.08,1.08,1.08,892,1925,2080,2590,77,166,179,223,3.6722688383398615E-2,0.15749249199599902,0.18178308069124571,0.2762925905995734,3.969E-4,1.7345999999999999,2,3.6734700000000002E-4,266.87553260000635,288.31284965818764,359.04,0.98,0.98,0.98,267,288,359,115,124,154,7.844810437960871E-2,9.0497540707880797E-2,0.13655457969155813,0.8,8.9,9.9,14.8,null,991,null,0.9,null,null,0,11.8,13.7,21.85,null,1,1,1,267,288,359,null,0,0,0,1]
["33012015",null,null,3,30,120,15,16.5,0,26,30,44.8,1304.8000000000002,2216.9073865755149,2373.9948983307781,3302.76,1.5,1.08,1.08,1.08,1305,2217,2374,3303,112,191,204,284,7.1478061172282711E-2,0.20201741408626139,0.22969478307979363,0.43817875262090578,2.0829999999999999E-4,1.724,2,4.6182900000000003E-4,302.61675876046246,324.05983479376272,450.84,1.01,1.01,1.01,303,324,451,130,139,194,9.5500985484133716E-2,0.10878402336268925,0.20824992292405745,1.2,8.6999999999999993,9.8000000000000007,14.3,null,1631,null,0.8,null,null,0,10.6,12.5,21.85,null,1,1,1,303,324,451,null,0,0,0,1]
["33012016",null,null,3,30,120,16,16.5,0,26,30,44.8,1207.68,3241.8333772189817,3471.5459677567114,4829.7,1.5,1.1000000000000001,1.1000000000000001,1.1000000000000001,1208,3242,3472,4830,104,279,299,415,0.17351433022019377,1.204343316710782,1.3801140974321322,2.632057975603213,2.0829999999999999E-4,1.724,4,1.392796E-3,496,532,740,0.95,0.95,0.95,496,532,740,213,229,318,0.70833668732811383,0.81671249966312653,1.5580377368272431,2.4,8.6999999999999993,9.8000000000000007,14.3,null,1776,null,0.68,null,null,0,10.6,12.5,21.85,null,1,1,1,496,532,740,null,0,0,0,1]
["33012021",null,null,3,30,120,21,21.5,0,26,30,44.8,1870.4,4175.015825613802,4470.8526528786542,6219.96,1.5,1.05,1.05,1.05,1870,4175,4471,6220,161,359,385,535,0.16394255635926994,0.78201485926088143,0.89645307864469181,1.7058196412629565,1.2760000000000001E-4,1.7219,4,5.1420100000000005E-4,541.56076058716258,579.9351342123673,806.82,0.85,0.85,0.85,542,580,807,233,249,347,0.33654397258851859,0.38303545484733642,0.73178556707416287,3.2,8.6999999999999993,9.8000000000000007,14.3,null,2338,null,0.8,null,null,0,10.6,12.5,21.85,null,1,1,1,542,580,807,null,0,0,0,1]
["33014010",null,null,3,30,140,10,11.5,0,26,30,44.8,1040.4000000000001,2267.7915432376717,2456.1428225151312,3097.58,1.5,1.08,1.08,1.08,1040,2268,2456,3098,89,195,211,266,5.2030265378281884E-2,0.22855867513090425,0.26538154154463672,0.41180366936575952,3.969E-4,1.7345999999999999,2,3.6734700000000002E-4,314.40040300104783,340.51290804463417,429.44,{"$f":"IF($G812=10,0.98,IF($G812=11,0.95,IF($G812=15,1.01,IF($G812=16,0.95,IF($G812=20,0.95,IF($G812=21,0.85))))))","v":0.98},0.98,0.98,314,341,429,135,147,184,0.11404996966906063,0.1339431496553784,0.20476735769324847,0.9,10.1,11.2,17.5,null,1156,null,0.9,null,null,0,11.5,13.3,21.85,null,1,1,1,314,341,429,null,0,0,0,1]
["33014015",null,null,3,30,140,15,16.5,0,26,30,45.4,1522.4,2628.9846104428207,2815.4584574952669,3950.36,1.5,1.08,1.08,1.08,1522,2629,2815,3950,131,226,242,340,0.10058390150742502,0.28983635322357215,0.33106971150845382,0.64182959732152445,2.0829999999999999E-4,1.724,2,4.6182900000000003E-4,358.86695423586366,384.32138301819265,539.24,1.01,1.01,1.01,359,384,539,154,165,232,0.137621338941047,0.1573279392829452,0.30498467021762166,1.4,9.6,10.5,16.100000000000001,null,1903,null,0.8,null,null,0,10.4,12.2,21.85,null,1,1,1,359,384,539,null,0,0,0,1]
["33014016",null,null,3,30,140,16,16.5,0,26,30,45.4,1408.96,3844.4231409656436,4117.1080284867467,5776.7,1.5,1.1000000000000001,1.1000000000000001,1.1000000000000001,1409,3844,4117,5777,121,331,354,497,0.23980653393001863,1.7219838483818737,1.9648470126541058,3.8280696316652558,2.0829999999999999E-4,1.724,4,1.392796E-3,589,630,885,0.95,0.95,0.95,589,630,885,253,271,381,1.0162271216516092,1.1628994061160329,2.2700825079676186,2.8,9.6,10.5,16.100000000000001,null,2072,null,0.68,null,null,0,10.4,12.2,21.85,null,1,1,1,589,630,885,null,0,0,0,1]
["33014021",null,null,3,30,140,21,21.5,0,26,30,45.4,2181.6,4951.0649025572329,5302.2438770247491,7439.56,1.5,1.05,1.05,1.05,2182,4951,5302,7440,188,426,456,640,0.2298649553760217,1.1261815111859146,1.285836312641885,2.4907095980414304,1.2760000000000001E-4,1.7219,4,5.1420100000000005E-4,642.22570316870622,687.77876463210498,965.02,0.85,0.85,0.85,642,688,965,276,296,415,0.48412380536530875,0.55460694628885931,1.0702397452319661,3.7,9.6,10.5,16.100000000000001,null,2727,null,0.8,null,null,0,10.4,12.2,21.85,null,1,1,1,642,688,965,null,0,0,0,1]
["33016010",null,null,3,30,160,10,11.5,0,26,30,45.5,1189.8,2603.9362232520607,2826.6988006529018,3605.38,1.5,1.08,1.08,1.08,1190,2604,2827,3605,102,224,243,310,7.1985982516133959E-2,0.31579069683258104,0.3682343427384388,0.58343322204871984,3.969E-4,1.7345999999999999,2,3.6734700000000002E-4,361.00257998610687,391.88577307200529,499.84,0.98,0.98,0.98,361,392,500,155,169,215,0.15784887533096326,0.18572654509721107,0.29228700277798675,1.1000000000000001,11,12.4,19.2,null,1322,null,0.9,null,null,0,11.2,13,21.85,null,1,1,1,361,392,500,null,0,0,0,1]
["33016016",null,null,3,30,160,16,16.5,0,26,30,46.4,1610.24,4417.9368883555589,4716.8848144627045,6723.7,1.5,1.1000000000000001,1.1000000000000001,1.1000000000000001,1610,4418,4717,6724,138,380,406,578,0.31805419081046571,2.304157087904469,2.6233653218162551,5.2466408934953108,2.0829999999999999E-4,1.724,4,1.392796E-3,676,722,1030,0.95,0.95,0.95,676,722,1030,291,310,443,1.3661686148172167,1.5462621883682115,3.112728234709111,3.2,11.5,12.8,19.600000000000001,null,2368,null,0.68,null,null,0,10,11.8,21.85,null,1,1,1,676,722,1030,null,0,0,0,1]
["33016020",null,null,3,30,160,20,21.5,0,26,30,46.4,2440,4165.887726998767,4522.2727563025155,5768.04,1.5,1.08,1.08,1.08,2440,4166,4522,5768,210,358,389,496,0.19906298131526212,0.5639754157614939,0.66342434491024516,1.0674404634562651,1.2760000000000001E-4,1.7219,2,3.76611E-4,514.83890668473202,558.88255136973487,712.84,0.95,0.95,0.95,515,559,713,221,240,307,0.21989661309334549,0.25827229749987091,0.41765567382317259,2.1,11.5,12.8,19.600000000000001,null,3050,null,0.8,null,null,0,10,11.8,21.85,null,1,1,1,515,559,713,null,0,0,0,1]
["33018010",null,null,3,30,180,10,11.5,0,26,30,46,1338.3,2970.6878039917879,3224.8253922941558,4113.18,1.5,1.08,1.08,1.08,1338,2971,3225,4113,115,256,277,354,9.5969750086772734E-2,0.42971927512859232,0.49841362806075101,0.79115305439562644,3.969E-4,1.7345999999999999,2,3.6734700000000002E-4,411.84801378696699,447.08095237792156,570.24,0.98,0.98,0.98,412,447,570,177,192,245,0.21495642722836134,0.25036580839638034,0.39566467113231368,1.2,12.2,13.7,22,null,1487,null,0.9,null,null,0,10.9,12.7,21.85,null,1,1,1,412,447,570,null,0,0,0,1]
["33018011",null,null,3,30,180,11,11.5,0,26,30,46,1372.24,4030.7284303866513,4375.55079813051,5580.9,1.5,1.1000000000000001,1.1000000000000001,1.1000000000000001,1372,4031,4376,5581,118,347,376,480,0.17950250635471635,1.334539960528933,1.5506696983380099,2.4499067566992552,3.969E-4,1.7345999999999999,4,5.7428799999999995E-4,675.10313623602258,732.85712932403612,934.74,0.95,0.95,0.95,675,733,935,290,315,402,0.95449169552535984,1.1138291531732329,1.7573589514811909,2.4,12.2,13.7,22,null,2018,null,0.68,null,null,0,10.9,12.7,21.85,null,1,1,1,675,733,935,null,0,0,0,1]
["33018016",null,null,3,30,180,16,16.5,0,26,30,46.4,1811.5200000000002,4843.4549704976926,5171.1963699821436,7371.3,1.5,1.1000000000000001,1.1000000000000001,1.1000000000000001,1812,4843,5171,7371,156,417,445,634,0.41382676030462823,2.8182657536071059,3.2004400554381953,6.4023363853790576,2.0829999999999999E-4,1.724,4,1.392796E-3,686.3088894339993,732.7492584003295,1044.5,0.95,0.95,0.95,686,733,1045,295,315,449,1.4327504054076798,1.6285969093831283,3.2569852229594378,3.6,11.5,12.8,19.600000000000001,null,2664,null,0.68,null,null,0,10,11.8,21.85,null,1,1,1,686,733,1045,null,0,0,0,1]
["33018020",null,null,3,30,180,20,21.5,0,26,30,46.4,2744.8,4497.8275192555193,4882.6094666576164,6227.64,1.5,1.08,1.08,1.08,2745,4498,4883,6228,236,387,420,536,0.25603803878985371,0.67105520500225491,0.78724334085603187,1.2676087797406754,1.2760000000000001E-4,1.7219,2,3.76611E-4,526.1057925837863,571.11330132956857,728.44,0.95,0.95,0.95,526,571,728,226,246,313,0.23536033293811029,0.27756656183252509,0.44366421223291913,2.4,11.5,12.8,19.600000000000001,null,3431,null,0.8,null,null,0,10,11.8,21.85,null,1,1,1,526,571,728,null,0,0,0,1]
["33020010",null,null,3,30,200,10,11.5,0,26,30,46.5,1486.8,3259.5785648750903,3552.8677924068675,4620.9799999999996,1.5,1.08,1.08,1.08,1487,3260,3553,4621,128,280,306,397,0.12424759214056383,0.53596049138451529,0.63305954443385948,1.0323113448799708,3.969E-4,1.7345999999999999,2,3.6734700000000002E-4,451.89903695786995,492.55985148767917,640.64,0.98,0.98,0.98,452,493,641,194,212,276,0.26974633951173027,0.31839322337808124,0.52169992911952934,1.3,13.4,14.8,24,null,1652,null,0.9,null,null,0,10.7,12.5,21.85,null,1,1,1,452,493,641,null,0,0,0,1]
["33020011",null,null,3,30,200,11,11.5,0,26,30,46.5,1524.5600000000002,4422.7050634086982,4820.649682883678,6269.9,1.5,1.1000000000000001,1.1000000000000001,1.1000000000000001,1525,4423,4821,6270,131,380,415,539,0.23246511716014887,1.6745484974017948,1.9734656930316881,3.2154295434805311,3.969E-4,1.7345999999999999,4,5.7428799999999995E-4,741,807,1050,0.95,0.95,0.95,741,807,1050,319,347,452,1.2089524361917552,1.4138727396795772,2.3143510148052444,2.7,13.4,14.8,24,null,2242,null,0.68,null,null,0,10.7,12.5,21.85,null,1,1,1,741,807,1050,null,0,0,0,1]
["33020016",null,null,3,30,200,16,16.5,0,26,30,47.1,2012.8000000000002,5667.1755761695722,5971.3549398587584,8617.7000000000007,1.5,1.1000000000000001,1.1000000000000001,1.1000000000000001,2013,5667,5971,8618,173,487,514,741,0.51789464721741585,3.8886229634946341,4.3210309689101214,8.8377623616344323,2.0829999999999999E-4,1.724,4,1.392796E-3,868,914,1320,0.95,0.95,0.95,868,914,1320,373,393,568,2.3103470177002245,2.5582125224157561,5.2529022162438315,4,13.2,14.7,23.5,null,2960,null,0.68,null,null,0,10,11.4,21.85,null,1,1,1,868,914,1320,null,0,0,0,1]
["33020020",null,null,3,30,200,20,21.5,0,26,30,47.1,3049.6000000000004,5214.8121821672385,5684.028740747025,7392.84,1.5,1.08,1.08,1.08,3050,5215,5684,7393,262,448,489,636,0.32107679405839951,0.91133281879191153,1.0808827382560606,1.804767358434455,1.2760000000000001E-4,1.7219,2,3.76611E-4,644.46964929787134,702.45751547390614,913.64,0.95,0.95,0.95,644,702,914,277,302,393,0.35773067054432378,0.42311312971539766,0.70617331390652549,2.7,13.2,14.7,23.5,null,3812,null,0.8,null,null,0,10,11.4,21.85,null,1,1,1,644,702,914,null,0,0,0,1]
["33022010",null,null,3,30,220,10,11.5,0,26,30,46.9,1635.3,3560.7045070849035,3890.5075371280445,5128.78,1.5,1.08,1.08,1.08,1635,3561,3891,5129,141,306,335,441,0.15707744712320987,0.66495285135759441,0.7876316236324602,1.3181530375289372,3.969E-4,1.7345999999999999,2,3.6734700000000002E-4,493.64631212835212,539.36930014536108,711.04,0.98,0.98,0.98,494,539,711,212,232,306,0.33526766264658142,0.39659808957963044,0.66495285135759441,1.5,13.4,14.8,24,null,1817,null,0.9,null,null,0,10.5,12.3,21.85,null,1,1,1,494,539,711,null,0,0,0,1]
["33022011",null,null,3,30,220,11,11.5,0,26,30,46.9,1676.88,4831.2827990970827,5278.770565343093,6958.9,1.5,1.1000000000000001,1.1000000000000001,1.1000000000000001,1677,4831,5279,6959,144,415,454,598,0.29407499594948894,2.0816746946687235,2.4599536452154176,4.1089164306330286,3.969E-4,1.7345999999999999,4,5.7428799999999995E-4,809.18727868766814,884.1366084769129,1165.54,0.95,0.95,0.95,809,884,1166,348,380,501,1.5011980733038943,1.7674215645183677,2.9547969820093392,2.9,13.4,14.8,24,null,2466,null,0.68,null,null,0,10.5,12.3,21.85,null,1,1,1,809,884,1166,null,0,0,0,1]
["33022016",null,null,3,30,220,16,16.5,0,26,30,47.8,2214.0800000000004,6291.7251954043459,6553.83496101116,9564.7000000000007,1.5,1.1000000000000001,1.1000000000000001,1.1000000000000001,2214,6292,6554,9565,190,541,564,823,0.63516293400727342,4.8599490065570379,5.2712218393505692,11.028120296891252,2.0829999999999999E-4,1.724,4,1.392796E-3,963.35813446001066,1003.4910975149082,1464.5,0.95,0.95,0.95,963,1003,1465,414,431,630,2.8848425296225417,3.1200973344986664,6.542211558205909,4.4000000000000004,15.5,16.8,27.5,null,3256,null,0.68,null,null,0,10,11.1,21.85,null,1,1,1,963,1003,1465,null,0,0,0,1]
["33022020",null,null,3,30,220,20,21.5,0,26,30,47.8,3354.4,5696.5662496175182,6224.1991397456159,8205.24,1.5,1.08,1.08,1.08,3354,5697,6224,8205,288,490,535,706,0.39442810901842723,1.1066428651103115,1.3128927046129348,2.2531321307295649,1.2760000000000001E-4,1.7219,2,3.76611E-4,704.00695650122941,769.21417236639559,1014.04,0.95,0.95,0.95,704,769,1014,303,331,436,0.43521399990720622,0.5165738484716168,0.88193136480825907,2.9,15.5,16.8,27.5,null,4193,null,0.8,null,null,0,10,11.1,21.85,null,1,1,1,704,769,1014,null,0,0,0,1]
["33024010",null,null,3,30,240,10,11.5,0,26,30,47.2,1783.8,3860.4188735925432,4228.9855673527691,5636.58,1.5,1.08,1.08,1.08,1784,3860,4229,5637,153,332,364,485,0.1923764781952583,0.81122806847196882,0.96312721192929007,1.6465778870546586,3.969E-4,1.7345999999999999,2,3.6734700000000002E-4,535.19789031294818,586.29496640731588,781.44,0.98,0.98,0.98,535,586,781,230,252,336,0.40968486620571454,0.48550351822928639,0.82954646870937465,1.6,14.8,16.600000000000001,28,null,1982,null,0.9,null,null,0,10.4,12.2,21.85,null,1,1,1,535,586,781,null,0,0,0,1]
["33024011",null,null,3,30,240,11,11.5,0,26,30,47.2,1829.2,5237.9452617275747,5738.028861571599,7647.9,1.5,1.1000000000000001,1.1000000000000001,1.1000000000000001,1829,5238,5738,7648,157,450,493,658,0.36483201507653051,2.5443263605089523,3.0134634241110767,5.1519252843624956,3.969E-4,1.7345999999999999,4,5.7428799999999995E-4,877,961,1281,0.95,0.95,0.95,877,961,1281,377,413,551,1.8332088548014907,2.1703781533558777,3.704430979547201,3.2,14.8,16.600000000000001,28,null,2690,null,0.68,null,null,0,10.4,12.2,21.85,null,1,1,1,877,961,1281,null,0,0,0,1]
["33024016",null,null,3,30,240,16,16.5,0,26,30,48.1,2415.36,6916.3686790875245,7167.9744986485921,10511.7,1.5,1.1000000000000001,1.1000000000000001,1.1000000000000001,2415,6916,7168,10512,208,595,616,904,0.77319279421086673,5.9505892618562521,6.3666227323503541,13.454619784961755,2.0829999999999999E-4,1.724,4,1.392796E-3,1059,1098,1610,0.95,0.95,0.95,1059,1098,1610,455,472,692,3.5300159430065703,3.7910912175214273,7.987173009623401,4.8,16.399999999999999,17.7,29.7,null,3552,null,0.68,null,null,0,10,10.9,21.85,null,1,1,1,1059,1098,1610,null,0,0,0,1]
["33024020",null,null,3,30,240,20,21.5,0,26,30,48.1,3659.2000000000003,6176.0620183272586,6765.7106634844222,9017.64,1.5,1.08,1.08,1.08,3659,6176,6766,9018,{"$f":"ROUND(U846*3600/(4186*ABS($O$1-$O$2)),0)","v":315},{"$f":"ROUND(V846*3600/(4186*ABS($O$1-$O$2)),0)","v":531},{"$f":"ROUND(W846*3600/(4186*ABS($O$1-$O$2)),0)","v":582},{"$f":"ROUND(X846*3600/(4186*ABS($O$1-$O$2)),0)","v":776},0.47927264092126981,1.3184926701217123,1.5755203313321131,2.756451557337142,1.2760000000000001E-4,1.7219,2,3.76611E-4,763.26517311676128,836.13657141043336,1114.44,0.95,0.95,0.95,763,836,1114,{"$f":"ROUND(AQ846*3600/(4186*ABS($AM$1-$AM$2)),0)","v":328},{"$f":"ROUND(AR846*3600/(4186*ABS($AM$1-$AM$2)),0)","v":359},{"$f":"ROUND(AS846*3600/(4186*ABS($AM$1-$AM$2)),0)","v":479},0.51827708039997999,0.61727233073709142,1.0794747424565225,3.2,16.399999999999999,17.7,29.7,null,4574,null,0.8,null,null,0,10,10.9,21.85,null,1,1,1,763,836,1114,null,0,0,0,1]
["33026010",null,null,3,30,260,10,11.5,0,26,30,47.8,1933.2,4178.1784000000007,4608.2849999999999,6144.38,1.5,1.08,1.08,1.08,1933,4178,4608,6144,166,359,396,528,0.2347720617378159,0.98066442194259407,1.1770680299869807,2.0125184153009763,3.969E-4,1.7345999999999999,2,3.6734700000000002E-4,579.25120000000004,638.88,851.84,0.98,0.98,0.98,579,639,852,249,275,366,0.4971168110898011,0.59766089099899167,1.0165350975712137,1.7,16.2,18.600000000000001,31.4,null,2148,null,0.9,null,null,0,10.199999999999999,11.9,21.85,null,1,1,1,579,639,852,null,0,0,0,1]
["33026011",null,null,3,30,260,11,11.5,0,26,30,47.8,1982.2,5669.0920000000006,6252.6749999999993,8336.9,1.5,1.1000000000000001,1.1000000000000001,1.1000000000000001,1982,5669,6253,8337,170,488,538,717,0.44522386562173877,3.1003441376081904,3.7135384223781238,6.3239752846398876,3.969E-4,1.7345999999999999,4,5.7428799999999995E-4,949.51120000000003,1047.2549999999999,1396.34,0.95,0.95,0.95,950,1047,1396,409,450,600,2.2371204011135477,2.6688522314760581,4.5447894857124886,3.5,16.2,18.600000000000001,31.4,null,2915,null,0.68,null,null,0,10.199999999999999,11.9,21.85,null,1,1,1,950,1047,1396,null,0,0,0,1]
["33026016",null,null,3,30,260,16,16.5,0,26,30,48.1,2616.6400000000003,7342.4691534710291,7609.5768181679023,11159.300000000001,1.5,1.1000000000000001,1.1000000000000001,1.1000000000000001,2617,7342,7610,11159,225,631,654,960,0.91870266144532897,6.7819280650427034,7.2711118135096351,15.356693366889139,2.0829999999999999E-4,1.724,4,1.392796E-3,1068.8700133353962,1107.7538502516963,1624.5,0.95,0.95,0.95,1069,1108,1625,460,476,699,3.66947790801381,3.9213280612116019,8.2763568685468254,5.2,16.399999999999999,17.7,29.7,null,3848,null,0.68,null,null,0,10,10.9,21.85,null,1,1,1,1069,1108,1625,null,0,0,0,1]
["33026020",null,null,3,30,260,20,21.5,0,26,30,48.1,3964.8,6444.5232000000005,7107.93,9477.24,1.5,1.08,1.08,1.08,3965,6445,7108,9477,341,554,611,815,0.57025480565517639,1.4581371213480712,1.7629893390377123,3.0840089604891157,1.2760000000000001E-4,1.7219,2,3.76611E-4,768.42720000000008,847.53,1130.04,0.95,0.95,0.95,768,848,1130,330,365,486,0.53526796134941879,0.65032127694667174,1.1314386418343181,3.5,16.399999999999999,17.7,29.7,null,4956,null,0.8,null,null,0,10,10.9,21.85,null,1,1,1,768,848,1130,null,0,0,0,1]
["33028010",null,null,3,30,280,10,11.5,0,26,30,47.8,2081.7000000000003,4331.3824000000004,4782.2249168521384,6369.68,1.5,1.08,1.08,1.08,2082,4331,4782,6370,179,372,411,548,0.28244287079222402,1.0925143603098122,1.3146532792613241,2.2448293163328641,3.969E-4,1.7345999999999999,2,3.6734700000000002E-4,587.68320000000006,648.85364133524638,864.24,0.98,0.98,0.98,588,649,864,253,279,372,0.53495403421136267,0.64106400571541289,1.0925143603098122,1.9,16.2,18.600000000000001,31.4,null,2313,null,0.9,null,null,0,10.199999999999999,11.9,21.85,null,1,1,1,588,649,864,null,0,0,0,1]
["33028011",null,null,3,30,280,11,11.5,0,26,30,47.8,2134.52,5976.8600000000006,6598.9760720588583,8789.5,1.5,1.1000000000000001,1.1000000000000001,1.1000000000000001,2135,5977,6599,8790,184,514,568,756,0.54109092268068404,3.5696256833176774,4.2925175377176981,7.2836639593144552,3.969E-4,1.7345999999999999,4,5.7428799999999995E-4,956,1056,1406,0.95,0.95,0.95,956,1056,1406,411,454,605,2.3637663276478489,2.839310118041396,4.8232973600811606,3.7,16.2,18.600000000000001,31.4,null,3139,null,0.68,null,null,0,10.199999999999999,11.9,21.85,null,1,1,1,956,1056,1406,null,0,0,0,1]
["33028016",null,null,3,30,280,16,16.5,0,26,30,48.9,2817.92,8165.5551181941737,8348.321999442087,12405.7,1.5,1.1000000000000001,1.1000000000000001,1.1000000000000001,2818,8166,8348,12406,242,702,718,1067,1.0785543055340669,8.4774891611896983,8.8569732543318711,19.143477613141926,2.0829999999999999E-4,1.724,4,1.392796E-3,1250,1278,1900,0.95,0.95,0.95,1250,1278,1900,538,550,817,5.0575445569651576,5.2786547361922693,11.385263573722288,5.6,19.3,20.399999999999999,34.5,null,4144,null,0.68,null,null,0,10,10.6,21.85,null,1,1,1,1250,1278,1900,null,0,0,0,1]
["33028020",null,null,3,30,280,20,21.5,0,26,30,48.9,4269.6000000000004,7236.8592000000008,7990.1253664397382,10642.44,1.5,1.08,1.08,1.08,4270,7237,7990,10642,367,622,687,915,0.67026283054151015,1.8574060664841625,2.2516092472705127,3.9248647156049832,1.2760000000000001E-4,1.7219,2,3.76611E-4,894.36320000000012,987.455178225689,1315.24,0.95,0.95,0.95,894,987,1315,384,424,565,0.73142402444564503,0.88553710556508203,1.5421797125957473,3.7,19.3,20.399999999999999,34.5,null,5337,null,0.8,null,null,0,10,10.6,21.85,null,1,1,1,894,987,1315,null,0,0,0,1]
["33030010",null,null,3,30,300,10,11.5,0,26,30,47.8,{"$f":"IF($N860-($BE860*$BG860)>100,$BE860*$BG860,$N860-95)","v":2230.2000000000003},4485,4951,6595,1.5,1.08,1.08,1.08,{"$f":"ROUND(M860*POWER(CF_heat,Q860),0)","v":2230},{"$f":"ROUND(N860*POWER(CF_heat,R860),0)","v":4485},{"$f":"ROUND(O860*POWER(CF_heat,S860),0)","v":4951},{"$f":"ROUND(P860*POWER(CF_heat,T860),0)","v":6595},192,386,426,567,0.3356233346847719,1.2177662073499145,1.4617936773822127,2.4849401227056913,{"$f":"IF($G860=$CO$103,CP$103,IF($G860=$CO$104,CP$104,IF($G860=$CO$105,CP$105,IF($G860=$CO$107,CP$107,IF($G860=$CO$108,CP$108,IF($G860=$CO$109,CP$109,IF($G860=$CO$111,CP$111,IF($G860=$CO$112,CP$112,IF($G860=$CO$113,CP$113,IF($G860=$CO$115,CP$115,IF($G860=$CO$116,CP$116,IF($G860=$CO$117,CP$117,IF($G860=$CO$119,CP$119,IF($G860=$CO$120,CP$120,))))))))))))))","v":3.969E-4},{"$f":"IF($G860=$CO$103,CQ$103,IF($G860=$CO$104,CQ$104,IF($G860=$CO$105,CQ$105,IF($G860=$CO$107,CQ$107,IF($G860=$CO$108,CQ$108,IF($G860=$CO$109,CQ$109,IF($G860=$CO$111,CQ$111,IF($G860=$CO$112,CQ$112,IF($G860=$CO$113,CQ$113,IF($G860=$CO$115,CQ$115,IF($G860=$CO$116,CQ$116,IF($G860=$CO$117,CQ$117,IF($G860=$CO$119,CQ$119,IF($G860=$CO$120,CQ$120,))))))))))))))","v":1.7345999999999999},{"$f":"IF($G860=$CO$103,CR$103,IF($G860=$CO$104,CR$104,IF($G860=$CO$105,CR$105,IF($G860=$CO$107,CR$107,IF($G860=$CO$108,CR$108,IF($G860=$CO$109,CR$109,IF($G860=$CO$111,CR$111,IF($G860=$CO$112,CR$112,IF($G860=$CO$113,CR$113,IF($G860=$CO$115,CR$115,IF($G860=$CO$116,CR$116,IF($G860=$CO$117,CR$117,IF($G860=$CO$119,CR$119,IF($G860=$CO$120,CR$120,))))))))))))))","v":2},{"$f":"IF($G860=$CO$103,CS$103,IF($G860=$CO$104,CS$104,IF($G860=$CO$105,CS$105,IF($G860=$CO$107,CS$107,IF($G860=$CO$108,CS$108,IF($G860=$CO$109,CS$109,IF($G860=$CO$111,CS$111,IF($G860=$CO$112,CS$112,IF($G860=$CO$113,CS$113,IF($G860=$CO$115,CS$115,IF($G860=$CO$116,CS$116,IF($G860=$CO$117,CS$117,IF($G860=$CO$119,CS$119,IF($G860=$CO$120,CS$120,))))))))))))))","v":3.6734700000000002E-4},595,658,877,0.98,0.98,0.98,{"$f":"ROUND(AK860*POWER(CF_cool,AN860),0)","v":595},658,877,256,283,377,0.57014654745249982,0.68602826252827387,1.1657237163109904,{"$f":"ROUND(IF(G860=10,$CO$92*F860,IF(G860=11,$CO$93*F860,IF(G860=15,$CO$94*F860,IF(G860=16,$CO$95*F860,IF(G860=20,$CO$96*F860,IF(G860=21,$CO$97*F860,)))))),1)","v":2},16.2,18.600000000000001,31.4,null,2478,null,{"$f":"IF(G860=10,0.9,IF(G860=11,0.68,IF(G860=15,0.8,IF(G860=16,0.68,IF(G860=20,0.8,IF(G860=21,0.8))))))","v":0.9},null,null,0,10.199999999999999,11.9,21.85,null,1,1,1,{"$f":"AQ860/BO860","v":595},658,877,null,{"$f":"BR860-AQ860","v":0},{"$f":"BS860-AR860","v":0},{"$f":"BT860-AS860","v":0},1]
[{"$f":"CONCATENATE(D861,E861,F861,G861)","v":"33030011"},null,null,3,30,300,11,11.5,0,26,30,47.8,2286.84,6285,6939,9242,1.5,{"$f":"IF($G861=10,1.08,IF($G861=11,1.1,IF($G861=15,1.08,IF($G861=16,1.1,IF($G861=20,1.08,IF($G861=21,1.05))))))","v":1.1000000000000001},1.1000000000000001,1.1000000000000001,2287,6285,6939,9242,197,541,597,795,{"$f":"(($AG861*(Y861^$AH861)*((($F861-14.4)*$AI861)/100))+($AJ861*(Y861^2)))*0.0098","v":0.64275060588291066},{"$f":"(($AG861*(Z861^$AH861)*((($F861-14.4)*$AI861)/100))+($AJ861*(Z861^2)))*0.0098","v":4.0947526705547128},{"$f":"(($AG861*(AA861^$AH861)*((($F861-14.4)*$AI861)/100))+($AJ861*(AA861^2)))*0.0098","v":4.9094354217626668},{"$f":"(($AG861*(AB861^$AH861)*((($F861-14.4)*$AI861)/100))+($AJ861*(AB861^2)))*0.0098","v":8.3290701456325671},3.969E-4,1.7345999999999999,4,5.7428799999999995E-4,963,1063,1416,0.95,0.95,0.95,963,1063,1416,414,457,609,{"$f":"(($AG861*(AT861^$AH861)*((($F861-14.4)*$AI861)/100))+($AJ861*(AT861^2)))*0.0098","v":2.5033921219274102},{"$f":"(($AG861*(AU861^$AH861)*((($F861-14.4)*$AI861)/100))+($AJ861*(AU861^2)))*0.0098","v":3.0018914286103233},{"$f":"(($AG861*(AV861^$AH861)*((($F861-14.4)*$AI861)/100))+($AJ861*(AV861^2)))*0.0098","v":5.092866662726184},4,16.2,18.600000000000001,31.4,null,3363,null,0.68,null,null,0,10.199999999999999,11.9,21.85,null,1,1,1,963,{"$f":"AR861/BP861","v":1063},{"$f":"AS861/BQ861","v":1416},null,0,0,0,1]
["33030020",null,null,3,30,300,20,21.5,0,26,30,48.9,4574.4000000000005,7549,8335,11102,1.5,1.08,1.08,1.08,4574,7549,8335,11102,393,649,717,955,0.77952182090239075,2.0514636214383453,2.4873001829268433,4.3324369681618959,1.2760000000000001E-4,1.7219,2,3.76611E-4,905,999,1331,0.95,0.95,0.95,905,999,1331,389,430,572,0.76431919512798108,0.92701417801356134,1.6073504963383516,4,19.3,20.399999999999999,34.5,null,5718,null,0.8,null,null,0,10,10.6,21.85,null,1,1,1,905,999,1331,null,0,0,0,1]
["33030021",null,null,3,30,300,21,21.5,0,26,30,48.1,4675.2,10844,11086,16475,1.5,1.05,1.05,1.05,4675,10844,11086,16475,402,933,953,1417,1.2499739831395262,6.2432094291838682,6.5023476533141213,13.930846770207117,1.2760000000000001E-4,1.7219,4,5.1420100000000005E-4,1468,1501,2231,0.85,0.85,0.85,1468,1501,2231,631,645,959,2.9532166901831141,3.0796974723112269,6.5810810968934375,8,19.3,20.399999999999999,34.5,null,5844,null,0.8,null,null,0,10,10.6,21.85,null,1,1,1,1468,1501,2231,null,0,0,0,1]
["3405011",null,null,3,40,50,11,11.5,0,26,30,38.799999999999997,429.76000000000005,881.02076921515595,942.75810617769378,1102.4000000000001,1.5,1.1000000000000001,1.1000000000000001,1.1000000000000001,430,881,943,1102,37,76,81,95,1.0612933230886815E-2,4.2643686555216082E-2,4.8246206994949491E-2,6.5720039533966129E-2,3.969E-4,1.7345999999999999,4,5.7428799999999995E-4,147.56138863197239,157.90172054122763,184.64,0.95,0.95,0.95,148,158,185,64,68,80,3.0575828151930776E-2,3.4381682232525662E-2,4.7098764109165574E-2,0.7,3.6,4.0999999999999996,5.0999999999999996,null,632,null,0.68,null,null,0,14.2,16.2,21.85,null,1,1,1,148,158,185,null,0,0,0,1]
["3406010",null,null,3,40,60,10,11.5,0,26,30,40,520.20000000000005,841.69225687813923,901.35950941531064,1066.3800000000001,1.5,1.08,1.08,1.08,520,842,901,1066,45,72,77,92,9.9055597231353532E-3,2.4572994832794695E-2,2.7985026550444856E-2,3.9512902180266693E-2,3.969E-4,1.7345999999999999,2,3.6734700000000002E-4,116.68990721587436,124.96201154556491,147.84,0.98,0.98,0.98,117,125,148,50,54,64,1.214004296048507E-2,1.4086095785072505E-2,1.9563990759703984E-2,0.4,4.8,5.4,6.8,null,578,null,0.9,null,null,0,13.6,15.6,21.85,null,1,1,1,117,125,148,null,0,0,0,1]
["3406015",null,null,3,40,60,15,16.5,0,26,30,41.1,752.80000000000007,957.19258357509659,1027.5250511543745,1359.96,1.5,1.08,1.08,1.08,753,957,1028,1360,65,82,88,117,2.1607295358039021E-2,3.4141898797120353E-2,3.9238605418779701E-2,6.880178174125845E-2,2.0829999999999999E-4,1.724,2,4.6182900000000003E-4,{"$f":"AK42","v":130.66063061772473},140.26129481477255,185.64,1.01,1.01,1.01,131,140,186,56,60,80,1.6115444159911004E-2,1.8458252538956766E-2,3.25208961878376E-2,0.6,4.8,5.5,7.2,null,941,null,0.8,null,null,0,12.3,14.4,21.85,null,1,1,1,131,140,186,null,0,0,0,1]
["3406016",null,null,3,40,60,16,16.5,0,26,30,41.1,693.6,1399.7241764138612,1502.5729206967153,1988.7,1.5,1.1000000000000001,1.1000000000000001,1.1000000000000001,694,1400,1503,1989,60,120,129,171,5.3467693717913524E-2,0.21085507991814395,0.24334273125065864,0.42546271730679758,2.0829999999999999E-4,1.724,4,1.392796E-3,214,230,305,0.95,0.95,0.95,214,230,305,92,99,131,0.12457564927087089,0.14404410806926615,0.25087593311274681,1.2,4.8,5.5,7.2,null,1020,null,0.68,null,null,0,12.3,14.4,21.85,null,1,1,1,214,230,305,null,0,0,0,1]
["3406021",null,null,3,40,60,21,21.5,0,26,30,41.1,1091.2,1802.6437228662567,1935.0981352499616,2561.16,1.5,1.05,1.05,1.05,1091,1803,1935,2561,94,155,166,220,5.0222897301191519E-2,0.13454431150760796,0.15402657304252074,0.26852892559558028,1.2760000000000001E-4,1.7219,4,5.1420100000000005E-4,233.82931859416351,251.01059773412922,332.22,0.85,0.85,0.85,234,251,332,101,108,143,5.7851346790324013E-2,6.601213332318584E-2,0.1147780548995266,1.6,4.8,5.5,7.2,null,1364,null,0.8,null,null,0,12.3,14.4,21.85,null,1,1,1,234,251,332,null,0,0,0,1]
["3407010",null,null,3,40,70,10,11.5,0,26,30,41,606.6,1029.7403904507714,1104.2859635902939,1320.28,1.5,1.08,1.08,1.08,607,1030,1104,1320,52,89,95,114,1.3832584756950001E-2,3.8924960889446435E-2,4.4146590218265697E-2,6.2778209343462163E-2,3.969E-4,1.7345999999999999,2,3.6734700000000002E-4,142.7603849699376,153.09517888293954,183.04,0.98,0.98,0.98,143,153,183,61,66,79,1.8801217016227327E-2,2.1878764945327631E-2,3.093277823234393E-2,0.5,5.5,5.9,7.9,null,674,null,0.9,null,null,0,13.2,15.1,21.85,null,1,1,1,143,153,183,null,0,0,0,1]
["3407015",null,null,3,40,70,15,16.5,0,26,30,41.1,878.40000000000009,1070.8273541699666,1149.5094620994566,1521.41,1.5,1.08,1.08,1.08,878,1071,1150,1521,76,92,99,131,3.010947416138491E-2,4.3822991749213405E-2,5.0617442668221047E-2,8.7813072353079863E-2,2.0829999999999999E-4,1.724,2,4.6182900000000003E-4,135.09481491470635,145.02129350758159,191.94,{"$f":"IF($G876=10,0.98,IF($G876=11,0.95,IF($G876=15,1.01,IF($G876=16,0.95,IF($G876=20,0.95,IF($G876=21,0.85))))))","v":1.01},1.01,1.01,135,145,192,58,62,83,1.7715040719154605E-2,2.0190861450308E-2,3.5797696205080359E-2,0.7,5.0999999999999996,5.6,7.2,null,1098,null,0.8,null,null,0,12.3,14.4,21.85,null,1,1,1,135,145,192,null,0,0,0,1]
["3407016",null,null,3,40,70,16,16.5,0,26,30,41.1,809.2,1627.62717250317,1747.2217424001376,2312.5,1.5,1.1000000000000001,1.1000000000000001,1.1000000000000001,809,1628,1747,2313,70,140,150,199,7.3768573397795661E-2,0.2902779131483183,0.33273460547085354,0.58224305620495909,2.0829999999999999E-4,1.724,4,1.392796E-3,219.59769851718443,235.73326859625641,312,0.95,0.95,0.95,220,236,312,95,101,134,0.1348444213322838,0.1521944098151945,0.26618360536544905,1.4,5.0999999999999996,5.6,7.2,null,1190,null,0.68,null,null,0,12.3,14.4,21.85,null,1,1,1,220,236,312,null,0,0,0,1]
["3407021",null,null,3,40,70,21,21.5,0,26,30,41.1,1273.6000000000001,1977.8291945358951,2123.1558613833213,2810.06,1.5,1.05,1.05,1.05,1274,1978,2123,2810,110,170,183,242,7.0079072979364249E-2,0.16489933699427986,0.1906306494771868,0.33050578585065171,1.2760000000000001E-4,1.7219,4,5.1420100000000005E-4,240.30463534531125,257.96170693632649,341.42,0.85,0.85,0.85,240,258,341,103,111,147,6.1591027996900249E-2,7.1335725011536941E-2,0.12389224890734116,1.9,5.0999999999999996,5.6,7.2,null,1592,null,0.8,null,null,0,12.3,14.4,21.85,null,1,1,1,240,258,341,null,0,0,0,1]
["3408010",null,null,3,40,80,10,11.5,0,26,30,41.8,693,1214.2269940407766,1304.1433704057049,1574.18,1.5,1.08,1.08,1.08,693,1214,1304,1574,60,104,112,135,1.9157582546598294E-2,5.5028754884652663E-2,6.3456869664955617E-2,9.0909861993553942E-2,3.969E-4,1.7345999999999999,2,3.6734700000000002E-4,168.33710197020613,180.80286190736828,218.24,0.98,0.98,0.98,168,181,218,72,78,94,2.7165359623318678E-2,3.167181300086596E-2,4.5312552969066985E-2,0.5,6.3,6.8,9.1,null,770,null,0.9,null,null,0,12.8,14.7,21.85,null,1,1,1,168,181,218,null,0,0,0,1]
["3408015",null,null,3,40,80,15,16.5,0,26,30,42.4,1003.2,1395.33740436932,1496.2563490716184,2007.56,1.5,1.08,1.08,1.08,1003,1395,1496,2008,86,120,129,173,3.9267015267909385E-2,7.5461940836559702E-2,8.697073187627373E-2,0.1547867774406054,2.0829999999999999E-4,1.724,2,4.6182900000000003E-4,190.46915773046311,204.24499885412456,274.04000000000002,1.01,1.01,1.01,190,204,274,82,88,118,3.5768909532348576E-2,4.1076258231928696E-2,7.3013760578283488E-2,0.8,6,6.7,9,null,1254,null,0.8,null,null,0,11.8,13.7,21.85,null,1,1,1,190,204,274,null,0,0,0,1]
["3408016",null,null,3,40,80,16,16.5,0,26,30,42.4,924.80000000000007,2040.4331716148024,2188.0092071816284,2935.7,1.5,1.1000000000000001,1.1000000000000001,1.1000000000000001,925,2040,2188,2936,80,175,188,252,9.7584532391673084E-2,0.45744743887251921,0.52704418993994806,0.94073397666389191,2.0829999999999999E-4,1.724,4,1.392796E-3,312,335,450,0.95,0.95,0.95,312,335,450,134,144,194,0.26997766374686077,0.31121106327333475,0.56081193423750164,1.6,6,6.7,9,null,1360,null,0.68,null,null,0,11.8,13.7,21.85,null,1,1,1,312,335,450,null,0,0,0,1]
["3408021",null,null,3,40,80,21,21.5,0,26,30,42.4,1455.2,2627.7848955664344,2817.8416357747774,3780.76,1.5,1.05,1.05,1.05,1455,2628,2818,3781,125,226,242,325,9.2124850207916414E-2,0.29449823797779945,0.33687122572177608,0.60164522481343263,1.2760000000000001E-4,1.7219,4,5.1420100000000005E-4,340.86222571220884,365.51537125251701,490.42,0.85,0.85,0.85,341,366,490,147,157,211,0.12659023968056798,0.14403307699408213,0.25732674402542394,2.1,6,6.7,9,null,1819,null,0.8,null,null,0,11.8,13.7,21.85,null,1,1,1,341,366,490,null,0,0,0,1]
["3409010",null,null,3,40,90,10,11.5,0,26,30,42.4,780.30000000000007,1395.6272192501513,1501.3000140389001,1828.08,1.5,1.08,1.08,1.08,780,1396,1501,1828,67,120,129,157,2.480945091629173E-2,7.5608781210671119E-2,8.6853211147160284E-2,0.12662134598395483,3.969E-4,1.7345999999999999,2,3.6734700000000002E-4,193.48593193227777,208.13611852764589,253.44,0.98,0.98,0.98,193,208,253,83,89,109,3.7340239212640722E-2,4.2669333600542279E-2,6.2889336846315577E-2,0.6,6.7,7.4,10.3,null,867,null,0.9,null,null,0,12.5,14.7,21.85,null,1,1,1,193,208,253,null,0,0,0,1]
["3409015",null,null,3,40,90,15,16.5,0,26,30,43.3,1128.8,1597.9167676946356,1711.9130538160239,2331.36,1.5,1.08,1.08,1.08,1129,1598,1712,2331,97,137,147,200,5.0800443047169699E-2,9.9846629634346956E-2,0.11462442340612437,0.20964202709641322,2.0829999999999999E-4,1.724,2,4.6182900000000003E-4,218.12205414485143,233.68300487544244,318.24,1.01,1.01,1.01,218,234,318,94,101,137,4.7773932289979358E-2,5.4977761599022158E-2,9.9846629634346956E-2,0.9,7,7.7,10.7,null,1411,null,0.8,null,null,0,11.3,13.2,21.85,null,1,1,1,218,234,318,null,0,0,0,1]
["3409016",null,null,3,40,90,16,16.5,0,26,30,43.3,1040.4000000000001,2336.669516687492,2503.3688418217644,3409.2,1.5,1.1000000000000001,1.1000000000000001,1.1000000000000001,1040,2337,2503,3409,89,201,215,293,0.12228284719166986,0.60915360332621049,0.69575042058868541,1.2822911322288062,2.0829999999999999E-4,1.724,4,1.392796E-3,357.77938745479025,383.30357134546551,522,0.95,0.95,0.95,358,383,522,154,165,224,0.36016635113087053,0.41266687566708049,0.75442675175462648,1.8,7,7.7,10.7,null,1530,null,0.68,null,null,0,11.3,13.2,21.85,null,1,1,1,358,383,522,null,0,0,0,1]
["3409021",null,null,3,40,90,21,21.5,0,26,30,43.3,1637.6000000000001,3009.2947651024979,3223.9795559512399,4390.5600000000004,1.5,1.05,1.05,1.05,1638,3009,3224,4391,141,259,277,378,0.11916822445535588,0.39212285066283958,0.44737503001439571,0.82373176047688912,1.2760000000000001E-4,1.7219,4,5.1420100000000005E-4,390.34964893343317,418.19741370243202,569.52,0.85,0.85,0.85,390,418,570,168,180,245,0.16789509816318576,0.19217671661448937,0.35163070513405226,2.4,7,7.7,10.7,null,2047,null,0.8,null,null,0,11.3,13.2,21.85,null,1,1,1,390,418,570,null,0,0,0,1]
["34010010",null,null,3,40,100,10,11.5,0,26,30,43,866.7,1574.3905475253332,1696.1265760133244,2081.98,1.5,1.08,1.08,1.08,867,1574,1696,2082,75,135,146,179,3.2159467003479145E-2,9.8623231218722851E-2,0.11455551187153463,0.16920060692862343,3.969E-4,1.7345999999999999,2,3.6734700000000002E-4,218.26918973175157,235.14633901405676,288.64,0.98,0.98,0.98,218,235,289,94,101,124,4.9429305306709352E-2,5.6681136080738742E-2,8.3841493078660942E-2,0.7,7.8,8.6999999999999993,12.2,null,963,null,0.9,null,null,0,12.3,14.1,21.85,null,1,1,1,218,235,289,null,0,0,0,1]
["34010015",null,null,3,40,100,15,16.5,0,26,30,44.1,1254.4000000000001,1798.7737222599399,1926.0891717740149,2655.16,1.5,1.08,1.08,1.08,1254,1799,1926,2655,108,155,166,228,6.3985832594911682E-2,0.12960669873525657,0.14820649885017992,0.27587309609991228,2.0829999999999999E-4,1.724,2,4.6182900000000003E-4,245.53983484833029,262.91890485611941,362.44,1.01,1.01,1.01,246,263,362,106,113,156,6.1693712021988735E-2,6.989545441405931E-2,0.13124694650181259,1,7,7.7,10.7,null,1568,null,0.8,null,null,0,10.9,12.8,21.85,null,1,1,1,246,263,362,null,0,0,0,1]
["34010016",null,null,3,40,100,16,16.5,0,26,30,44.1,1156,2630.3871448118639,2816.5633812075234,3882.7,1.5,1.1000000000000001,1.1000000000000001,1.1000000000000001,1156,2630,2817,3883,99,226,242,334,0.15304966142756982,0.77712770761656835,0.88934367498091926,1.6794877029795134,2.0829999999999999E-4,1.724,4,1.392796E-3,403,431,595,0.95,0.95,0.95,403,431,595,173,185,256,0.45896052508691165,0.52378160296818432,0.99366847477469411,2,7,7.7,10.7,null,1700,null,0.68,null,null,0,10.9,12.8,21.85,null,1,1,1,403,431,595,null,0,0,0,1]
["34010021",null,null,3,40,100,21,21.5,0,26,30,44.1,1819.2,3387.5608889256064,3627.3291443724347,5000.3599999999997,1.5,1.05,1.05,1.05,1819,3388,3627,5000,156,291,312,430,0.14821625281490858,0.50157125518840051,0.57492378341496886,1.0783579804788856,1.2760000000000001E-4,1.7219,4,5.1420100000000005E-4,439.41631078060919,470.51776864522725,648.62,0.85,0.85,0.85,439,471,649,189,203,279,0.21560419169801393,0.24792046126884393,0.46186798350799674,2.7,7,7.7,10.7,null,2274,null,0.8,null,null,0,10.9,12.8,21.85,null,1,1,1,439,471,649,null,0,0,0,1]
["34011010",null,null,3,40,110,10,11.5,0,26,30,43.5,953.1,1766.3893947845202,1902.9712804051933,2335.88,1.5,1.08,1.08,1.08,953,1766,1903,2336,82,152,164,201,3.973372644714545E-2,0.12846635666491932,0.14849855963064404,0.21898283146724631,3.969E-4,1.7345999999999999,2,3.6734700000000002E-4,244.88738360147738,263.82272182064906,323.83999999999997,0.98,0.98,0.98,245,264,324,105,114,139,6.3532409410345894E-2,7.4283678081492499E-2,0.10834103483995079,0.7,8.4,9.3000000000000007,14,null,1059,null,0.9,null,null,0,12,13.9,21.85,null,1,1,1,245,264,324,null,0,0,0,1]
["34011015",null,null,3,40,110,15,16.5,0,26,30,44.1,1380,1908.1501882577959,2043.2071973479594,2816.6099999999997,1.5,1.08,1.08,1.08,1380,1908,2043,2817,119,164,176,242,7.8870651590646323E-2,0.14742102741229732,0.1692130010603492,0.31530215896235814,2.0829999999999999E-4,1.724,2,4.6182900000000003E-4,249.80785427097814,267.48901053042016,368.74,1.01,1.01,1.01,250,267,369,108,115,159,6.5293712586279876E-2,7.3788401225819936E-2,0.1387762211751877,1.1000000000000001,7.9,8.8000000000000007,12.5,null,1725,null,0.8,null,null,0,10.9,12.8,21.85,null,1,1,1,250,267,369,null,0,0,0,1]
["34011016",null,null,3,40,110,16,16.5,0,26,30,44.1,1271.6000000000001,2849.7497938679544,3051.4523045945984,4206.5,1.5,1.1000000000000001,1.1000000000000001,1.1000000000000001,1272,2850,3051,4207,109,245,262,362,0.18757571367131662,0.92195448057549512,1.0521845346704815,1.9898808014753209,2.0829999999999999E-4,1.724,4,1.392796E-3,407.83296705301524,436.69898665540194,602,0.95,0.95,0.95,408,437,602,175,188,259,0.47548152700019564,0.54744957167687558,1.0285851673079258,2.2000000000000002,7.9,8.8000000000000007,12.5,null,1870,null,0.68,null,null,0,10.9,12.8,21.85,null,1,1,1,408,437,602,null,0,0,0,1]
["34011021",null,null,3,40,110,21,21.5,0,26,30,44.1,2000.8000000000002,3556.1815292902165,3807.8845891872675,5249.2599999999993,1.5,1.05,1.05,1.05,2001,3556,3808,5249,172,306,327,451,0.18288147409507508,0.56299805703171679,0.64102009569515583,1.2027269290583564,1.2760000000000001E-4,1.7219,4,5.1420100000000005E-4,445.64897406447591,477.19157375690452,657.82,0.85,0.85,0.85,446,477,658,192,205,283,0.22661573879571267,0.25750136415425773,0.48325773512719011,2.9,7.9,8.8000000000000007,12.5,null,2501,null,0.8,null,null,0,10.9,12.8,21.85,null,1,1,1,446,477,658,null,0,0,0,1]
["34012010",null,null,3,40,120,10,11.5,0,26,30,44,1040.4000000000001,1924.9914127028867,2079.6202422788024,2589.7800000000002,1.5,1.08,1.08,1.08,1040,1925,2080,2590,89,166,179,223,4.8285892667186039E-2,0.15749249199599902,0.18178308069124571,0.2762925905995734,3.969E-4,1.7345999999999999,2,3.6734700000000002E-4,266.87553260000635,288.31284965818764,359.04,0.98,0.98,0.98,267,288,359,115,124,154,7.844810437960871E-2,9.0497540707880797E-2,0.13655457969155813,0.8,8.9,9.9,14.8,null,1156,null,0.9,null,null,0,11.8,13.7,21.85,null,1,1,1,267,288,359,null,0,0,0,1]
["34012016",null,null,3,40,120,16,16.5,0,26,30,44.8,1387.2,3241.8333772189817,3471.5459677567114,4829.7,1.5,1.1000000000000001,1.1000000000000001,1.1000000000000001,1387,3242,3472,4830,119,279,299,415,0.22593909187971073,1.204343316710782,1.3801140974321322,2.632057975603213,2.0829999999999999E-4,1.724,4,1.392796E-3,496,532,740,0.95,0.95,0.95,496,532,740,213,229,318,0.70833668732811383,0.81671249966312653,1.5580377368272431,2.4,8.6999999999999993,9.8000000000000007,14.3,null,2040,null,0.68,null,null,0,10.6,12.5,21.85,null,1,1,1,496,532,740,null,0,0,0,1]
["34012020",null,null,3,40,120,20,21.5,0,26,30,44.8,2108,3079.6829926739365,3327.0647594078355,4143.24,1.5,1.08,1.08,1.08,2108,3080,3327,4143,181,265,286,356,0.14129686614636469,0.29848242281650889,0.34670295754782865,0.53308564610580933,1.2760000000000001E-4,1.7219,2,3.76611E-4,380.60090160569081,411.17343900116532,512.04,0.95,0.95,0.95,381,411,512,164,177,220,0.11646670942658871,0.13524222402195477,0.20715667478646135,1.6,8.6999999999999993,9.8000000000000007,14.3,null,2635,null,0.8,null,null,0,10.6,12.5,21.85,null,1,1,1,381,411,512,null,0,0,0,1]
["34014010",null,null,3,40,140,10,11.5,0,26,30,44.8,1213.2,2267.7915432376717,2456.1428225151312,3097.58,1.5,1.08,1.08,1.08,1213,2268,2456,3098,{"$f":"ROUND(U910*3600/(4186*ABS($O$1-$O$2)),0)","v":104},{"$f":"ROUND(V910*3600/(4186*ABS($O$1-$O$2)),0)","v":195},{"$f":"ROUND(W910*3600/(4186*ABS($O$1-$O$2)),0)","v":211},{"$f":"ROUND(X910*3600/(4186*ABS($O$1-$O$2)),0)","v":266},6.9746268660615465E-2,0.22855867513090425,0.26538154154463672,0.41180366936575952,3.969E-4,1.7345999999999999,2,3.6734700000000002E-4,314.40040300104783,340.51290804463417,429.44,0.98,0.98,0.98,314,341,429,{"$f":"ROUND(AQ910*3600/(4186*ABS($AM$1-$AM$2)),0)","v":135},{"$f":"ROUND(AR910*3600/(4186*ABS($AM$1-$AM$2)),0)","v":147},{"$f":"ROUND(AS910*3600/(4186*ABS($AM$1-$AM$2)),0)","v":184},0.11404996966906063,0.1339431496553784,0.20476735769324847,0.9,10.1,11.2,17.5,null,1348,null,0.9,null,null,0,11.5,13.3,21.85,null,1,1,1,314,341,429,null,0,0,0,1]
["34014011",null,null,3,40,140,11,11.5,0,26,30,44.8,1203.6000000000001,3077.015307780141,3332.5766142436496,4202.8999999999996,1.5,1.1000000000000001,1.1000000000000001,1.1000000000000001,1204,3077,3333,4203,104,265,287,361,0.12249001462043094,0.70734607634958468,0.82199994803261212,1.2670408781957792,3.969E-4,1.7345999999999999,4,5.7428799999999995E-4,515,558,704,0.95,0.95,0.95,515,558,704,221,240,303,0.5026708586376617,0.58700184508997044,0.91049538023254029,1.9,10.1,11.2,17.5,null,1770,null,0.68,null,null,0,11.5,13.3,21.85,null,1,1,1,515,558,704,null,0,0,0,1]
["34014016",null,null,3,40,140,16,16.5,0,26,30,45.4,1618.4,3844.4231409656436,4117.1080284867467,5776.7,1.5,1.1000000000000001,1.1000000000000001,1.1000000000000001,1618,3844,4117,5777,139,331,354,497,0.31448017554520624,1.7219838483818737,1.9648470126541058,3.8280696316652558,2.0829999999999999E-4,1.724,4,1.392796E-3,589,630,885,0.95,0.95,0.95,589,630,885,253,271,381,1.0162271216516092,1.1628994061160329,2.2700825079676186,2.8,9.6,10.5,16.100000000000001,null,2380,null,0.68,null,null,0,10.4,12.2,21.85,null,1,1,1,589,630,885,null,0,0,0,1]
["34014020",null,null,3,40,140,20,21.5,0,26,30,45.4,2459.2000000000003,3628.1091959950468,3929.4415695377957,4955.6400000000003,1.5,1.08,1.08,1.08,2459,3628,3929,4956,211,312,338,426,0.19588783718929365,0.42118895241344162,0.49271246369818478,0.7756359730733573,1.2760000000000001E-4,1.7219,2,3.76611E-4,448.37784746172167,485.61784045001809,612.44000000000005,0.95,0.95,0.95,448,486,612,193,209,263,0.16455496588623258,0.1922740711354792,0.30142179085547277,1.9,9.6,10.5,16.100000000000001,null,3074,null,0.8,null,null,0,10.4,12.2,21.85,null,1,1,1,448,486,612,null,0,0,0,1]
["34016010",null,null,3,40,160,10,11.5,0,26,30,45.5,1386.9,2603.9362232520607,2826.6988006529018,3605.38,1.5,1.08,1.08,1.08,1387,2604,2827,3605,119,224,243,310,9.6096825661909163E-2,0.31579069683258104,0.3682343427384388,0.58343322204871984,3.969E-4,1.7345999999999999,2,3.6734700000000002E-4,361.00257998610687,391.88577307200529,499.84,0.98,0.98,0.98,361,392,500,155,169,215,0.15784887533096326,0.18572654509721107,0.29228700277798675,1.1000000000000001,11,12.4,19.2,null,1541,null,0.9,null,null,0,11.2,13,21.85,null,1,1,1,361,392,500,null,0,0,0,{"$f":"IF(SUM(BV916:BX916)=0,1,0)","v":1}]
["34016011",null,null,3,40,160,11,11.5,0,26,30,45.5,1374.96,3533.107636511756,3835.359341571188,4891.8999999999996,1.5,1.1000000000000001,1.1000000000000001,1.1000000000000001,1375,3533,3835,4892,118,304,330,421,0.167287781420282,0.97923387090071334,1.1422415218620434,1.8051385479062783,3.969E-4,1.7345999999999999,4,5.7428799999999995E-4,592,642,819,0.95,0.95,0.95,592,642,819,255,276,352,0.70442666719486835,0.81698629969873737,1.2893886583447325,2.1,11,12.4,19.2,null,2022,null,0.68,null,null,0,11.2,13,21.85,null,1,1,1,592,642,819,null,0,0,0,1]
["34016016",null,null,3,40,160,16,16.5,0,26,30,46.4,1849.6000000000001,4417.9368883555589,4716.8848144627045,6723.7,1.5,1.1000000000000001,1.1000000000000001,1.1000000000000001,1850,4418,4717,6724,159,380,406,578,0.41926049875363286,2.304157087904469,2.6233653218162551,5.2466408934953108,2.0829999999999999E-4,1.724,4,1.392796E-3,676,722,1030,0.95,0.95,0.95,676,722,1030,291,310,443,1.3661686148172167,1.5462621883682115,3.112728234709111,3.2,11.5,12.8,19.600000000000001,null,2720,null,0.68,null,null,0,10,11.8,21.85,null,1,1,1,676,722,1030,null,0,0,0,1]
["34016020",null,null,3,40,160,20,21.5,0,26,30,46.4,2811.2000000000003,4165.887726998767,4522.2727563025155,5768.04,1.5,1.08,1.08,1.08,2811,4166,4522,5768,242,358,389,496,0.26248769898098567,0.5639754157614939,0.66342434491024516,1.0674404634562651,1.2760000000000001E-4,1.7219,2,3.76611E-4,514.83890668473202,558.88255136973487,712.84,0.95,0.95,0.95,515,559,713,221,240,307,0.21989661309334549,0.25827229749987091,0.41765567382317259,2.1,11.5,12.8,19.600000000000001,null,3514,null,0.8,null,null,0,10,11.8,21.85,null,1,1,1,515,559,713,null,0,0,0,1]
["34018010",null,null,3,40,180,10,11.5,0,26,30,46,1559.7,2970.6878039917879,3224.8253922941558,4113.18,1.5,1.08,1.08,1.08,1560,2971,3225,4113,134,256,277,354,0.12768992601235707,0.42971927512859232,0.49841362806075101,0.79115305439562644,3.969E-4,1.7345999999999999,2,3.6734700000000002E-4,411.84801378696699,447.08095237792156,570.24,0.98,0.98,0.98,412,447,570,177,192,245,0.21495642722836134,0.25036580839638034,0.39566467113231368,1.2,12.2,13.7,22,null,1733,null,0.9,null,null,0,10.9,12.7,21.85,null,1,1,1,412,447,570,null,0,0,0,1]
["34018011",null,null,3,40,180,11,11.5,0,26,30,46,1547,4030.7284303866513,4375.55079813051,5580.9,1.5,1.1000000000000001,1.1000000000000001,1.1000000000000001,1547,4031,4376,5581,133,347,376,480,0.22402290320826687,1.334539960528933,1.5506696983380099,2.4499067566992552,3.969E-4,1.7345999999999999,4,5.7428799999999995E-4,675.10313623602258,732.85712932403612,934.74,0.95,0.95,0.95,675,733,935,290,315,402,0.95449169552535984,1.1138291531732329,1.7573589514811909,2.4,12.2,13.7,22,null,2275,null,0.68,null,null,0,10.9,12.7,21.85,null,1,1,1,675,733,935,null,0,0,0,1]
[{"$f":"CONCATENATE(D925,E925,F925,G925)","v":"34018016"},null,null,3,40,180,16,16.5,0,26,30,46.4,2080.8000000000002,4843.4549704976926,5171.1963699821436,7371.3,1.5,{"$f":"IF($G925=10,1.08,IF($G925=11,1.1,IF($G925=15,1.08,IF($G925=16,1.1,IF($G925=20,1.08,IF($G925=21,1.05))))))","v":1.1000000000000001},1.1000000000000001,1.1000000000000001,2081,4843,5171,7371,179,417,445,634,{"$f":"(($AG925*(Y925^$AH925)*((($F925-14.4)*$AI925)/100))+($AJ925*(Y925^2)))*0.0098","v":0.54084377443246534},{"$f":"(($AG925*(Z925^$AH925)*((($F925-14.4)*$AI925)/100))+($AJ925*(Z925^2)))*0.0098","v":2.8182657536071059},{"$f":"(($AG925*(AA925^$AH925)*((($F925-14.4)*$AI925)/100))+($AJ925*(AA925^2)))*0.0098","v":3.2004400554381953},{"$f":"(($AG925*(AB925^$AH925)*((($F925-14.4)*$AI925)/100))+($AJ925*(AB925^2)))*0.0098","v":6.4023363853790576},2.0829999999999999E-4,1.724,4,1.392796E-3,686.3088894339993,732.7492584003295,1044.5,0.95,0.95,0.95,686,733,1045,295,315,449,{"$f":"(($AG925*(AT925^$AH925)*((($F925-14.4)*$AI925)/100))+($AJ925*(AT925^2)))*0.0098","v":1.4327504054076798},{"$f":"(($AG925*(AU925^$AH925)*((($F925-14.4)*$AI925)/100))+($AJ925*(AU925^2)))*0.0098","v":1.6285969093831283},{"$f":"(($AG925*(AV925^$AH925)*((($F925-14.4)*$AI925)/100))+($AJ925*(AV925^2)))*0.0098","v":3.2569852229594378},3.6,11.5,12.8,19.600000000000001,null,3060,null,0.68,null,null,0,10,11.8,21.85,null,1,1,1,686,{"$f":"AR925/BP925","v":733},{"$f":"AS925/BQ925","v":1045},null,0,0,0,1]
["34018020",null,null,3,40,180,20,21.5,0,26,30,46.4,3162.4,4497.8275192555193,4882.6094666576164,6227.64,1.5,1.08,1.08,1.08,3162,4498,4883,6228,272,387,420,536,0.33751345226803048,0.67105520500225491,0.78724334085603187,1.2676087797406754,1.2760000000000001E-4,1.7219,2,3.76611E-4,526.1057925837863,571.11330132956857,728.44,0.95,0.95,0.95,526,571,728,226,246,313,0.23536033293811029,0.27756656183252509,0.44366421223291913,2.4,11.5,12.8,19.600000000000001,null,3953,null,0.8,null,null,0,10,11.8,21.85,null,{"$f":"IF((237.3*LN(($AQ$1*EXP(17.27*($AM$3/($AM$3+237.3))))))/(17.27-LN(($AQ$1*EXP(17.27*($AM$3/($AM$3+237.3))))))<(($AM$1+$AM$2)/2),1,IF(1/(1+((2258*((0.622/((101325/(1*611*EXP(17.27*((($AM$1+$AM$2)/2)/((($AM$1+$AM$2)/2)+237.3))))))-1)*1000-(0.622/((101325/($AQ$1*611*EXP(17.27*($AM$3/($AM$3+237.3))))))-1)*1000))/(1005*((($AM$1+$AM$2)/2)-$AM$3))))>1,1,1/(1+((2258*((0.622/((101325/(1*611*EXP(17.27*((($AM$1+$AM$2)/2)/((($AM$1+$AM$2)/2)+237.3))))))-1)*1000-(0.622/((101325/($AQ$1*611*EXP(17.27*($AM$3/($AM$3+237.3))))))-1)*1000))/(1005*((($AM$1+$AM$2)/2)-$AM$3))))))","v":1},1,1,526,571,728,null,0,0,0,1]
["34020010",null,null,3,40,200,10,11.5,0,26,30,46.5,1733.4,3259.5785648750903,3552.8677924068675,4620.9799999999996,1.5,1.08,1.08,1.08,1733,3260,3553,4621,149,280,306,397,0.16486591860930541,0.53596049138451529,0.63305954443385948,1.0323113448799708,3.969E-4,1.7345999999999999,2,3.6734700000000002E-4,451.89903695786995,492.55985148767917,640.64,0.98,0.98,0.98,452,493,641,194,212,276,0.26974633951173027,0.31839322337808124,0.52169992911952934,1.3,13.4,14.8,24,null,1926,null,0.9,null,null,0,10.7,12.5,21.85,null,1,1,1,452,493,641,null,0,0,0,1]
["34020011",null,null,3,40,200,11,11.5,0,26,30,46.5,1719.0400000000002,4422.7050634086982,4820.649682883678,6269.9,1.5,1.1000000000000001,1.1000000000000001,1.1000000000000001,1719,4423,4821,6270,148,380,415,539,0.29118796092585658,1.6745484974017948,1.9734656930316881,3.2154295434805311,3.969E-4,1.7345999999999999,4,5.7428799999999995E-4,741,807,1050,0.95,0.95,0.95,741,807,1050,319,347,452,1.2089524361917552,1.4138727396795772,2.3143510148052444,2.7,13.4,14.8,24,null,2528,null,0.68,null,null,0,10.7,12.5,21.85,null,1,1,1,741,807,1050,null,0,0,0,1]
["34020016",null,null,3,40,200,16,16.5,0,26,30,47.1,2312,5667.1755761695722,5971.3549398587584,8617.7000000000007,1.5,1.1000000000000001,1.1000000000000001,1.1000000000000001,2312,5667,5971,8618,199,487,514,741,0.67977376782619425,3.8886229634946341,4.3210309689101214,8.8377623616344323,2.0829999999999999E-4,1.724,4,1.392796E-3,868,914,1320,0.95,0.95,0.95,868,914,1320,373,393,568,2.3103470177002245,2.5582125224157561,5.2529022162438315,4,13.2,14.7,23.5,null,3400,null,0.68,null,null,0,10,11.4,21.85,null,1,1,1,868,914,1320,null,0,0,0,1]
["34020020",null,null,3,40,200,20,21.5,0,26,30,47.1,3513.6000000000004,5214.8121821672385,5684.028740747025,7392.84,1.5,1.08,1.08,1.08,3514,5215,5684,7393,302,448,489,636,0.42311312971539766,0.91133281879191153,1.0808827382560606,1.804767358434455,1.2760000000000001E-4,1.7219,2,3.76611E-4,644.46964929787134,702.45751547390614,913.64,0.95,0.95,0.95,644,702,914,277,302,393,0.35773067054432378,0.42311312971539766,0.70617331390652549,2.7,13.2,14.7,23.5,null,4392,null,0.8,null,null,0,10,11.4,21.85,null,1,1,1,644,702,914,null,0,0,0,1]
["34022010",null,null,3,40,220,10,11.5,0,26,30,46.9,1907.1000000000001,3560.7045070849035,3890.5075371280445,5128.78,1.5,1.08,1.08,1.08,1907,3561,3891,5129,164,306,335,441,0.20795487536531815,0.66495285135759441,0.7876316236324602,1.3181530375289372,3.969E-4,1.7345999999999999,2,3.6734700000000002E-4,493.64631212835212,539.36930014536108,711.04,0.98,0.98,0.98,494,539,711,212,232,306,0.33526766264658142,0.39659808957963044,0.66495285135759441,1.5,13.4,14.8,24,null,2119,null,0.9,null,null,0,10.5,12.3,21.85,null,1,1,1,494,539,711,null,0,0,0,1]
["34022011",null,null,3,40,220,11,11.5,0,26,30,46.9,1891.0800000000002,4831.2827990970827,5278.770565343093,6958.9,1.5,1.1000000000000001,1.1000000000000001,1.1000000000000001,1891,4831,5279,6959,163,415,454,598,0.36944392295391576,2.0816746946687235,2.4599536452154176,4.1089164306330286,3.969E-4,1.7345999999999999,4,5.7428799999999995E-4,809.18727868766814,884.1366084769129,1165.54,0.95,0.95,0.95,809,884,1166,348,380,501,1.5011980733038943,1.7674215645183677,2.9547969820093392,2.9,13.4,14.8,24,null,2781,null,0.68,null,null,0,10.5,12.3,21.85,null,1,1,1,809,884,1166,null,0,0,0,1]
["34022016",null,null,3,40,220,16,16.5,0,26,30,47.8,2543.2000000000003,6291.7251954043459,6553.83496101116,9564.7000000000007,1.5,1.1000000000000001,1.1000000000000001,1.1000000000000001,2543,6292,6554,9565,219,541,564,823,0.83657719872110747,4.8599490065570379,5.2712218393505692,11.028120296891252,2.0829999999999999E-4,1.724,4,1.392796E-3,963.35813446001066,1003.4910975149082,1464.5,0.95,0.95,0.95,963,1003,1465,414,431,630,2.8848425296225417,3.1200973344986664,6.542211558205909,4.4000000000000004,15.5,16.8,27.5,null,3740,null,0.68,null,null,0,10,11.1,21.85,null,1,1,1,963,1003,1465,null,0,0,0,1]
["34022020",null,null,3,40,220,20,21.5,0,26,30,47.8,3864.8,5696.5662496175182,6224.1991397456159,8205.24,1.5,1.08,1.08,1.08,3865,5697,6224,8205,332,490,535,706,0.51960519315509546,1.1066428651103115,1.3128927046129348,2.2531321307295649,1.2760000000000001E-4,1.7219,2,3.76611E-4,704.00695650122941,769.21417236639559,1014.04,0.95,0.95,0.95,704,769,1014,303,331,436,0.43521399990720622,0.5165738484716168,0.88193136480825907,2.9,15.5,16.8,27.5,null,4831,null,0.8,null,null,0,10,11.1,21.85,null,1,1,1,704,769,1014,null,0,0,0,1]
["34024010",null,null,3,40,240,10,11.5,0,26,30,47.2,2079.9,3860.4188735925432,4228.9855673527691,5636.58,1.5,1.08,1.08,1.08,2080,3860,4229,5637,179,332,364,485,0.25727792326697946,0.81122806847196882,0.96312721192929007,1.6465778870546586,3.969E-4,1.7345999999999999,2,3.6734700000000002E-4,535.19789031294818,586.29496640731588,781.44,{"$f":"IF($G940=10,0.98,IF($G940=11,0.95,IF($G940=15,1.01,IF($G940=16,0.95,IF($G940=20,0.95,IF($G940=21,0.85))))))","v":0.98},0.98,0.98,535,586,781,230,252,336,0.40968486620571454,0.48550351822928639,0.82954646870937465,1.6,14.8,16.600000000000001,28,null,2311,null,0.9,null,null,0,10.4,12.2,21.85,null,1,1,1,535,586,781,null,0,0,0,1]
["34024011",null,null,3,40,240,11,11.5,0,26,30,47.2,2063.1200000000003,5237.9452617275747,5738.028861571599,7647.9,1.5,1.1000000000000001,1.1000000000000001,1.1000000000000001,2063,5238,5738,7648,177,450,493,658,0.45470201790033515,2.5443263605089523,3.0134634241110767,5.1519252843624956,3.969E-4,1.7345999999999999,4,5.7428799999999995E-4,877,961,1281,0.95,0.95,0.95,877,961,1281,377,413,551,1.8332088548014907,2.1703781533558777,3.704430979547201,3.2,14.8,16.600000000000001,28,null,3034,null,0.68,null,null,0,10.4,12.2,21.85,null,1,1,1,877,961,1281,null,0,0,0,1]
["34024016",null,null,3,40,240,16,16.5,0,26,30,48.1,2774.4,6916.3686790875245,7167.9744986485921,10511.7,1.5,1.1000000000000001,1.1000000000000001,1.1000000000000001,2774,6916,7168,10512,239,595,616,904,1.0117659657418578,5.9505892618562521,6.3666227323503541,13.454619784961755,2.0829999999999999E-4,1.724,4,1.392796E-3,1059,1098,1610,0.95,0.95,0.95,1059,1098,1610,455,472,692,3.5300159430065703,3.7910912175214273,7.987173009623401,4.8,16.399999999999999,17.7,29.7,null,4080,null,0.68,null,null,0,10,10.9,21.85,null,1,1,1,1059,1098,1610,null,0,0,0,1]
["34024020",null,null,3,40,240,20,21.5,0,26,30,48.1,4216,6176.0620183272586,6765.7106634844222,9017.64,1.5,1.08,1.08,1.08,4216,6176,6766,9018,363,531,582,776,0.63065890756233911,1.3184926701217123,1.5755203313321131,2.756451557337142,1.2760000000000001E-4,1.7219,2,3.76611E-4,763.26517311676128,836.13657141043336,1114.44,0.95,0.95,0.95,763,836,1114,328,359,479,0.51827708039997999,0.61727233073709142,1.0794747424565225,3.2,16.399999999999999,17.7,29.7,null,5270,null,0.8,null,null,0,10,10.9,21.85,null,1,1,1,763,836,1114,null,0,0,0,1]
["34026010",null,null,3,40,260,10,11.5,0,26,30,47.8,2253.6,4178.1784000000007,4608.2849999999999,6144.38,1.5,1.08,1.08,1.08,2254,4178,4608,6144,194,359,396,528,0.31314829541586731,0.98066442194259407,1.1770680299869807,2.0125184153009763,3.969E-4,1.7345999999999999,2,3.6734700000000002E-4,579.25120000000004,638.88,851.84,0.98,0.98,0.98,579,639,852,249,275,366,0.4971168110898011,0.59766089099899167,1.0165350975712137,1.7,16.2,18.600000000000001,31.4,null,2504,null,0.9,null,null,0,10.199999999999999,11.9,21.85,null,1,1,1,579,639,852,null,0,0,0,1]
["34026011",null,null,3,40,260,11,11.5,0,26,30,47.8,2234.48,5669.0920000000006,6252.6749999999993,8336.9,1.5,1.1000000000000001,1.1000000000000001,1.1000000000000001,2234,5669,6253,8337,192,488,538,717,0.55645889202741605,3.1003441376081904,3.7135384223781238,6.3239752846398876,3.969E-4,1.7345999999999999,4,5.7428799999999995E-4,949.51120000000003,1047.2549999999999,1396.34,0.95,0.95,0.95,950,1047,1396,409,450,600,2.2371204011135477,2.6688522314760581,4.5447894857124886,3.5,16.2,18.600000000000001,31.4,null,3286,null,0.68,null,null,0,10.199999999999999,11.9,21.85,null,1,1,1,950,1047,1396,null,0,0,0,1]
["34026020",null,null,3,40,260,20,21.5,0,26,30,48.1,4568,6444.5232000000005,7107.93,9477.24,1.5,1.08,1.08,1.08,4568,6445,7108,9477,393,554,611,815,0.75018241810404462,1.4581371213480712,1.7629893390377123,3.0840089604891157,1.2760000000000001E-4,1.7219,2,3.76611E-4,768.42720000000008,847.53,1130.04,0.95,0.95,0.95,768,848,1130,330,365,486,0.53526796134941879,0.65032127694667174,1.1314386418343181,3.5,16.399999999999999,17.7,29.7,null,5710,null,0.8,null,null,0,10,10.9,21.85,null,1,1,1,768,848,1130,null,0,0,0,1]
["34026021",null,null,3,40,260,21,21.5,0,26,30,48.1,4729.6000000000004,9234.8263652613623,9570.7750567366256,14035.359999999999,1.5,1.05,1.05,1.05,4730,9235,9571,14035,407,794,823,1207,1.2174045843240047,4.3862630877952062,4.6996233793878117,9.8287737597437417,1.2760000000000001E-4,1.7219,4,5.1420100000000005E-4,1167.5126679363457,1209.9849719689844,1774.42,0.85,0.85,0.85,1168,1210,1774,502,520,763,1.8190609839698662,1.9461054883013664,4.0628828592588073,6.9,16.399999999999999,17.7,29.7,null,5912,null,0.8,null,null,0,10,10.9,21.85,null,1,1,1,1168,1210,1774,null,0,0,0,1]
["34028011",null,null,3,40,280,11,11.5,0,26,30,47.8,2406.52,5976.8600000000006,6598.9760720588583,8789.5,1.5,1.1000000000000001,1.1000000000000001,1.1000000000000001,2407,5977,6599,8790,207,514,568,756,0.67116398575746827,3.5696256833176774,4.2925175377176981,7.2836639593144552,3.969E-4,1.7345999999999999,4,5.7428799999999995E-4,956,1056,1406,0.95,0.95,0.95,956,1056,1406,411,454,605,2.3637663276478489,2.839310118041396,4.8232973600811606,3.7,16.2,18.600000000000001,31.4,null,3539,null,0.68,null,null,0,10.199999999999999,11.9,21.85,null,1,1,1,956,1056,1406,null,0,0,0,1]
["34028015",null,null,3,40,280,15,16.5,0,26,30,48.9,3512,5583.9635634029,5708.9475468201636,8483.56,1.5,1.08,1.08,1.08,3512,5584,5709,8484,302,480,491,730,0.61728807399852748,1.4973769906672623,1.5638277222676435,3.3484388456827587,2.0829999999999999E-4,1.724,2,4.6182900000000003E-4,762.23344503523219,779.29426056038062,1158.04,1.01,1.01,1.01,762,779,1158,328,335,498,0.72271492130345638,0.75246226647382841,1.6068391234938044,2.8,19.3,20.399999999999999,34.5,null,4390,null,0.8,null,null,0,10,10.6,21.85,null,1,1,1,762,779,1158,null,0,0,0,1]
["34028020",null,null,3,40,280,20,21.5,0,26,30,48.9,4919.2000000000007,7236.8592000000008,7990.1253664397382,10642.44,1.5,1.08,1.08,1.08,4919,7237,7990,10642,423,622,687,915,0.8815101256914365,1.8574060664841625,2.2516092472705127,3.9248647156049832,1.2760000000000001E-4,1.7219,2,3.76611E-4,894.36320000000012,987.455178225689,1315.24,0.95,0.95,0.95,894,987,1315,384,424,565,0.73142402444564503,0.88553710556508203,1.5421797125957473,3.7,19.3,20.399999999999999,34.5,null,6149,null,0.8,null,null,0,10,10.6,21.85,null,1,1,1,894,987,1315,null,0,0,0,1]
["34028021",null,null,3,40,280,21,21.5,0,26,30,48.1,5093.6000000000004,10516.06232539558,10751.439821034392,15976.76,1.5,1.05,1.05,1.05,5094,10516,10751,15977,438,904,925,1374,1.4363247538778632,5.75336682600242,6.0128744748590695,12.875842236012033,1.2760000000000001E-4,1.7219,4,5.1420100000000005E-4,1261.7808956926551,1290.0229142432502,1916.9885000000002,0.85,0.85,0.85,1262,1290,1917,543,555,824,2.1656497129108883,2.258122327655359,4.8155944562823167,7.5,19.3,20.399999999999999,34.5,null,6367,null,0.8,null,null,0,10,10.6,21.85,null,1,1,1,1262,1290,1917,null,0,0,0,1]
["34030011",null,null,3,40,300,11,11.5,0,26,30,47.8,2578.5600000000004,6285,6939,9242,1.5,1.1000000000000001,1.1000000000000001,1.1000000000000001,2579,6285,6939,9242,222,541,597,795,0.79941801616357522,4.0947526705547128,4.9094354217626668,8.3290701456325671,3.969E-4,1.7345999999999999,4,5.7428799999999995E-4,963,1063,1416,0.95,0.95,0.95,963,1063,1416,414,457,609,2.5033921219274102,3.0018914286103233,5.092866662726184,4,16.2,18.600000000000001,31.4,null,3792,null,0.68,null,null,0,10.199999999999999,11.9,21.85,null,1,1,1,963,1063,1416,null,0,0,0,1]
["34030015",null,null,3,40,300,15,16.5,0,26,30,48.9,3763.2000000000003,5796,5926,8806,1.5,1.08,1.08,1.08,3763,5796,5926,8806,324,498,510,757,0.72335992331429311,1.6433144110086391,1.7198862695364554,3.6657492733438,2.0829999999999999E-4,1.724,2,4.6182900000000003E-4,771,788,1171,1.01,1.01,1.01,771,{"$f":"ROUND(AL960*POWER(CF_cool,AO960),0)","v":788},{"$f":"ROUND(AM960*POWER(CF_cool,AP960),0)","v":1171},332,339,504,0.75777354700053923,0.78851465813358146,1.6813903761483546,3,19.3,20.399999999999999,34.5,null,4704,null,0.8,null,null,0,10,10.6,21.85,null,1,1,1,771,788,1171,null,0,0,0,1]
["34030020",null,null,3,40,300,20,21.5,0,26,30,48.9,5270.4000000000005,7549,8335,11102,1.5,1.08,1.08,1.08,5270,7549,8335,11102,453,649,717,955,1.0249300937591801,2.0514636214383453,2.4873001829268433,4.3324369681618959,1.2760000000000001E-4,1.7219,2,3.76611E-4,905,999,1331,0.95,0.95,0.95,905,999,1331,389,430,572,0.76431919512798108,0.92701417801356134,1.6073504963383516,4,19.3,20.399999999999999,34.5,null,6588,null,0.8,null,null,0,10,10.6,21.85,null,1,1,1,905,999,1331,null,0,0,0,1]
["34030021",null,null,3,40,300,21,21.5,0,26,30,48.1,5457.6,10844,11086,16475,1.5,1.05,1.05,1.05,5458,10844,11086,16475,469,933,953,1417,1.6764720032154261,6.2432094291838682,6.5023476533141213,13.930846770207117,1.2760000000000001E-4,1.7219,4,5.1420100000000005E-4,1468,1501,2231,0.85,0.85,0.85,1468,1501,2231,631,645,959,2.9532166901831141,3.0796974723112269,6.5810810968934375,8,19.3,20.399999999999999,34.5,null,6822,null,0.8,null,null,0,10,10.6,21.85,null,1,1,1,1468,1501,2231,null,0,0,0,1]
["3505011",null,null,3,50,50,11,11.5,0,26,30,38.799999999999997,471.24,881.02076921515595,942.75810617769378,1102.4000000000001,1.5,1.1000000000000001,1.1000000000000001,1.1000000000000001,471,881,943,1102,41,76,81,95,1.2935683513089621E-2,4.2643686555216082E-2,4.8246206994949491E-2,6.5720039533966129E-2,3.969E-4,1.7345999999999999,4,5.7428799999999995E-4,{"$f":"AK867","v":147.56138863197239},157.90172054122763,184.64,0.95,0.95,0.95,148,158,185,64,68,80,3.0575828151930776E-2,3.4381682232525662E-2,4.7098764109165574E-2,0.7,3.6,4.0999999999999996,5.0999999999999996,null,693,null,0.68,null,null,0,14.2,16.2,21.85,null,1,1,1,148,158,185,null,0,0,0,1]
["3506010",null,null,3,50,60,10,11.5,0,26,30,40,581.4,841.69225687813923,901.35950941531064,1066.3800000000001,1.5,1.08,1.08,1.08,581,842,901,1066,50,72,77,92,1.214004296048507E-2,2.4572994832794695E-2,2.7985026550444856E-2,3.9512902180266693E-2,3.969E-4,1.7345999999999999,2,3.6734700000000002E-4,{"$f":"AK868","v":116.68990721587436},124.96201154556491,147.84,0.98,0.98,0.98,117,125,148,50,54,64,1.214004296048507E-2,1.4086095785072505E-2,1.9563990759703984E-2,0.4,4.8,5.4,6.8,null,646,null,0.9,null,null,0,13.6,15.6,21.85,null,1,1,1,117,125,148,null,0,0,0,1]
["3506015",null,null,3,50,60,15,16.5,0,26,30,41.1,832,957.19258357509659,1027.5250511543745,1359.96,1.5,1.08,1.08,1.08,832,957,1028,1360,72,82,88,117,2.6426890732900131E-2,3.4141898797120353E-2,3.9238605418779701E-2,6.880178174125845E-2,2.0829999999999999E-4,1.724,2,4.6182900000000003E-4,{"$f":"AK870","v":130.66063061772473},140.26129481477255,185.64,1.01,1.01,1.01,131,140,186,56,60,80,1.6115444159911004E-2,1.8458252538956766E-2,3.25208961878376E-2,0.6,4.8,5.5,7.2,null,1040,null,0.8,null,null,0,12.3,14.4,21.85,null,1,1,1,131,140,186,null,0,0,0,1]
["3506016",null,null,3,50,60,16,16.5,0,26,30,41.1,774.5200000000001,1399.7241764138612,1502.5729206967153,1988.7,1.5,1.1000000000000001,1.1000000000000001,1.1000000000000001,775,1400,1503,1989,67,120,129,171,6.650928759934463E-2,0.21085507991814395,0.24334273125065864,0.42546271730679758,2.0829999999999999E-4,1.724,4,1.392796E-3,{"$f":"AK871","v":214},230,305,0.95,0.95,0.95,214,230,305,92,99,131,0.12457564927087089,0.14404410806926615,0.25087593311274681,1.2,4.8,5.5,7.2,null,1139,null,0.68,null,null,0,12.3,14.4,21.85,null,1,1,1,214,230,305,null,0,0,0,1]
["3506021",null,null,3,50,60,21,21.5,0,26,30,41.1,1239.2,1802.6437228662567,1935.0981352499616,2561.16,1.5,1.05,1.05,1.05,1239,1803,1935,2561,107,155,166,220,6.481374223055926E-2,0.13454431150760796,0.15402657304252074,0.26852892559558028,1.2760000000000001E-4,1.7219,4,5.1420100000000005E-4,{"$f":"AK873","v":233.82931859416351},251.01059773412922,332.22,0.85,0.85,0.85,234,251,332,101,108,143,5.7851346790324013E-2,6.601213332318584E-2,0.1147780548995266,1.6,4.8,5.5,7.2,null,1549,null,0.8,null,null,0,12.3,14.4,21.85,null,1,1,1,234,251,332,null,0,0,0,1]
["3507010",null,null,3,50,70,10,11.5,0,26,30,41,677.7,1029.7403904507714,1104.2859635902939,1320.28,1.5,1.08,1.08,1.08,678,1030,1104,1320,58,89,95,114,1.7063240433459286E-2,3.8924960889446435E-2,4.4146590218265697E-2,6.2778209343462163E-2,3.969E-4,1.7345999999999999,2,3.6734700000000002E-4,{"$f":"AK874","v":142.7603849699376},153.09517888293954,183.04,0.98,0.98,0.98,143,153,183,61,66,79,1.8801217016227327E-2,2.1878764945327631E-2,3.093277823234393E-2,0.5,5.5,5.9,7.9,null,753,null,0.9,null,null,0,13.2,15.1,21.85,null,1,1,1,143,153,183,null,0,0,0,1]
["3507015",null,null,3,50,70,15,16.5,0,26,30,41.1,975.82735416996661,1070.8273541699666,1149.5094620994566,1521.41,1.5,1.08,1.08,1.08,976,1071,1150,1521,{"$f":"ROUND(U974*3600/(4186*ABS($O$1-$O$2)),0)","v":84},{"$f":"ROUND(V974*3600/(4186*ABS($O$1-$O$2)),0)","v":92},{"$f":"ROUND(W974*3600/(4186*ABS($O$1-$O$2)),0)","v":99},{"$f":"ROUND(X974*3600/(4186*ABS($O$1-$O$2)),0)","v":131},3.6649876914223174E-2,4.3822991749213405E-2,5.0617442668221047E-2,8.7813072353079863E-2,2.0829999999999999E-4,1.724,2,4.6182900000000003E-4,{"$f":"AK876","v":135.09481491470635},145.02129350758159,191.94,1.01,1.01,1.01,135,145,192,{"$f":"ROUND(AQ974*3600/(4186*ABS($AM$1-$AM$2)),0)","v":58},{"$f":"ROUND(AR974*3600/(4186*ABS($AM$1-$AM$2)),0)","v":62},{"$f":"ROUND(AS974*3600/(4186*ABS($AM$1-$AM$2)),0)","v":83},1.7715040719154605E-2,2.0190861450308E-2,3.5797696205080359E-2,0.7,5.0999999999999996,5.6,7.2,null,1214,null,0.8,null,null,0,12.3,14.4,21.85,null,1,1,1,135,145,192,null,0,0,0,1]
["3507016",null,null,3,50,70,16,16.5,0,26,30,41.1,903.72,1627.62717250317,1747.2217424001376,2312.5,1.5,1.1000000000000001,1.1000000000000001,1.1000000000000001,904,1628,1747,2313,78,140,150,199,9.1341867693011378E-2,0.2902779131483183,0.33273460547085354,0.58224305620495909,2.0829999999999999E-4,1.724,4,1.392796E-3,{"$f":"AK877","v":219.59769851718443},235.73326859625641,312,0.95,0.95,0.95,220,236,312,95,101,134,0.1348444213322838,0.1521944098151945,0.26618360536544905,1.4,5.0999999999999996,5.6,7.2,null,1329,null,0.68,null,null,0,12.3,14.4,21.85,null,1,1,1,220,236,312,null,0,0,0,1]
["3507021",null,null,3,50,70,21,21.5,0,26,30,41.1,1445.6000000000001,1977.8291945358951,2123.1558613833213,2810.06,1.5,1.05,1.05,1.05,1446,1978,2123,2810,124,170,183,242,8.8673414945701898E-2,0.16489933699427986,0.1906306494771868,0.33050578585065171,1.2760000000000001E-4,1.7219,4,5.1420100000000005E-4,{"$f":"AK879","v":240.30463534531125},257.96170693632649,341.42,0.85,0.85,0.85,240,258,341,103,111,147,6.1591027996900249E-2,7.1335725011536941E-2,0.12389224890734116,1.9,5.0999999999999996,5.6,7.2,null,1807,null,0.8,null,null,0,12.3,14.4,21.85,null,1,1,1,240,258,341,null,0,0,0,1]
["3508010",null,null,3,50,80,10,11.5,0,26,30,41.8,774.9,1214.2269940407766,1304.1433704057049,1574.18,1.5,1.08,1.08,1.08,775,1214,1304,1574,67,104,112,135,2.3665396918554731E-2,5.5028754884652663E-2,6.3456869664955617E-2,9.0909861993553942E-2,3.969E-4,1.7345999999999999,2,3.6734700000000002E-4,{"$f":"AK880","v":168.33710197020613},180.80286190736828,218.24,0.98,0.98,0.98,168,181,218,72,78,94,2.7165359623318678E-2,3.167181300086596E-2,4.5312552969066985E-2,0.5,6.3,6.8,9.1,null,861,null,0.9,null,null,0,12.8,14.7,21.85,null,1,1,1,168,181,218,null,0,0,0,1]
["3508015",null,null,3,50,80,15,16.5,0,26,30,42.4,1109.6000000000001,1395.33740436932,1496.2563490716184,2007.56,1.5,1.08,1.08,1.08,1110,1395,1496,2008,95,120,129,173,4.7724188834548723E-2,7.5461940836559702E-2,8.697073187627373E-2,0.1547867774406054,2.0829999999999999E-4,1.724,2,4.6182900000000003E-4,{"$f":"AK882","v":190.46915773046311},204.24499885412456,274.04000000000002,1.01,1.01,1.01,190,204,274,82,88,118,3.5768909532348576E-2,4.1076258231928696E-2,7.3013760578283488E-2,0.8,6,6.7,9,null,1387,null,0.8,null,null,0,11.8,13.7,21.85,null,1,1,1,190,204,274,null,0,0,0,{"$f":"IF(SUM(BV980:BX980)=0,1,0)","v":1}]
["3508016",null,null,3,50,80,16,16.5,0,26,30,42.4,1032.24,2040.4331716148024,2188.0092071816284,2935.7,1.5,1.1000000000000001,1.1000000000000001,1.1000000000000001,1032,2040,2188,2936,89,175,188,252,0.1204090451473749,0.45744743887251921,0.52704418993994806,0.94073397666389191,2.0829999999999999E-4,1.724,4,1.392796E-3,{"$f":"AK883","v":312},335,450,0.95,0.95,0.95,312,335,450,134,144,194,0.26997766374686077,0.31121106327333475,0.56081193423750164,1.6,6,6.7,9,null,1518,null,0.68,null,null,0,11.8,13.7,21.85,null,1,1,1,312,335,450,null,0,0,0,1]
["3508021",null,null,3,50,80,21,21.5,0,26,30,42.4,1652.8000000000002,2627.7848955664344,2817.8416357747774,3780.76,1.5,1.05,1.05,1.05,1653,2628,2818,3781,142,226,242,325,0.11828482132104842,0.29449823797779945,0.33687122572177608,0.60164522481343263,1.2760000000000001E-4,1.7219,4,5.1420100000000005E-4,{"$f":"AK885","v":340.86222571220884},365.51537125251701,490.42,0.85,0.85,0.85,341,366,490,147,157,211,0.12659023968056798,0.14403307699408213,0.25732674402542394,2.1,6,6.7,9,null,2066,null,0.8,null,null,0,11.8,13.7,21.85,null,1,1,1,341,366,490,null,0,0,0,1]
["3509010",null,null,3,50,90,10,11.5,0,26,30,42.4,871.2,1395.6272192501513,1501.3000140389001,1828.08,1.5,1.08,1.08,1.08,871,1396,1501,1828,75,120,129,157,3.0768174523516621E-2,7.5608781210671119E-2,8.6853211147160284E-2,0.12662134598395483,3.969E-4,1.7345999999999999,2,3.6734700000000002E-4,{"$f":"AK886","v":193.48593193227777},208.13611852764589,253.44,0.98,0.98,0.98,193,208,253,83,89,109,3.7340239212640722E-2,4.2669333600542279E-2,6.2889336846315577E-2,0.6,6.7,7.4,10.3,null,968,null,0.9,null,null,0,12.5,14.7,21.85,null,1,1,1,193,208,253,null,0,0,0,1]
["3509015",null,null,3,50,90,15,16.5,0,26,30,43.3,1248.8000000000002,1597.9167676946356,1711.9130538160239,2331.36,1.5,1.08,1.08,1.08,1249,1598,1712,2331,107,137,147,200,6.1547573434579228E-2,9.9846629634346956E-2,0.11462442340612437,0.20964202709641322,2.0829999999999999E-4,1.724,2,4.6182900000000003E-4,{"$f":"AK888","v":218.12205414485143},233.68300487544244,318.24,1.01,1.01,1.01,218,234,318,94,101,137,4.7773932289979358E-2,5.4977761599022158E-2,9.9846629634346956E-2,0.9,7,7.7,10.7,null,1561,null,0.8,null,null,0,11.3,13.2,21.85,null,1,1,1,218,234,318,null,0,0,0,1]
["3509016",null,null,3,50,90,16,16.5,0,26,30,43.3,1161.44,2336.669516687492,2503.3688418217644,3409.2,1.5,1.1000000000000001,1.1000000000000001,1.1000000000000001,1161,2337,2503,3409,100,201,215,293,0.15381198396114895,0.60915360332621049,0.69575042058868541,1.2822911322288062,2.0829999999999999E-4,1.724,4,1.392796E-3,{"$f":"AK889","v":357.77938745479025},383.30357134546551,522,0.95,0.95,0.95,358,383,522,154,165,224,0.36016635113087053,0.41266687566708049,0.75442675175462648,1.8,7,7.7,10.7,null,1708,null,0.68,null,null,0,11.3,13.2,21.85,null,1,1,1,358,383,522,null,0,0,0,1]
[{"$f":"CONCATENATE(D989,E989,F989,G989)","v":"3509021"},null,null,3,50,90,21,21.5,0,26,30,43.3,1859.2,3009.2947651024979,3223.9795559512399,4390.5600000000004,1.5,{"$f":"IF($G989=10,1.08,IF($G989=11,1.1,IF($G989=15,1.08,IF($G989=16,1.1,IF($G989=20,1.08,IF($G989=21,1.05))))))","v":1.05},1.05,1.05,1859,3009,3224,4391,160,259,277,378,{"$f":"(($AG989*(Y989^$AH989)*((($F989-14.4)*$AI989)/100))+($AJ989*(Y989^2)))*0.0098","v":0.15260387350858196},{"$f":"(($AG989*(Z989^$AH989)*((($F989-14.4)*$AI989)/100))+($AJ989*(Z989^2)))*0.0098","v":0.39212285066283958},{"$f":"(($AG989*(AA989^$AH989)*((($F989-14.4)*$AI989)/100))+($AJ989*(AA989^2)))*0.0098","v":0.44737503001439571},{"$f":"(($AG989*(AB989^$AH989)*((($F989-14.4)*$AI989)/100))+($AJ989*(AB989^2)))*0.0098","v":0.82373176047688912},1.2760000000000001E-4,1.7219,4,5.1420100000000005E-4,{"$f":"AK891","v":390.34964893343317},418.19741370243202,569.52,0.85,0.85,0.85,390,418,570,168,180,245,{"$f":"(($AG989*(AT989^$AH989)*((($F989-14.4)*$AI989)/100))+($AJ989*(AT989^2)))*0.0098","v":0.16789509816318576},{"$f":"(($AG989*(AU989^$AH989)*((($F989-14.4)*$AI989)/100))+($AJ989*(AU989^2)))*0.0098","v":0.19217671661448937},{"$f":"(($AG989*(AV989^$AH989)*((($F989-14.4)*$AI989)/100))+($AJ989*(AV989^2)))*0.0098","v":0.35163070513405226},2.4,7,7.7,10.7,null,2324,null,0.8,null,null,0,11.3,13.2,21.85,null,1,1,1,390,{"$f":"AR989/BP989","v":418},{"$f":"AS989/BQ989","v":570},null,0,0,0,1]
["35010010",null,null,3,50,100,10,11.5,0,26,30,43,968.4,1574.3905475253332,1696.1265760133244,2081.98,1.5,1.08,1.08,1.08,968,1574,1696,2082,83,135,146,179,3.8998947556455631E-2,9.8623231218722851E-2,0.11455551187153463,0.16920060692862343,3.969E-4,1.7345999999999999,2,3.6734700000000002E-4,{"$f":"AK892","v":218.26918973175157},235.14633901405676,288.64,0.98,0.98,0.98,218,235,289,94,101,124,4.9429305306709352E-2,5.6681136080738742E-2,8.3841493078660942E-2,0.7,7.8,8.6999999999999993,12.2,null,1076,null,0.9,null,null,0,12.3,14.1,21.85,null,{"$f":"IF((237.3*LN(($AQ$1*EXP(17.27*($AM$3/($AM$3+237.3))))))/(17.27-LN(($AQ$1*EXP(17.27*($AM$3/($AM$3+237.3))))))<(($AM$1+$AM$2)/2),1,IF(1/(1+((2258*((0.622/((101325/(1*611*EXP(17.27*((($AM$1+$AM$2)/2)/((($AM$1+$AM$2)/2)+237.3))))))-1)*1000-(0.622/((101325/($AQ$1*611*EXP(17.27*($AM$3/($AM$3+237.3))))))-1)*1000))/(1005*((($AM$1+$AM$2)/2)-$AM$3))))>1,1,1/(1+((2258*((0.622/((101325/(1*611*EXP(17.27*((($AM$1+$AM$2)/2)/((($AM$1+$AM$2)/2)+237.3))))))-1)*1000-(0.622/((101325/($AQ$1*611*EXP(17.27*($AM$3/($AM$3+237.3))))))-1)*1000))/(1005*((($AM$1+$AM$2)/2)-$AM$3))))))","v":1},1,1,218,235,289,null,0,0,0,1]
["35010016",null,null,3,50,100,16,16.5,0,26,30,44.1,1290.6400000000001,2630.3871448118639,2816.5633812075234,3882.7,1.5,1.1000000000000001,1.1000000000000001,1.1000000000000001,1291,2630,2817,3883,111,226,242,334,0.19164820330533572,0.77712770761656835,0.88934367498091926,1.6794877029795134,2.0829999999999999E-4,1.724,4,1.392796E-3,{"$f":"AK895","v":403},431,595,0.95,0.95,0.95,403,431,595,173,185,256,0.45896052508691165,0.52378160296818432,0.99366847477469411,2,7,7.7,10.7,null,1898,null,0.68,null,null,0,10.9,12.8,21.85,null,1,1,1,403,431,595,null,0,0,0,1]
["35010020",null,null,3,50,100,20,21.5,0,26,30,44.1,1940,2518.7768428703835,2713.5353098724395,3330.84,1.5,1.08,1.08,1.08,1940,2519,2714,3331,167,217,233,286,0.1173162593266832,0.19637584927080459,0.22589211718801094,0.33821597295331562,1.2760000000000001E-4,1.7219,2,3.76611E-4,{"$f":"AK896","v":311.2816285378957},335.35074484391049,411.64,0.95,0.95,0.95,311,335,412,134,144,177,7.6117387440108403E-2,8.7676786087461309E-2,0.13152753973488002,1.3,7,7.7,10.7,null,2425,null,0.8,null,null,0,10.9,12.8,21.85,null,1,1,1,311,335,412,null,0,0,0,1]
["35011010",null,null,3,50,110,10,11.5,0,26,30,43.5,1065.6000000000001,1766.3893947845202,1902.9712804051933,2335.88,1.5,1.08,1.08,1.08,1066,1766,1903,2336,92,152,164,201,4.9427920932313511E-2,0.12846635666491932,0.14849855963064404,0.21898283146724631,3.969E-4,1.7345999999999999,2,3.6734700000000002E-4,{"$f":"AK898","v":244.88738360147738},263.82272182064906,323.83999999999997,0.98,0.98,0.98,245,264,324,105,114,139,6.3532409410345894E-2,7.4283678081492499E-2,0.10834103483995079,0.7,8.4,9.3000000000000007,14,null,1184,null,0.9,null,null,0,12,13.9,21.85,null,1,1,1,245,264,324,null,0,0,0,1]
["35011011",null,null,3,50,110,11,11.5,0,26,30,43.5,1037,2396.6961264405954,2582.0149905458411,3169.4,1.5,1.1000000000000001,1.1000000000000001,1.1000000000000001,1037,2397,2582,3169,89,206,222,273,8.0375768548476237E-2,0.39231335542301654,0.4521181336762668,0.66959643399325008,3.969E-4,1.7345999999999999,4,5.7428799999999995E-4,{"$f":"AK899","v":401.42051232401269},432.4594048025981,530.84,0.95,0.95,0.95,401,432,531,172,186,228,0.27874588734236166,0.32327190223067265,0.47558723983145007,1.5,8.4,9.3000000000000007,14,null,1525,null,0.68,null,null,0,12,13.9,21.85,null,1,1,1,401,432,531,null,0,0,0,1]
["35011016",null,null,3,50,110,16,16.5,0,26,30,44.1,1419.8400000000001,2849.7497938679544,3051.4523045945984,4206.5,1.5,1.1000000000000001,1.1000000000000001,1.1000000000000001,1420,2850,3051,4207,122,245,262,362,0.23401211503050393,0.92195448057549512,1.0521845346704815,1.9898808014753209,2.0829999999999999E-4,1.724,4,1.392796E-3,{"$f":"AK901","v":407.83296705301524},436.69898665540194,602,0.95,0.95,0.95,408,437,602,175,188,259,0.47548152700019564,0.54744957167687558,1.0285851673079258,2.2000000000000002,7.9,8.8000000000000007,12.5,null,2088,null,0.68,null,null,0,10.9,12.8,21.85,null,1,1,1,408,437,602,null,0,0,0,1]
["35011020",null,null,3,50,110,20,21.5,0,26,30,44.1,2134.4,2692.551301713082,2900.746468081386,3560.6400000000003,1.5,1.08,1.08,1.08,2134,2693,2901,3561,184,232,249,306,0.1439378571662937,0.22694722640377721,0.26079058599865457,0.3911657832602583,1.2760000000000001E-4,1.7219,2,3.76611E-4,{"$f":"AK902","v":317.17997831584631},341.70517057946222,419.44,0.95,0.95,0.95,317,342,419,136,147,180,7.9544712053658623E-2,9.2650629466224224E-2,0.13785909087762688,1.5,7.9,8.8000000000000007,12.5,null,2668,null,0.8,null,null,0,10.9,12.8,21.85,null,1,1,1,317,342,419,null,0,0,0,1]
["35012010",null,null,3,50,120,10,11.5,0,26,30,44,1161.9000000000001,1924.9914127028867,2079.6202422788024,2589.7800000000002,1.5,1.08,1.08,1.08,1162,1925,2080,2590,100,166,179,223,6.019921043317894E-2,0.15749249199599902,0.18178308069124571,0.2762925905995734,3.969E-4,1.7345999999999999,2,3.6734700000000002E-4,{"$f":"AK904","v":266.87553260000635},288.31284965818764,359.04,0.98,0.98,0.98,267,288,359,115,124,154,7.844810437960871E-2,9.0497540707880797E-2,0.13655457969155813,0.8,8.9,9.9,14.8,null,1291,null,0.9,null,null,0,11.8,13.7,21.85,null,1,1,1,267,288,359,null,0,0,0,1]
["35012011",null,null,3,50,120,11,11.5,0,26,30,44,1130.8400000000001,2611.8926414972211,2821.6982019103875,3513.9,1.5,1.1000000000000001,1.1000000000000001,1.1000000000000001,1131,2612,2822,3514,97,225,243,302,9.8861741562754749E-2,0.48249130904551651,0.55811858661840352,0.8424915609755409,3.969E-4,1.7345999999999999,4,5.7428799999999995E-4,{"$f":"AK905","v":437},473,589,0.95,0.95,0.95,437,473,589,188,203,253,0.34358909156864093,0.39720266611384658,0.60239378849067871,1.6,8.9,9.9,14.8,null,1663,null,0.68,null,null,0,11.8,13.7,21.85,null,1,1,1,437,473,589,null,0,0,0,1]
["35012016",null,null,3,50,120,16,16.5,0,26,30,44.8,1549.0400000000002,3241.8333772189817,3471.5459677567114,4829.7,1.5,1.1000000000000001,1.1000000000000001,1.1000000000000001,1549,3242,3472,4830,133,279,299,415,0.28099543431150953,1.204343316710782,1.3801140974321322,2.632057975603213,2.0829999999999999E-4,1.724,4,1.392796E-3,{"$f":"AK907","v":496},532,740,0.95,0.95,0.95,496,532,740,213,229,318,0.70833668732811383,0.81671249966312653,1.5580377368272431,2.4,8.6999999999999993,9.8000000000000007,14.3,null,2278,null,0.68,null,null,0,10.6,12.5,21.85,null,1,1,1,496,532,740,null,0,0,0,1]
["35012020",null,null,3,50,120,20,21.5,0,26,30,44.8,2328,3079.6829926739365,3327.0647594078355,4143.24,1.5,1.08,1.08,1.08,2328,3080,3327,4143,200,265,286,356,0.17183702066214884,0.29848242281650889,0.34670295754782865,0.53308564610580933,1.2760000000000001E-4,1.7219,2,3.76611E-4,{"$f":"AK908","v":380.60090160569081},411.17343900116532,512.04,0.95,0.95,0.95,381,411,512,164,177,220,0.11646670942658871,0.13524222402195477,0.20715667478646135,1.6,8.6999999999999993,9.8000000000000007,14.3,null,2910,null,0.8,null,null,0,10.6,12.5,21.85,null,1,1,1,381,411,512,null,0,0,0,1]
["35014010",null,null,3,50,140,10,11.5,0,26,30,44.8,1355.4,2267.7915432376717,2456.1428225151312,3097.58,1.5,1.08,1.08,1.08,1355,2268,2456,3098,117,195,211,266,8.7072593522862174E-2,0.22855867513090425,0.26538154154463672,0.41180366936575952,3.969E-4,1.7345999999999999,2,3.6734700000000002E-4,{"$f":"AK910","v":314.40040300104783},340.51290804463417,429.44,0.98,0.98,0.98,314,341,429,135,147,184,0.11404996966906063,0.1339431496553784,0.20476735769324847,0.9,10.1,11.2,17.5,null,1506,null,0.9,null,null,0,11.5,13.3,21.85,null,1,1,1,314,341,429,null,0,0,0,1]
["35014011",null,null,3,50,140,11,11.5,0,26,30,44.8,1319.2,3077.015307780141,3332.5766142436496,4202.8999999999996,1.5,1.1000000000000001,1.1000000000000001,1.1000000000000001,1319,3077,3333,4203,113,265,287,361,0.14302269978683496,0.70734607634958468,0.82199994803261212,1.2670408781957792,3.969E-4,1.7345999999999999,4,5.7428799999999995E-4,{"$f":"AK911","v":515},558,704,0.95,0.95,0.95,515,558,704,221,240,303,0.5026708586376617,0.58700184508997044,0.91049538023254029,1.9,10.1,11.2,17.5,null,1940,null,0.68,null,null,0,11.5,13.3,21.85,null,1,1,1,515,558,704,null,0,0,0,1]
["35014016",null,null,3,50,140,16,16.5,0,26,30,45.4,1806.7600000000002,3844.4231409656436,4117.1080284867467,5776.7,1.5,1.1000000000000001,1.1000000000000001,1.1000000000000001,1807,3844,4117,5777,155,331,354,497,0.38917554699290247,1.7219838483818737,1.9648470126541058,3.8280696316652558,2.0829999999999999E-4,1.724,4,1.392796E-3,{"$f":"AK913","v":589},630,885,0.95,0.95,0.95,589,630,885,253,271,381,1.0162271216516092,1.1628994061160329,2.2700825079676186,2.8,9.6,10.5,16.100000000000001,null,2657,null,0.68,null,null,0,10.4,12.2,21.85,null,1,1,1,589,630,885,null,0,0,0,1]
["35014020",null,null,3,50,140,20,21.5,0,26,30,45.4,2716,3628.1091959950468,3929.4415695377957,4955.6400000000003,1.5,1.08,1.08,1.08,2716,3628,3929,4956,234,312,338,426,0.23981950730409271,0.42118895241344162,0.49271246369818478,0.7756359730733573,1.2760000000000001E-4,1.7219,2,3.76611E-4,{"$f":"AK914","v":448.37784746172167},485.61784045001809,612.44000000000005,0.95,0.95,0.95,448,486,612,193,209,263,0.16455496588623258,0.1922740711354792,0.30142179085547277,1.9,9.6,10.5,16.100000000000001,null,3395,null,0.8,null,null,0,10.4,12.2,21.85,null,1,1,1,448,486,612,null,0,0,0,1]
["35016010",null,null,3,50,160,10,11.5,0,26,30,45.5,1549.8,2603.9362232520607,2826.6988006529018,3605.38,1.5,1.08,1.08,1.08,1550,2604,2827,3605,133,224,243,310,0.11839858531240816,0.31579069683258104,0.3682343427384388,0.58343322204871984,3.969E-4,1.7345999999999999,2,3.6734700000000002E-4,{"$f":"AK916","v":361.00257998610687},391.88577307200529,499.84,0.98,0.98,0.98,361,392,500,155,169,215,0.15784887533096326,0.18572654509721107,0.29228700277798675,1.1000000000000001,11,12.4,19.2,null,1722,null,0.9,null,null,0,11.2,13,21.85,null,1,1,1,361,392,500,null,0,0,0,1]
["35016011",null,null,3,50,160,11,11.5,0,26,30,45.5,1508.24,3533.107636511756,3835.359341571188,4891.8999999999996,1.5,1.1000000000000001,1.1000000000000001,1.1000000000000001,1508,3533,3835,4892,130,304,330,421,0.20030363298581721,0.97923387090071334,1.1422415218620434,1.8051385479062783,3.969E-4,1.7345999999999999,4,5.7428799999999995E-4,{"$f":"AK917","v":592},642,819,0.95,0.95,0.95,592,642,819,255,276,352,0.70442666719486835,0.81698629969873737,1.2893886583447325,2.1,11,12.4,19.2,null,2218,null,0.68,null,null,0,11.2,13,21.85,null,1,1,1,592,642,819,null,0,0,0,1]
["35016016",null,null,3,50,160,16,16.5,0,26,30,46.4,2065.1600000000003,4417.9368883555589,4716.8848144627045,6723.7,1.5,1.1000000000000001,1.1000000000000001,1.1000000000000001,2065,4418,4717,6724,178,380,406,578,0.52259583534871212,2.304157087904469,2.6233653218162551,5.2466408934953108,2.0829999999999999E-4,1.724,4,1.392796E-3,{"$f":"AK919","v":676},722,1030,0.95,0.95,0.95,676,722,1030,291,310,443,1.3661686148172167,1.5462621883682115,3.112728234709111,3.2,11.5,12.8,19.600000000000001,null,3037,null,0.68,null,null,0,10,11.8,21.85,null,1,1,1,676,722,1030,null,0,0,0,1]
["35016020",null,null,3,50,160,20,21.5,0,26,30,46.4,3104,4165.887726998767,4522.2727563025155,5768.04,1.5,1.08,1.08,1.08,3104,4166,4522,5768,267,358,389,496,0.31800062902255166,0.5639754157614939,0.66342434491024516,1.0674404634562651,1.2760000000000001E-4,1.7219,2,3.76611E-4,{"$f":"AK920","v":514.83890668473202},558.88255136973487,712.84,0.95,0.95,0.95,515,559,713,221,240,307,0.21989661309334549,0.25827229749987091,0.41765567382317259,2.1,11.5,12.8,19.600000000000001,null,3880,null,0.8,null,null,0,10,11.8,21.85,null,1,1,1,515,559,713,null,0,0,0,1]
["35018010",null,null,3,50,180,10,11.5,0,26,30,46,1743.3,2970.6878039917879,3224.8253922941558,4113.18,1.5,1.08,1.08,1.08,1743,2971,3225,4113,150,256,277,354,0.157673533315936,0.42971927512859232,0.49841362806075101,0.79115305439562644,3.969E-4,1.7345999999999999,2,3.6734700000000002E-4,{"$f":"AK922","v":411.84801378696699},447.08095237792156,570.24,0.98,0.98,0.98,412,447,570,177,192,245,0.21495642722836134,0.25036580839638034,0.39566467113231368,1.2,12.2,13.7,22,null,1937,null,0.9,null,null,0,10.9,12.7,21.85,null,1,1,1,412,447,570,null,0,0,0,1]
["35018011",null,null,3,50,180,11,11.5,0,26,30,46,1696.6000000000001,4030.7284303866513,4375.55079813051,5580.9,1.5,1.1000000000000001,1.1000000000000001,1.1000000000000001,1697,4031,4376,5581,146,347,376,480,0.26629038547766104,1.334539960528933,1.5506696983380099,2.4499067566992552,3.969E-4,1.7345999999999999,4,5.7428799999999995E-4,{"$f":"AK923","v":675.10313623602258},732.85712932403612,934.74,0.95,0.95,0.95,675,733,935,290,315,402,0.95449169552535984,1.1138291531732329,1.7573589514811909,2.4,12.2,13.7,22,null,2495,null,0.68,null,null,0,10.9,12.7,21.85,null,1,1,1,675,733,935,null,0,0,0,1]
["35018016",null,null,3,50,180,16,16.5,0,26,30,46.4,2322.88,4843.4549704976926,5171.1963699821436,7371.3,1.5,1.1000000000000001,1.1000000000000001,1.1000000000000001,2323,4843,5171,7371,200,417,445,634,0.67129343375571504,2.8182657536071059,3.2004400554381953,6.4023363853790576,2.0829999999999999E-4,1.724,4,1.392796E-3,{"$f":"AK925","v":686.3088894339993},732.7492584003295,1044.5,0.95,0.95,0.95,686,733,1045,295,315,449,1.4327504054076798,1.6285969093831283,3.2569852229594378,3.6,11.5,12.8,19.600000000000001,null,3416,null,0.68,null,null,0,10,11.8,21.85,null,1,1,1,686,733,1045,null,0,0,0,1]
["35018020",null,null,3,50,180,20,21.5,0,26,30,46.4,3492,4497.8275192555193,4882.6094666576164,6227.64,1.5,1.08,1.08,1.08,3492,4498,4883,6228,300,387,420,536,0.40847048540054742,0.67105520500225491,0.78724334085603187,1.2676087797406754,1.2760000000000001E-4,1.7219,2,3.76611E-4,{"$f":"AK926","v":526.1057925837863},571.11330132956857,728.44,0.95,0.95,0.95,526,{"$f":"ROUND(AL1024*POWER(CF_cool,AO1024),0)","v":571},{"$f":"ROUND(AM1024*POWER(CF_cool,AP1024),0)","v":728},226,246,313,0.23536033293811029,0.27756656183252509,0.44366421223291913,2.4,11.5,12.8,19.600000000000001,null,4365,null,0.8,null,null,0,10,11.8,21.85,null,1,1,1,526,571,728,null,0,0,0,1]
["35020010",null,null,3,50,200,10,11.5,0,26,30,46.5,1936.8,3259.5785648750903,3552.8677924068675,4620.9799999999996,1.5,1.08,1.08,1.08,1937,3260,3553,4621,167,280,306,397,0.2039239611833436,0.53596049138451529,0.63305954443385948,1.0323113448799708,3.969E-4,1.7345999999999999,2,3.6734700000000002E-4,{"$f":"AK928","v":451.89903695786995},492.55985148767917,640.64,0.98,0.98,0.98,452,493,641,194,212,276,0.26974633951173027,0.31839322337808124,0.52169992911952934,1.3,13.4,14.8,24,null,2152,null,0.9,null,null,0,10.7,12.5,21.85,null,1,1,1,452,493,641,null,0,0,0,1]
["35020011",null,null,3,50,200,11,11.5,0,26,30,46.5,1884.96,4422.7050634086982,4820.649682883678,6269.9,1.5,1.1000000000000001,1.1000000000000001,1.1000000000000001,1885,4423,4821,6270,162,380,415,539,0.34411466291270748,1.6745484974017948,1.9734656930316881,3.2154295434805311,3.969E-4,1.7345999999999999,4,5.7428799999999995E-4,{"$f":"AK929","v":741},807,1050,0.95,0.95,0.95,741,807,1050,319,347,452,1.2089524361917552,1.4138727396795772,2.3143510148052444,2.7,13.4,14.8,24,null,2772,null,0.68,null,null,0,10.7,12.5,21.85,null,1,1,1,741,807,1050,null,0,0,0,1]
["35020016",null,null,3,50,200,16,16.5,0,26,30,47.1,2581.2800000000002,5667.1755761695722,5971.3549398587584,8617.7000000000007,1.5,1.1000000000000001,1.1000000000000001,1.1000000000000001,2581,5667,5971,8618,222,487,514,741,0.84083505339440379,3.8886229634946341,4.3210309689101214,8.8377623616344323,2.0829999999999999E-4,1.724,4,1.392796E-3,{"$f":"AK931","v":868},914,1320,0.95,0.95,0.95,868,914,1320,373,393,568,2.3103470177002245,2.5582125224157561,5.2529022162438315,4,13.2,14.7,23.5,null,3796,null,0.68,null,null,0,10,11.4,21.85,null,1,1,1,868,914,1320,null,0,0,0,1]
["35020020",null,null,3,50,200,20,21.5,0,26,30,47.1,3880,5214.8121821672385,5684.028740747025,7392.84,1.5,1.08,1.08,1.08,3880,5215,5684,7393,334,448,489,636,0.5146078189924711,0.91133281879191153,1.0808827382560606,1.804767358434455,1.2760000000000001E-4,1.7219,2,3.76611E-4,{"$f":"AK932","v":644.46964929787134},702.45751547390614,913.64,0.95,0.95,0.95,644,702,914,277,302,393,0.35773067054432378,0.42311312971539766,0.70617331390652549,2.7,13.2,14.7,23.5,null,4850,null,0.8,null,null,0,10,11.4,21.85,null,1,1,1,644,702,914,null,0,0,0,1]
["35022010",null,null,3,50,220,10,11.5,0,26,30,46.9,2130.3000000000002,3560.7045070849035,3890.5075371280445,5128.78,1.5,1.08,1.08,1.08,2130,3561,3891,5129,183,306,335,441,0.2549631038575399,0.66495285135759441,0.7876316236324602,1.3181530375289372,3.969E-4,1.7345999999999999,2,3.6734700000000002E-4,{"$f":"AK934","v":493.64631212835212},539.36930014536108,711.04,0.98,0.98,0.98,494,539,711,212,232,306,0.33526766264658142,0.39659808957963044,0.66495285135759441,1.5,13.4,14.8,24,null,2367,null,0.9,null,null,0,10.5,12.3,21.85,null,1,1,1,494,539,711,null,0,0,0,1]
["35022011",null,null,3,50,220,11,11.5,0,26,30,46.9,2073.3200000000002,4831.2827990970827,5278.770565343093,6958.9,1.5,1.1000000000000001,1.1000000000000001,1.1000000000000001,2073,4831,5279,6959,178,415,454,598,0.43451217783500756,2.0816746946687235,2.4599536452154176,4.1089164306330286,3.969E-4,1.7345999999999999,4,5.7428799999999995E-4,{"$f":"AK935","v":809.18727868766814},884.1366084769129,1165.54,0.95,0.95,0.95,809,884,1166,348,380,501,1.5011980733038943,1.7674215645183677,2.9547969820093392,2.9,13.4,14.8,24,null,3049,null,0.68,null,null,0,10.5,12.3,21.85,null,1,1,1,809,884,1166,null,0,0,0,1]
["35022020",null,null,3,50,220,20,21.5,0,26,30,47.8,4268,5696.5662496175182,6224.1991397456159,8205.24,1.5,1.08,1.08,1.08,4268,5697,6224,8205,367,490,535,706,0.63114664547811183,1.1066428651103115,1.3128927046129348,2.2531321307295649,1.2760000000000001E-4,1.7219,2,3.76611E-4,{"$f":"AK938","v":704.00695650122941},769.21417236639559,1014.04,0.95,0.95,0.95,704,769,1014,303,331,436,0.43521399990720622,0.5165738484716168,0.88193136480825907,2.9,15.5,16.8,27.5,null,5335,null,0.8,null,null,0,10,11.1,21.85,null,1,1,1,704,769,1014,null,0,0,0,1]
["35022021",null,null,3,50,220,21,21.5,0,26,30,47.8,4544,8102.8384881891643,8440.3982243391856,12317.96,1.5,1.05,1.05,1.05,4544,8103,8440,12318,391,697,726,1059,1.0693642811675153,3.2570253321888645,3.523799431798829,7.3137051488079097,1.2760000000000001E-4,1.7219,4,5.1420100000000005E-4,{"$f":"AK939","v":1051.0569439418873},1094.8433905300585,1597.82,0.85,0.85,0.85,1051,1095,1598,452,471,687,1.4132675404061716,1.529835024440543,3.1674021588285153,5.9,15.5,16.8,27.5,null,5680,null,0.8,null,null,0,10,11.1,21.85,null,1,1,1,1051,1095,1598,null,0,0,0,1]
["35024011",null,null,3,50,240,11,11.5,0,26,30,47.2,2261.6800000000003,5237.9452617275747,5738.028861571599,7647.9,1.5,1.1000000000000001,1.1000000000000001,1.1000000000000001,2262,5238,5738,7648,195,450,493,658,0.54331204797764332,2.5443263605089523,3.0134634241110767,5.1519252843624956,3.969E-4,1.7345999999999999,4,5.7428799999999995E-4,{"$f":"AK941","v":877},961,1281,0.95,0.95,0.95,877,961,1281,377,413,551,1.8332088548014907,2.1703781533558777,3.704430979547201,3.2,14.8,16.600000000000001,28,null,3326,null,0.68,null,null,0,10.4,12.2,21.85,null,1,1,1,877,961,1281,null,0,0,0,1]
["35024015",null,null,3,50,240,15,16.5,0,26,30,48.1,3329.6000000000004,4729.715265656896,4901.7743245246338,7188.36,1.5,1.08,1.08,1.08,3330,4730,4902,7188,286,407,422,618,0.52834895686585814,1.0402677068624975,1.1152542227427753,2.3255236596425677,2.0829999999999999E-4,1.724,2,4.6182900000000003E-4,{"$f":"AK942","v":645.62512273636446},669.11187505864359,981.24,1.01,1.01,1.01,646,669,981,278,288,422,0.50037899202077363,0.5354561461459616,1.1152542227427753,2.4,16.399999999999999,17.7,29.7,null,4162,null,0.8,null,null,0,10,10.9,21.85,null,1,1,1,646,669,981,null,0,0,0,1]
["35024020",null,null,3,50,240,20,21.5,0,26,30,48.1,4656,6176.0620183272586,6765.7106634844222,9017.64,1.5,1.08,1.08,1.08,4656,6176,6766,9018,400,531,582,776,0.76110794513187829,1.3184926701217123,1.5755203313321131,2.756451557337142,1.2760000000000001E-4,1.7219,2,3.76611E-4,{"$f":"AK944","v":763.26517311676128},836.13657141043336,1114.44,0.95,0.95,0.95,763,836,1114,328,359,479,0.51827708039997999,0.61727233073709142,1.0794747424565225,3.2,16.399999999999999,17.7,29.7,null,5820,null,0.8,null,null,0,10,10.9,21.85,null,1,1,1,763,836,1114,null,0,0,0,1]
["35024021",null,null,3,50,240,21,21.5,0,26,30,48.1,4957.6000000000004,8907.2895892451361,9231.3217513746804,13537.56,1.5,1.05,1.05,1.05,4958,8907,9231,13538,426,766,794,1164,1.2947269988938084,4.0010729190713317,4.2877786386288861,8.9740973699602584,1.2760000000000001E-4,1.7219,4,5.1420100000000005E-4,{"$f":"AK945","v":1155.4060454399644},1197.4377673560793,1756.02,0.85,0.85,0.85,1155,1197,1756,497,515,755,1.7405492683847181,1.8636668369026486,3.8910739231720726,6.4,16.399999999999999,17.7,29.7,null,6197,null,0.8,null,null,0,10,10.9,21.85,null,1,1,1,1155,1197,1756,null,0,0,0,1]
["35026011",null,null,3,50,260,11,11.5,0,26,30,47.8,2450.7200000000003,5669.0920000000006,6252.6749999999993,8336.9,1.5,1.1000000000000001,1.1000000000000001,1.1000000000000001,2451,5669,6253,8337,211,488,538,717,0.66161634263900193,3.1003441376081904,3.7135384223781238,6.3239752846398876,3.969E-4,1.7345999999999999,4,5.7428799999999995E-4,{"$f":"AK947","v":949.51120000000003},1047.2549999999999,1396.34,0.95,0.95,0.95,950,1047,1396,409,450,600,2.2371204011135477,2.6688522314760581,4.5447894857124886,3.5,16.2,18.600000000000001,31.4,null,3604,null,0.68,null,null,0,10.199999999999999,11.9,21.85,null,1,1,1,950,1047,1396,null,0,0,0,1]
["35026015",null,null,3,50,260,15,16.5,0,26,30,48.1,3606.4,4942.1733310961072,5121.9619484404784,7511.2599999999993,1.5,1.08,1.08,1.08,3606,4942,5122,7511,310,425,440,646,0.6327663564081345,1.1583081112063738,1.2380335504785773,2.5902194067464457,2.0829999999999999E-4,1.724,2,4.6182900000000003E-4,{"$f":"AK948","v":653.91552727192982},677.70396216321694,993.84,1.01,1.01,1.01,654,678,994,281,292,427,0.52438185580177876,0.5643390276130934,1.1687899905071639,2.6,16.399999999999999,17.7,29.7,null,4508,null,0.8,null,null,0,10,10.9,21.85,null,1,1,1,654,678,994,null,0,0,0,1]
["35026020",null,null,3,50,260,20,21.5,0,26,30,48.1,5044,6444.5232000000005,7107.93,9477.24,1.5,1.08,1.08,1.08,5044,6445,7108,9477,434,554,611,815,0.90889391113189488,1.4581371213480712,1.7629893390377123,3.0840089604891157,1.2760000000000001E-4,1.7219,2,3.76611E-4,{"$f":"AK950","v":768.42720000000008},847.53,1130.04,0.95,0.95,0.95,768,848,1130,330,365,486,0.53526796134941879,0.65032127694667174,1.1314386418343181,3.5,16.399999999999999,17.7,29.7,null,6305,null,0.8,null,null,0,10,10.9,21.85,null,1,1,1,768,848,1130,null,0,0,0,1]
["35026021",null,null,3,50,260,21,21.5,0,26,30,48.1,5370.4000000000005,9234.8263652613623,9570.7750567366256,14035.359999999999,1.5,1.05,1.05,1.05,5370,9235,9571,14035,462,794,823,1207,1.5515862240578908,4.3862630877952062,4.6996233793878117,9.8287737597437417,1.2760000000000001E-4,1.7219,4,5.1420100000000005E-4,{"$f":"AK951","v":1167.5126679363457},1209.9849719689844,1774.42,0.85,0.85,0.85,1168,1210,1774,502,520,763,1.8190609839698662,1.9461054883013664,4.0628828592588073,6.9,16.399999999999999,17.7,29.7,null,6713,null,0.8,null,null,0,10,10.9,21.85,null,1,1,1,1168,1210,1774,null,0,0,0,1]
["35028011",null,null,3,50,280,11,11.5,0,26,30,47.8,2639.0800000000004,5976.8600000000006,6598.9760720588583,8789.5,1.5,1.1000000000000001,1.1000000000000001,1.1000000000000001,2639,5977,6599,8790,227,514,568,756,0.7946184991752977,3.5696256833176774,4.2925175377176981,7.2836639593144552,3.969E-4,1.7345999999999999,4,5.7428799999999995E-4,{"$f":"AK953","v":956},1056,1406,0.95,0.95,0.95,956,1056,1406,411,454,605,2.3637663276478489,2.839310118041396,4.8232973600811606,3.7,16.2,18.600000000000001,31.4,null,3881,null,0.68,null,null,0,10.199999999999999,11.9,21.85,null,1,1,1,956,1056,1406,null,0,0,0,1]
["35028015",null,null,3,50,280,15,16.5,0,26,30,48.9,{"$f":"IF($N1052-($BE1052*$BG1052)>100,$BE1052*$BG1052,$N1052-95)","v":3884},5583.9635634029,5708.9475468201636,8483.56,1.5,1.08,1.08,1.08,{"$f":"ROUND(M1052*POWER(CF_heat,Q1052),0)","v":3884},{"$f":"ROUND(N1052*POWER(CF_heat,R1052),0)","v":5584},{"$f":"ROUND(O1052*POWER(CF_heat,S1052),0)","v":5709},{"$f":"ROUND(P1052*POWER(CF_heat,T1052),0)","v":8484},334,480,491,730,0.74817731274269961,1.4973769906672623,1.5638277222676435,3.3484388456827587,{"$f":"IF($G1052=$CO$103,CP$103,IF($G1052=$CO$104,CP$104,IF($G1052=$CO$105,CP$105,IF($G1052=$CO$107,CP$107,IF($G1052=$CO$108,CP$108,IF($G1052=$CO$109,CP$109,IF($G1052=$CO$111,CP$111,IF($G1052=$CO$112,CP$112,IF($G1052=$CO$113,CP$113,IF($G1052=$CO$115,CP$115,IF($G1052=$CO$116,CP$116,IF($G1052=$CO$117,CP$117,IF($G1052=$CO$119,CP$119,IF($G1052=$CO$120,CP$120,))))))))))))))","v":2.0829999999999999E-4},{"$f":"IF($G1052=$CO$103,CQ$103,IF($G1052=$CO$104,CQ$104,IF($G1052=$CO$105,CQ$105,IF($G1052=$CO$107,CQ$107,IF($G1052=$CO$108,CQ$108,IF($G1052=$CO$109,CQ$109,IF($G1052=$CO$111,CQ$111,IF($G1052=$CO$112,CQ$112,IF($G1052=$CO$113,CQ$113,IF($G1052=$CO$115,CQ$115,IF($G1052=$CO$116,CQ$116,IF($G1052=$CO$117,CQ$117,IF($G1052=$CO$119,CQ$119,IF($G1052=$CO$120,CQ$120,))))))))))))))","v":1.724},{"$f":"IF($G1052=$CO$103,CR$103,IF($G1052=$CO$104,CR$104,IF($G1052=$CO$105,CR$105,IF($G1052=$CO$107,CR$107,IF($G1052=$CO$108,CR$108,IF($G1052=$CO$109,CR$109,IF($G1052=$CO$111,CR$111,IF($G1052=$CO$112,CR$112,IF($G1052=$CO$113,CR$113,IF($G1052=$CO$115,CR$115,IF($G1052=$CO$116,CR$116,IF($G1052=$CO$117,CR$117,IF($G1052=$CO$119,CR$119,IF($G1052=$CO$120,CR$120,))))))))))))))","v":2},{"$f":"IF($G1052=$CO$103,CS$103,IF($G1052=$CO$104,CS$104,IF($G1052=$CO$105,CS$105,IF($G1052=$CO$107,CS$107,IF($G1052=$CO$108,CS$108,IF($G1052=$CO$109,CS$109,IF($G1052=$CO$111,CS$111,IF($G1052=$CO$112,CS$112,IF($G1052=$CO$113,CS$113,IF($G1052=$CO$115,CS$115,IF($G1052=$CO$116,CS$116,IF($G1052=$CO$117,CS$117,IF($G1052=$CO$119,CS$119,IF($G1052=$CO$120,CS$120,))))))))))))))","v":4.6182900000000003E-4},{"$f":"AK954","v":762.23344503523219},779.29426056038062,1158.04,1.01,1.01,1.01,{"$f":"ROUND(AK1052*POWER(CF_cool,AN1052),0)","v":762},779,1158,328,335,498,0.72271492130345638,0.75246226647382841,1.6068391234938044,{"$f":"ROUND(IF(G1052=10,$CO$92*F1052,IF(G1052=11,$CO$93*F1052,IF(G1052=15,$CO$94*F1052,IF(G1052=16,$CO$95*F1052,IF(G1052=20,$CO$96*F1052,IF(G1052=21,$CO$97*F1052,)))))),1)","v":2.8},19.3,20.399999999999999,34.5,null,4855,null,{"$f":"IF(G1052=10,0.9,IF(G1052=11,0.68,IF(G1052=15,0.8,IF(G1052=16,0.68,IF(G1052=20,0.8,IF(G1052=21,0.8))))))","v":0.8},null,null,0,10,10.6,21.85,null,1,1,1,{"$f":"AQ1052/BO1052","v":762},779,1158,null,{"$f":"BR1052-AQ1052","v":0},{"$f":"BS1052-AR1052","v":0},{"$f":"BT1052-AS1052","v":0},1]
["35028020",null,null,3,50,280,20,21.5,0,26,30,48.9,5432,7236.8592000000008,7990.1253664397382,10642.44,1.5,1.08,1.08,1.08,5432,7237,7990,10642,467,622,687,915,1.0671195357136016,1.8574060664841625,2.2516092472705127,3.9248647156049832,1.2760000000000001E-4,1.7219,2,3.76611E-4,{"$f":"AK956","v":894.36320000000012},987.455178225689,1315.24,0.95,0.95,0.95,894,987,1315,384,424,565,0.73142402444564503,0.88553710556508203,1.5421797125957473,3.7,19.3,20.399999999999999,34.5,null,6790,null,0.8,null,null,0,10,10.6,21.85,null,{"$f":"IF((237.3*LN(($AQ$1*EXP(17.27*($AM$3/($AM$3+237.3))))))/(17.27-LN(($AQ$1*EXP(17.27*($AM$3/($AM$3+237.3))))))<(($AM$1+$AM$2)/2),1,IF(1/(1+((2258*((0.622/((101325/(1*611*EXP(17.27*((($AM$1+$AM$2)/2)/((($AM$1+$AM$2)/2)+237.3))))))-1)*1000-(0.622/((101325/($AQ$1*611*EXP(17.27*($AM$3/($AM$3+237.3))))))-1)*1000))/(1005*((($AM$1+$AM$2)/2)-$AM$3))))>1,1,1/(1+((2258*((0.622/((101325/(1*611*EXP(17.27*((($AM$1+$AM$2)/2)/((($AM$1+$AM$2)/2)+237.3))))))-1)*1000-(0.622/((101325/($AQ$1*611*EXP(17.27*($AM$3/($AM$3+237.3))))))-1)*1000))/(1005*((($AM$1+$AM$2)/2)-$AM$3))))))","v":1},1,1,894,987,1315,null,0,0,0,1]
["35028021",null,null,3,50,280,21,21.5,0,26,30,48.1,5784,10516.06232539558,10751.439821034392,15976.76,1.5,1.05,1.05,1.05,5784,10516,10751,15977,497,904,925,1374,1.8284622072599876,5.75336682600242,6.0128744748590695,12.875842236012033,1.2760000000000001E-4,1.7219,4,5.1420100000000005E-4,{"$f":"AK957","v":1261.7808956926551},1290.0229142432502,1916.9885000000002,0.85,0.85,0.85,1262,1290,1917,543,555,824,2.1656497129108883,2.258122327655359,4.8155944562823167,7.5,19.3,20.399999999999999,34.5,null,7230,null,0.8,null,null,0,10,10.6,21.85,null,1,1,1,1262,1290,1917,null,0,0,0,1]
["35030011",null,null,3,50,300,11,11.5,0,26,30,47.8,2827.44,6285,6939,9242,1.5,1.1000000000000001,1.1000000000000001,1.1000000000000001,2827,6285,6939,9242,243,541,597,795,0.94298703875613699,4.0947526705547128,4.9094354217626668,8.3290701456325671,3.969E-4,1.7345999999999999,4,5.7428799999999995E-4,{"$f":"AK959","v":963},1063,1416,0.95,0.95,0.95,963,1063,1416,414,457,609,2.5033921219274102,3.0018914286103233,5.092866662726184,4,16.2,18.600000000000001,31.4,null,4158,null,0.68,null,null,0,10.199999999999999,11.9,21.85,null,1,1,1,963,1063,1416,null,0,0,0,1]
["35030015",null,null,3,50,300,15,16.5,0,26,30,48.9,4161.6000000000004,5796,5926,8806,1.5,1.08,1.08,1.08,4162,5796,5926,8806,358,498,510,757,0.87490834285128882,1.6433144110086391,1.7198862695364554,3.6657492733438,2.0829999999999999E-4,1.724,2,4.6182900000000003E-4,{"$f":"AK960","v":771},788,1171,1.01,1.01,1.01,771,788,1171,332,339,504,0.75777354700053923,0.78851465813358146,1.6813903761483546,3,19.3,20.399999999999999,34.5,null,5202,null,0.8,null,null,0,10,10.6,21.85,null,1,1,1,771,788,1171,null,0,0,0,1]
["35030020",null,null,3,50,300,20,21.5,0,26,30,48.9,5820,7549,8335,11102,1.5,1.08,1.08,1.08,5820,7549,8335,11102,501,649,717,955,1.2446026781795285,2.0514636214383453,2.4873001829268433,4.3324369681618959,1.2760000000000001E-4,1.7219,2,3.76611E-4,{"$f":"AK962","v":905},999,1331,0.95,0.95,0.95,905,999,1331,389,430,572,0.76431919512798108,0.92701417801356134,1.6073504963383516,4,19.3,20.399999999999999,34.5,null,7275,null,0.8,null,null,0,10,10.6,21.85,null,1,1,1,905,999,1331,null,0,0,0,1]
["35030021",null,null,3,50,300,21,21.5,0,26,30,48.1,6196.8,10844,11086,16475,1.5,1.05,1.05,1.05,6197,10844,11086,16475,533,933,953,1417,2.1395943396073234,6.2432094291838682,6.5023476533141213,13.930846770207117,1.2760000000000001E-4,1.7219,4,5.1420100000000005E-4,1468,1501,2231,0.85,0.85,0.85,1468,1501,2231,631,645,959,2.9532166901831141,3.0796974723112269,6.5810810968934375,8,19.3,20.399999999999999,34.5,null,7746,null,0.8,null,null,0,10,10.6,21.85,null,1,1,1,1468,1501,2231,null,0,0,0,1]
["3605011",null,null,3,60,50,11,11.5,0,26,30,38.799999999999997,507.96000000000004,881.02076921515595,942.75810617769378,1102.4000000000001,1.5,1.1000000000000001,1.1000000000000001,1.1000000000000001,508,881,943,1102,44,76,81,95,1.4823658698771586E-2,4.2643686555216082E-2,4.8246206994949491E-2,6.5720039533966129E-2,3.969E-4,1.7345999999999999,4,5.7428799999999995E-4,{"$f":"AK867*IF($G1063=10,1,IF($G1063=15,1,IF($G1063=20,1,(1-(($E1063-50)*0.005)))))","v":140.18331920037377},150.00663451416625,175.40799999999999,0.95,0.95,0.95,140,150,175,60,65,75,2.6987522766917661E-2,3.1506920640586411E-2,4.1563628457333114E-2,0.7,3.6,4.0999999999999996,5.0999999999999996,null,747,null,0.68,null,null,0,14.2,16.2,21.85,null,1,1,1,140,150,175,null,0,0,0,1]
["3606010",null,null,3,60,60,10,11.5,0,26,30,40,631.80000000000007,841.69225687813923,901.35950941531064,1066.3800000000001,1.5,1.08,1.08,1.08,632,842,901,1066,54,72,77,92,1.4086095785072505E-2,2.4572994832794695E-2,2.7985026550444856E-2,3.9512902180266693E-2,3.969E-4,1.7345999999999999,2,3.6734700000000002E-4,{"$f":"AK868*IF($G1064=10,1,IF($G1064=15,1,IF($G1064=20,1,(1-(($E1064-50)*0.005)))))","v":116.68990721587436},124.96201154556491,147.84,0.98,0.98,0.98,117,125,148,50,54,64,1.214004296048507E-2,1.4086095785072505E-2,1.9563990759703984E-2,0.4,4.8,5.4,6.8,null,702,null,0.9,null,null,0,13.6,15.6,21.85,null,1,1,1,117,125,148,null,0,0,0,1]
["3606015",null,null,3,60,60,15,16.5,0,26,30,41.1,862.19258357509659,957.19258357509659,1027.5250511543745,1359.96,1.5,1.08,1.08,1.08,862,957,1028,1360,74,82,88,117,2.7891851131815994E-2,3.4141898797120353E-2,3.9238605418779701E-2,6.880178174125845E-2,2.0829999999999999E-4,1.724,2,4.6182900000000003E-4,{"$f":"AK870*IF($G1066=10,1,IF($G1066=15,1,IF($G1066=20,1,(1-(($E1066-50)*0.005)))))","v":130.66063061772473},140.26129481477255,185.64,1.01,1.01,1.01,131,140,186,56,60,80,1.6115444159911004E-2,1.8458252538956766E-2,3.25208961878376E-2,0.6,4.8,5.5,7.2,null,1120,null,0.8,null,null,0,12.3,14.4,21.85,null,1,1,1,131,140,186,null,0,0,0,1]
["3606016",null,null,3,60,60,16,16.5,0,26,30,41.1,850.00000000000011,1399.7241764138612,1502.5729206967153,1988.7,1.5,1.1000000000000001,1.1000000000000001,1.1000000000000001,850,1400,1503,1989,73,120,129,171,7.8809335687654997E-2,0.21085507991814395,0.24334273125065864,0.42546271730679758,2.0829999999999999E-4,1.724,4,1.392796E-3,{"$f":"AK871*IF($G1067=10,1,IF($G1067=15,1,IF($G1067=20,1,(1-(($E1067-50)*0.005)))))","v":203.29999999999998},218.5,289.75,0.95,0.95,0.95,203,219,290,87,94,125,0.11152852163170968,0.12999495976193065,0.22861851818729159,1.2,4.8,5.5,7.2,null,1250,null,0.68,null,null,0,12.3,14.4,21.85,null,1,1,1,203,219,290,null,0,0,0,1]
["3606021",null,null,3,60,60,21,21.5,0,26,30,41.1,1383.2,1802.6437228662567,1935.0981352499616,2561.16,1.5,1.05,1.05,1.05,1383,1803,1935,2561,119,155,166,220,7.9910073000154541E-2,0.13454431150760796,0.15402657304252074,0.26852892559558028,1.2760000000000001E-4,1.7219,4,5.1420100000000005E-4,{"$f":"AK873*IF($G1069=10,1,IF($G1069=15,1,IF($G1069=20,1,(1-(($E1069-50)*0.005)))))","v":222.13785266445532},238.46006784742275,315.60900000000004,0.85,0.85,0.85,222,238,316,95,102,136,5.1280055047179182E-2,5.8984598635844175E-2,0.10396522690660656,1.6,4.8,5.5,7.2,null,1729,null,0.8,null,null,0,12.3,14.4,21.85,null,1,1,1,222,238,316,null,0,0,0,1]
["3607010",null,null,3,60,70,10,11.5,0,26,30,41,737.1,1029.7403904507714,1104.2859635902939,1320.28,1.5,1.08,1.08,1.08,737,1030,1104,1320,63,89,95,114,2.0005137618663071E-2,3.8924960889446435E-2,4.4146590218265697E-2,6.2778209343462163E-2,3.969E-4,1.7345999999999999,2,3.6734700000000002E-4,{"$f":"AK874*IF($G1070=10,1,IF($G1070=15,1,IF($G1070=20,1,(1-(($E1070-50)*0.005)))))","v":142.7603849699376},153.09517888293954,183.04,0.98,0.98,0.98,143,153,183,61,66,79,1.8801217016227327E-2,2.1878764945327631E-2,3.093277823234393E-2,0.5,5.5,5.9,7.9,null,819,null,0.9,null,null,0,13.2,15.1,21.85,null,1,1,1,143,153,183,null,0,0,0,1]
["3607015",null,null,3,60,70,15,16.5,0,26,30,41.1,975.82735416996661,1070.8273541699666,1149.5094620994566,1521.41,1.5,1.08,1.08,1.08,976,1071,1150,1521,84,92,99,131,3.6649876914223174E-2,4.3822991749213405E-2,5.0617442668221047E-2,8.7813072353079863E-2,2.0829999999999999E-4,1.724,2,4.6182900000000003E-4,{"$f":"AK876*IF($G1072=10,1,IF($G1072=15,1,IF($G1072=20,1,(1-(($E1072-50)*0.005)))))","v":135.09481491470635},145.02129350758159,191.94,1.01,1.01,1.01,135,145,192,58,62,83,1.7715040719154605E-2,2.0190861450308E-2,3.5797696205080359E-2,0.7,5.0999999999999996,5.6,7.2,null,1306,null,0.8,null,null,0,12.3,14.4,21.85,null,1,1,1,135,145,192,null,0,0,0,1]
["3607016",null,null,3,60,70,16,16.5,0,26,30,41.1,992.12000000000012,1627.62717250317,1747.2217424001376,2312.5,1.5,1.1000000000000001,1.1000000000000001,1.1000000000000001,992,1628,1747,2313,85,140,150,199,0.10824120315119022,0.2902779131483183,0.33273460547085354,0.58224305620495909,2.0829999999999999E-4,1.724,4,1.392796E-3,{"$f":"AK877*IF($G1073=10,1,IF($G1073=15,1,IF($G1073=20,1,(1-(($E1073-50)*0.005)))))","v":208.61781359132519},223.94660516644359,296.39999999999998,0.95,0.95,0.95,209,224,296,90,96,127,0.12118111727948573,0.13766383484006076,0.23938244568295547,1.4,5.0999999999999996,5.6,7.2,null,1459,null,0.68,null,null,0,12.3,14.4,21.85,null,1,1,1,209,224,296,null,0,0,0,1]
["3608010",null,null,3,60,80,10,11.5,0,26,30,41.8,842.4,1214.2269940407766,1304.1433704057049,1574.18,1.5,1.08,1.08,1.08,842,1214,1304,1574,72,104,112,135,2.7165359623318678E-2,5.5028754884652663E-2,6.3456869664955617E-2,9.0909861993553942E-2,3.969E-4,1.7345999999999999,2,3.6734700000000002E-4,{"$f":"AK880*IF($G1076=10,1,IF($G1076=15,1,IF($G1076=20,1,(1-(($E1076-50)*0.005)))))","v":168.33710197020613},180.80286190736828,218.24,0.98,0.98,0.98,168,181,218,72,78,94,2.7165359623318678E-2,3.167181300086596E-2,4.5312552969066985E-2,0.5,6.3,6.8,9.1,null,936,null,0.9,null,null,0,12.8,14.7,21.85,null,1,1,1,168,181,218,null,0,0,0,1]
["3608011",null,null,3,60,80,11,11.5,0,26,30,41.8,812.6,1647.5037394527276,1769.505282019556,2135.9,1.5,1.1000000000000001,1.1000000000000001,1.1000000000000001,813,1648,1770,2136,70,142,152,184,4.3772202109255663E-2,0.1687204798043572,0.19218780961004492,0.27712360618498821,3.969E-4,1.7345999999999999,4,5.7428799999999995E-4,{"$f":"AK881*IF($G1077=10,1,IF($G1077=15,1,IF($G1077=20,1,(1-(($E1077-50)*0.005)))))","v":262.2},281.2,340.09999999999997,0.95,0.95,0.95,262,281,340,113,121,146,0.10902979448688195,0.12424747141184385,0.17793080818342127,1.1000000000000001,6.3,6.8,9.1,null,1195,null,0.68,null,null,0,12.8,14.7,21.85,null,1,1,1,262,281,340,null,0,0,0,1]
["3608016",null,null,3,60,80,16,16.5,0,26,30,42.4,1133.5600000000002,2040.4331716148024,2188.0092071816284,2935.7,1.5,1.1000000000000001,1.1000000000000001,1.1000000000000001,1134,2040,2188,2936,98,175,188,252,0.14560170277786252,0.45744743887251921,0.52704418993994806,0.94073397666389191,2.0829999999999999E-4,1.724,4,1.392796E-3,{"$f":"AK883*IF($G1079=10,1,IF($G1079=15,1,IF($G1079=20,1,(1-(($E1079-50)*0.005)))))","v":296.39999999999998},318.25,427.5,0.95,0.95,0.95,296,318,428,127,137,184,0.24284130542751581,0.28204303816785287,0.50510982133090043,1.6,6,6.7,9,null,1667,null,0.68,null,null,0,11.8,13.7,21.85,null,1,1,1,296,318,428,null,0,0,0,1]
["3608020",null,null,3,60,80,20,21.5,0,26,30,42.4,1668.8000000000002,1942.5718983039128,2086.4239348515057,2518.44,1.5,1.08,1.08,1.08,1669,1943,2086,2518,144,167,179,217,8.5072905184035777E-2,0.11395554008077592,0.13067872337503861,0.19110006829963533,1.2760000000000001E-4,1.7219,2,3.76611E-4,{"$f":"AK884*IF($G1080=10,1,IF($G1080=15,1,IF($G1080=20,1,(1-(($E1080-50)*0.005)))))","v":240.07166246887351},257.84953601562182,311.24,0.95,0.95,0.95,240,258,311,103,111,134,4.3951963441231798E-2,5.0929918356249132E-2,7.381701321036345E-2,1.1000000000000001,6,6.7,9,null,2086,null,0.8,null,null,0,11.8,13.7,21.85,null,1,1,1,240,258,311,null,0,0,0,1]
["3609010",null,null,3,60,90,10,11.5,0,26,30,42.4,947.7,1395.6272192501513,1501.3000140389001,1828.08,1.5,1.08,1.08,1.08,948,1396,1501,1828,82,120,129,157,3.6485332636947657E-2,7.5608781210671119E-2,8.6853211147160284E-2,0.12662134598395483,3.969E-4,1.7345999999999999,2,3.6734700000000002E-4,{"$f":"AK886*IF($G1082=10,1,IF($G1082=15,1,IF($G1082=20,1,(1-(($E1082-50)*0.005)))))","v":193.48593193227777},{"$f":"AL886*IF($G1082=10,1,IF($G1082=15,1,IF($G1082=20,1,(1-(($E1082-50)*0.005)))))","v":208.13611852764589},253.44,0.98,0.98,0.98,193,208,253,83,89,109,3.7340239212640722E-2,4.2669333600542279E-2,6.2889336846315577E-2,0.6,6.7,7.4,10.3,null,1053,null,0.9,null,null,0,12.5,14.7,21.85,null,1,1,1,193,208,253,null,0,0,0,1]
["3609011",null,null,3,60,90,11,11.5,0,26,30,42.4,914.6,1893.6336235985709,2037.0140009310799,2480.4,1.5,1.1000000000000001,1.1000000000000001,1.1000000000000001,915,1894,2037,2480,79,163,175,213,5.8144890362192843E-2,0.23039387696616745,0.26382483336744583,0.38395411039699373,3.969E-4,1.7345999999999999,4,5.7428799999999995E-4,{"$f":"AK887*IF($G1083=10,1,IF($G1083=15,1,IF($G1083=20,1,(1-(($E1083-50)*0.005)))))","v":301.3048681496536},{"$f":"AL887*IF($G1083=10,1,IF($G1083=15,1,IF($G1083=20,1,(1-(($E1083-50)*0.005)))))","v":324.118787985594},394.66800000000001,0.95,0.95,0.95,301,324,395,129,139,170,0.14754712308352055,0.17008165672135647,0.24963110053828763,1.2,6.7,7.4,10.3,null,1345,null,0.68,null,null,0,12.5,14.7,21.85,null,1,1,1,301,324,395,null,0,0,0,1]
["3609016",null,null,3,60,90,16,16.5,0,26,30,43.3,1275.68,2336.669516687492,2503.3688418217644,3409.2,1.5,1.1000000000000001,1.1000000000000001,1.1000000000000001,1276,2337,2503,3409,110,201,215,293,0.18556846012570263,0.60915360332621049,0.69575042058868541,1.2822911322288062,2.0829999999999999E-4,1.724,4,1.392796E-3,{"$f":"AK889*IF($G1085=10,1,IF($G1085=15,1,IF($G1085=20,1,(1-(($E1085-50)*0.005)))))","v":339.8904180820507},364.13839277819221,495.9,0.95,0.95,0.95,340,364,496,146,157,213,0.32420444088187106,0.37413425352165253,0.68303071504603596,1.8,7,7.7,10.7,null,1876,null,0.68,null,null,0,11.3,13.2,21.85,null,1,1,1,340,364,496,null,0,0,0,1]
["3609020",null,null,3,60,90,20,21.5,0,26,30,43.3,1877.6000000000001,2232.7836804230465,2401.8435041457315,2924.64,1.5,1.08,1.08,1.08,1878,2233,2402,2925,162,192,207,252,0.10891673537133954,0.15220989401469975,0.17653301618879313,0.26017862567755984,1.2760000000000001E-4,1.7219,2,3.76611E-4,{"$f":"AK890*IF($G1086=10,1,IF($G1086=15,1,IF($G1086=20,1,(1-(($E1086-50)*0.005)))))","v":275.93732338069162},296.83048721840407,361.44,0.95,0.95,0.95,276,297,361,119,128,155,5.9353068879593893E-2,6.85057463009488E-2,9.9843942617951306E-2,1.2,7,7.7,10.7,null,2347,null,0.8,null,null,0,11.3,13.2,21.85,null,1,1,1,276,297,361,null,0,0,0,1]
["36010010",null,null,3,60,100,10,11.5,0,26,30,43,1053,1574.3905475253332,1696.1265760133244,2081.98,1.5,1.08,1.08,1.08,1053,1574,1696,2082,91,135,146,179,4.6467352687947119E-2,9.8623231218722851E-2,0.11455551187153463,0.16920060692862343,3.969E-4,1.7345999999999999,2,3.6734700000000002E-4,{"$f":"AK892*IF($G1088=10,1,IF($G1088=15,1,IF($G1088=20,1,(1-(($E1088-50)*0.005)))))","v":218.26918973175157},235.14633901405676,288.64,0.98,0.98,0.98,218,{"$f":"ROUND(AL1088*POWER(CF_cool,AO1088),0)","v":235},{"$f":"ROUND(AM1088*POWER(CF_cool,AP1088),0)","v":289},94,101,124,4.9429305306709352E-2,5.6681136080738742E-2,8.3841493078660942E-2,0.7,7.8,8.6999999999999993,12.2,null,1170,null,0.9,null,null,0,12.3,14.1,21.85,null,1,1,1,218,235,289,null,0,0,0,1]
["36010011",null,null,3,60,100,11,11.5,0,26,30,43,1015.9200000000001,2136.1856779144437,2301.3611872256411,2824.9,1.5,1.1000000000000001,1.1000000000000001,1.1000000000000001,1016,2136,2301,2825,87,184,198,243,7.3411291695833408E-2,0.30352033783455779,0.34894385970841529,0.51535542526976641,3.969E-4,1.7345999999999999,4,5.7428799999999995E-4,{"$f":"AK893*IF($G1089=10,1,IF($G1089=15,1,IF($G1089=20,1,(1-(($E1089-50)*0.005)))))","v":340.09999999999997},365.75,449.34999999999997,0.95,0.95,0.95,340,366,449,146,157,193,0.19560272364226922,0.22451745509669774,0.33237326625268138,1.3,7.8,8.6999999999999993,12.2,null,1494,null,0.68,null,null,0,12.3,14.1,21.85,null,1,1,1,340,366,449,null,0,0,0,1]
["36010016",null,null,3,60,100,16,16.5,0,26,30,44.1,1417.1200000000001,2630.3871448118639,2816.5633812075234,3882.7,1.5,1.1000000000000001,1.1000000000000001,1.1000000000000001,1417,2630,2817,3883,122,226,242,334,0.23078466382513743,0.77712770761656835,0.88934367498091926,1.6794877029795134,2.0829999999999999E-4,1.724,4,1.392796E-3,{"$f":"AK895*IF($G1091=10,1,IF($G1091=15,1,IF($G1091=20,1,(1-(($E1091-50)*0.005)))))","v":382.84999999999997},409.45,565.25,0.95,0.95,0.95,383,409,565,165,176,243,0.41809834906484244,0.4747690796059541,0.89660560861144689,2,7,7.7,10.7,null,2084,null,0.68,null,null,0,10.9,12.8,21.85,null,1,1,1,383,409,565,null,0,0,0,1]
["36010020",null,null,3,60,100,20,21.5,0,26,30,44.1,2086.4,2518.7768428703835,2713.5353098724395,3330.84,1.5,1.08,1.08,1.08,2086,2519,2714,3331,179,217,233,286,0.13446597687358697,0.19637584927080459,0.22589211718801094,0.33821597295331562,1.2760000000000001E-4,1.7219,2,3.76611E-4,{"$f":"AK896*IF($G1092=10,1,IF($G1092=15,1,IF($G1092=20,1,(1-(($E1092-50)*0.005)))))","v":311.2816285378957},335.35074484391049,411.64,0.95,0.95,0.95,311,335,412,134,144,177,7.6117387440108403E-2,8.7676786087461309E-2,0.13152753973488002,1.3,7,7.7,10.7,null,2608,null,0.8,null,null,0,10.9,12.8,21.85,null,1,1,1,311,335,412,null,0,0,0,1]
["36011010",null,null,3,60,110,10,11.5,0,26,30,43.5,1158.3,1766.3893947845202,1902.9712804051933,2335.88,1.5,1.08,1.08,1.08,1158,1766,1903,2336,100,152,164,201,5.7907619104279426E-2,0.12846635666491932,0.14849855963064404,0.21898283146724631,3.969E-4,1.7345999999999999,2,3.6734700000000002E-4,{"$f":"AK898*IF($G1094=10,1,IF($G1094=15,1,IF($G1094=20,1,(1-(($E1094-50)*0.005)))))","v":244.88738360147738},263.82272182064906,323.83999999999997,0.98,0.98,0.98,245,264,324,105,114,139,6.3532409410345894E-2,7.4283678081492499E-2,0.10834103483995079,0.7,8.4,9.3000000000000007,14,null,1287,null,0.9,null,null,0,12,13.9,21.85,null,1,1,1,245,264,324,null,0,0,0,1]
["36011011",null,null,3,60,110,11,11.5,0,26,30,43.5,1117.24,2396.6961264405954,2582.0149905458411,3169.4,1.5,1.1000000000000001,1.1000000000000001,1.1000000000000001,1117,2397,2582,3169,96,206,222,273,9.2687829874108466E-2,0.39231335542301654,0.4521181336762668,0.66959643399325008,3.969E-4,1.7345999999999999,4,5.7428799999999995E-4,{"$f":"AK899*IF($G1095=10,1,IF($G1095=15,1,IF($G1095=20,1,(1-(($E1095-50)*0.005)))))","v":381.34948670781205},410.83643456246818,504.298,0.95,0.95,0.95,381,411,504,164,177,217,0.25471717745648809,0.29428702881790797,0.43299428611996899,1.5,8.4,9.3000000000000007,14,null,1643,null,0.68,null,null,0,12,13.9,21.85,null,1,1,1,381,411,504,null,0,0,0,1]
["36011016",null,null,3,60,110,16,16.5,0,26,30,44.1,1558.5600000000002,2849.7497938679544,3051.4523045945984,4206.5,1.5,1.1000000000000001,1.1000000000000001,1.1000000000000001,1559,2850,3051,4207,134,245,262,362,0.28135983889109584,0.92195448057549512,1.0521845346704815,1.9898808014753209,2.0829999999999999E-4,1.724,4,1.392796E-3,{"$f":"AK901*IF($G1097=10,1,IF($G1097=15,1,IF($G1097=20,1,(1-(($E1097-50)*0.005)))))","v":387.44131870036443},414.86403732263182,571.9,0.95,0.95,0.95,387,415,572,166,178,246,0.42859150013825975,0.49164521021083024,0.92937971839530331,2.2000000000000002,7.9,8.8000000000000007,12.5,null,2292,null,0.68,null,null,0,10.9,12.8,21.85,null,1,1,1,387,415,572,null,0,0,0,1]
["36011020",null,null,3,60,110,20,21.5,0,26,30,44.1,2295.2000000000003,2692.551301713082,2900.746468081386,3560.6400000000003,1.5,1.08,1.08,1.08,2295,2693,2901,3561,197,232,249,306,0.16458618456081525,0.22694722640377721,0.26079058599865457,0.3911657832602583,1.2760000000000001E-4,1.7219,2,3.76611E-4,{"$f":"AK902*IF($G1098=10,1,IF($G1098=15,1,IF($G1098=20,1,(1-(($E1098-50)*0.005)))))","v":317.17997831584631},341.70517057946222,419.44,0.95,0.95,0.95,317,342,419,136,147,180,7.9544712053658623E-2,9.2650629466224224E-2,0.13785909087762688,1.5,7.9,8.8000000000000007,12.5,null,2869,null,0.8,null,null,0,10.9,12.8,21.85,null,1,1,1,317,342,419,null,0,0,0,1]
["36012010",null,null,3,60,120,10,11.5,0,26,30,44,1263.6000000000001,1924.9914127028867,2079.6202422788024,2589.7800000000002,1.5,1.08,1.08,1.08,1264,1925,2080,2590,109,166,179,223,7.087256292477416E-2,0.15749249199599902,0.18178308069124571,0.2762925905995734,3.969E-4,1.7345999999999999,2,3.6734700000000002E-4,{"$f":"AK904*IF($G1100=10,1,IF($G1100=15,1,IF($G1100=20,1,(1-(($E1100-50)*0.005)))))","v":266.87553260000635},{"$f":"AL904*IF($G1100=10,1,IF($G1100=15,1,IF($G1100=20,1,(1-(($E1100-50)*0.005)))))","v":288.31284965818764},359.04,0.98,0.98,0.98,267,288,359,115,124,154,7.844810437960871E-2,9.0497540707880797E-2,0.13655457969155813,0.8,8.9,9.9,14.8,null,1404,null,0.9,null,null,0,11.8,13.7,21.85,null,1,1,1,267,288,359,null,0,0,0,1]
["36012011",null,null,3,60,120,11,11.5,0,26,30,44,1219.24,2611.8926414972211,2821.6982019103875,3513.9,1.5,1.1000000000000001,1.1000000000000001,1.1000000000000001,1219,2612,2822,3514,105,225,243,302,0.11472170292628715,0.48249130904551651,0.55811858661840352,0.8424915609755409,3.969E-4,1.7345999999999999,4,5.7428799999999995E-4,{"$f":"AK905*IF($G1101=10,1,IF($G1101=15,1,IF($G1101=20,1,(1-(($E1101-50)*0.005)))))","v":415.15},449.34999999999997,559.54999999999995,0.95,0.95,0.95,415,449,560,178,193,241,0.30990424198218286,0.3610496821113453,0.54945691937795194,1.6,8.9,9.9,14.8,null,1793,null,0.68,null,null,0,11.8,13.7,21.85,null,1,1,1,415,449,560,null,0,0,0,1]
["36012016",null,null,3,60,120,16,16.5,0,26,30,44.8,1700.68,3241.8333772189817,3471.5459677567114,4829.7,1.5,1.1000000000000001,1.1000000000000001,1.1000000000000001,1701,3242,3472,4830,146,279,299,415,0.33740039859181992,1.204343316710782,1.3801140974321322,2.632057975603213,2.0829999999999999E-4,1.724,4,1.392796E-3,{"$f":"AK907*IF($G1103=10,1,IF($G1103=15,1,IF($G1103=20,1,(1-(($E1103-50)*0.005)))))","v":471.2},505.4,703,0.95,0.95,0.95,471,505,703,203,217,302,0.64446844794703151,0.73471714915599595,1.4074989276146941,2.4,8.6999999999999993,9.8000000000000007,14.3,null,2501,null,0.68,null,null,0,10.6,12.5,21.85,null,1,1,1,471,505,703,null,0,0,0,1]
["36012020",null,null,3,60,120,20,21.5,0,26,30,44.8,2504,3079.6829926739365,3327.0647594078355,4143.24,1.5,1.08,1.08,1.08,2504,3080,3327,4143,215,265,286,356,0.19802218355211251,0.29848242281650889,0.34670295754782865,0.53308564610580933,1.2760000000000001E-4,1.7219,2,3.76611E-4,{"$f":"AK908*IF($G1104=10,1,IF($G1104=15,1,IF($G1104=20,1,(1-(($E1104-50)*0.005)))))","v":380.60090160569081},411.17343900116532,512.04,0.95,0.95,0.95,381,411,512,164,177,220,0.11646670942658871,0.13524222402195477,0.20715667478646135,1.6,8.6999999999999993,9.8000000000000007,14.3,null,3130,null,0.8,null,null,0,10.6,12.5,21.85,null,1,1,1,381,411,512,null,0,0,0,1]
["36014010",null,null,3,60,140,10,11.5,0,26,30,44.8,1474.2,2267.7915432376717,2456.1428225151312,3097.58,1.5,1.08,1.08,1.08,1474,2268,2456,3098,127,195,211,266,0.10163412717692537,0.22855867513090425,0.26538154154463672,0.41180366936575952,3.969E-4,1.7345999999999999,2,3.6734700000000002E-4,{"$f":"AK910*IF($G1106=10,1,IF($G1106=15,1,IF($G1106=20,1,(1-(($E1106-50)*0.005)))))","v":314.40040300104783},340.51290804463417,429.44,0.98,0.98,0.98,314,341,429,135,147,184,0.11404996966906063,0.1339431496553784,0.20476735769324847,0.9,10.1,11.2,17.5,null,1638,null,0.9,null,null,0,11.5,13.3,21.85,null,1,1,1,314,341,429,null,0,0,0,1]
["36014011",null,null,3,60,140,11,11.5,0,26,30,44.8,1422.5600000000002,3077.015307780141,3332.5766142436496,4202.8999999999996,1.5,1.1000000000000001,1.1000000000000001,1.1000000000000001,1423,3077,3333,4203,122,265,287,361,0.16504240857006308,0.70734607634958468,0.82199994803261212,1.2670408781957792,3.969E-4,1.7345999999999999,4,5.7428799999999995E-4,{"$f":"AK911*IF($G1107=10,1,IF($G1107=15,1,IF($G1107=20,1,(1-(($E1107-50)*0.005)))))","v":489.25},530.1,668.8,0.95,0.95,0.95,489,530,669,210,228,288,0.45668250643998781,0.53302033294541973,0.82740512042849179,1.9,10.1,11.2,17.5,null,2092,null,0.68,null,null,0,11.5,13.3,21.85,null,1,1,1,489,530,669,null,0,0,0,1]
["36014016",null,null,3,60,140,16,16.5,0,26,30,45.4,1984.2400000000002,3844.4231409656436,4117.1080284867467,5776.7,1.5,1.1000000000000001,1.1000000000000001,1.1000000000000001,1984,3844,4117,5777,171,331,354,497,0.47167427610328455,1.7219838483818737,1.9648470126541058,3.8280696316652558,2.0829999999999999E-4,1.724,4,1.392796E-3,{"$f":"AK913*IF($G1109=10,1,IF($G1109=15,1,IF($G1109=20,1,(1-(($E1109-50)*0.005)))))","v":559.54999999999995},598.5,840.75,0.95,0.95,0.95,560,599,841,241,258,362,0.92385867287338341,1.0559926133482667,2.0530216141448148,2.8,9.6,10.5,16.100000000000001,null,2918,null,0.68,null,null,0,10.4,12.2,21.85,null,1,1,1,560,599,841,null,0,0,0,1]
["36014020",null,null,3,60,140,20,21.5,0,26,30,45.4,2920.8,3628.1091959950468,3929.4415695377957,4955.6400000000003,1.5,1.08,1.08,1.08,2921,3628,3929,4956,251,312,338,426,0.27509243177233555,0.42118895241344162,0.49271246369818478,0.7756359730733573,1.2760000000000001E-4,1.7219,2,3.76611E-4,{"$f":"AK914*IF($G1110=10,1,IF($G1110=15,1,IF($G1110=20,1,(1-(($E1110-50)*0.005)))))","v":448.37784746172167},485.61784045001809,612.44000000000005,0.95,0.95,0.95,448,486,612,193,209,263,0.16455496588623258,0.1922740711354792,0.30142179085547277,1.9,9.6,10.5,16.100000000000001,null,3651,null,0.8,null,null,0,10.4,12.2,21.85,null,1,1,1,448,486,612,null,0,0,0,1]
["36016010",null,null,3,60,160,10,11.5,0,26,30,45.5,1684.8,2603.9362232520607,2826.6988006529018,3605.38,1.5,1.08,1.08,1.08,1685,2604,2827,3605,145,224,243,310,0.13925346565473004,0.31579069683258104,0.3682343427384388,0.58343322204871984,3.969E-4,1.7345999999999999,2,3.6734700000000002E-4,{"$f":"AK916*IF($G1112=10,1,IF($G1112=15,1,IF($G1112=20,1,(1-(($E1112-50)*0.005)))))","v":361.00257998610687},391.88577307200529,499.84,0.98,0.98,0.98,361,392,500,155,169,215,0.15784887533096326,0.18572654509721107,0.29228700277798675,1.1000000000000001,11,12.4,19.2,null,1872,null,0.9,null,null,0,11.2,13,21.85,null,1,1,1,361,392,500,null,0,0,0,1]
["36016011",null,null,3,60,160,11,11.5,0,26,30,45.5,1625.2,3533.107636511756,3835.359341571188,4891.8999999999996,1.5,1.1000000000000001,1.1000000000000001,1.1000000000000001,1625,3533,3835,4892,140,304,330,421,0.22992880757590525,0.97923387090071334,1.1422415218620434,1.8051385479062783,3.969E-4,1.7345999999999999,4,5.7428799999999995E-4,{"$f":"AK917*IF($G1113=10,1,IF($G1113=15,1,IF($G1113=20,1,(1-(($E1113-50)*0.005)))))","v":562.4},{"$f":"AL917*IF($G1113=10,1,IF($G1113=15,1,IF($G1113=20,1,(1-(($E1113-50)*0.005)))))","v":609.9},778.05,0.95,0.95,0.95,562,610,778,242,262,335,0.63869642182800357,0.74107307284871993,1.1749442943546906,2.1,11,12.4,19.2,null,2390,null,0.68,null,null,0,11.2,13,21.85,null,1,1,1,562,610,778,null,0,0,0,1]
["36016016",null,null,3,60,160,16,16.5,0,26,30,46.4,2267.1200000000003,4417.9368883555589,4716.8848144627045,6723.7,1.5,1.1000000000000001,1.1000000000000001,1.1000000000000001,2267,4418,4717,6724,195,380,406,578,0.62449512854467093,2.304157087904469,2.6233653218162551,5.2466408934953108,2.0829999999999999E-4,1.724,4,1.392796E-3,{"$f":"AK919*IF($G1115=10,1,IF($G1115=15,1,IF($G1115=20,1,(1-(($E1115-50)*0.005)))))","v":642.19999999999993},685.9,978.5,0.95,0.95,0.95,642,686,979,276,295,421,1.2317402838570684,1.4031717458922595,2.8167901180560695,3.2,11.5,12.8,19.600000000000001,null,3334,null,0.68,null,null,0,10,11.8,21.85,null,1,1,1,642,686,979,null,0,0,0,1]
["36016020",null,null,3,60,160,20,21.5,0,26,30,46.4,{"$f":"IF($N1116-($BE1116*$BG1116)>100,$BE1116*$BG1116,$N1116-95)","v":3338.4},4165.887726998767,4522.2727563025155,5768.04,1.5,1.08,1.08,1.08,{"$f":"ROUND(M1116*POWER(CF_heat,Q1116),0)","v":3338},{"$f":"ROUND(N1116*POWER(CF_heat,R1116),0)","v":4166},{"$f":"ROUND(O1116*POWER(CF_heat,S1116),0)","v":4522},{"$f":"ROUND(P1116*POWER(CF_heat,T1116),0)","v":5768},287,358,389,496,0.36616420354196472,0.5639754157614939,0.66342434491024516,1.0674404634562651,{"$f":"IF($G1116=$CO$103,CP$103,IF($G1116=$CO$104,CP$104,IF($G1116=$CO$105,CP$105,IF($G1116=$CO$107,CP$107,IF($G1116=$CO$108,CP$108,IF($G1116=$CO$109,CP$109,IF($G1116=$CO$111,CP$111,IF($G1116=$CO$112,CP$112,IF($G1116=$CO$113,CP$113,IF($G1116=$CO$115,CP$115,IF($G1116=$CO$116,CP$116,IF($G1116=$CO$117,CP$117,IF($G1116=$CO$119,CP$119,IF($G1116=$CO$120,CP$120,))))))))))))))","v":1.2760000000000001E-4},{"$f":"IF($G1116=$CO$103,CQ$103,IF($G1116=$CO$104,CQ$104,IF($G1116=$CO$105,CQ$105,IF($G1116=$CO$107,CQ$107,IF($G1116=$CO$108,CQ$108,IF($G1116=$CO$109,CQ$109,IF($G1116=$CO$111,CQ$111,IF($G1116=$CO$112,CQ$112,IF($G1116=$CO$113,CQ$113,IF($G1116=$CO$115,CQ$115,IF($G1116=$CO$116,CQ$116,IF($G1116=$CO$117,CQ$117,IF($G1116=$CO$119,CQ$119,IF($G1116=$CO$120,CQ$120,))))))))))))))","v":1.7219},{"$f":"IF($G1116=$CO$103,CR$103,IF($G1116=$CO$104,CR$104,IF($G1116=$CO$105,CR$105,IF($G1116=$CO$107,CR$107,IF($G1116=$CO$108,CR$108,IF($G1116=$CO$109,CR$109,IF($G1116=$CO$111,CR$111,IF($G1116=$CO$112,CR$112,IF($G1116=$CO$113,CR$113,IF($G1116=$CO$115,CR$115,IF($G1116=$CO$116,CR$116,IF($G1116=$CO$117,CR$117,IF($G1116=$CO$119,CR$119,IF($G1116=$CO$120,CR$120,))))))))))))))","v":2},{"$f":"IF($G1116=$CO$103,CS$103,IF($G1116=$CO$104,CS$104,IF($G1116=$CO$105,CS$105,IF($G1116=$CO$107,CS$107,IF($G1116=$CO$108,CS$108,IF($G1116=$CO$109,CS$109,IF($G1116=$CO$111,CS$111,IF($G1116=$CO$112,CS$112,IF($G1116=$CO$113,CS$113,IF($G1116=$CO$115,CS$115,IF($G1116=$CO$116,CS$116,IF($G1116=$CO$117,CS$117,IF($G1116=$CO$119,CS$119,IF($G1116=$CO$120,CS$120,))))))))))))))","v":3.76611E-4},{"$f":"AK920*IF($G1116=10,1,IF($G1116=15,1,IF($G1116=20,1,(1-(($E1116-50)*0.005)))))","v":514.83890668473202},558.88255136973487,712.84,0.95,0.95,0.95,{"$f":"ROUND(AK1116*POWER(CF_cool,AN1116),0)","v":515},559,713,221,240,307,0.21989661309334549,0.25827229749987091,0.41765567382317259,{"$f":"ROUND(IF(G1116=10,$CO$92*F1116,IF(G1116=11,$CO$93*F1116,IF(G1116=15,$CO$94*F1116,IF(G1116=16,$CO$95*F1116,IF(G1116=20,$CO$96*F1116,IF(G1116=21,$CO$97*F1116,)))))),1)","v":2.1},11.5,12.8,19.600000000000001,null,4173,null,{"$f":"IF(G1116=10,0.9,IF(G1116=11,0.68,IF(G1116=15,0.8,IF(G1116=16,0.68,IF(G1116=20,0.8,IF(G1116=21,0.8))))))","v":0.8},null,null,0,10,11.8,21.85,null,1,1,1,{"$f":"AQ1116/BO1116","v":515},559,713,null,{"$f":"BR1116-AQ1116","v":0},{"$f":"BS1116-AR1116","v":0},{"$f":"BT1116-AS1116","v":0},1]
["36018011",null,null,3,60,180,11,11.5,0,26,30,46,1828.5200000000002,4030.7284303866513,4375.55079813051,5580.9,1.5,1.1000000000000001,1.1000000000000001,1.1000000000000001,1829,4031,4376,5581,157,347,376,480,0.30469720365660219,1.334539960528933,1.5506696983380099,2.4499067566992552,3.969E-4,1.7345999999999999,4,5.7428799999999995E-4,{"$f":"AK923*IF($G1119=10,1,IF($G1119=15,1,IF($G1119=20,1,(1-(($E1119-50)*0.005)))))","v":641.34797942422142},696.21427285783432,888.00299999999993,0.95,0.95,0.95,641,696,888,276,299,382,0.87031955043449805,1.0105231170612194,1.5972865665810332,2.4,12.2,13.7,22,null,2689,null,0.68,null,null,0,10.9,12.7,21.85,null,1,1,1,641,696,888,null,0,0,0,1]
["36018015",null,null,3,60,180,15,16.5,0,26,30,46.4,2687.2000000000003,3233.3460619053994,3452.1364439366635,4920.8599999999997,1.5,1.08,1.08,1.08,2687,3233,3452,4921,231,278,297,423,0.32183690903252676,0.46032647442822744,0.52311768690779403,1.0377569514621654,2.0829999999999999E-4,1.724,2,4.6182900000000003E-4,{"$f":"AK924*IF($G1120=10,1,IF($G1120=15,1,IF($G1120=20,1,(1-(($E1120-50)*0.005)))))","v":420.6820520547858},449.14828645115074,640.24,1.01,1.01,1.01,421,449,640,181,193,275,0.2010263623163458,0.22751208445626886,0.45076939507650016,1.8,11.5,12.8,19.600000000000001,null,3359,null,0.8,null,null,0,10,11.8,21.85,null,1,1,1,421,449,640,null,0,0,0,1]
["36018020",null,null,3,60,180,20,21.5,0,26,30,46.4,3755.2000000000003,4497.8275192555193,4882.6094666576164,6227.64,1.5,1.08,1.08,1.08,3755,4498,4883,6228,323,387,420,536,0.47170506998725847,0.67105520500225491,0.78724334085603187,1.2676087797406754,1.2760000000000001E-4,1.7219,2,3.76611E-4,{"$f":"AK926*IF($G1122=10,1,IF($G1122=15,1,IF($G1122=20,1,(1-(($E1122-50)*0.005)))))","v":526.1057925837863},571.11330132956857,728.44,0.95,0.95,0.95,526,571,728,226,246,313,0.23536033293811029,0.27756656183252509,0.44366421223291913,2.4,11.5,12.8,19.600000000000001,null,4694,null,0.8,null,null,0,10,11.8,21.85,null,1,1,1,526,571,728,null,0,0,0,1]
["36018021",null,null,3,60,180,21,21.5,0,26,30,46.4,4150.4000000000005,6016.7573462820046,6423.892435808023,9156.9599999999991,1.5,1.05,1.05,1.05,4150,6017,6424,9157,357,517,552,788,0.84812773096091343,1.7364585854055543,1.9715108987105545,3.9339119327078702,1.2760000000000001E-4,1.7219,4,5.1420100000000005E-4,{"$f":"AK927*IF($G1123=10,1,IF($G1123=15,1,IF($G1123=20,1,(1-(($E1123-50)*0.005)))))","v":712.61728735075178},760.83786305048818,1084.539,0.85,0.85,0.85,713,761,1085,307,327,467,0.63371848583647827,0.71584299915296878,1.4259468895379601,4.8,11.5,12.8,19.600000000000001,null,5188,null,0.8,null,null,0,10,11.8,21.85,null,1,1,1,713,761,1085,null,0,0,0,1]
["36020011",null,null,3,60,200,11,11.5,0,26,30,46.5,2031.8400000000001,4422.7050634086982,4820.649682883678,6269.9,1.5,1.1000000000000001,1.1000000000000001,1.1000000000000001,2032,4423,4821,6270,175,380,415,539,0.39691122503965542,1.6745484974017948,1.9734656930316881,3.2154295434805311,3.969E-4,1.7345999999999999,4,5.7428799999999995E-4,{"$f":"AK929*IF($G1125=10,1,IF($G1125=15,1,IF($G1125=20,1,(1-(($E1125-50)*0.005)))))","v":703.94999999999993},766.65,997.5,0.95,0.95,0.95,704,767,998,303,330,429,1.0986127074829894,1.2876673137582091,2.0994535552116376,2.7,13.4,14.8,24,null,2988,null,0.68,null,null,0,10.7,12.5,21.85,null,1,1,1,704,767,998,null,0,0,0,1]
["36020015",null,null,3,60,200,15,16.5,0,26,30,47.1,2985.6000000000004,3875.4624109054007,4083.4735576056296,5893.16,1.5,1.08,1.08,1.08,2986,3875,4083,5893,257,333,351,507,0.40713793901216722,0.67100385450414035,0.7427948904408519,1.5124900662854772,2.0829999999999999E-4,1.724,2,4.6182900000000003E-4,{"$f":"AK930*IF($G1126=10,1,IF($G1126=15,1,IF($G1126=20,1,(1-(($E1126-50)*0.005)))))","v":529.01617838795164},{"$f":"AL930*IF($G1126=10,1,IF($G1126=15,1,IF($G1126=20,1,(1-(($E1126-50)*0.005)))))","v":557.41053504066974},804.44,1.01,1.01,1.01,529,557,804,227,240,346,0.3205762003800503,0.35685612106712633,0.72249739815889857,2,13.2,14.7,23.5,null,3732,null,0.8,null,null,0,10,11.4,21.85,null,1,1,1,529,557,804,null,0,0,0,1]
["36020020",null,null,3,60,200,20,21.5,0,26,30,47.1,4172.8,5214.8121821672385,5684.028740747025,7392.84,1.5,1.08,1.08,1.08,4173,5215,5684,7393,359,448,489,636,0.59216596401984123,0.91133281879191153,1.0808827382560606,1.804767358434455,1.2760000000000001E-4,1.7219,2,3.76611E-4,{"$f":"AK932*IF($G1128=10,1,IF($G1128=15,1,IF($G1128=20,1,(1-(($E1128-50)*0.005)))))","v":644.46964929787134},702.45751547390614,913.64,0.95,0.95,0.95,644,702,914,277,302,393,0.35773067054432378,0.42311312971539766,0.70617331390652549,2.7,13.2,14.7,23.5,null,5216,null,0.8,null,null,0,10,11.4,21.85,null,1,1,1,644,702,914,null,0,0,0,1]
["36020021",null,null,3,60,200,21,21.5,0,26,30,47.1,4611.2,7298.5082710627348,7690.2476078687869,11098.36,1.5,1.05,1.05,1.05,4611,7299,7690,11098,397,628,661,954,1.0712774010557167,2.5976371030133358,2.8682489622749725,5.8399447479033668,1.2760000000000001E-4,1.7219,4,5.1420100000000005E-4,{"$f":"AK933*IF($G1129=10,1,IF($G1129=15,1,IF($G1129=20,1,(1-(($E1129-50)*0.005)))))","v":899.3873467186113},947.6609650595276,1367.6389999999999,0.85,0.85,0.85,899,948,1368,387,408,588,1.019863004581038,1.1292496135192727,2.2871485746983979,5.3,13.2,14.7,23.5,null,5764,null,0.8,null,null,0,10,11.4,21.85,null,1,1,1,899,948,1368,null,0,0,0,1]
["36022011",null,null,3,60,220,11,11.5,0,26,30,46.9,2235.1600000000003,4831.2827990970827,5278.770565343093,6958.9,1.5,1.1000000000000001,1.1000000000000001,1.1000000000000001,2235,4831,5279,6959,192,415,454,598,0.49962054116848836,2.0816746946687235,2.4599536452154176,4.1089164306330286,3.969E-4,1.7345999999999999,4,5.7428799999999995E-4,{"$f":"AK935*IF($G1131=10,1,IF($G1131=15,1,IF($G1131=20,1,(1-(($E1131-50)*0.005)))))","v":768.72791475328472},839.92977805306725,1107.2629999999999,0.95,0.95,0.95,769,840,1107,331,361,476,1.368033776257126,1.6069079934858297,2.6863056857052046,2.9,13.4,14.8,24,null,3287,null,0.68,null,null,0,10.5,12.3,21.85,null,1,1,1,769,840,1107,null,0,0,0,1]
["36022015",null,null,3,60,220,15,16.5,0,26,30,47.8,3284,4302.5567439745028,4481.7988603493422,6540.76,1.5,1.08,1.08,1.08,3284,4303,4482,6541,282,370,385,563,0.50058843874560743,0.84427064665866536,0.91145906255959874,1.8978591317759046,2.0829999999999999E-4,1.724,2,4.6182900000000003E-4,{"$f":"AK936*IF($G1132=10,1,IF($G1132=15,1,IF($G1132=20,1,(1-(($E1132-50)*0.005)))))","v":587.31626956044784},611.78353807115786,892.84,{"$f":"IF($G1132=10,0.98,IF($G1132=11,0.95,IF($G1132=15,1.01,IF($G1132=16,0.95,IF($G1132=20,0.95,IF($G1132=21,0.85))))))","v":1.01},1.01,1.01,587,612,893,252,263,384,0.40328748590288432,0.43778400702821296,0.90690223440245954,2.2000000000000002,15.5,16.8,27.5,null,4105,null,0.8,null,null,0,10,11.1,21.85,null,1,1,1,587,612,893,null,0,0,0,1]
["36022020",null,null,3,60,220,20,21.5,0,26,30,47.8,4590.4000000000005,5696.5662496175182,6224.1991397456159,8205.24,1.5,1.08,1.08,1.08,4590,5697,6224,8205,395,490,535,706,0.7279836006113235,1.1066428651103115,1.3128927046129348,2.2531321307295649,1.2760000000000001E-4,1.7219,2,3.76611E-4,{"$f":"AK938*IF($G1134=10,1,IF($G1134=15,1,IF($G1134=20,1,(1-(($E1134-50)*0.005)))))","v":704.00695650122941},769.21417236639559,1014.04,0.95,0.95,0.95,704,769,1014,303,331,436,0.43521399990720622,0.5165738484716168,0.88193136480825907,2.9,15.5,16.8,27.5,null,5738,null,0.8,null,null,0,10,11.1,21.85,null,1,1,1,704,769,1014,null,0,0,0,1]
["36022021",null,null,3,60,220,21,21.5,0,26,30,47.8,5072,8102.8384881891643,8440.3982243391856,12317.96,1.5,1.05,1.05,1.05,5072,8103,8440,12318,436,697,726,1059,1.3185807566597181,3.2570253321888645,3.523799431798829,7.3137051488079097,1.2760000000000001E-4,1.7219,4,5.1420100000000005E-4,{"$f":"AK939*IF($G1135=10,1,IF($G1135=15,1,IF($G1135=20,1,(1-(($E1135-50)*0.005)))))","v":998.50409674479295},1040.1012210035556,1517.9289999999999,0.85,0.85,0.85,999,1040,1518,430,447,653,1.2838937063558278,1.3833362790303125,2.8717815858269482,5.9,15.5,16.8,27.5,null,6340,null,0.8,null,null,0,10,11.1,21.85,null,1,1,1,999,1040,1518,null,0,0,0,1]
["36024011",null,null,3,60,240,11,11.5,0,26,30,47.2,2438.48,5237.9452617275747,5738.028861571599,7647.9,1.5,1.1000000000000001,1.1000000000000001,1.1000000000000001,2438,5238,5738,7648,210,450,493,658,0.62267511679029663,2.5443263605089523,3.0134634241110767,5.1519252843624956,3.969E-4,1.7345999999999999,4,5.7428799999999995E-4,{"$f":"AK941*IF($G1137=10,1,IF($G1137=15,1,IF($G1137=20,1,(1-(($E1137-50)*0.005)))))","v":833.15},912.94999999999993,1216.95,0.95,0.95,0.95,833,913,1217,358,393,523,1.6659616689972905,1.9797961719084272,3.3625642791026031,3.2,14.8,16.600000000000001,28,null,3586,null,0.68,null,null,0,10.4,12.2,21.85,null,1,1,1,833,913,1217,null,0,0,0,1]
["36024015",null,null,3,60,240,15,16.5,0,26,30,48.1,3582.4,4729.715265656896,4901.7743245246338,7188.36,1.5,1.08,1.08,1.08,3582,4730,4902,7188,308,407,422,618,0.6090463608361828,1.0402677068624975,1.1152542227427753,2.3255236596425677,2.0829999999999999E-4,1.724,2,4.6182900000000003E-4,{"$f":"AK942*IF($G1138=10,1,IF($G1138=15,1,IF($G1138=20,1,(1-(($E1138-50)*0.005)))))","v":645.62512273636446},669.11187505864359,981.24,1.01,1.01,1.01,646,669,981,278,288,422,0.50037899202077363,0.5354561461459616,1.1152542227427753,2.4,16.399999999999999,17.7,29.7,null,4478,null,0.8,null,null,0,10,10.9,21.85,null,1,1,1,646,669,981,null,0,0,0,1]
["36024020",null,null,3,60,240,20,21.5,0,26,30,48.1,5007.2000000000007,6176.0620183272586,6765.7106634844222,9017.64,1.5,1.08,1.08,1.08,5007,6176,6766,9018,431,531,582,776,0.87958233215109838,1.3184926701217123,1.5755203313321131,2.756451557337142,1.2760000000000001E-4,1.7219,2,3.76611E-4,{"$f":"AK944*IF($G1140=10,1,IF($G1140=15,1,IF($G1140=20,1,(1-(($E1140-50)*0.005)))))","v":763.26517311676128},836.13657141043336,1114.44,0.95,0.95,0.95,763,836,1114,328,359,479,0.51827708039997999,0.61727233073709142,1.0794747424565225,3.2,16.399999999999999,17.7,29.7,null,6259,null,0.8,null,null,0,10,10.9,21.85,null,1,1,1,763,836,1114,null,0,0,0,1]
["36024021",null,null,3,60,240,21,21.5,0,26,30,48.1,5533.6,8907.2895892451361,9231.3217513746804,13537.56,1.5,1.05,1.05,1.05,5534,8907,9231,13538,476,766,794,1164,1.6020615860345597,4.0010729190713317,4.2877786386288861,8.9740973699602584,1.2760000000000001E-4,1.7219,4,5.1420100000000005E-4,{"$f":"AK945*IF($G1141=10,1,IF($G1141=15,1,IF($G1141=20,1,(1-(($E1141-50)*0.005)))))","v":1097.6357431679662},1137.5658789882752,1668.2189999999998,0.85,0.85,0.85,1098,1138,1668,472,489,717,1.5763127514075634,1.6871375198707783,3.5225353216246118,6.4,16.399999999999999,17.7,29.7,null,6917,null,0.8,null,null,0,10,10.9,21.85,null,1,1,1,1098,1138,1668,null,0,0,0,1]
["36026011",null,null,3,60,260,11,11.5,0,26,30,47.8,2641.1200000000003,5669.0920000000006,6252.6749999999993,8336.9,1.5,1.1000000000000001,1.1000000000000001,1.1000000000000001,2641,5669,6253,8337,227,488,538,717,0.75662059759956746,3.1003441376081904,3.7135384223781238,6.3239752846398876,3.969E-4,1.7345999999999999,4,5.7428799999999995E-4,{"$f":"AK947*IF($G1143=10,1,IF($G1143=15,1,IF($G1143=20,1,(1-(($E1143-50)*0.005)))))","v":902.03563999999994},994.89224999999988,1326.5229999999999,0.95,0.95,0.95,902,995,1327,388,428,571,2.0297156957328881,2.4328018547463013,4.1462671288299067,3.5,16.2,18.600000000000001,31.4,null,3884,null,0.68,null,null,0,10.199999999999999,11.9,21.85,null,1,1,1,902,995,1327,null,0,0,0,1]
["36026015",null,null,3,60,260,15,16.5,0,26,30,48.1,3881.6000000000004,4942.1733310961072,5121.9619484404784,7511.2599999999993,1.5,1.08,1.08,1.08,3882,4942,5122,7511,334,425,440,646,0.72985778618490582,1.1583081112063738,1.2380335504785773,2.5902194067464457,2.0829999999999999E-4,1.724,2,4.6182900000000003E-4,{"$f":"AK948*IF($G1144=10,1,IF($G1144=15,1,IF($G1144=20,1,(1-(($E1144-50)*0.005)))))","v":653.91552727192982},677.70396216321694,993.84,1.01,1.01,1.01,654,678,994,281,292,427,0.52438185580177876,0.5643390276130934,1.1687899905071639,2.6,16.399999999999999,17.7,29.7,null,4852,null,0.8,null,null,0,10,10.9,21.85,null,1,1,1,654,678,994,null,0,0,0,1]
["36026020",null,null,3,60,260,20,21.5,0,26,30,48.1,5424.8,6444.5232000000005,7107.93,9477.24,1.5,1.08,1.08,1.08,5425,6445,7108,9477,467,554,611,815,1.0473756113762973,1.4581371213480712,1.7629893390377123,3.0840089604891157,1.2760000000000001E-4,1.7219,2,3.76611E-4,{"$f":"AK950*IF($G1146=10,1,IF($G1146=15,1,IF($G1146=20,1,(1-(($E1146-50)*0.005)))))","v":768.42720000000008},{"$f":"AL950*IF($G1146=10,1,IF($G1146=15,1,IF($G1146=20,1,(1-(($E1146-50)*0.005)))))","v":847.53},1130.04,0.95,0.95,0.95,768,848,1130,330,365,486,0.53526796134941879,0.65032127694667174,1.1314386418343181,3.5,16.399999999999999,17.7,29.7,null,6781,null,0.8,null,null,0,10,10.9,21.85,null,1,1,1,768,848,1130,null,0,0,0,1]
["36026021",null,null,3,60,260,21,21.5,0,26,30,48.1,5994.4000000000005,9234.8263652613623,9570.7750567366256,14035.359999999999,1.5,1.05,1.05,1.05,5994,9235,9571,14035,515,794,823,1207,1.9104002612552771,4.3862630877952062,4.6996233793878117,9.8287737597437417,1.2760000000000001E-4,1.7219,4,5.1420100000000005E-4,{"$f":"AK951*IF($G1147=10,1,IF($G1147=15,1,IF($G1147=20,1,(1-(($E1147-50)*0.005)))))","v":1109.1370345395283},1149.4857233705352,1685.6990000000001,0.85,0.85,0.85,1109,1149,1686,477,494,725,1.6494853644946779,1.7639261148960748,3.6828578662116489,6.9,16.399999999999999,17.7,29.7,null,7493,null,0.8,null,null,0,10,10.9,21.85,null,1,1,1,1109,1149,1686,null,0,0,0,1]
["36028011",null,null,3,60,280,11,11.5,0,26,30,47.8,2844.44,5976.8600000000006,6598.9760720588583,8789.5,1.5,1.1000000000000001,1.1000000000000001,1.1000000000000001,2844,5977,6599,8790,245,514,568,756,0.913848893438726,3.5696256833176774,4.2925175377176981,7.2836639593144552,3.969E-4,1.7345999999999999,4,5.7428799999999995E-4,{"$f":"AK953*IF($G1149=10,1,IF($G1149=15,1,IF($G1149=20,1,(1-(($E1149-50)*0.005)))))","v":908.19999999999993},1003.1999999999999,1335.7,0.95,0.95,0.95,908,1003,1336,390,431,574,2.1462188393916612,2.5799409816472285,4.3766393424547507,3.7,16.2,18.600000000000001,31.4,null,4183,null,0.68,null,null,0,10.199999999999999,11.9,21.85,null,1,1,1,908,1003,1336,null,0,0,0,1]
["36028015",null,null,3,60,280,15,16.5,0,26,30,48.9,4180,5583.9635634029,5708.9475468201636,8483.56,1.5,1.08,1.08,1.08,4180,5584,5709,8484,359,480,491,730,0.85882761083652648,1.4973769906672623,1.5638277222676435,3.3484388456827587,2.0829999999999999E-4,1.724,2,4.6182900000000003E-4,{"$f":"AK954*IF($G1150=10,1,IF($G1150=15,1,IF($G1150=20,1,(1-(($E1150-50)*0.005)))))","v":762.23344503523219},779.29426056038062,1158.04,1.01,1.01,1.01,762,779,1158,328,335,498,0.72271492130345638,0.75246226647382841,1.6068391234938044,2.8,19.3,20.399999999999999,34.5,null,5225,null,0.8,null,null,0,10,10.6,21.85,null,1,1,1,762,779,1158,null,0,0,0,1]
["36028020",null,null,3,60,280,20,21.5,0,26,30,48.9,5841.6,7236.8592000000008,7990.1253664397382,10642.44,1.5,1.08,1.08,1.08,5842,7237,7990,10642,502,622,687,915,1.2270386511507134,1.8574060664841625,2.2516092472705127,3.9248647156049832,1.2760000000000001E-4,1.7219,2,3.76611E-4,{"$f":"AK956*IF($G1152=10,1,IF($G1152=15,1,IF($G1152=20,1,(1-(($E1152-50)*0.005)))))","v":894.36320000000012},987.455178225689,1315.24,0.95,0.95,0.95,894,{"$f":"ROUND(AL1152*POWER(CF_cool,AO1152),0)","v":987},{"$f":"ROUND(AM1152*POWER(CF_cool,AP1152),0)","v":1315},384,424,565,0.73142402444564503,0.88553710556508203,1.5421797125957473,3.7,19.3,20.399999999999999,34.5,null,7302,null,0.8,null,null,0,10,10.6,21.85,null,1,1,1,894,987,1315,null,0,0,0,1]
["36028021",null,null,3,60,280,21,21.5,0,26,30,48.1,6456,10516.06232539558,10751.439821034392,15976.76,1.5,1.05,1.05,1.05,6456,10516,10751,15977,555,904,925,1374,2.258122327655359,5.75336682600242,6.0128744748590695,12.875842236012033,1.2760000000000001E-4,1.7219,4,5.1420100000000005E-4,{"$f":"AK957*IF($G1153=10,1,IF($G1153=15,1,IF($G1153=20,1,(1-(($E1153-50)*0.005)))))","v":1198.6918509080224},1225.5217685310877,1821.139075,0.85,0.85,0.85,1199,1226,1821,516,527,783,1.9644055632915978,2.0452529153279042,4.366289902836666,7.5,19.3,20.399999999999999,34.5,null,8070,null,0.8,null,null,0,10,10.6,21.85,null,1,1,1,1199,1226,1821,null,0,0,0,1]
["36030011",null,null,3,60,300,11,11.5,0,26,30,47.8,3047.76,6285,6939,9242,1.5,1.1000000000000001,1.1000000000000001,1.1000000000000001,3048,6285,6939,9242,262,541,597,795,1.0821722105632585,4.0947526705547128,4.9094354217626668,8.3290701456325671,3.969E-4,1.7345999999999999,4,5.7428799999999995E-4,{"$f":"AK959*IF($G1155=10,1,IF($G1155=15,1,IF($G1155=20,1,(1-(($E1155-50)*0.005)))))","v":914.84999999999991},1009.8499999999999,1345.2,0.95,0.95,0.95,915,1010,1345,393,434,578,2.2751562092091793,2.7300663372021905,4.62537792131213,4,16.2,18.600000000000001,31.4,null,4482,null,0.68,null,null,0,10.199999999999999,11.9,21.85,null,1,1,1,915,1010,1345,null,0,0,0,1]
["36030015",null,null,3,60,300,15,16.5,0,26,30,48.9,4478.4000000000005,5796,5926,8806,1.5,1.08,1.08,1.08,4478,5796,5926,8806,385,498,510,757,1.005079275794851,1.6433144110086391,1.7198862695364554,3.6657492733438,2.0829999999999999E-4,1.724,2,4.6182900000000003E-4,{"$f":"AK960*IF($G1156=10,1,IF($G1156=15,1,IF($G1156=20,1,(1-(($E1156-50)*0.005)))))","v":771},788,1171,1.01,1.01,1.01,771,788,1171,332,339,504,0.75777354700053923,0.78851465813358146,1.6813903761483546,3,19.3,20.399999999999999,34.5,null,5598,null,0.8,null,null,0,10,10.6,21.85,null,1,1,1,771,788,1171,null,0,0,0,1]
["36030020",null,null,3,60,300,20,21.5,0,26,30,48.9,6259.2000000000007,7549,8335,11102,1.5,1.08,1.08,1.08,6259,7549,8335,11102,538,649,717,955,1.428024848802034,2.0514636214383453,2.4873001829268433,4.3324369681618959,1.2760000000000001E-4,1.7219,2,3.76611E-4,{"$f":"AK962*IF($G1158=10,1,IF($G1158=15,1,IF($G1158=20,1,(1-(($E1158-50)*0.005)))))","v":905},999,1331,0.95,0.95,0.95,905,999,1331,389,430,572,0.76431919512798108,0.92701417801356134,1.6073504963383516,4,19.3,20.399999999999999,34.5,null,7824,null,0.8,null,null,0,10,10.6,21.85,null,1,1,1,905,999,1331,null,0,0,0,1]
["36030021",null,null,3,60,300,21,21.5,0,26,30,48.1,6916.8,10844,11086,16475,1.5,1.05,1.05,1.05,6917,10844,11086,16475,595,933,953,1417,2.6397200198089856,6.2432094291838682,6.5023476533141213,13.930846770207117,1.2760000000000001E-4,1.7219,4,5.1420100000000005E-4,{"$f":"AK963*IF($G1159=10,1,IF($G1159=15,1,IF($G1159=20,1,(1-(($E1159-50)*0.005)))))","v":1394.6},{"$f":"AL963*IF($G1159=10,1,IF($G1159=15,1,IF($G1159=20,1,(1-(($E1159-50)*0.005)))))","v":1425.95},2119.4499999999998,0.85,0.85,0.85,1395,1426,2119,600,613,911,2.6822487551293954,2.7943529240068119,5.9640387294956385,8,19.3,20.399999999999999,34.5,null,8646,null,0.8,null,null,0,10,10.6,21.85,null,1,1,1,1395,1426,2119,null,0,0,0,1]
["3706010",null,null,3,70,60,10,11.5,0,26,30,40,674.1,841.69225687813923,901.35950941531064,1066.3800000000001,1.5,1.08,1.08,1.08,674,842,901,1066,58,72,77,92,1.6172442157369488E-2,2.4572994832794695E-2,2.7985026550444856E-2,3.9512902180266693E-2,3.969E-4,1.7345999999999999,2,3.6734700000000002E-4,{"$f":"AK868*IF($G1162=10,1,IF($G1162=15,1,IF($G1162=20,1,(1-(($E1162-50)*0.005)))))","v":116.68990721587436},124.96201154556491,147.84,0.98,0.98,0.98,117,125,148,50,54,64,1.214004296048507E-2,1.4086095785072505E-2,1.9563990759703984E-2,0.4,4.8,5.4,6.8,null,749,null,0.9,null,null,0,13.6,15.6,21.85,null,1,1,1,117,125,148,null,0,0,0,1]
["3706011",null,null,3,70,60,11,11.5,0,26,30,40,648.72,1142.0361657917249,1222.9946868592929,1446.9,1.5,1.1000000000000001,1.1000000000000001,1.1000000000000001,649,1142,1223,1447,56,98,105,124,2.5293800031362657E-2,7.4231136705466674E-2,8.4794000672714892E-2,0.11688804961164248,3.969E-4,1.7345999999999999,4,5.7428799999999995E-4,{"$f":"AK869*IF($G1163=10,1,IF($G1163=15,1,IF($G1163=20,1,(1-(($E1163-50)*0.005)))))","v":171.9},184.5,217.8,0.95,0.95,0.95,172,185,218,74,80,94,4.3215615311818466E-2,5.0210960948818821E-2,6.8501596586049207E-2,0.8,4.8,5.4,6.8,null,954,null,0.68,null,null,0,13.6,15.6,21.85,null,1,1,1,172,185,218,null,0,0,0,1]
["3706016",null,null,3,70,60,16,16.5,0,26,30,41.1,922.08,1399.7241764138612,1502.5729206967153,1988.7,1.5,1.1000000000000001,1.1000000000000001,1.1000000000000001,922,1400,1503,1989,79,120,129,171,9.2143347433738906E-2,0.21085507991814395,0.24334273125065864,0.42546271730679758,2.0829999999999999E-4,1.724,4,1.392796E-3,{"$f":"AK871*IF($G1165=10,1,IF($G1165=15,1,IF($G1165=20,1,(1-(($E1165-50)*0.005)))))","v":192.6},207,274.5,0.95,0.95,0.95,193,207,275,83,89,118,0.10160656240768863,0.11666144105878498,0.20394945539765266,1.2,4.8,5.5,7.2,null,1356,null,0.68,null,null,0,12.3,14.4,21.85,null,1,1,1,193,207,275,null,0,0,0,1]
["3706020",null,null,3,70,60,20,21.5,0,26,30,41.1,1251.575008837732,1346.575008837732,1442.0332127786496,1706.04,1.5,1.08,1.08,1.08,1252,1347,1442,1706,{"$f":"ROUND(U1166*3600/(4186*ABS($O$1-$O$2)),0)","v":108},{"$f":"ROUND(V1166*3600/(4186*ABS($O$1-$O$2)),0)","v":116},{"$f":"ROUND(W1166*3600/(4186*ABS($O$1-$O$2)),0)","v":124},{"$f":"ROUND(X1166*3600/(4186*ABS($O$1-$O$2)),0)","v":147},4.6666977287192928E-2,5.3754545103760785E-2,6.1338725772162643E-2,8.5905652533157156E-2,1.2760000000000001E-4,1.7219,2,3.76611E-4,{"$f":"AK872*IF($G1166=10,1,IF($G1166=15,1,IF($G1166=20,1,(1-(($E1166-50)*0.005)))))","v":166.41571994991173},178.21286873827722,210.84,0.95,0.95,0.95,166,178,211,{"$f":"ROUND(AQ1166*3600/(4186*ABS($AM$1-$AM$2)),0)","v":71},{"$f":"ROUND(AR1166*3600/(4186*ABS($AM$1-$AM$2)),0)","v":77},{"$f":"ROUND(AS1166*3600/(4186*ABS($AM$1-$AM$2)),0)","v":91},2.0362186770824586E-2,2.3902999958867951E-2,3.3257087321880145E-2,0.8,4.8,5.5,7.2,null,1652,null,0.8,null,null,0,12.3,14.4,21.85,null,1,1,1,166,178,211,null,0,0,0,1]
["3707010",null,null,3,70,70,10,11.5,0,26,30,41,786.6,1029.7403904507714,1104.2859635902939,1320.28,1.5,1.08,1.08,1.08,787,1030,1104,1320,68,89,95,114,2.3172926510549818E-2,3.8924960889446435E-2,4.4146590218265697E-2,6.2778209343462163E-2,3.969E-4,1.7345999999999999,2,3.6734700000000002E-4,{"$f":"AK874*IF($G1168=10,1,IF($G1168=15,1,IF($G1168=20,1,(1-(($E1168-50)*0.005)))))","v":142.7603849699376},153.09517888293954,183.04,0.98,0.98,0.98,143,153,183,61,66,79,1.8801217016227327E-2,2.1878764945327631E-2,3.093277823234393E-2,0.5,5.5,5.9,7.9,null,874,null,0.9,null,null,0,13.2,15.1,21.85,null,1,1,1,143,153,183,null,0,0,0,1]
["3707011",null,null,3,70,70,11,11.5,0,26,30,41,756.84,1397.1861540381678,1498.3320774196782,1791.4,1.5,1.1000000000000001,1.1000000000000001,1.1000000000000001,757,1397,1498,1791,65,120,129,154,3.5848789180241709E-2,0.11600499755813,0.13329019125147809,0.18736507468697711,3.969E-4,1.7345999999999999,4,5.7428799999999995E-4,{"$f":"AK875*IF($G1169=10,1,IF($G1169=15,1,IF($G1169=20,1,(1-(($E1169-50)*0.005)))))","v":210.61212475820625},225.8588818008821,270.036,0.95,0.95,0.95,211,226,270,91,97,116,6.8242559410187378E-2,7.7125151221298899E-2,0.10869549525474707,0.9,5.5,5.9,7.9,null,1113,null,0.68,null,null,0,13.2,15.1,21.85,null,1,1,1,211,226,270,null,0,0,0,1]
["3707016",null,null,3,70,70,16,16.5,0,26,30,41.1,1075.76,1627.62717250317,1747.2217424001376,2312.5,1.5,1.1000000000000001,1.1000000000000001,1.1000000000000001,1076,1628,1747,2313,93,140,150,199,0.12929233266973245,0.2902779131483183,0.33273460547085354,0.58224305620495909,2.0829999999999999E-4,1.724,4,1.392796E-3,{"$f":"AK877*IF($G1171=10,1,IF($G1171=15,1,IF($G1171=20,1,(1-(($E1171-50)*0.005)))))","v":197.63792866546598},212.15994173663077,280.8,0.95,0.95,0.95,198,212,281,85,91,121,0.10824120315119022,0.12385592691043998,0.21753268060832034,1.4,5.0999999999999996,5.6,7.2,null,1582,null,0.68,null,null,0,12.3,14.4,21.85,null,1,1,1,198,212,281,null,0,0,0,1]
["3707020",null,null,3,70,70,20,21.5,0,26,30,41.1,1414.840819712653,1509.840819712653,1619.1421060355642,1935.84,1.5,1.08,1.08,1.08,1415,1510,1619,1936,122,130,139,166,6.0374758328522876E-2,6.8444200673944258E-2,7.8121147734999577E-2,0.11095002490928764,1.2760000000000001E-4,1.7219,2,3.76611E-4,{"$f":"AK878*IF($G1172=10,1,IF($G1172=15,1,IF($G1172=20,1,(1-(($E1172-50)*0.005)))))","v":170.52628152222005},182.87112058001478,218.64000000000001,0.95,0.95,0.95,171,183,219,74,79,94,2.2511197833279682E-2,2.5608782122359248E-2,3.6084845824600094E-2,0.9,5.0999999999999996,5.6,7.2,null,1927,null,0.8,null,null,0,12.3,14.4,21.85,null,1,1,1,171,183,219,null,0,0,0,{"$f":"IF(SUM(BV1172:BX1172)=0,1,0)","v":1}]
["3708010",null,null,3,70,80,10,11.5,0,26,30,41.8,898.2,1214.2269940407766,1304.1433704057049,1574.18,1.5,1.08,1.08,1.08,898,1214,1304,1574,77,104,112,135,3.0897580494762777E-2,5.5028754884652663E-2,6.3456869664955617E-2,9.0909861993553942E-2,3.969E-4,1.7345999999999999,2,3.6734700000000002E-4,{"$f":"AK880*IF($G1174=10,1,IF($G1174=15,1,IF($G1174=20,1,(1-(($E1174-50)*0.005)))))","v":168.33710197020613},180.80286190736828,218.24,0.98,0.98,0.98,168,181,218,72,78,94,2.7165359623318678E-2,3.167181300086596E-2,4.5312552969066985E-2,0.5,6.3,6.8,9.1,null,998,null,0.9,null,null,0,12.8,14.7,21.85,null,1,1,1,168,181,218,null,0,0,0,1]
["3708011",null,null,3,70,80,11,11.5,0,26,30,41.8,864.96,1647.5037394527276,1769.505282019556,2135.9,1.5,1.1000000000000001,1.1000000000000001,1.1000000000000001,865,1648,1770,2136,74,142,152,184,4.8652705070335339E-2,0.1687204798043572,0.19218780961004492,0.27712360618498821,3.969E-4,1.7345999999999999,4,5.7428799999999995E-4,{"$f":"AK881*IF($G1175=10,1,IF($G1175=15,1,IF($G1175=20,1,(1-(($E1175-50)*0.005)))))","v":248.4},266.40000000000003,322.2,0.95,0.95,0.95,248,266,322,107,114,138,9.8244834171768089E-2,0.11087971657113949,0.15974609947904747,1.1000000000000001,6.3,6.8,9.1,null,1272,null,0.68,null,null,0,12.8,14.7,21.85,null,1,1,1,248,266,322,null,0,0,0,1]
["3708016",null,null,3,70,80,16,16.5,0,26,30,42.4,1229.44,2040.4331716148024,2188.0092071816284,2935.7,1.5,1.1000000000000001,1.1000000000000001,1.1000000000000001,1229,2040,2188,2936,106,175,188,252,0.16997990238477523,0.45744743887251921,0.52704418993994806,0.94073397666389191,2.0829999999999999E-4,1.724,4,1.392796E-3,{"$f":"AK883*IF($G1177=10,1,IF($G1177=15,1,IF($G1177=20,1,(1-(($E1177-50)*0.005)))))","v":280.8},301.5,405,0.95,0.95,0.95,281,302,405,121,130,174,0.22071465965427722,0.25429691978271157,0.45229611548085941,1.6,6,6.7,9,null,1808,null,0.68,null,null,0,11.8,13.7,21.85,null,1,1,1,281,302,405,null,0,0,0,1]
["3708020",null,null,3,70,80,20,21.5,0,26,30,42.4,1761.6000000000001,1942.5718983039128,2086.4239348515057,2518.44,1.5,1.08,1.08,1.08,1762,1943,2086,2518,152,167,179,217,9.4646006874791452E-2,0.11395554008077592,0.13067872337503861,0.19110006829963533,1.2760000000000001E-4,1.7219,2,3.76611E-4,{"$f":"AK884*IF($G1178=10,1,IF($G1178=15,1,IF($G1178=20,1,(1-(($E1178-50)*0.005)))))","v":240.07166246887351},257.84953601562182,311.24,0.95,0.95,0.95,240,258,311,103,111,134,4.3951963441231798E-2,5.0929918356249132E-2,7.381701321036345E-2,1.1000000000000001,6,6.7,9,null,2202,null,0.8,null,null,0,11.8,13.7,21.85,null,1,1,1,240,258,311,null,0,0,0,1]
["3709010",null,null,3,70,90,10,11.5,0,26,30,42.4,{"$f":"IF($N1180-($BE1180*$BG1180)>100,$BE1180*$BG1180,$N1180-95)","v":1010.7},1395.6272192501513,1501.3000140389001,1828.08,1.5,1.08,1.08,1.08,{"$f":"ROUND(M1180*POWER(CF_heat,Q1180),0)","v":1011},{"$f":"ROUND(N1180*POWER(CF_heat,R1180),0)","v":1396},{"$f":"ROUND(O1180*POWER(CF_heat,S1180),0)","v":1501},{"$f":"ROUND(P1180*POWER(CF_heat,T1180),0)","v":1828},87,120,129,157,4.0854987107741395E-2,7.5608781210671119E-2,8.6853211147160284E-2,0.12662134598395483,{"$f":"IF($G1180=$CO$103,CP$103,IF($G1180=$CO$104,CP$104,IF($G1180=$CO$105,CP$105,IF($G1180=$CO$107,CP$107,IF($G1180=$CO$108,CP$108,IF($G1180=$CO$109,CP$109,IF($G1180=$CO$111,CP$111,IF($G1180=$CO$112,CP$112,IF($G1180=$CO$113,CP$113,IF($G1180=$CO$115,CP$115,IF($G1180=$CO$116,CP$116,IF($G1180=$CO$117,CP$117,IF($G1180=$CO$119,CP$119,IF($G1180=$CO$120,CP$120,))))))))))))))","v":3.969E-4},{"$f":"IF($G1180=$CO$103,CQ$103,IF($G1180=$CO$104,CQ$104,IF($G1180=$CO$105,CQ$105,IF($G1180=$CO$107,CQ$107,IF($G1180=$CO$108,CQ$108,IF($G1180=$CO$109,CQ$109,IF($G1180=$CO$111,CQ$111,IF($G1180=$CO$112,CQ$112,IF($G1180=$CO$113,CQ$113,IF($G1180=$CO$115,CQ$115,IF($G1180=$CO$116,CQ$116,IF($G1180=$CO$117,CQ$117,IF($G1180=$CO$119,CQ$119,IF($G1180=$CO$120,CQ$120,))))))))))))))","v":1.7345999999999999},{"$f":"IF($G1180=$CO$103,CR$103,IF($G1180=$CO$104,CR$104,IF($G1180=$CO$105,CR$105,IF($G1180=$CO$107,CR$107,IF($G1180=$CO$108,CR$108,IF($G1180=$CO$109,CR$109,IF($G1180=$CO$111,CR$111,IF($G1180=$CO$112,CR$112,IF($G1180=$CO$113,CR$113,IF($G1180=$CO$115,CR$115,IF($G1180=$CO$116,CR$116,IF($G1180=$CO$117,CR$117,IF($G1180=$CO$119,CR$119,IF($G1180=$CO$120,CR$120,))))))))))))))","v":2},{"$f":"IF($G1180=$CO$103,CS$103,IF($G1180=$CO$104,CS$104,IF($G1180=$CO$105,CS$105,IF($G1180=$CO$107,CS$107,IF($G1180=$CO$108,CS$108,IF($G1180=$CO$109,CS$109,IF($G1180=$CO$111,CS$111,IF($G1180=$CO$112,CS$112,IF($G1180=$CO$113,CS$113,IF($G1180=$CO$115,CS$115,IF($G1180=$CO$116,CS$116,IF($G1180=$CO$117,CS$117,IF($G1180=$CO$119,CS$119,IF($G1180=$CO$120,CS$120,))))))))))))))","v":3.6734700000000002E-4},{"$f":"AK886*IF($G1180=10,1,IF($G1180=15,1,IF($G1180=20,1,(1-(($E1180-50)*0.005)))))","v":193.48593193227777},208.13611852764589,253.44,0.98,0.98,0.98,{"$f":"ROUND(AK1180*POWER(CF_cool,AN1180),0)","v":193},208,253,83,89,109,3.7340239212640722E-2,4.2669333600542279E-2,6.2889336846315577E-2,{"$f":"ROUND(IF(G1180=10,$CO$92*F1180,IF(G1180=11,$CO$93*F1180,IF(G1180=15,$CO$94*F1180,IF(G1180=16,$CO$95*F1180,IF(G1180=20,$CO$96*F1180,IF(G1180=21,$CO$97*F1180,)))))),1)","v":0.6},6.7,7.4,10.3,null,1123,null,{"$f":"IF(G1180=10,0.9,IF(G1180=11,0.68,IF(G1180=15,0.8,IF(G1180=16,0.68,IF(G1180=20,0.8,IF(G1180=21,0.8))))))","v":0.9},null,null,0,12.5,14.7,21.85,null,1,1,1,{"$f":"AQ1180/BO1180","v":193},208,253,null,{"$f":"BR1180-AQ1180","v":0},{"$f":"BS1180-AR1180","v":0},{"$f":"BT1180-AS1180","v":0},1]
[{"$f":"CONCATENATE(D1181,E1181,F1181,G1181)","v":"3709011"},null,null,3,70,90,11,11.5,0,26,30,42.4,973.08,1893.6336235985709,2037.0140009310799,2480.4,1.5,{"$f":"IF($G1181=10,1.08,IF($G1181=11,1.1,IF($G1181=15,1.08,IF($G1181=16,1.1,IF($G1181=20,1.08,IF($G1181=21,1.05))))))","v":1.1000000000000001},1.1000000000000001,1.1000000000000001,973,1894,2037,2480,84,163,175,213,{"$f":"(($AG1181*(Y1181^$AH1181)*((($F1181-14.4)*$AI1181)/100))+($AJ1181*(Y1181^2)))*0.0098","v":6.5317448094632705E-2},{"$f":"(($AG1181*(Z1181^$AH1181)*((($F1181-14.4)*$AI1181)/100))+($AJ1181*(Z1181^2)))*0.0098","v":0.23039387696616745},{"$f":"(($AG1181*(AA1181^$AH1181)*((($F1181-14.4)*$AI1181)/100))+($AJ1181*(AA1181^2)))*0.0098","v":0.26382483336744583},{"$f":"(($AG1181*(AB1181^$AH1181)*((($F1181-14.4)*$AI1181)/100))+($AJ1181*(AB1181^2)))*0.0098","v":0.38395411039699373},3.969E-4,1.7345999999999999,4,5.7428799999999995E-4,{"$f":"AK887*IF($G1181=10,1,IF($G1181=15,1,IF($G1181=20,1,(1-(($E1181-50)*0.005)))))","v":285.44671719440868},307.05990440740487,373.89600000000002,0.95,0.95,0.95,285,307,374,123,132,161,{"$f":"(($AG1181*(AT1181^$AH1181)*((($F1181-14.4)*$AI1181)/100))+($AJ1181*(AT1181^2)))*0.0098","v":0.13476424954614483},{"$f":"(($AG1181*(AU1181^$AH1181)*((($F1181-14.4)*$AI1181)/100))+($AJ1181*(AU1181^2)))*0.0098","v":0.15414634227636631},{"$f":"(($AG1181*(AV1181^$AH1181)*((($F1181-14.4)*$AI1181)/100))+($AJ1181*(AV1181^2)))*0.0098","v":0.22503364182021707},1.2,6.7,7.4,10.3,null,1431,null,0.68,null,null,0,12.5,14.7,21.85,null,1,1,1,285,{"$f":"AR1181/BP1181","v":307},{"$f":"AS1181/BQ1181","v":374},null,0,0,0,1]
["3709016",null,null,3,70,90,16,16.5,0,26,30,43.3,1383.1200000000001,2336.669516687492,2503.3688418217644,3409.2,1.5,1.1000000000000001,1.1000000000000001,1.1000000000000001,1383,2337,2503,3409,119,201,215,293,0.21666354439365651,0.60915360332621049,0.69575042058868541,1.2822911322288062,2.0829999999999999E-4,1.724,4,1.392796E-3,{"$f":"AK889*IF($G1183=10,1,IF($G1183=15,1,IF($G1183=20,1,(1-(($E1183-50)*0.005)))))","v":322.00144870931126},344.97321421091897,469.8,0.95,0.95,0.95,322,345,470,138,148,202,0.29011428601466488,0.3330195147095848,0.61515013801414453,1.8,7,7.7,10.7,null,2034,null,0.68,null,null,0,11.3,13.2,21.85,null,1,1,1,322,345,470,null,0,0,0,1]
["3709020",null,null,3,70,90,20,21.5,0,26,30,43.3,1982.4,2232.7836804230465,2401.8435041457315,2924.64,1.5,1.08,1.08,1.08,1982,2233,2402,2925,170,192,207,252,0.11976277938884493,0.15220989401469975,0.17653301618879313,0.26017862567755984,1.2760000000000001E-4,1.7219,2,3.76611E-4,{"$f":"AK890*IF($G1184=10,1,IF($G1184=15,1,IF($G1184=20,1,(1-(($E1184-50)*0.005)))))","v":275.93732338069162},296.83048721840407,361.44,0.95,0.95,0.95,276,297,361,119,128,155,5.9353068879593893E-2,6.85057463009488E-2,9.9843942617951306E-2,1.2,7,7.7,10.7,null,2478,null,0.8,null,null,0,11.3,13.2,21.85,null,1,1,1,276,297,361,null,0,0,0,1]
["37010010",null,null,3,70,100,10,11.5,0,26,30,43,1123.2,1574.3905475253332,1696.1265760133244,2081.98,1.5,1.08,1.08,1.08,1123,1574,1696,2082,97,135,146,179,5.2478926977686212E-2,9.8623231218722851E-2,0.11455551187153463,0.16920060692862343,3.969E-4,1.7345999999999999,2,3.6734700000000002E-4,{"$f":"AK892*IF($G1186=10,1,IF($G1186=15,1,IF($G1186=20,1,(1-(($E1186-50)*0.005)))))","v":218.26918973175157},235.14633901405676,288.64,0.98,0.98,0.98,218,235,289,94,101,124,4.9429305306709352E-2,5.6681136080738742E-2,8.3841493078660942E-2,0.7,7.8,8.6999999999999993,12.2,null,1248,null,0.9,null,null,0,12.3,14.1,21.85,null,1,1,1,218,235,289,null,0,0,0,1]
["37010011",null,null,3,70,100,11,11.5,0,26,30,43,1081.2,2136.1856779144437,2301.3611872256411,2824.9,1.5,1.1000000000000001,1.1000000000000001,1.1000000000000001,1081,2136,2301,2825,93,184,198,243,8.3268429683058379E-2,0.30352033783455779,0.34894385970841529,0.51535542526976641,3.969E-4,1.7345999999999999,4,5.7428799999999995E-4,{"$f":"AK893*IF($G1187=10,1,IF($G1187=15,1,IF($G1187=20,1,(1-(($E1187-50)*0.005)))))","v":322.2},346.5,425.7,0.95,0.95,0.95,322,347,426,138,149,183,0.17577233145875712,0.20329967931870585,0.30039191735019899,1.3,7.8,8.6999999999999993,12.2,null,1590,null,0.68,null,null,0,12.3,14.1,21.85,null,1,1,1,322,347,426,null,0,0,0,1]
["37010016",null,null,3,70,100,16,16.5,0,26,30,44.1,1536.8000000000002,2630.3871448118639,2816.5633812075234,3882.7,1.5,1.1000000000000001,1.1000000000000001,1.1000000000000001,1537,2630,2817,3883,132,226,242,334,0.26947314025099373,0.77712770761656835,0.88934367498091926,1.6794877029795134,2.0829999999999999E-4,1.724,4,1.392796E-3,{"$f":"AK895*IF($G1189=10,1,IF($G1189=15,1,IF($G1189=20,1,(1-(($E1189-50)*0.005)))))","v":362.7},387.90000000000003,535.5,0.95,0.95,0.95,363,388,536,156,167,230,0.37437992821002519,0.42813738102556287,0.80447999813987203,2,7,7.7,10.7,null,2260,null,0.68,null,null,0,10.9,12.8,21.85,null,1,1,1,363,388,536,null,0,0,0,1]
["37010020",null,null,3,70,100,20,21.5,0,26,30,44.1,2202.4,2518.7768428703835,2713.5353098724395,3330.84,1.5,1.08,1.08,1.08,2202,2519,2714,3331,189,217,233,286,0.14963863463990695,0.19637584927080459,0.22589211718801094,0.33821597295331562,1.2760000000000001E-4,1.7219,2,3.76611E-4,{"$f":"AK896*IF($G1190=10,1,IF($G1190=15,1,IF($G1190=20,1,(1-(($E1190-50)*0.005)))))","v":311.2816285378957},335.35074484391049,411.64,0.95,0.95,0.95,311,335,412,134,144,177,7.6117387440108403E-2,8.7676786087461309E-2,0.13152753973488002,1.3,7,7.7,10.7,null,2753,null,0.8,null,null,0,10.9,12.8,21.85,null,1,1,1,311,335,412,null,0,0,0,1]
["37011010",null,null,3,70,110,10,11.5,0,26,30,43.5,1235.7,1766.3893947845202,1902.9712804051933,2335.88,1.5,1.08,1.08,1.08,1236,1766,1903,2336,106,152,164,201,6.4687262691230263E-2,0.12846635666491932,0.14849855963064404,0.21898283146724631,3.969E-4,1.7345999999999999,2,3.6734700000000002E-4,{"$f":"AK898*IF($G1192=10,1,IF($G1192=15,1,IF($G1192=20,1,(1-(($E1192-50)*0.005)))))","v":244.88738360147738},263.82272182064906,323.83999999999997,0.98,0.98,0.98,245,264,324,105,114,139,6.3532409410345894E-2,7.4283678081492499E-2,0.10834103483995079,0.7,8.4,9.3000000000000007,14,null,1373,null,0.9,null,null,0,12,13.9,21.85,null,1,1,1,245,264,324,null,0,0,0,1]
["37011011",null,null,3,70,110,11,11.5,0,26,30,43.5,1189.3200000000002,2396.6961264405954,2582.0149905458411,3169.4,1.5,1.1000000000000001,1.1000000000000001,1.1000000000000001,1189,2397,2582,3169,102,206,222,273,0.10390035565082206,0.39231335542301654,0.4521181336762668,0.66959643399325008,3.969E-4,1.7345999999999999,4,5.7428799999999995E-4,{"$f":"AK899*IF($G1193=10,1,IF($G1193=15,1,IF($G1193=20,1,(1-(($E1193-50)*0.005)))))","v":361.2784610916114},389.21346432233833,477.75600000000003,0.95,0.95,0.95,361,389,478,155,167,206,0.22892075331887479,0.26360701638401601,0.39231335542301654,1.5,8.4,9.3000000000000007,14,null,1749,null,0.68,null,null,0,12,13.9,21.85,null,1,1,1,361,389,478,null,0,0,0,1]
["37011016",null,null,3,70,110,16,16.5,0,26,30,44.1,1690.48,2849.7497938679544,3051.4523045945984,4206.5,1.5,1.1000000000000001,1.1000000000000001,1.1000000000000001,1690,2850,3051,4207,145,245,262,362,0.32853445351079952,0.92195448057549512,1.0521845346704815,1.9898808014753209,2.0829999999999999E-4,1.724,4,1.392796E-3,{"$f":"AK901*IF($G1195=10,1,IF($G1195=15,1,IF($G1195=20,1,(1-(($E1195-50)*0.005)))))","v":367.04967034771374},393.02908798986175,541.80000000000007,0.95,0.95,0.95,367,393,542,158,169,233,0.38892932767283483,0.44395456997720545,0.83514812422419082,2.2000000000000002,7.9,8.8000000000000007,12.5,null,2486,null,0.68,null,null,0,10.9,12.8,21.85,null,1,1,1,367,393,542,null,0,0,0,1]
["37011020",null,null,3,70,110,20,21.5,0,26,30,44.1,2422.4,2692.551301713082,2900.746468081386,3560.6400000000003,1.5,1.08,1.08,1.08,2422,2693,2901,3561,208,232,249,306,0.1831225770852449,0.22694722640377721,0.26079058599865457,0.3911657832602583,1.2760000000000001E-4,1.7219,2,3.76611E-4,{"$f":"AK902*IF($G1196=10,1,IF($G1196=15,1,IF($G1196=20,1,(1-(($E1196-50)*0.005)))))","v":317.17997831584631},341.70517057946222,419.44,{"$f":"IF($G1196=10,0.98,IF($G1196=11,0.95,IF($G1196=15,1.01,IF($G1196=16,0.95,IF($G1196=20,0.95,IF($G1196=21,0.85))))))","v":0.95},0.95,0.95,317,342,419,136,147,180,7.9544712053658623E-2,9.2650629466224224E-2,0.13785909087762688,1.5,7.9,8.8000000000000007,12.5,null,3028,null,0.8,null,null,0,10.9,12.8,21.85,null,1,1,1,317,342,419,null,0,0,0,1]
["37012010",null,null,3,70,120,10,11.5,0,26,30,44,1348.2,1924.9914127028867,2079.6202422788024,2589.7800000000002,1.5,1.08,1.08,1.08,1348,1925,2080,2590,116,166,179,223,7.974633477090802E-2,0.15749249199599902,0.18178308069124571,0.2762925905995734,3.969E-4,1.7345999999999999,2,3.6734700000000002E-4,{"$f":"AK904*IF($G1198=10,1,IF($G1198=15,1,IF($G1198=20,1,(1-(($E1198-50)*0.005)))))","v":266.87553260000635},288.31284965818764,359.04,0.98,0.98,0.98,267,288,359,115,124,154,7.844810437960871E-2,9.0497540707880797E-2,0.13655457969155813,0.8,8.9,9.9,14.8,null,1498,null,0.9,null,null,0,11.8,13.7,21.85,null,1,1,1,267,288,359,null,0,0,0,1]
["37012011",null,null,3,70,120,11,11.5,0,26,30,44,1297.44,2611.8926414972211,2821.6982019103875,3513.9,1.5,1.1000000000000001,1.1000000000000001,1.1000000000000001,1297,2612,2822,3514,112,225,243,302,0.12951003499265709,0.48249130904551651,0.55811858661840352,0.8424915609755409,3.969E-4,1.7345999999999999,4,5.7428799999999995E-4,{"$f":"AK905*IF($G1199=10,1,IF($G1199=15,1,IF($G1199=20,1,(1-(($E1199-50)*0.005)))))","v":393.3},425.7,530.1,0.95,0.95,0.95,393,426,530,169,183,228,0.28100254656640733,0.32654029940547913,0.49473160420277329,1.6,8.9,9.9,14.8,null,1908,null,0.68,null,null,0,11.8,13.7,21.85,null,1,1,1,393,426,530,null,0,0,0,1]
["37012016",null,null,3,70,120,16,16.5,0,26,30,44.8,1844.16,3241.8333772189817,3471.5459677567114,4829.7,1.5,1.1000000000000001,1.1000000000000001,1.1000000000000001,1844,3242,3472,4830,159,279,299,415,0.39887863141054691,1.204343316710782,1.3801140974321322,2.632057975603213,2.0829999999999999E-4,1.724,4,1.392796E-3,{"$f":"AK907*IF($G1201=10,1,IF($G1201=15,1,IF($G1201=20,1,(1-(($E1201-50)*0.005)))))","v":446.40000000000003},478.8,666,0.95,0.95,0.95,446,479,666,192,206,286,0.57765338136633759,0.66331635777885312,1.2645183938818414,2.4,8.6999999999999993,9.8000000000000007,14.3,null,2712,null,0.68,null,null,0,10.6,12.5,21.85,null,1,1,1,446,479,666,null,0,0,0,1]
["37012020",null,null,3,70,120,20,21.5,0,26,30,44.8,2643.2000000000003,3079.6829926739365,3327.0647594078355,4143.24,1.5,1.08,1.08,1.08,2643,3080,3327,4143,227,265,286,356,0.22028572992562978,0.29848242281650889,0.34670295754782865,0.53308564610580933,1.2760000000000001E-4,1.7219,2,3.76611E-4,{"$f":"AK908*IF($G1202=10,1,IF($G1202=15,1,IF($G1202=20,1,(1-(($E1202-50)*0.005)))))","v":380.60090160569081},411.17343900116532,512.04,0.95,0.95,0.95,381,411,512,164,177,220,0.11646670942658871,0.13524222402195477,0.20715667478646135,1.6,8.6999999999999993,9.8000000000000007,14.3,null,3304,null,0.8,null,null,0,10.6,12.5,21.85,null,1,1,1,381,411,512,null,0,0,0,1]
["37014011",null,null,3,70,140,11,11.5,0,26,30,44.8,1513.68,3077.015307780141,3332.5766142436496,4202.8999999999996,1.5,1.1000000000000001,1.1000000000000001,1.1000000000000001,1514,3077,3333,4203,130,265,287,361,0.18585444968556758,0.70734607634958468,0.82199994803261212,1.2670408781957792,3.969E-4,1.7345999999999999,4,5.7428799999999995E-4,{"$f":"AK911*IF($G1205=10,1,IF($G1205=15,1,IF($G1205=20,1,(1-(($E1205-50)*0.005)))))","v":463.5},502.2,633.6,0.95,0.95,0.95,464,502,634,200,216,273,0.41668910360367667,0.48150849511107319,0.74809399232284723,1.9,10.1,11.2,17.5,null,2226,null,0.68,null,null,0,11.5,13.3,21.85,null,1,1,1,464,502,634,null,0,0,0,1]
["37014015",null,null,3,70,140,15,16.5,0,26,30,45.4,2208.8000000000002,2628.9846104428207,2815.4584574952669,3950.36,1.5,1.08,1.08,1.08,2209,2629,2815,3950,190,226,242,340,0.20688755958299987,0.28983635322357215,0.33106971150845382,0.64182959732152445,2.0829999999999999E-4,1.724,2,4.6182900000000003E-4,{"$f":"AK912*IF($G1206=10,1,IF($G1206=15,1,IF($G1206=20,1,(1-(($E1206-50)*0.005)))))","v":358.86695423586366},384.32138301819265,539.24,1.01,1.01,1.01,359,384,539,154,165,232,0.137621338941047,0.1573279392829452,0.30498467021762166,1.4,9.6,10.5,16.100000000000001,null,2761,null,0.8,null,null,0,10.4,12.2,21.85,null,1,1,1,359,384,539,null,0,0,0,1]
["37014020",null,null,3,70,140,20,21.5,0,26,30,45.4,3083.2000000000003,3628.1091959950468,3929.4415695377957,4955.6400000000003,1.5,1.08,1.08,1.08,3083,3628,3929,4956,265,312,338,426,0.30592500796073402,0.42118895241344162,0.49271246369818478,0.7756359730733573,1.2760000000000001E-4,1.7219,2,3.76611E-4,{"$f":"AK914*IF($G1208=10,1,IF($G1208=15,1,IF($G1208=20,1,(1-(($E1208-50)*0.005)))))","v":448.37784746172167},485.61784045001809,612.44000000000005,0.95,0.95,0.95,448,486,612,193,209,263,0.16455496588623258,0.1922740711354792,0.30142179085547277,1.9,9.6,10.5,16.100000000000001,null,3854,null,0.8,null,null,0,10.4,12.2,21.85,null,1,1,1,448,486,612,null,0,0,0,1]
["37014021",null,null,3,70,140,21,21.5,0,26,30,45.4,3558.4,4951.0649025572329,5302.2438770247491,7439.56,1.5,1.05,1.05,1.05,3558,4951,5302,7440,306,426,456,640,0.59160172449162785,1.1261815111859146,1.285836312641885,2.4907095980414304,1.2760000000000001E-4,1.7219,4,5.1420100000000005E-4,{"$f":"AK915*IF($G1209=10,1,IF($G1209=15,1,IF($G1209=20,1,(1-(($E1209-50)*0.005)))))","v":578.00313285183563},619.00088816889445,868.51800000000003,0.85,0.85,0.85,578,619,869,249,266,374,0.39640702455899102,0.45063859581811744,0.87404085180991176,3.7,9.6,10.5,16.100000000000001,null,4448,null,0.8,null,null,0,10.4,12.2,21.85,null,1,1,1,578,619,869,null,0,0,0,1]
["37016011",null,null,3,70,160,11,11.5,0,26,30,45.5,1729.92,3533.107636511756,3835.359341571188,4891.8999999999996,1.5,1.1000000000000001,1.1000000000000001,1.1000000000000001,1730,3533,3835,4892,149,304,330,421,0.25821927325536886,0.97923387090071334,1.1422415218620434,1.8051385479062783,3.969E-4,1.7345999999999999,4,5.7428799999999995E-4,{"$f":"AK917*IF($G1211=10,1,IF($G1211=15,1,IF($G1211=20,1,(1-(($E1211-50)*0.005)))))","v":532.80000000000007},577.80000000000007,737.1,0.95,0.95,0.95,533,578,737,229,249,317,0.57600512225495459,0.6737130340721369,1.0592575372514981,2.1,11,12.4,19.2,null,2544,null,0.68,null,null,0,11.2,13,21.85,null,1,1,1,533,578,737,null,0,0,0,1]
["37016015",null,null,3,70,160,15,16.5,0,26,30,46.4,2524,3021.1783832091446,3225.6120441880121,4597.96,1.5,1.08,1.08,1.08,2524,3021,3226,4598,217,260,277,395,0.27653205415771237,0.39255304944044445,0.4438617891013007,0.88424755918807496,2.0829999999999999E-4,1.724,2,4.6182900000000003E-4,{"$f":"AK918*IF($G1212=10,1,IF($G1212=15,1,IF($G1212=20,1,(1-(($E1212-50)*0.005)))))","v":412.40297880742492},440.30899429620177,627.64,1.01,1.01,1.01,412,440,628,177,189,270,0.18642121393254038,0.21164255392481759,0.42236240265801678,1.6,11.5,12.8,19.600000000000001,null,3155,null,0.8,null,null,0,10,11.8,21.85,null,1,1,1,412,440,628,null,0,0,0,1]
["37016020",null,null,3,70,160,20,21.5,0,26,30,46.4,3524,4165.887726998767,4522.2727563025155,5768.04,1.5,1.08,1.08,1.08,3524,4166,4522,5768,303,358,389,496,0.40709149131469469,0.5639754157614939,0.66342434491024516,1.0674404634562651,1.2760000000000001E-4,1.7219,2,3.76611E-4,{"$f":"AK920*IF($G1214=10,1,IF($G1214=15,1,IF($G1214=20,1,(1-(($E1214-50)*0.005)))))","v":514.83890668473202},558.88255136973487,712.84,0.95,0.95,0.95,515,559,713,221,240,307,0.21989661309334549,0.25827229749987091,0.41765567382317259,2.1,11.5,12.8,19.600000000000001,null,4405,null,0.8,null,null,0,10,11.8,21.85,null,{"$f":"IF((237.3*LN(($AQ$1*EXP(17.27*($AM$3/($AM$3+237.3))))))/(17.27-LN(($AQ$1*EXP(17.27*($AM$3/($AM$3+237.3))))))<(($AM$1+$AM$2)/2),1,IF(1/(1+((2258*((0.622/((101325/(1*611*EXP(17.27*((($AM$1+$AM$2)/2)/((($AM$1+$AM$2)/2)+237.3))))))-1)*1000-(0.622/((101325/($AQ$1*611*EXP(17.27*($AM$3/($AM$3+237.3))))))-1)*1000))/(1005*((($AM$1+$AM$2)/2)-$AM$3))))>1,1,1/(1+((2258*((0.622/((101325/(1*611*EXP(17.27*((($AM$1+$AM$2)/2)/((($AM$1+$AM$2)/2)+237.3))))))-1)*1000-(0.622/((101325/($AQ$1*611*EXP(17.27*($AM$3/($AM$3+237.3))))))-1)*1000))/(1005*((($AM$1+$AM$2)/2)-$AM$3))))))","v":1},1,1,515,559,713,null,0,0,0,1]
["37016021",null,null,3,70,160,21,21.5,0,26,30,46.4,4066.4,5689.6682460807178,6074.6702425752001,8659.16,1.5,1.05,1.05,1.05,4066,5690,6075,8659,350,489,522,745,0.79225431703050342,1.516156598549864,1.721314141488552,3.4393517119933592,1.2760000000000001E-4,1.7219,4,5.1420100000000005E-4,{"$f":"AK921*IF($G1215=10,1,IF($G1215=15,1,IF($G1215=20,1,(1-(($E1215-50)*0.005)))))","v":664.23004663575978},709.17640959155221,1010.898,0.85,0.85,0.85,664,709,1011,286,305,435,0.53575442865690937,0.60681165011044891,1.2079343637029634,4.3,11.5,12.8,19.600000000000001,null,5083,null,0.8,null,null,0,10,11.8,21.85,null,1,1,1,664,709,1011,null,0,0,0,1]
["37018011",null,null,3,70,180,11,11.5,0,26,30,46,1946.16,4030.7284303866513,4375.55079813051,5580.9,1.5,1.1000000000000001,1.1000000000000001,1.1000000000000001,1946,4031,4376,5581,167,347,376,480,0.34169589689582697,1.334539960528933,1.5506696983380099,2.4499067566992552,3.969E-4,1.7345999999999999,4,5.7428799999999995E-4,{"$f":"AK923*IF($G1217=10,1,IF($G1217=15,1,IF($G1217=20,1,(1-(($E1217-50)*0.005)))))","v":607.59282261242038},659.57141639163251,841.26600000000008,0.95,0.95,0.95,608,660,841,261,284,362,0.78419058339595171,0.91797171561030966,1.4444273621530805,2.4,12.2,13.7,22,null,2862,null,0.68,null,null,0,10.9,12.7,21.85,null,1,1,1,608,660,841,null,0,0,0,1]
["37018015",null,null,3,70,180,15,16.5,0,26,30,46.4,2840,3233.3460619053994,3452.1364439366635,4920.8599999999997,1.5,1.08,1.08,1.08,2840,3233,3452,4921,244,278,297,423,0.35773611630603047,0.46032647442822744,0.52311768690779403,1.0377569514621654,2.0829999999999999E-4,1.724,2,4.6182900000000003E-4,{"$f":"AK924*IF($G1218=10,1,IF($G1218=15,1,IF($G1218=20,1,(1-(($E1218-50)*0.005)))))","v":420.6820520547858},449.14828645115074,640.24,1.01,1.01,1.01,421,449,640,181,193,275,0.2010263623163458,0.22751208445626886,0.45076939507650016,1.8,11.5,12.8,19.600000000000001,null,3550,null,0.8,null,null,0,10,11.8,21.85,null,1,1,1,421,449,640,null,0,0,0,1]
["37018020",null,null,3,70,180,20,21.5,0,26,30,46.4,3964,4497.8275192555193,4882.6094666576164,6227.64,1.5,1.08,1.08,1.08,3964,4498,4883,6228,341,387,420,536,0.52429835305472805,0.67105520500225491,0.78724334085603187,1.2676087797406754,1.2760000000000001E-4,1.7219,2,3.76611E-4,{"$f":"AK926*IF($G1220=10,1,IF($G1220=15,1,IF($G1220=20,1,(1-(($E1220-50)*0.005)))))","v":526.1057925837863},571.11330132956857,728.44,0.95,0.95,0.95,526,571,728,226,246,313,0.23536033293811029,0.27756656183252509,0.44366421223291913,2.4,11.5,12.8,19.600000000000001,null,4955,null,0.8,null,null,0,10,11.8,21.85,null,1,1,1,526,571,728,null,0,0,0,1]
["37018021",null,null,3,70,180,21,21.5,0,26,30,46.4,4575.2,6016.7573462820046,6423.892435808023,9156.9599999999991,1.5,1.05,1.05,1.05,4575,6017,6424,9157,393,517,552,788,1.0212249916105052,1.7364585854055543,1.9715108987105545,3.9339119327078702,1.2760000000000001E-4,1.7219,4,5.1420100000000005E-4,{"$f":"AK927*IF($G1221=10,1,IF($G1221=15,1,IF($G1221=20,1,(1-(($E1221-50)*0.005)))))","v":675.11111433229121},720.79376499519947,1027.4580000000001,0.85,0.85,0.85,675,721,1027,290,310,442,0.56774037418193291,0.64572712743949112,1.281878336980077,4.8,11.5,12.8,19.600000000000001,null,5719,null,0.8,null,null,0,10,11.8,21.85,null,1,1,1,675,721,1027,null,0,0,0,1]
["37020011",null,null,3,70,200,11,11.5,0,26,30,46.5,2162.4,4422.7050634086982,4820.649682883678,6269.9,1.5,1.1000000000000001,1.1000000000000001,1.1000000000000001,2162,4423,4821,6270,186,380,415,539,0.44430574674138956,1.6745484974017948,1.9734656930316881,3.2154295434805311,3.969E-4,1.7345999999999999,4,5.7428799999999995E-4,{"$f":"AK929*IF($G1223=10,1,IF($G1223=15,1,IF($G1223=20,1,(1-(($E1223-50)*0.005)))))","v":666.9},726.30000000000007,945,0.95,0.95,0.95,667,726,945,287,312,406,0.99322225900411476,1.1600716519126888,1.8944066592380211,2.7,13.4,14.8,24,null,3180,null,0.68,null,null,0,10.7,12.5,21.85,null,1,1,1,667,726,945,null,0,0,0,1]
["37020015",null,null,3,70,200,15,16.5,0,26,30,47.1,3155.2000000000003,3875.4624109054007,4083.4735576056296,5893.16,1.5,1.08,1.08,1.08,3155,3875,4083,5893,271,333,351,507,0.4509550003679646,0.67100385450414035,0.7427948904408519,1.5124900662854772,2.0829999999999999E-4,1.724,2,4.6182900000000003E-4,{"$f":"AK930*IF($G1224=10,1,IF($G1224=15,1,IF($G1224=20,1,(1-(($E1224-50)*0.005)))))","v":529.01617838795164},557.41053504066974,804.44,1.01,1.01,1.01,529,557,804,227,240,346,0.3205762003800503,0.35685612106712633,0.72249739815889857,2,13.2,14.7,23.5,null,3944,null,0.8,null,null,0,10,11.4,21.85,null,1,1,1,529,557,804,null,0,0,0,1]
["37020020",null,null,3,70,200,20,21.5,0,26,30,47.1,4404.8,5214.8121821672385,5684.028740747025,7392.84,1.5,1.08,1.08,1.08,4405,5215,5684,7393,379,448,489,636,0.65804050758796251,0.91133281879191153,1.0808827382560606,1.804767358434455,1.2760000000000001E-4,1.7219,2,3.76611E-4,{"$f":"AK932*IF($G1226=10,1,IF($G1226=15,1,IF($G1226=20,1,(1-(($E1226-50)*0.005)))))","v":644.46964929787134},702.45751547390614,913.64,0.95,0.95,0.95,644,702,914,277,302,393,0.35773067054432378,0.42311312971539766,0.70617331390652549,2.7,13.2,14.7,23.5,null,5506,null,0.8,null,null,0,10,11.4,21.85,null,1,1,1,644,702,914,null,0,0,0,1]
["37020021",null,null,3,70,200,21,21.5,0,26,30,47.1,5083.2000000000007,7298.5082710627348,7690.2476078687869,11098.36,1.5,1.05,1.05,1.05,5083,7299,7690,11098,437,628,661,954,1.2891836545205939,2.5976371030133358,2.8682489622749725,5.8399447479033668,1.2760000000000001E-4,1.7219,4,5.1420100000000005E-4,{"$f":"AK933*IF($G1227=10,1,IF($G1227=15,1,IF($G1227=20,1,(1-(($E1227-50)*0.005)))))","v":852.0511705755265},897.78407216165772,1295.6579999999999,0.85,0.85,0.85,852,898,1296,366,386,557,0.91589152880880575,1.0147890736734222,2.059764246471719,5.3,13.2,14.7,23.5,null,6354,null,0.8,null,null,0,10,11.4,21.85,null,1,1,1,852,898,1296,null,0,0,0,1]
["37022011",null,null,3,70,220,11,11.5,0,26,30,46.9,2378.6400000000003,4831.2827990970827,5278.770565343093,6958.9,1.5,1.1000000000000001,1.1000000000000001,1.1000000000000001,2379,4831,5279,6959,205,415,454,598,0.56382707576150681,2.0816746946687235,2.4599536452154176,4.1089164306330286,3.969E-4,1.7345999999999999,4,5.7428799999999995E-4,{"$f":"AK935*IF($G1229=10,1,IF($G1229=15,1,IF($G1229=20,1,(1-(($E1229-50)*0.005)))))","v":728.2685508189013},795.72294762922161,1048.9860000000001,0.95,0.95,0.95,728,796,1049,313,342,451,1.2333357810617314,1.4535411776301579,2.429809823390217,2.9,13.4,14.8,24,null,3498,null,0.68,null,null,0,10.5,12.3,21.85,null,1,1,1,728,796,1049,null,0,0,0,1]
["37022015",null,null,3,70,220,15,16.5,0,26,30,47.8,3470.4,4302.5567439745028,4481.7988603493422,6540.76,1.5,1.08,1.08,1.08,3470,4303,4482,6541,{"$f":"ROUND(U1230*3600/(4186*ABS($O$1-$O$2)),0)","v":298},{"$f":"ROUND(V1230*3600/(4186*ABS($O$1-$O$2)),0)","v":370},{"$f":"ROUND(W1230*3600/(4186*ABS($O$1-$O$2)),0)","v":385},{"$f":"ROUND(X1230*3600/(4186*ABS($O$1-$O$2)),0)","v":563},0.5566297824997718,0.84427064665866536,0.91145906255959874,1.8978591317759046,2.0829999999999999E-4,1.724,2,4.6182900000000003E-4,{"$f":"AK936*IF($G1230=10,1,IF($G1230=15,1,IF($G1230=20,1,(1-(($E1230-50)*0.005)))))","v":587.31626956044784},611.78353807115786,892.84,1.01,1.01,1.01,587,612,893,{"$f":"ROUND(AQ1230*3600/(4186*ABS($AM$1-$AM$2)),0)","v":252},{"$f":"ROUND(AR1230*3600/(4186*ABS($AM$1-$AM$2)),0)","v":263},{"$f":"ROUND(AS1230*3600/(4186*ABS($AM$1-$AM$2)),0)","v":384},0.40328748590288432,0.43778400702821296,0.90690223440245954,2.2000000000000002,15.5,16.8,27.5,null,4338,null,0.8,null,null,0,10,11.1,21.85,null,1,1,1,587,612,893,null,0,0,0,1]
["37022020",null,null,3,70,220,20,21.5,0,26,30,47.8,4845.6000000000004,5696.5662496175182,6224.1991397456159,8205.24,1.5,1.08,1.08,1.08,4846,5697,6224,8205,417,490,535,706,0.80879726635128069,1.1066428651103115,1.3128927046129348,2.2531321307295649,1.2760000000000001E-4,1.7219,2,3.76611E-4,{"$f":"AK938*IF($G1232=10,1,IF($G1232=15,1,IF($G1232=20,1,(1-(($E1232-50)*0.005)))))","v":704.00695650122941},769.21417236639559,1014.04,0.95,0.95,0.95,704,769,1014,303,331,436,0.43521399990720622,0.5165738484716168,0.88193136480825907,2.9,15.5,16.8,27.5,null,6057,null,0.8,null,null,0,10,11.1,21.85,null,1,1,1,704,769,1014,null,0,0,0,1]
["37022021",null,null,3,70,220,21,21.5,0,26,30,47.8,5591.2000000000007,8102.8384881891643,8440.3982243391856,12317.96,1.5,1.05,1.05,1.05,5591,8103,8440,12318,481,697,726,1059,1.5929829885060007,3.2570253321888645,3.523799431798829,7.3137051488079097,1.2760000000000001E-4,1.7219,4,5.1420100000000005E-4,{"$f":"AK939*IF($G1233=10,1,IF($G1233=15,1,IF($G1233=20,1,(1-(($E1233-50)*0.005)))))","v":945.95124954769858},985.35905147705273,1438.038,0.85,0.85,0.85,946,985,1438,407,424,618,1.1550802934243622,1.249654704267791,2.5821815560084596,5.9,15.5,16.8,27.5,null,6989,null,0.8,null,null,0,10,11.1,21.85,null,1,1,1,946,985,1438,null,0,0,0,1]
["37024011",null,null,3,70,240,11,11.5,0,26,30,47.2,2594.88,5237.9452617275747,5738.028861571599,7647.9,1.5,1.1000000000000001,1.1000000000000001,1.1000000000000001,2595,5238,5738,7648,223,450,493,658,0.69547624918615902,2.5443263605089523,3.0134634241110767,5.1519252843624956,3.969E-4,1.7345999999999999,4,5.7428799999999995E-4,{"$f":"AK941*IF($G1235=10,1,IF($G1235=15,1,IF($G1235=20,1,(1-(($E1235-50)*0.005)))))","v":789.30000000000007},864.9,1152.9000000000001,0.95,0.95,0.95,789,865,1153,339,372,496,1.5061686783354979,1.7884763806738539,3.0475702640596607,3.2,14.8,16.600000000000001,28,null,3816,null,0.68,null,null,0,10.4,12.2,21.85,null,1,1,1,789,865,1153,null,0,0,0,1]
["37024015",null,null,3,70,240,15,16.5,0,26,30,48.1,3786.4,4729.715265656896,4901.7743245246338,7188.36,1.5,1.08,1.08,1.08,3786,4730,4902,7188,326,407,422,618,0.67918248449389651,1.0402677068624975,1.1152542227427753,2.3255236596425677,2.0829999999999999E-4,1.724,2,4.6182900000000003E-4,{"$f":"AK942*IF($G1236=10,1,IF($G1236=15,1,IF($G1236=20,1,(1-(($E1236-50)*0.005)))))","v":645.62512273636446},669.11187505864359,981.24,1.01,1.01,1.01,646,669,981,278,288,422,0.50037899202077363,0.5354561461459616,1.1152542227427753,2.4,16.399999999999999,17.7,29.7,null,4733,null,0.8,null,null,0,10,10.9,21.85,null,1,1,1,646,669,981,null,0,0,0,{"$f":"IF(SUM(BV1236:BX1236)=0,1,0)","v":1}]
["37024020",null,null,3,70,240,20,21.5,0,26,30,48.1,5285.6,6176.0620183272586,6765.7106634844222,9017.64,1.5,1.08,1.08,1.08,5286,6176,6766,9018,455,531,582,776,0.97703437370116297,1.3184926701217123,1.5755203313321131,2.756451557337142,1.2760000000000001E-4,1.7219,2,3.76611E-4,{"$f":"AK944*IF($G1238=10,1,IF($G1238=15,1,IF($G1238=20,1,(1-(($E1238-50)*0.005)))))","v":763.26517311676128},836.13657141043336,1114.44,0.95,0.95,0.95,763,836,1114,328,359,479,0.51827708039997999,0.61727233073709142,1.0794747424565225,3.2,16.399999999999999,17.7,29.7,null,6607,null,0.8,null,null,0,10,10.9,21.85,null,1,1,1,763,836,1114,null,0,0,0,1]
["37024021",null,null,3,70,240,21,21.5,0,26,30,48.1,6100,8907.2895892451361,9231.3217513746804,13537.56,1.5,1.05,1.05,1.05,6100,8907,9231,13538,525,766,794,1164,1.9338228490501828,4.0010729190713317,4.2877786386288861,8.9740973699602584,1.2760000000000001E-4,1.7219,4,5.1420100000000005E-4,{"$f":"AK945*IF($G1239=10,1,IF($G1239=15,1,IF($G1239=20,1,(1-(($E1239-50)*0.005)))))","v":1039.865440895968},1077.6939906204714,1580.4180000000001,0.85,0.85,0.85,1040,1078,1580,447,464,679,1.4199573685694282,1.5254204393827127,3.1718040427302778,6.4,16.399999999999999,17.7,29.7,null,7625,null,0.8,null,null,0,10,10.9,21.85,null,1,1,1,1040,1078,1580,null,0,0,0,1]
["37026011",null,null,3,70,260,11,11.5,0,26,30,47.8,2811.1200000000003,5669.0920000000006,6252.6749999999993,8336.9,1.5,1.1000000000000001,1.1000000000000001,1.1000000000000001,2811,5669,6253,8337,242,488,538,717,0.85098826110987391,3.1003441376081904,3.7135384223781238,6.3239752846398876,3.969E-4,1.7345999999999999,4,5.7428799999999995E-4,{"$f":"AK947*IF($G1241=10,1,IF($G1241=15,1,IF($G1241=20,1,(1-(($E1241-50)*0.005)))))","v":854.56008000000008},942.52949999999987,1256.7059999999999,0.95,0.95,0.95,855,943,1257,368,405,541,1.8409052614034471,2.1968946293249942,3.7519603111008868,3.5,16.2,18.600000000000001,31.4,null,4134,null,0.68,null,null,0,10.199999999999999,11.9,21.85,null,1,1,1,855,943,1257,null,0,0,0,1]
["37026015",null,null,3,70,260,15,16.5,0,26,30,48.1,4101.6000000000004,4942.1733310961072,5121.9619484404784,7511.2599999999993,1.5,1.08,1.08,1.08,4102,4942,5122,7511,353,425,440,646,0.81144928653523274,1.1583081112063738,1.2380335504785773,2.5902194067464457,2.0829999999999999E-4,1.724,2,4.6182900000000003E-4,{"$f":"AK948*IF($G1242=10,1,IF($G1242=15,1,IF($G1242=20,1,(1-(($E1242-50)*0.005)))))","v":653.91552727192982},677.70396216321694,993.84,1.01,1.01,1.01,654,678,994,281,292,427,0.52438185580177876,0.5643390276130934,1.1687899905071639,2.6,16.399999999999999,17.7,29.7,null,5127,null,0.8,null,null,0,10,10.9,21.85,null,1,1,1,654,678,994,null,0,0,0,1]
["37026020",null,null,3,70,260,20,21.5,0,26,30,48.1,{"$f":"IF($N1244-($BE1244*$BG1244)>100,$BE1244*$BG1244,$N1244-95)","v":5726.4000000000005},6444.5232000000005,7107.93,9477.24,1.5,1.08,1.08,1.08,{"$f":"ROUND(M1244*POWER(CF_heat,Q1244),0)","v":5726},{"$f":"ROUND(N1244*POWER(CF_heat,R1244),0)","v":6445},{"$f":"ROUND(O1244*POWER(CF_heat,S1244),0)","v":7108},{"$f":"ROUND(P1244*POWER(CF_heat,T1244),0)","v":9477},492,554,611,815,1.1586412389415293,1.4581371213480712,1.7629893390377123,3.0840089604891157,{"$f":"IF($G1244=$CO$103,CP$103,IF($G1244=$CO$104,CP$104,IF($G1244=$CO$105,CP$105,IF($G1244=$CO$107,CP$107,IF($G1244=$CO$108,CP$108,IF($G1244=$CO$109,CP$109,IF($G1244=$CO$111,CP$111,IF($G1244=$CO$112,CP$112,IF($G1244=$CO$113,CP$113,IF($G1244=$CO$115,CP$115,IF($G1244=$CO$116,CP$116,IF($G1244=$CO$117,CP$117,IF($G1244=$CO$119,CP$119,IF($G1244=$CO$120,CP$120,))))))))))))))","v":1.2760000000000001E-4},{"$f":"IF($G1244=$CO$103,CQ$103,IF($G1244=$CO$104,CQ$104,IF($G1244=$CO$105,CQ$105,IF($G1244=$CO$107,CQ$107,IF($G1244=$CO$108,CQ$108,IF($G1244=$CO$109,CQ$109,IF($G1244=$CO$111,CQ$111,IF($G1244=$CO$112,CQ$112,IF($G1244=$CO$113,CQ$113,IF($G1244=$CO$115,CQ$115,IF($G1244=$CO$116,CQ$116,IF($G1244=$CO$117,CQ$117,IF($G1244=$CO$119,CQ$119,IF($G1244=$CO$120,CQ$120,))))))))))))))","v":1.7219},{"$f":"IF($G1244=$CO$103,CR$103,IF($G1244=$CO$104,CR$104,IF($G1244=$CO$105,CR$105,IF($G1244=$CO$107,CR$107,IF($G1244=$CO$108,CR$108,IF($G1244=$CO$109,CR$109,IF($G1244=$CO$111,CR$111,IF($G1244=$CO$112,CR$112,IF($G1244=$CO$113,CR$113,IF($G1244=$CO$115,CR$115,IF($G1244=$CO$116,CR$116,IF($G1244=$CO$117,CR$117,IF($G1244=$CO$119,CR$119,IF($G1244=$CO$120,CR$120,))))))))))))))","v":2},{"$f":"IF($G1244=$CO$103,CS$103,IF($G1244=$CO$104,CS$104,IF($G1244=$CO$105,CS$105,IF($G1244=$CO$107,CS$107,IF($G1244=$CO$108,CS$108,IF($G1244=$CO$109,CS$109,IF($G1244=$CO$111,CS$111,IF($G1244=$CO$112,CS$112,IF($G1244=$CO$113,CS$113,IF($G1244=$CO$115,CS$115,IF($G1244=$CO$116,CS$116,IF($G1244=$CO$117,CS$117,IF($G1244=$CO$119,CS$119,IF($G1244=$CO$120,CS$120,))))))))))))))","v":3.76611E-4},{"$f":"AK950*IF($G1244=10,1,IF($G1244=15,1,IF($G1244=20,1,(1-(($E1244-50)*0.005)))))","v":768.42720000000008},847.53,1130.04,0.95,0.95,0.95,{"$f":"ROUND(AK1244*POWER(CF_cool,AN1244),0)","v":768},848,1130,330,365,486,0.53526796134941879,0.65032127694667174,1.1314386418343181,{"$f":"ROUND(IF(G1244=10,$CO$92*F1244,IF(G1244=11,$CO$93*F1244,IF(G1244=15,$CO$94*F1244,IF(G1244=16,$CO$95*F1244,IF(G1244=20,$CO$96*F1244,IF(G1244=21,$CO$97*F1244,)))))),1)","v":3.5},16.399999999999999,17.7,29.7,null,7158,null,{"$f":"IF(G1244=10,0.9,IF(G1244=11,0.68,IF(G1244=15,0.8,IF(G1244=16,0.68,IF(G1244=20,0.8,IF(G1244=21,0.8))))))","v":0.8},null,null,0,10,10.9,21.85,null,1,1,1,{"$f":"AQ1244/BO1244","v":768},848,1130,null,{"$f":"BR1244-AQ1244","v":0},{"$f":"BS1244-AR1244","v":0},{"$f":"BT1244-AS1244","v":0},1]
[{"$f":"CONCATENATE(D1245,E1245,F1245,G1245)","v":"37026021"},null,null,3,70,260,21,21.5,0,26,30,48.1,6608,9234.8263652613623,9570.7750567366256,14035.359999999999,1.5,{"$f":"IF($G1245=10,1.08,IF($G1245=11,1.1,IF($G1245=15,1.08,IF($G1245=16,1.1,IF($G1245=20,1.08,IF($G1245=21,1.05))))))","v":1.05},1.05,1.05,6608,9235,9571,14035,568,794,823,1207,{"$f":"(($AG1245*(Y1245^$AH1245)*((($F1245-14.4)*$AI1245)/100))+($AJ1245*(Y1245^2)))*0.0098","v":2.3050819700144669},{"$f":"(($AG1245*(Z1245^$AH1245)*((($F1245-14.4)*$AI1245)/100))+($AJ1245*(Z1245^2)))*0.0098","v":4.3862630877952062},{"$f":"(($AG1245*(AA1245^$AH1245)*((($F1245-14.4)*$AI1245)/100))+($AJ1245*(AA1245^2)))*0.0098","v":4.6996233793878117},{"$f":"(($AG1245*(AB1245^$AH1245)*((($F1245-14.4)*$AI1245)/100))+($AJ1245*(AB1245^2)))*0.0098","v":9.8287737597437417},1.2760000000000001E-4,1.7219,4,5.1420100000000005E-4,{"$f":"AK951*IF($G1245=10,1,IF($G1245=15,1,IF($G1245=20,1,(1-(($E1245-50)*0.005)))))","v":1050.7614011427111},1088.986474772086,1596.9780000000001,0.85,0.85,0.85,1051,1089,1597,452,468,687,{"$f":"(($AG1245*(AT1245^$AH1245)*((($F1245-14.4)*$AI1245)/100))+($AJ1245*(AT1245^2)))*0.0098","v":1.4879260994697849},{"$f":"(($AG1245*(AU1245^$AH1245)*((($F1245-14.4)*$AI1245)/100))+($AJ1245*(AU1245^2)))*0.0098","v":1.5903992294210147},{"$f":"(($AG1245*(AV1245^$AH1245)*((($F1245-14.4)*$AI1245)/100))+($AJ1245*(AV1245^2)))*0.0098","v":3.3209177672900552},6.9,16.399999999999999,17.7,29.7,null,8260,null,0.8,null,null,0,10,10.9,21.85,null,1,1,1,1051,{"$f":"AR1245/BP1245","v":1089},{"$f":"AS1245/BQ1245","v":1597},null,0,0,0,1]
["37028015",null,null,3,70,280,15,16.5,0,26,30,48.9,4417.6000000000004,5583.9635634029,5708.9475468201636,8483.56,1.5,1.08,1.08,1.08,4418,5584,5709,8484,380,480,491,730,0.95743619984165873,1.4973769906672623,1.5638277222676435,3.3484388456827587,2.0829999999999999E-4,1.724,2,4.6182900000000003E-4,{"$f":"AK954*IF($G1248=10,1,IF($G1248=15,1,IF($G1248=20,1,(1-(($E1248-50)*0.005)))))","v":762.23344503523219},779.29426056038062,1158.04,1.01,1.01,1.01,762,779,1158,328,335,498,0.72271492130345638,0.75246226647382841,1.6068391234938044,2.8,19.3,20.399999999999999,34.5,null,5522,null,0.8,null,null,0,10,10.6,21.85,null,1,1,1,762,779,1158,null,0,0,0,1]
["37028016",null,null,3,70,280,16,16.5,0,26,30,48.9,4303.04,8165.5551181941737,8348.321999442087,12405.7,1.5,1.1000000000000001,1.1000000000000001,1.1000000000000001,4303,8166,8348,12406,370,702,718,1067,2.4490775147442556,8.4774891611896983,8.8569732543318711,19.143477613141926,2.0829999999999999E-4,1.724,4,1.392796E-3,{"$f":"AK955*IF($G1249=10,1,IF($G1249=15,1,IF($G1249=20,1,(1-(($E1249-50)*0.005)))))","v":1125},1150.2,1710,0.95,0.95,0.95,1125,1150,1710,484,495,735,4.1197638080701617,4.303188677291093,9.2690685719048727,5.6,19.3,20.399999999999999,34.5,null,6328,null,0.68,null,null,0,10,10.6,21.85,null,1,1,1,1125,1150,1710,null,0,0,0,1]
["37028021",null,null,3,70,280,21,21.5,0,26,30,48.1,7116.8,10516.06232539558,10751.439821034392,15976.76,1.5,1.05,1.05,1.05,7117,10516,10751,15977,612,904,925,1374,2.7227477552843693,5.75336682600242,6.0128744748590695,12.875842236012033,1.2760000000000001E-4,1.7219,4,5.1420100000000005E-4,{"$f":"AK957*IF($G1251=10,1,IF($G1251=15,1,IF($G1251=20,1,(1-(($E1251-50)*0.005)))))","v":1135.6028061233897},1161.0206228189252,1725.2896500000002,0.85,0.85,0.85,1136,1161,1725,488,499,742,1.765707316194199,1.8425509564254707,3.9382791259815497,7.5,19.3,20.399999999999999,34.5,null,8896,null,0.8,null,null,0,10,10.6,21.85,null,1,1,1,1136,1161,1725,null,0,0,0,1]
["37030010",null,null,3,70,300,10,11.5,0,26,30,47.8,3369.6,4485,4951,6595,1.5,1.08,1.08,1.08,3370,4485,4951,6595,290,386,426,567,0.71768632865244808,1.2177662073499145,1.4617936773822127,2.4849401227056913,3.969E-4,1.7345999999999999,2,3.6734700000000002E-4,{"$f":"AK958*IF($G1252=10,1,IF($G1252=15,1,IF($G1252=20,1,(1-(($E1252-50)*0.005)))))","v":595},658,877,0.98,0.98,0.98,595,658,877,256,283,377,0.57014654745249982,0.68602826252827387,1.1657237163109904,2,16.2,18.600000000000001,31.4,null,3744,null,0.9,null,null,0,10.199999999999999,11.9,21.85,null,1,1,1,595,658,877,null,0,0,0,1]
["37030015",null,null,3,70,300,15,16.5,0,26,30,48.9,4732.8,5796,5926,8806,1.5,1.08,1.08,1.08,4733,5796,5926,8806,407,498,510,757,1.117542411398853,1.6433144110086391,1.7198862695364554,3.6657492733438,2.0829999999999999E-4,1.724,2,4.6182900000000003E-4,{"$f":"AK960*IF($G1254=10,1,IF($G1254=15,1,IF($G1254=20,1,(1-(($E1254-50)*0.005)))))","v":771},788,1171,1.01,1.01,1.01,771,788,1171,332,339,504,0.75777354700053923,0.78851465813358146,1.6813903761483546,3,19.3,20.399999999999999,34.5,null,5916,null,0.8,null,null,0,10,10.6,21.85,null,1,1,1,771,788,1171,null,0,0,0,1]
["37030016",null,null,3,70,300,16,16.5,0,26,30,48.9,4610.4000000000005,8592,8784,13053,1.5,1.1000000000000001,1.1000000000000001,1.1000000000000001,4610,8592,8784,13053,396,739,755,1123,2.8421582731770401,9.5114245858474273,9.9150877945044034,21.446070132548112,2.0829999999999999E-4,1.724,4,1.392796E-3,{"$f":"AK961*IF($G1255=10,1,IF($G1255=15,1,IF($G1255=20,1,(1-(($E1255-50)*0.005)))))","v":1134},1159.2,1723.5,0.95,0.95,0.95,1134,1159,1724,488,498,741,4.2564565008580368,4.4268402074268778,9.5614346250878981,6,19.3,20.399999999999999,34.5,null,6780,null,0.68,null,null,0,10,10.6,21.85,null,1,1,1,1134,1159,1724,null,0,0,0,1]
["37030021",null,null,3,70,300,21,21.5,0,26,30,48.1,7624.8,10844,11086,16475,1.5,1.05,1.05,1.05,7625,10844,11086,16475,656,933,953,1417,3.1808651455682373,6.2432094291838682,6.5023476533141213,13.930846770207117,1.2760000000000001E-4,1.7219,4,5.1420100000000005E-4,{"$f":"AK963*IF($G1257=10,1,IF($G1257=15,1,IF($G1257=20,1,(1-(($E1257-50)*0.005)))))","v":1321.2},1350.9,2007.9,0.85,0.85,0.85,1321,1351,2008,568,581,863,2.4157211967993639,2.52238015738329,5.3763665867199411,8,19.3,20.399999999999999,34.5,null,9531,null,0.8,null,null,0,10,10.6,21.85,null,1,1,1,1321,1351,2008,null,0,0,0,1]
["3905010",null,null,3,90,50,10,11.5,0,26,30,38.799999999999997,554,649,695,812,1.5,1.08,1.08,1.08,554,649,695,812,48,56,60,70,1.057825475809384E-2,1.4273569595905599E-2,1.6323323223458832E-2,2.2034348729889495E-2,3.969E-4,1.7345999999999999,2,3.6734700000000002E-4,{"$f":"AK866*IF($G1258=10,1,IF($G1258=15,1,IF($G1258=20,1,(1-(($E1258-50)*0.005)))))","v":90.020119234756137},96.328259324977694,112.64,0.98,0.98,0.98,90,96,113,39,41,49,7.0687185128054265E-3,7.7890899379448103E-3,1.1010617958771767E-2,0.3,3.6,4.0999999999999996,5.0999999999999996,null,685,null,0.9,null,null,0,14.2,16.2,21.85,null,1,1,1,90,96,113,null,0,0,0,{"$f":"IF(SUM(BV1258:BX1258)=0,1,0)","v":1}]
["3906010",null,null,3,90,60,10,11.5,0,26,30,40,738.9,841.69225687813923,901.35950941531064,1066.3800000000001,1.5,1.08,1.08,1.08,739,842,901,1066,64,72,77,92,1.9563990759703984E-2,2.4572994832794695E-2,2.7985026550444856E-2,3.9512902180266693E-2,3.969E-4,1.7345999999999999,2,3.6734700000000002E-4,{"$f":"AK868*IF($G1260=10,1,IF($G1260=15,1,IF($G1260=20,1,(1-(($E1260-50)*0.005)))))","v":116.68990721587436},124.96201154556491,147.84,{"$f":"IF($G1260=10,0.98,IF($G1260=11,0.95,IF($G1260=15,1.01,IF($G1260=16,0.95,IF($G1260=20,0.95,IF($G1260=21,0.85))))))","v":0.98},0.98,0.98,117,125,148,50,54,64,1.214004296048507E-2,1.4086095785072505E-2,1.9563990759703984E-2,0.4,4.8,5.4,6.8,null,821,null,0.9,null,null,0,13.6,15.6,21.85,null,1,1,1,117,125,148,null,0,0,0,1]
["3906011",null,null,3,90,60,11,11.5,0,26,30,40,717.40000000000009,1142.0361657917249,1222.9946868592929,1446.9,1.5,1.1000000000000001,1.1000000000000001,1.1000000000000001,717,1142,1223,1447,62,98,105,124,3.0754533798894892E-2,7.4231136705466674E-2,8.4794000672714892E-2,0.11688804961164248,3.969E-4,1.7345999999999999,4,5.7428799999999995E-4,{"$f":"AK869*IF($G1261=10,1,IF($G1261=15,1,IF($G1261=20,1,(1-(($E1261-50)*0.005)))))","v":152.80000000000001},164,193.60000000000002,0.95,0.95,0.95,153,164,194,66,71,83,3.4680795154499997E-2,3.99087069798299E-2,5.3898866409191976E-2,0.8,4.8,5.4,6.8,null,1055,null,0.68,null,null,0,13.6,15.6,21.85,null,1,1,1,153,164,194,null,0,0,0,1]
["3906016",null,null,3,90,60,16,16.5,0,26,30,41.1,1059.44,1399.7241764138612,1502.5729206967153,1988.7,1.5,1.1000000000000001,1.1000000000000001,1.1000000000000001,1059,1400,1503,1989,91,120,129,171,0.12190894149935365,0.21085507991814395,0.24334273125065864,0.42546271730679758,2.0829999999999999E-4,1.724,4,1.392796E-3,{"$f":"AK871*IF($G1263=10,1,IF($G1263=15,1,IF($G1263=20,1,(1-(($E1263-50)*0.005)))))","v":171.20000000000002},184,244,0.95,0.95,0.95,171,184,244,74,79,105,8.0959899206031985E-2,9.2143347433738906E-2,0.16184705578141051,1.2,4.8,5.5,7.2,null,1558,null,0.68,null,null,0,12.3,14.4,21.85,null,1,1,1,171,184,244,null,0,0,0,1]
["3906020",null,null,3,90,60,20,21.5,0,26,30,41.1,1251.575008837732,1346.575008837732,1442.0332127786496,1706.04,1.5,1.08,1.08,1.08,1252,1347,1442,1706,108,116,124,147,4.6666977287192928E-2,5.3754545103760785E-2,6.1338725772162643E-2,8.5905652533157156E-2,1.2760000000000001E-4,1.7219,2,3.76611E-4,{"$f":"AK872*IF($G1264=10,1,IF($G1264=15,1,IF($G1264=20,1,(1-(($E1264-50)*0.005)))))","v":166.41571994991173},178.21286873827722,210.84,0.95,0.95,0.95,166,178,211,71,77,91,2.0362186770824586E-2,2.3902999958867951E-2,3.3257087321880145E-2,0.8,4.8,5.5,7.2,null,1774,null,0.8,null,null,0,12.3,14.4,21.85,null,1,1,1,166,178,211,null,0,0,0,1]
["3907010",null,null,3,90,70,10,11.5,0,26,30,41,862.2,1029.7403904507714,1104.2859635902939,1320.28,1.5,1.08,1.08,1.08,862,1030,1104,1320,74,89,95,114,2.7271158049938453E-2,3.8924960889446435E-2,4.4146590218265697E-2,6.2778209343462163E-2,3.969E-4,1.7345999999999999,2,3.6734700000000002E-4,{"$f":"AK874*IF($G1266=10,1,IF($G1266=15,1,IF($G1266=20,1,(1-(($E1266-50)*0.005)))))","v":142.7603849699376},153.09517888293954,183.04,0.98,0.98,0.98,143,153,183,61,66,79,1.8801217016227327E-2,2.1878764945327631E-2,3.093277823234393E-2,0.5,5.5,5.9,7.9,null,958,null,0.9,null,null,0,13.2,15.1,21.85,null,1,1,1,143,153,183,null,0,0,0,{"$f":"IF(SUM(BV1266:BX1266)=0,1,0)","v":1}]
["3907011",null,null,3,90,70,11,11.5,0,26,30,41,837.08,1397.1861540381678,1498.3320774196782,1791.4,1.5,1.1000000000000001,1.1000000000000001,1.1000000000000001,837,1397,1498,1791,72,120,129,154,4.3589216356913367E-2,0.11600499755813,0.13329019125147809,0.18736507468697711,3.969E-4,1.7345999999999999,4,5.7428799999999995E-4,{"$f":"AK875*IF($G1267=10,1,IF($G1267=15,1,IF($G1267=20,1,(1-(($E1267-50)*0.005)))))","v":187.21077756285001},200.763450489673,240.03200000000004,0.95,0.95,0.95,187,201,240,80,86,103,5.3323157788472068E-2,6.1241419094392333E-2,8.6530816741384173E-2,0.9,5.5,5.9,7.9,null,1231,null,0.68,null,null,0,13.2,15.1,21.85,null,1,1,1,187,201,240,null,0,0,0,1]
["3907016",null,null,3,90,70,16,16.5,0,26,30,41.1,1235.5600000000002,1627.62717250317,1747.2217424001376,2312.5,1.5,1.1000000000000001,1.1000000000000001,1.1000000000000001,1236,1628,1747,2313,106,140,150,199,0.16744709217197412,0.2902779131483183,0.33273460547085354,0.58224305620495909,2.0829999999999999E-4,1.724,4,1.392796E-3,{"$f":"AK877*IF($G1269=10,1,IF($G1269=15,1,IF($G1269=20,1,(1-(($E1269-50)*0.005)))))","v":175.67815881374756},188.58661487700513,249.60000000000002,0.95,0.95,0.95,176,189,250,76,81,108,8.6774410985169817E-2,9.8410548491480745E-2,0.1737502364352142,1.4,5.0999999999999996,5.6,7.2,null,1817,null,0.68,null,null,0,12.3,14.4,21.85,null,1,1,1,176,189,250,null,0,0,0,1]
["3907020",null,null,3,90,70,20,21.5,0,26,30,41.1,1414.840819712653,1509.840819712653,1619.1421060355642,1935.84,1.5,1.08,1.08,1.08,1415,1510,1619,1936,122,130,139,166,6.0374758328522876E-2,6.8444200673944258E-2,7.8121147734999577E-2,0.11095002490928764,1.2760000000000001E-4,1.7219,2,3.76611E-4,{"$f":"AK878*IF($G1270=10,1,IF($G1270=15,1,IF($G1270=20,1,(1-(($E1270-50)*0.005)))))","v":170.52628152222005},182.87112058001478,218.64000000000001,0.95,0.95,0.95,171,183,219,74,79,94,2.2511197833279682E-2,2.5608782122359248E-2,3.6084845824600094E-2,0.9,5.0999999999999996,5.6,7.2,null,2070,null,0.8,null,null,0,12.3,14.4,21.85,null,1,1,1,171,183,219,null,0,0,0,1]
["3907021",null,null,3,90,70,21,21.5,0,26,30,41.1,1882.8291945358951,1977.8291945358951,2123.1558613833213,2810.06,1.5,1.05,1.05,1.05,1883,1978,2123,2810,162,170,183,242,0.14998069549460102,0.16489933699427986,0.1906306494771868,0.33050578585065171,1.2760000000000001E-4,1.7219,4,5.1420100000000005E-4,{"$f":"AK879*IF($G1271=10,1,IF($G1271=15,1,IF($G1271=20,1,(1-(($E1271-50)*0.005)))))","v":192.24370827624901},206.3693655490612,273.13600000000002,0.85,0.85,0.85,192,206,273,83,89,117,4.0321086103226239E-2,4.6237434215905163E-2,7.9106795420991471E-2,1.9,5.0999999999999996,5.6,7.2,null,2639,null,0.8,null,null,0,12.3,14.4,21.85,null,1,1,1,192,206,273,null,0,0,0,1]
["3908010",null,null,3,90,80,10,11.5,0,26,30,41.8,985.5,1214.2269940407766,1304.1433704057049,1574.18,1.5,1.08,1.08,1.08,986,1214,1304,1574,85,104,112,135,3.7349952729404522E-2,5.5028754884652663E-2,6.3456869664955617E-2,9.0909861993553942E-2,3.969E-4,1.7345999999999999,2,3.6734700000000002E-4,{"$f":"AK880*IF($G1272=10,1,IF($G1272=15,1,IF($G1272=20,1,(1-(($E1272-50)*0.005)))))","v":168.33710197020613},180.80286190736828,218.24,0.98,0.98,0.98,168,181,218,72,78,94,2.7165359623318678E-2,3.167181300086596E-2,4.5312552969066985E-2,0.5,6.3,6.8,9.1,null,1095,null,0.9,null,null,0,12.8,14.7,21.85,null,1,1,1,168,181,218,null,0,0,0,1]
["3908011",null,null,3,90,80,11,11.5,0,26,30,41.8,956.08,1647.5037394527276,1769.505282019556,2135.9,1.5,1.1000000000000001,1.1000000000000001,1.1000000000000001,956,1648,1770,2136,82,142,152,184,5.9152286012497522E-2,0.1687204798043572,0.19218780961004492,0.27712360618498821,3.969E-4,1.7345999999999999,4,5.7428799999999995E-4,{"$f":"AK881*IF($G1273=10,1,IF($G1273=15,1,IF($G1273=20,1,(1-(($E1273-50)*0.005)))))","v":220.8},236.8,286.40000000000003,0.95,0.95,0.95,221,237,286,95,102,123,7.8299087882813992E-2,8.9670310483074542E-2,0.12820103543813627,1.1000000000000001,6.3,6.8,9.1,null,1406,null,0.68,null,null,0,12.8,14.7,21.85,null,1,1,1,221,237,286,null,0,0,0,1]
["3908015",null,null,3,90,80,15,16.5,0,26,30,42.4,1300.33740436932,1395.33740436932,1496.2563490716184,2007.56,1.5,1.08,1.08,1.08,1300,1395,1496,2008,112,120,129,173,6.5908035411872581E-2,7.5461940836559702E-2,8.697073187627373E-2,0.1547867774406054,2.0829999999999999E-4,1.724,2,4.6182900000000003E-4,{"$f":"AK882*IF($G1274=10,1,IF($G1274=15,1,IF($G1274=20,1,(1-(($E1274-50)*0.005)))))","v":190.46915773046311},204.24499885412456,274.04000000000002,1.01,1.01,1.01,190,204,274,82,88,118,3.5768909532348576E-2,4.1076258231928696E-2,7.3013760578283488E-2,0.8,6,6.7,9,null,1696,null,0.8,null,null,0,11.8,13.7,21.85,null,1,1,1,190,204,274,null,0,0,0,1]
["3908016",null,null,3,90,80,16,16.5,0,26,30,42.4,1412.3600000000001,2040.4331716148024,2188.0092071816284,2935.7,1.5,1.1000000000000001,1.1000000000000001,1.1000000000000001,1412,2040,2188,2936,121,175,188,252,0.22071465965427722,0.45744743887251921,0.52704418993994806,0.94073397666389191,2.0829999999999999E-4,1.724,4,1.392796E-3,{"$f":"AK883*IF($G1275=10,1,IF($G1275=15,1,IF($G1275=20,1,(1-(($E1275-50)*0.005)))))","v":249.60000000000002},268,360,0.95,0.95,0.95,250,268,360,108,115,155,0.17636599641795059,0.19963483858129261,0.35991661732431846,1.6,6,6.7,9,null,2077,null,0.68,null,null,0,11.8,13.7,21.85,null,1,1,1,250,268,360,null,0,0,0,1]
["3908020",null,null,3,90,80,20,21.5,0,26,30,42.4,1847.5718983039128,1942.5718983039128,2086.4239348515057,2518.44,1.5,1.08,1.08,1.08,1848,1943,2086,2518,159,167,179,217,0.10343649960648692,0.11395554008077592,0.13067872337503861,0.19110006829963533,1.2760000000000001E-4,1.7219,2,3.76611E-4,{"$f":"AK884*IF($G1276=10,1,IF($G1276=15,1,IF($G1276=20,1,(1-(($E1276-50)*0.005)))))","v":240.07166246887351},257.84953601562182,311.24,0.95,0.95,0.95,240,258,311,103,111,134,4.3951963441231798E-2,5.0929918356249132E-2,7.381701321036345E-2,1.1000000000000001,6,6.7,9,null,2366,null,0.8,null,null,0,11.8,13.7,21.85,null,1,1,1,240,258,311,null,0,0,0,1]
["3908021",null,null,3,90,80,21,21.5,0,26,30,42.4,2412.8000000000002,2627.7848955664344,2817.8416357747774,3780.76,1.5,{"$f":"IF($G1277=10,1.08,IF($G1277=11,1.1,IF($G1277=15,1.08,IF($G1277=16,1.1,IF($G1277=20,1.08,IF($G1277=21,1.05))))))","v":1.05},1.05,1.05,2413,2628,2818,3781,208,226,242,325,0.25018929266896878,0.29449823797779945,0.33687122572177608,0.60164522481343263,1.2760000000000001E-4,1.7219,4,5.1420100000000005E-4,272.68978056976709,292.41229700201364,392.33600000000001,0.85,0.85,0.85,273,292,392,117,126,169,8.0927946505306478E-2,9.3574633891534351E-2,0.16642663939476923,2.1,6,6.7,9,null,3016,null,0.8,null,null,0,11.8,13.7,21.85,null,1,1,1,273,292,392,null,0,0,0,1]
["3909010",null,null,3,90,90,10,11.5,0,26,30,42.4,1108.8,1395.6272192501513,1501.3000140389001,1828.08,1.5,1.08,1.08,1.08,1109,1396,1501,1828,95,120,129,157,4.8339606334548313E-2,7.5608781210671119E-2,8.6853211147160284E-2,0.12662134598395483,3.969E-4,1.7345999999999999,2,3.6734700000000002E-4,{"$f":"AK886*IF($G1278=10,1,IF($G1278=15,1,IF($G1278=20,1,(1-(($E1278-50)*0.005)))))","v":193.48593193227777},208.13611852764589,253.44,0.98,0.98,0.98,193,208,253,83,89,109,3.7340239212640722E-2,4.2669333600542279E-2,6.2889336846315577E-2,0.6,6.7,7.4,10.3,null,1232,null,0.9,null,null,0,12.5,14.7,21.85,null,{"$f":"IF((237.3*LN(($AQ$1*EXP(17.27*($AM$3/($AM$3+237.3))))))/(17.27-LN(($AQ$1*EXP(17.27*($AM$3/($AM$3+237.3))))))<(($AM$1+$AM$2)/2),1,IF(1/(1+((2258*((0.622/((101325/(1*611*EXP(17.27*((($AM$1+$AM$2)/2)/((($AM$1+$AM$2)/2)+237.3))))))-1)*1000-(0.622/((101325/($AQ$1*611*EXP(17.27*($AM$3/($AM$3+237.3))))))-1)*1000))/(1005*((($AM$1+$AM$2)/2)-$AM$3))))>1,1,1/(1+((2258*((0.622/((101325/(1*611*EXP(17.27*((($AM$1+$AM$2)/2)/((($AM$1+$AM$2)/2)+237.3))))))-1)*1000-(0.622/((101325/($AQ$1*611*EXP(17.27*($AM$3/($AM$3+237.3))))))-1)*1000))/(1005*((($AM$1+$AM$2)/2)-$AM$3))))))","v":1},1,1,193,208,253,null,0,0,0,1]
["3909011",null,null,3,90,90,11,11.5,0,26,30,42.4,1075.76,1893.6336235985709,2037.0140009310799,2480.4,1.5,1.1000000000000001,1.1000000000000001,1.1000000000000001,1076,1894,2037,2480,93,163,175,213,7.9227347446439403E-2,0.23039387696616745,0.26382483336744583,0.38395411039699373,3.969E-4,1.7345999999999999,4,5.7428799999999995E-4,{"$f":"AK887*IF($G1279=10,1,IF($G1279=15,1,IF($G1279=20,1,(1-(($E1279-50)*0.005)))))","v":253.73041528391883},272.94213725102657,332.35200000000003,0.95,0.95,0.95,254,273,332,109,117,143,0.10710199356983116,0.12253704973862133,0.17952436170139471,1.2,6.7,7.4,10.3,null,1582,null,0.68,null,null,0,12.5,14.7,21.85,null,1,1,1,254,273,332,null,0,0,0,1]
["3909015",null,null,3,90,90,15,16.5,0,26,30,43.3,1502.9167676946356,1597.9167676946356,1711.9130538160239,2331.36,1.5,1.08,1.08,1.08,1503,1598,1712,2331,129,137,147,200,8.8747382373845968E-2,9.9846629634346956E-2,0.11462442340612437,0.20964202709641322,2.0829999999999999E-4,1.724,2,4.6182900000000003E-4,{"$f":"AK888*IF($G1280=10,1,IF($G1280=15,1,IF($G1280=20,1,(1-(($E1280-50)*0.005)))))","v":218.12205414485143},233.68300487544244,318.24,1.01,1.01,1.01,218,{"$f":"ROUND(AL1280*POWER(CF_cool,AO1280),0)","v":234},{"$f":"ROUND(AM1280*POWER(CF_cool,AP1280),0)","v":318},94,101,137,4.7773932289979358E-2,5.4977761599022158E-2,9.9846629634346956E-2,0.9,7,7.7,10.7,null,1908,null,0.8,null,null,0,11.3,13.2,21.85,null,1,1,1,218,234,318,null,0,0,0,1]
["3909016",null,null,3,90,90,16,16.5,0,26,30,43.3,1588.48,2336.669516687492,2503.3688418217644,3409.2,1.5,1.1000000000000001,1.1000000000000001,1.1000000000000001,1588,2337,2503,3409,137,201,215,293,0.28598472026429389,0.60915360332621049,0.69575042058868541,1.2822911322288062,2.0829999999999999E-4,1.724,4,1.392796E-3,{"$f":"AK889*IF($G1281=10,1,IF($G1281=15,1,IF($G1281=20,1,(1-(($E1281-50)*0.005)))))","v":286.22350996383221},306.64285707637242,417.6,0.95,0.95,0.95,286,307,418,123,132,180,0.23124713149578516,0.26577617988746643,0.48994811583224235,1.8,7,7.7,10.7,null,2336,null,0.68,null,null,0,11.3,13.2,21.85,null,1,1,1,286,307,418,null,0,0,0,1]
["3909020",null,null,3,90,90,20,21.5,0,26,30,43.3,2128.8000000000002,2232.7836804230465,2401.8435041457315,2924.64,1.5,1.08,1.08,1.08,2129,2233,2402,2925,183,192,207,252,0.13847189190219461,0.15220989401469975,0.17653301618879313,0.26017862567755984,1.2760000000000001E-4,1.7219,2,3.76611E-4,{"$f":"AK890*IF($G1282=10,1,IF($G1282=15,1,IF($G1282=20,1,(1-(($E1282-50)*0.005)))))","v":275.93732338069162},296.83048721840407,361.44,0.95,0.95,0.95,276,297,361,119,128,155,5.9353068879593893E-2,6.85057463009488E-2,9.9843942617951306E-2,1.2,7,7.7,10.7,null,2661,null,0.8,null,null,0,11.3,13.2,21.85,null,1,1,1,276,297,361,null,0,0,0,1]
["3909021",null,null,3,90,90,21,21.5,0,26,30,43.3,2714.4,3009.2947651024979,3223.9795559512399,4390.5600000000004,1.5,1.05,1.05,1.05,2714,3009,3224,4391,233,259,277,378,0.31865406255547352,0.39212285066283958,0.44737503001439571,0.82373176047688912,1.2760000000000001E-4,1.7219,4,5.1420100000000005E-4,{"$f":"AK891*IF($G1283=10,1,IF($G1283=15,1,IF($G1283=20,1,(1-(($E1283-50)*0.005)))))","v":312.27971914674657},334.55793096194566,455.61599999999999,0.85,0.85,0.85,312,335,456,134,144,196,0.10787416210567184,0.1241775646026971,0.22705771841592612,2.4,7,7.7,10.7,null,3393,null,0.8,null,null,0,11.3,13.2,21.85,null,1,1,1,312,335,456,null,0,0,0,1]
["39010010",null,null,3,90,100,10,11.5,0,26,30,43,1232.1000000000001,1574.3905475253332,1696.1265760133244,2081.98,1.5,1.08,1.08,1.08,1232,1574,1696,2082,106,135,146,179,6.2151943031227098E-2,9.8623231218722851E-2,0.11455551187153463,0.16920060692862343,3.969E-4,1.7345999999999999,2,3.6734700000000002E-4,{"$f":"AK892*IF($G1284=10,1,IF($G1284=15,1,IF($G1284=20,1,(1-(($E1284-50)*0.005)))))","v":218.26918973175157},235.14633901405676,288.64,0.98,0.98,0.98,218,235,289,94,101,124,4.9429305306709352E-2,5.6681136080738742E-2,8.3841493078660942E-2,0.7,7.8,8.6999999999999993,12.2,null,1369,null,0.9,null,null,0,12.3,14.1,21.85,null,1,1,1,218,235,289,null,0,0,0,1]
["39010011",null,null,3,90,100,11,11.5,0,26,30,43,1195.44,2136.1856779144437,2301.3611872256411,2824.9,1.5,1.1000000000000001,1.1000000000000001,1.1000000000000001,1195,2136,2301,2825,103,184,198,243,0.10100372704702308,0.30352033783455779,0.34894385970841529,0.51535542526976641,3.969E-4,1.7345999999999999,4,5.7428799999999995E-4,{"$f":"AK893*IF($G1285=10,1,IF($G1285=15,1,IF($G1285=20,1,(1-(($E1285-50)*0.005)))))","v":286.40000000000003},308,378.40000000000003,0.95,0.95,0.95,286,308,378,123,132,163,0.14132746365415341,0.16156481846403381,0.24109003434984042,1.3,7.8,8.6999999999999993,12.2,null,1758,null,0.68,null,null,0,12.3,14.1,21.85,null,1,1,1,286,308,378,null,0,0,0,1]
["39010015",null,null,3,90,100,15,16.5,0,26,30,44.1,1696,1798.7737222599399,1926.0891717740149,2655.16,1.5,1.08,1.08,1.08,1696,1799,1926,2655,146,155,166,228,0.11530083324672701,0.12960669873525657,0.14820649885017992,0.27587309609991228,2.0829999999999999E-4,1.724,2,4.6182900000000003E-4,{"$f":"AK894*IF($G1286=10,1,IF($G1286=15,1,IF($G1286=20,1,(1-(($E1286-50)*0.005)))))","v":245.53983484833029},262.91890485611941,362.44,1.01,1.01,1.01,246,263,362,106,113,156,6.1693712021988735E-2,6.989545441405931E-2,0.13124694650181259,1,7,7.7,10.7,null,2120,null,0.8,null,null,0,10.9,12.8,21.85,null,1,1,1,246,263,362,null,0,0,0,1]
["39010016",null,null,3,90,100,16,16.5,0,26,30,44.1,1765.2800000000002,2630.3871448118639,2816.5633812075234,3882.7,1.5,1.1000000000000001,1.1000000000000001,1.1000000000000001,1765,2630,2817,3883,152,226,242,334,0.35571541127757916,0.77712770761656835,0.88934367498091926,1.6794877029795134,2.0829999999999999E-4,1.724,4,1.392796E-3,{"$f":"AK895*IF($G1287=10,1,IF($G1287=15,1,IF($G1287=20,1,(1-(($E1287-50)*0.005)))))","v":322.40000000000003},344.8,476,0.95,0.95,0.95,322,345,476,138,148,205,0.2941057009854936,0.33752256227392147,0.64121078624091732,2,7,7.7,10.7,null,2596,null,0.68,null,null,0,10.9,12.8,21.85,null,1,1,1,322,345,476,null,0,0,0,1]
["39010020",null,null,3,90,100,20,21.5,0,26,30,44.1,2365.6,2518.7768428703835,2713.5353098724395,3330.84,1.5,1.08,1.08,1.08,2366,2519,2714,3331,203,217,233,286,0.17222433094052195,0.19637584927080459,0.22589211718801094,0.33821597295331562,1.2760000000000001E-4,1.7219,2,3.76611E-4,{"$f":"AK896*IF($G1288=10,1,IF($G1288=15,1,IF($G1288=20,1,(1-(($E1288-50)*0.005)))))","v":311.2816285378957},335.35074484391049,411.64,0.95,0.95,0.95,311,335,412,134,144,177,7.6117387440108403E-2,8.7676786087461309E-2,0.13152753973488002,1.3,7,7.7,10.7,null,2957,null,0.8,null,null,0,10.9,12.8,21.85,null,1,1,1,311,335,412,null,0,0,0,1]
["39010021",null,null,3,90,100,21,21.5,0,26,30,44.1,3016,3387.5608889256064,3627.3291443724347,5000.3599999999997,1.5,1.05,1.05,1.05,3016,3388,3627,5000,259,291,312,430,0.39927765242329455,0.50157125518840051,0.57492378341496886,1.0783579804788856,1.2760000000000001E-4,1.7219,4,5.1420100000000005E-4,{"$f":"AK897*IF($G1289=10,1,IF($G1289=15,1,IF($G1289=20,1,(1-(($E1289-50)*0.005)))))","v":351.53304862448738},376.41421491618183,518.89600000000007,0.85,0.85,0.85,352,376,519,151,162,223,0.13908560667023842,0.1595487116439181,0.29792507049687533,2.7,7,7.7,10.7,null,3770,null,0.8,null,null,0,10.9,12.8,21.85,null,1,1,1,352,376,519,null,0,0,0,1]
["39011010",null,null,3,90,110,10,11.5,0,26,30,43.5,1355.4,1766.3893947845202,1902.9712804051933,2335.88,1.5,1.08,1.08,1.08,1355,1766,1903,2336,117,152,164,201,7.8045797668691283E-2,0.12846635666491932,0.14849855963064404,0.21898283146724631,3.969E-4,1.7345999999999999,2,3.6734700000000002E-4,244.88738360147738,263.82272182064906,323.83999999999997,0.98,0.98,0.98,245,264,324,105,114,139,6.3532409410345894E-2,7.4283678081492499E-2,0.10834103483995079,0.7,8.4,9.3000000000000007,14,null,1506,null,0.9,null,null,0,12,13.9,21.85,null,1,1,1,245,264,324,null,0,0,0,1]
["39011011",null,null,3,90,110,11,11.5,0,26,30,43.5,1315.1200000000001,2396.6961264405954,2582.0149905458411,3169.4,1.5,1.1000000000000001,1.1000000000000001,1.1000000000000001,1315,2397,2582,3169,113,206,222,273,0.12602624713685845,0.39231335542301654,0.4521181336762668,0.66959643399325008,3.969E-4,1.7345999999999999,4,5.7428799999999995E-4,{"$f":"AK899*IF($G1291=10,1,IF($G1291=15,1,IF($G1291=20,1,(1-(($E1291-50)*0.005)))))","v":321.13640985921018},345.96752384207849,424.67200000000003,0.95,0.95,0.95,321,346,425,138,149,183,0.18378544744861192,0.21245294497481637,0.31346610837783906,1.5,8.4,9.3000000000000007,14,null,1934,null,0.68,null,null,0,12,13.9,21.85,null,1,1,1,321,346,425,null,0,0,0,1]
["39011015",null,null,3,90,110,15,16.5,0,26,30,44.1,1813.1501882577959,1908.1501882577959,2043.2071973479594,2816.6099999999997,1.5,1.08,1.08,1.08,1813,1908,2043,2817,156,164,176,242,0.13371237350772527,0.14742102741229732,0.1692130010603492,0.31530215896235814,2.0829999999999999E-4,1.724,2,4.6182900000000003E-4,{"$f":"AK900*IF($G1292=10,1,IF($G1292=15,1,IF($G1292=20,1,(1-(($E1292-50)*0.005)))))","v":249.80785427097814},267.48901053042016,368.74,1.01,1.01,1.01,250,267,369,108,115,159,6.5293712586279876E-2,7.3788401225819936E-2,0.1387762211751877,1.1000000000000001,7.9,8.8000000000000007,12.5,null,2332,null,0.8,null,null,0,10.9,12.8,21.85,null,1,1,1,250,267,369,null,0,0,0,1]
["39011016",null,null,3,90,110,16,16.5,0,26,30,44.1,1942.0800000000002,2849.7497938679544,3051.4523045945984,4206.5,1.5,1.1000000000000001,1.1000000000000001,1.1000000000000001,1942,2850,3051,4207,167,245,262,362,0.43368285323518468,0.92195448057549512,1.0521845346704815,1.9898808014753209,2.0829999999999999E-4,1.724,4,1.392796E-3,{"$f":"AK901*IF($G1293=10,1,IF($G1293=15,1,IF($G1293=20,1,(1-(($E1293-50)*0.005)))))","v":326.26637364241219},349.35918932432156,481.6,0.95,0.95,0.95,326,349,482,140,150,207,0.30664457319746813,0.35116848134916551,0.66162867873921294,2.2000000000000002,7.9,8.8000000000000007,12.5,null,2856,null,0.68,null,null,0,10.9,12.8,21.85,null,1,1,1,326,349,482,null,0,0,0,1]
["39011020",null,null,3,90,110,20,21.5,0,26,30,44.1,2597.551301713082,2692.551301713082,2900.746468081386,3560.6400000000003,1.5,1.08,1.08,1.08,2598,2693,2901,3561,{"$f":"ROUND(U1294*3600/(4186*ABS($O$1-$O$2)),0)","v":223},{"$f":"ROUND(V1294*3600/(4186*ABS($O$1-$O$2)),0)","v":232},{"$f":"ROUND(W1294*3600/(4186*ABS($O$1-$O$2)),0)","v":249},{"$f":"ROUND(X1294*3600/(4186*ABS($O$1-$O$2)),0)","v":306},0.20997001530883877,0.22694722640377721,0.26079058599865457,0.3911657832602583,1.2760000000000001E-4,1.7219,2,3.76611E-4,{"$f":"AK902*IF($G1294=10,1,IF($G1294=15,1,IF($G1294=20,1,(1-(($E1294-50)*0.005)))))","v":317.17997831584631},341.70517057946222,419.44,0.95,0.95,0.95,317,342,419,{"$f":"ROUND(AQ1294*3600/(4186*ABS($AM$1-$AM$2)),0)","v":136},{"$f":"ROUND(AR1294*3600/(4186*ABS($AM$1-$AM$2)),0)","v":147},{"$f":"ROUND(AS1294*3600/(4186*ABS($AM$1-$AM$2)),0)","v":180},7.9544712053658623E-2,9.2650629466224224E-2,0.13785909087762688,1.5,7.9,8.8000000000000007,12.5,null,3253,null,0.8,null,null,0,10.9,12.8,21.85,null,1,1,1,317,342,419,null,0,0,0,1]
["39011021",null,null,3,90,110,21,21.5,0,26,30,44.1,3317.6000000000004,3556.1815292902165,3807.8845891872675,5249.2599999999993,1.5,1.05,1.05,1.05,3318,3556,3808,5249,285,306,327,451,0.48995426921805563,0.56299805703171679,0.64102009569515583,1.2027269290583564,1.2760000000000001E-4,1.7219,4,5.1420100000000005E-4,{"$f":"AK903*IF($G1295=10,1,IF($G1295=15,1,IF($G1295=20,1,(1-(($E1295-50)*0.005)))))","v":356.51917925158074},381.75325900552366,526.25600000000009,0.85,0.85,0.85,357,382,526,154,164,226,0.14745282166354523,0.16667463291891743,0.31147275075508585,2.9,7.9,8.8000000000000007,12.5,null,4147,null,0.8,null,null,0,10.9,12.8,21.85,null,1,1,1,357,382,526,null,0,0,0,1]
["39012010",null,null,3,90,120,10,11.5,0,26,30,44,1478.7,1924.9914127028867,2079.6202422788024,2589.7800000000002,1.5,1.08,1.08,1.08,1479,1925,2080,2590,127,166,179,223,9.4696274071905395E-2,0.15749249199599902,0.18178308069124571,0.2762925905995734,3.969E-4,1.7345999999999999,2,3.6734700000000002E-4,{"$f":"AK904*IF($G1296=10,1,IF($G1296=15,1,IF($G1296=20,1,(1-(($E1296-50)*0.005)))))","v":266.87553260000635},288.31284965818764,359.04,0.98,0.98,0.98,267,288,359,115,124,154,7.844810437960871E-2,9.0497540707880797E-2,0.13655457969155813,0.8,8.9,9.9,14.8,null,1643,null,0.9,null,null,0,11.8,13.7,21.85,null,1,1,1,267,288,359,null,0,0,0,1]
["39012011",null,null,3,90,120,11,11.5,0,26,30,44,1434.8000000000002,2611.8926414972211,2821.6982019103875,3513.9,1.5,1.1000000000000001,1.1000000000000001,1.1000000000000001,1435,2612,2822,3514,123,225,243,302,0.15445389187017058,0.48249130904551651,0.55811858661840352,0.8424915609755409,3.969E-4,1.7345999999999999,4,5.7428799999999995E-4,{"$f":"AK905*IF($G1297=10,1,IF($G1297=15,1,IF($G1297=20,1,(1-(($E1297-50)*0.005)))))","v":349.6},378.40000000000003,471.20000000000005,0.95,0.95,0.95,350,378,471,151,163,203,0.22724462739367163,0.26248234911718626,0.39720266611384658,1.6,8.9,9.9,14.8,null,2110,null,0.68,null,null,0,11.8,13.7,21.85,null,1,1,1,350,378,471,null,0,0,0,1]
["39012015",null,null,3,90,120,15,16.5,0,26,30,44.8,2035.2,2216.9073865755149,2373.9948983307781,3302.76,1.5,1.08,1.08,1.08,2035,2217,2374,3303,175,191,204,284,0.17034642372971062,0.20201741408626139,0.22969478307979363,0.43817875262090578,2.0829999999999999E-4,1.724,2,4.6182900000000003E-4,{"$f":"AK906*IF($G1298=10,1,IF($G1298=15,1,IF($G1298=20,1,(1-(($E1298-50)*0.005)))))","v":302.61675876046246},324.05983479376272,450.84,1.01,1.01,1.01,303,324,451,130,139,194,9.5500985484133716E-2,0.10878402336268925,0.20824992292405745,1.2,8.6999999999999993,9.8000000000000007,14.3,null,2544,null,0.8,null,null,0,10.6,12.5,21.85,null,1,1,1,303,324,451,null,0,0,0,1]
["39012016",null,null,3,90,120,16,16.5,0,26,30,44.8,2118.2000000000003,3241.8333772189817,3471.5459677567114,4829.7,1.5,1.1000000000000001,1.1000000000000001,1.1000000000000001,2118,3242,3472,4830,182,279,299,415,0.52004347945161244,1.204343316710782,1.3801140974321322,2.632057975603213,2.0829999999999999E-4,1.724,4,1.392796E-3,{"$f":"AK907*IF($G1299=10,1,IF($G1299=15,1,IF($G1299=20,1,(1-(($E1299-50)*0.005)))))","v":396.8},425.6,592,0.95,0.95,0.95,397,426,592,171,183,255,0.46012138640416272,0.52567017074545741,1.0090350123400229,2.4,8.6999999999999993,9.8000000000000007,14.3,null,3115,null,0.68,null,null,0,10.6,12.5,21.85,null,1,1,1,397,426,592,null,0,0,0,1]
["39012020",null,null,3,90,120,20,21.5,0,26,30,44.8,2838.4,3079.6829926739365,3327.0647594078355,4143.24,1.5,1.08,1.08,1.08,2838,3080,3327,4143,244,265,286,356,0.2538239735848446,0.29848242281650889,0.34670295754782865,0.53308564610580933,1.2760000000000001E-4,1.7219,2,3.76611E-4,{"$f":"AK908*IF($G1300=10,1,IF($G1300=15,1,IF($G1300=20,1,(1-(($E1300-50)*0.005)))))","v":380.60090160569081},411.17343900116532,512.04,0.95,0.95,0.95,381,411,512,164,177,220,0.11646670942658871,0.13524222402195477,0.20715667478646135,1.6,8.6999999999999993,9.8000000000000007,14.3,null,3548,null,0.8,null,null,0,10.6,12.5,21.85,null,1,1,1,381,411,512,null,0,0,0,1]
["39012021",null,null,3,90,120,21,21.5,0,26,30,44.8,3619.2000000000003,4175.015825613802,4470.8526528786542,6219.96,1.5,1.05,1.05,1.05,3619,4175,4471,6220,311,359,385,535,0.59092796664696579,0.78201485926088143,0.89645307864469181,1.7058196412629565,1.2760000000000001E-4,1.7219,4,5.1420100000000005E-4,{"$f":"AK909*IF($G1301=10,1,IF($G1301=15,1,IF($G1301=20,1,(1-(($E1301-50)*0.005)))))","v":433.24860846973007},463.94810736989388,645.45600000000013,0.85,0.85,0.85,433,464,645,186,200,277,0.21705942256541252,0.24997780932429775,0.4714720817724099,3.2,8.6999999999999993,9.8000000000000007,14.3,null,4524,null,0.8,null,null,0,10.6,12.5,21.85,null,1,1,1,433,464,645,null,0,0,0,1]
["39014010",null,null,3,90,140,10,11.5,0,26,30,44.8,1725.3,2267.7915432376717,2456.1428225151312,3097.58,1.5,1.08,1.08,1.08,1725,2268,2456,3098,148,195,211,266,0.13566938307639201,0.22855867513090425,0.26538154154463672,0.41180366936575952,3.969E-4,1.7345999999999999,2,3.6734700000000002E-4,{"$f":"AK910*IF($G1302=10,1,IF($G1302=15,1,IF($G1302=20,1,(1-(($E1302-50)*0.005)))))","v":314.40040300104783},340.51290804463417,429.44,0.98,0.98,0.98,314,341,429,135,147,184,0.11404996966906063,0.1339431496553784,0.20476735769324847,0.9,10.1,11.2,17.5,null,1917,null,0.9,null,null,0,11.5,13.3,21.85,null,1,1,1,314,341,429,null,0,0,0,1]
["39014011",null,null,3,90,140,11,11.5,0,26,30,44.8,1673.48,3077.015307780141,3332.5766142436496,4202.8999999999996,1.5,1.1000000000000001,1.1000000000000001,1.1000000000000001,1673,3077,3333,4203,144,265,287,361,0.22505852767591347,0.70734607634958468,0.82199994803261212,1.2670408781957792,3.969E-4,1.7345999999999999,4,5.7428799999999995E-4,{"$f":"AK911*IF($G1303=10,1,IF($G1303=15,1,IF($G1303=20,1,(1-(($E1303-50)*0.005)))))","v":412},446.40000000000003,563.20000000000005,0.95,0.95,0.95,412,446,563,177,192,242,0.33130587245231424,0.38594383945063293,0.59623805397162932,1.9,10.1,11.2,17.5,null,2461,null,0.68,null,null,0,11.5,13.3,21.85,null,1,1,1,412,446,563,null,0,0,0,1]
["39014015",null,null,3,90,140,15,16.5,0,26,30,45.4,2374.4,2628.9846104428207,2815.4584574952669,3950.36,1.5,1.08,1.08,1.08,2374,2629,2815,3950,204,226,242,340,0.23752507125642119,0.28983635322357215,0.33106971150845382,0.64182959732152445,2.0829999999999999E-4,1.724,2,4.6182900000000003E-4,{"$f":"AK912*IF($G1304=10,1,IF($G1304=15,1,IF($G1304=20,1,(1-(($E1304-50)*0.005)))))","v":358.86695423586366},384.32138301819265,539.24,1.01,1.01,1.01,359,384,539,154,165,232,0.137621338941047,0.1573279392829452,0.30498467021762166,1.4,9.6,10.5,16.100000000000001,null,2968,null,0.8,null,null,0,10.4,12.2,21.85,null,1,1,1,359,384,539,null,0,0,0,1]
["39014016",null,null,3,90,140,16,16.5,0,26,30,45.4,2471.1200000000003,3844.4231409656436,4117.1080284867467,5776.7,1.5,1.1000000000000001,1.1000000000000001,1.1000000000000001,2471,3844,4117,5777,213,331,354,497,0.72520733551616579,1.7219838483818737,1.9648470126541058,3.8280696316652558,2.0829999999999999E-4,1.724,4,1.392796E-3,{"$f":"AK913*IF($G1305=10,1,IF($G1305=15,1,IF($G1305=20,1,(1-(($E1305-50)*0.005)))))","v":471.20000000000005},504,708,0.95,0.95,0.95,471,504,708,203,217,304,0.6599969120341207,0.75213770121751022,1.4570546367798474,2.8,9.6,10.5,16.100000000000001,null,3634,null,0.68,null,null,0,10.4,12.2,21.85,null,1,1,1,471,504,708,null,0,0,0,1]
["39014020",null,null,3,90,140,20,21.5,0,26,30,45.4,3312,3628.1091959950468,3929.4415695377957,4955.6400000000003,1.5,1.08,1.08,1.08,3312,3628,3929,4956,285,312,338,426,0.35276201833303233,0.42118895241344162,0.49271246369818478,0.7756359730733573,1.2760000000000001E-4,1.7219,2,3.76611E-4,448.37784746172167,485.61784045001809,612.44000000000005,0.95,0.95,0.95,448,486,612,193,209,263,0.16455496588623258,0.1922740711354792,0.30142179085547277,1.9,9.6,10.5,16.100000000000001,null,4140,null,0.8,null,null,0,10.4,12.2,21.85,null,1,1,1,448,486,612,null,0,0,0,1]
["39014021",null,null,3,90,140,21,21.5,0,26,30,45.4,4222.4000000000005,4951.0649025572329,5302.2438770247491,7439.56,1.5,1.05,1.05,1.05,4222,4951,5302,7440,363,426,456,640,0.82471144283173081,1.1261815111859146,1.285836312641885,2.4907095980414304,1.2760000000000001E-4,1.7219,4,5.1420100000000005E-4,{"$f":"AK915*IF($G1307=10,1,IF($G1307=15,1,IF($G1307=20,1,(1-(($E1307-50)*0.005)))))","v":513.78056253496504},550.22301170568403,772.01600000000008,0.85,0.85,0.85,514,550,772,221,237,332,0.31449909051066427,0.36017197200501333,0.69324533058772597,3.7,9.6,10.5,16.100000000000001,null,5278,null,0.8,null,null,0,10.4,12.2,21.85,null,1,1,1,514,550,772,null,0,0,0,1]
["39016010",null,null,3,90,160,10,11.5,0,26,30,45.5,{"$f":"IF($N1308-($BE1308*$BG1308)>100,$BE1308*$BG1308,$N1308-95)","v":1971},2603.9362232520607,2826.6988006529018,3605.38,1.5,1.08,1.08,1.08,{"$f":"ROUND(M1308*POWER(CF_heat,Q1308),0)","v":1971},{"$f":"ROUND(N1308*POWER(CF_heat,R1308),0)","v":2604},{"$f":"ROUND(O1308*POWER(CF_heat,S1308),0)","v":2827},{"$f":"ROUND(P1308*POWER(CF_heat,T1308),0)","v":3605},170,224,243,310,0.18779974262279553,0.31579069683258104,0.3682343427384388,0.58343322204871984,{"$f":"IF($G1308=$CO$103,CP$103,IF($G1308=$CO$104,CP$104,IF($G1308=$CO$105,CP$105,IF($G1308=$CO$107,CP$107,IF($G1308=$CO$108,CP$108,IF($G1308=$CO$109,CP$109,IF($G1308=$CO$111,CP$111,IF($G1308=$CO$112,CP$112,IF($G1308=$CO$113,CP$113,IF($G1308=$CO$115,CP$115,IF($G1308=$CO$116,CP$116,IF($G1308=$CO$117,CP$117,IF($G1308=$CO$119,CP$119,IF($G1308=$CO$120,CP$120,))))))))))))))","v":3.969E-4},{"$f":"IF($G1308=$CO$103,CQ$103,IF($G1308=$CO$104,CQ$104,IF($G1308=$CO$105,CQ$105,IF($G1308=$CO$107,CQ$107,IF($G1308=$CO$108,CQ$108,IF($G1308=$CO$109,CQ$109,IF($G1308=$CO$111,CQ$111,IF($G1308=$CO$112,CQ$112,IF($G1308=$CO$113,CQ$113,IF($G1308=$CO$115,CQ$115,IF($G1308=$CO$116,CQ$116,IF($G1308=$CO$117,CQ$117,IF($G1308=$CO$119,CQ$119,IF($G1308=$CO$120,CQ$120,))))))))))))))","v":1.7345999999999999},{"$f":"IF($G1308=$CO$103,CR$103,IF($G1308=$CO$104,CR$104,IF($G1308=$CO$105,CR$105,IF($G1308=$CO$107,CR$107,IF($G1308=$CO$108,CR$108,IF($G1308=$CO$109,CR$109,IF($G1308=$CO$111,CR$111,IF($G1308=$CO$112,CR$112,IF($G1308=$CO$113,CR$113,IF($G1308=$CO$115,CR$115,IF($G1308=$CO$116,CR$116,IF($G1308=$CO$117,CR$117,IF($G1308=$CO$119,CR$119,IF($G1308=$CO$120,CR$120,))))))))))))))","v":2},{"$f":"IF($G1308=$CO$103,CS$103,IF($G1308=$CO$104,CS$104,IF($G1308=$CO$105,CS$105,IF($G1308=$CO$107,CS$107,IF($G1308=$CO$108,CS$108,IF($G1308=$CO$109,CS$109,IF($G1308=$CO$111,CS$111,IF($G1308=$CO$112,CS$112,IF($G1308=$CO$113,CS$113,IF($G1308=$CO$115,CS$115,IF($G1308=$CO$116,CS$116,IF($G1308=$CO$117,CS$117,IF($G1308=$CO$119,CS$119,IF($G1308=$CO$120,CS$120,))))))))))))))","v":3.6734700000000002E-4},{"$f":"AK916*IF($G1308=10,1,IF($G1308=15,1,IF($G1308=20,1,(1-(($E1308-50)*0.005)))))","v":361.00257998610687},391.88577307200529,499.84,0.98,0.98,0.98,{"$f":"ROUND(AK1308*POWER(CF_cool,AN1308),0)","v":361},392,500,155,169,215,0.15784887533096326,0.18572654509721107,0.29228700277798675,{"$f":"ROUND(IF(G1308=10,$CO$92*F1308,IF(G1308=11,$CO$93*F1308,IF(G1308=15,$CO$94*F1308,IF(G1308=16,$CO$95*F1308,IF(G1308=20,$CO$96*F1308,IF(G1308=21,$CO$97*F1308,)))))),1)","v":1.1000000000000001},11,12.4,19.2,null,2190,null,{"$f":"IF(G1308=10,0.9,IF(G1308=11,0.68,IF(G1308=15,0.8,IF(G1308=16,0.68,IF(G1308=20,0.8,IF(G1308=21,0.8))))))","v":0.9},null,null,0,11.2,13,21.85,null,1,1,1,{"$f":"AQ1308/BO1308","v":361},392,500,null,{"$f":"BR1308-AQ1308","v":0},{"$f":"BS1308-AR1308","v":0},{"$f":"BT1308-AS1308","v":0},1]
[{"$f":"CONCATENATE(D1309,E1309,F1309,G1309)","v":"39016011"},null,null,3,90,160,11,11.5,0,26,30,45.5,1912.8400000000001,3533.107636511756,3835.359341571188,4891.8999999999996,1.5,{"$f":"IF($G1309=10,1.08,IF($G1309=11,1.1,IF($G1309=15,1.08,IF($G1309=16,1.1,IF($G1309=20,1.08,IF($G1309=21,1.05))))))","v":1.1000000000000001},1.1000000000000001,1.1000000000000001,1913,3533,3835,4892,165,304,330,421,{"$f":"(($AG1309*(Y1309^$AH1309)*((($F1309-14.4)*$AI1309)/100))+($AJ1309*(Y1309^2)))*0.0098","v":0.31228848147449789},{"$f":"(($AG1309*(Z1309^$AH1309)*((($F1309-14.4)*$AI1309)/100))+($AJ1309*(Z1309^2)))*0.0098","v":0.97923387090071334},{"$f":"(($AG1309*(AA1309^$AH1309)*((($F1309-14.4)*$AI1309)/100))+($AJ1309*(AA1309^2)))*0.0098","v":1.1422415218620434},{"$f":"(($AG1309*(AB1309^$AH1309)*((($F1309-14.4)*$AI1309)/100))+($AJ1309*(AB1309^2)))*0.0098","v":1.8051385479062783},3.969E-4,1.7345999999999999,4,5.7428799999999995E-4,{"$f":"AK917*IF($G1309=10,1,IF($G1309=15,1,IF($G1309=20,1,(1-(($E1309-50)*0.005)))))","v":473.6},513.6,655.20000000000005,0.95,0.95,0.95,474,514,655,204,221,282,{"$f":"(($AG1309*(AT1309^$AH1309)*((($F1309-14.4)*$AI1309)/100))+($AJ1309*(AT1309^2)))*0.0098","v":0.4640491206916364},{"$f":"(($AG1309*(AU1309^$AH1309)*((($F1309-14.4)*$AI1309)/100))+($AJ1309*(AU1309^2)))*0.0098","v":0.53894356828722567},{"$f":"(($AG1309*(AV1309^$AH1309)*((($F1309-14.4)*$AI1309)/100))+($AJ1309*(AV1309^2)))*0.0098","v":0.85058660754203463},2.1,11,12.4,19.2,null,2813,null,0.68,null,null,0,11.2,13,21.85,null,1,1,1,474,{"$f":"AR1309/BP1309","v":514},{"$f":"AS1309/BQ1309","v":655},null,0,0,0,1]
["39016015",null,null,3,90,160,15,16.5,0,26,30,46.4,2713.6000000000004,3021.1783832091446,3225.6120441880121,4597.96,1.5,1.08,1.08,1.08,2714,3021,3226,4598,233,260,277,395,0.31739290459724911,0.39255304944044445,0.4438617891013007,0.88424755918807496,2.0829999999999999E-4,1.724,2,4.6182900000000003E-4,{"$f":"AK918*IF($G1310=10,1,IF($G1310=15,1,IF($G1310=20,1,(1-(($E1310-50)*0.005)))))","v":412.40297880742492},440.30899429620177,627.64,1.01,1.01,1.01,412,440,628,177,189,270,0.18642121393254038,0.21164255392481759,0.42236240265801678,1.6,11.5,12.8,19.600000000000001,null,3392,null,0.8,null,null,0,10,11.8,21.85,null,{"$f":"IF((237.3*LN(($AQ$1*EXP(17.27*($AM$3/($AM$3+237.3))))))/(17.27-LN(($AQ$1*EXP(17.27*($AM$3/($AM$3+237.3))))))<(($AM$1+$AM$2)/2),1,IF(1/(1+((2258*((0.622/((101325/(1*611*EXP(17.27*((($AM$1+$AM$2)/2)/((($AM$1+$AM$2)/2)+237.3))))))-1)*1000-(0.622/((101325/($AQ$1*611*EXP(17.27*($AM$3/($AM$3+237.3))))))-1)*1000))/(1005*((($AM$1+$AM$2)/2)-$AM$3))))>1,1,1/(1+((2258*((0.622/((101325/(1*611*EXP(17.27*((($AM$1+$AM$2)/2)/((($AM$1+$AM$2)/2)+237.3))))))-1)*1000-(0.622/((101325/($AQ$1*611*EXP(17.27*($AM$3/($AM$3+237.3))))))-1)*1000))/(1005*((($AM$1+$AM$2)/2)-$AM$3))))))","v":1},1,1,412,440,628,null,0,0,0,1]
["39016016",null,null,3,90,160,16,16.5,0,26,30,46.4,2824.7200000000003,4417.9368883555589,4716.8848144627045,6723.7,1.5,1.1000000000000001,1.1000000000000001,1.1000000000000001,2825,4418,4717,6724,243,380,406,578,0.96012580074152643,2.304157087904469,2.6233653218162551,5.2466408934953108,2.0829999999999999E-4,1.724,4,1.392796E-3,{"$f":"AK919*IF($G1311=10,1,IF($G1311=15,1,IF($G1311=20,1,(1-(($E1311-50)*0.005)))))","v":540.80000000000007},577.6,824,0.95,0.95,0.95,541,578,824,233,249,354,0.88438233143809808,1.0070388639260359,2.0053499906797914,3.2,11.5,12.8,19.600000000000001,null,4154,null,0.68,null,null,0,10,11.8,21.85,null,1,1,1,541,578,824,null,0,0,0,1]
["39016020",null,null,3,90,160,20,21.5,0,26,30,46.4,3784.8,4165.887726998767,4522.2727563025155,5768.04,1.5,1.08,1.08,1.08,3785,4166,4522,5768,326,358,389,496,0.46964867766553314,0.5639754157614939,0.66342434491024516,1.0674404634562651,1.2760000000000001E-4,1.7219,2,3.76611E-4,{"$f":"AK920*IF($G1312=10,1,IF($G1312=15,1,IF($G1312=20,1,(1-(($E1312-50)*0.005)))))","v":514.83890668473202},558.88255136973487,712.84,0.95,0.95,0.95,515,559,713,221,240,307,0.21989661309334549,0.25827229749987091,0.41765567382317259,2.1,11.5,12.8,19.600000000000001,null,4731,null,0.8,null,null,0,10,11.8,21.85,null,1,1,1,515,559,713,null,0,0,0,1]
["39016021",null,null,3,90,160,21,21.5,0,26,30,46.4,4825.6000000000004,5689.6682460807178,6074.6702425752001,8659.16,1.5,1.05,1.05,1.05,4826,5690,6075,8659,415,489,522,745,1.1024640647267059,1.516156598549864,1.721314141488552,3.4393517119933592,1.2760000000000001E-4,1.7219,4,5.1420100000000005E-4,{"$f":"AK921*IF($G1313=10,1,IF($G1313=15,1,IF($G1313=20,1,(1-(($E1313-50)*0.005)))))","v":590.42670812067536},630.37903074804638,898.57600000000002,0.85,0.85,0.85,590,630,899,254,271,387,0.42584228809686814,0.48270488883670892,0.96271826690758167,4.3,11.5,12.8,19.600000000000001,null,6032,null,0.8,null,null,0,10,11.8,21.85,null,1,1,1,590,630,899,null,0,0,0,1]
["39018010",null,null,3,90,180,10,11.5,0,26,30,46,2217.6,2970.6878039917879,3224.8253922941558,4113.18,1.5,1.08,1.08,1.08,2218,2971,3225,4113,191,256,277,354,0.24792609965652934,0.42971927512859232,0.49841362806075101,0.79115305439562644,3.969E-4,1.7345999999999999,2,3.6734700000000002E-4,{"$f":"AK922*IF($G1314=10,1,IF($G1314=15,1,IF($G1314=20,1,(1-(($E1314-50)*0.005)))))","v":411.84801378696699},447.08095237792156,570.24,0.98,0.98,0.98,412,447,570,177,192,245,0.21495642722836134,0.25036580839638034,0.39566467113231368,1.2,12.2,13.7,22,null,2464,null,0.9,null,null,0,10.9,12.7,21.85,null,1,1,1,412,447,570,null,0,0,0,1]
["39018011",null,null,3,90,180,11,11.5,0,26,30,46,2151.52,4030.7284303866513,4375.55079813051,5580.9,1.5,1.1000000000000001,1.1000000000000001,1.1000000000000001,2152,4031,4376,5581,185,347,376,480,0.41324856546734773,1.334539960528933,1.5506696983380099,2.4499067566992552,3.969E-4,1.7345999999999999,4,5.7428799999999995E-4,{"$f":"AK923*IF($G1315=10,1,IF($G1315=15,1,IF($G1315=20,1,(1-(($E1315-50)*0.005)))))","v":540.08250898881806},586.2857034592289,747.79200000000003,0.95,0.95,0.95,540,586,748,232,252,322,0.62966316838166758,0.73453696701630555,1.1605072842899384,2.4,12.2,13.7,22,null,3164,null,0.68,null,null,0,10.9,12.7,21.85,null,1,1,1,540,586,748,null,0,0,0,1]
["39018015",null,null,3,90,180,15,16.5,0,26,30,46.4,3052.8,3233.3460619053994,3452.1364439366635,4920.8599999999997,1.5,1.08,1.08,1.08,3053,3233,3452,4921,263,278,297,423,0.41351740079505866,0.46032647442822744,0.52311768690779403,1.0377569514621654,2.0829999999999999E-4,1.724,2,4.6182900000000003E-4,420.6820520547858,449.14828645115074,640.24,1.01,1.01,1.01,421,449,640,181,193,275,0.2010263623163458,0.22751208445626886,0.45076939507650016,1.8,11.5,12.8,19.600000000000001,null,3816,null,0.8,null,null,0,10,11.8,21.85,null,1,1,1,421,449,640,null,0,0,0,1]
["39018016",null,null,3,90,180,16,16.5,0,26,30,46.4,3177.6400000000003,4843.4549704976926,5171.1963699821436,7371.3,1.5,1.1000000000000001,1.1000000000000001,1.1000000000000001,3178,4843,5171,7371,273,417,445,634,1.2315554201626615,2.8182657536071059,3.2004400554381953,6.4023363853790576,2.0829999999999999E-4,1.724,4,1.392796E-3,{"$f":"AK925*IF($G1317=10,1,IF($G1317=15,1,IF($G1317=20,1,(1-(($E1317-50)*0.005)))))","v":549.04711154719951},586.1994067202636,835.6,0.95,0.95,0.95,549,586,836,236,252,359,0.92691716617962061,1.0534510929149468,2.1027210065613033,3.6,11.5,12.8,19.600000000000001,null,4673,null,0.68,null,null,0,10,11.8,21.85,null,1,1,1,549,586,836,null,0,0,0,1]
["39018020",null,null,3,90,180,20,21.5,0,26,30,46.4,4258.4000000000005,4497.8275192555193,4882.6094666576164,6227.64,1.5,1.08,1.08,1.08,4258,4498,4883,6228,366,387,420,536,0.60185780697981983,0.67105520500225491,0.78724334085603187,1.2676087797406754,1.2760000000000001E-4,1.7219,2,3.76611E-4,{"$f":"AK926*IF($G1318=10,1,IF($G1318=15,1,IF($G1318=20,1,(1-(($E1318-50)*0.005)))))","v":526.1057925837863},571.11330132956857,728.44,0.95,0.95,0.95,526,571,728,226,246,313,0.23536033293811029,0.27756656183252509,0.44366421223291913,2.4,11.5,12.8,19.600000000000001,null,5323,null,0.8,null,null,0,10,11.8,21.85,null,1,1,1,526,571,728,null,0,0,0,1]
["39018021",null,null,3,90,180,21,21.5,0,26,30,46.4,5428.8,6016.7573462820046,6423.892435808023,9156.9599999999991,1.5,1.05,1.05,1.05,5429,6017,6424,9157,467,517,552,788,1.4259468895379601,1.7364585854055543,1.9715108987105545,3.9339119327078702,1.2760000000000001E-4,1.7219,4,5.1420100000000005E-4,{"$f":"AK927*IF($G1319=10,1,IF($G1319=15,1,IF($G1319=20,1,(1-(($E1319-50)*0.005)))))","v":600.09876829536995},640.7055688846217,913.29600000000016,0.85,0.85,0.85,600,641,913,258,276,393,0.45312420435916939,0.51605374379859181,1.0212249916105052,4.8,11.5,12.8,19.600000000000001,null,6786,null,0.8,null,null,0,10,11.8,21.85,null,1,1,1,600,641,913,null,0,0,0,1]
["39020010",null,null,3,90,200,10,11.5,0,26,30,46.5,2464.2000000000003,3259.5785648750903,3552.8677924068675,4620.9799999999996,1.5,1.08,1.08,1.08,2464,3260,3553,4621,212,280,306,397,0.31839322337808124,0.53596049138451529,0.63305954443385948,1.0323113448799708,3.969E-4,1.7345999999999999,2,3.6734700000000002E-4,{"$f":"AK928*IF($G1320=10,1,IF($G1320=15,1,IF($G1320=20,1,(1-(($E1320-50)*0.005)))))","v":451.89903695786995},492.55985148767917,640.64,0.98,0.98,0.98,452,493,641,194,212,276,0.26974633951173027,0.31839322337808124,0.52169992911952934,1.3,13.4,14.8,24,null,2738,null,0.9,null,null,0,10.7,12.5,21.85,null,1,1,1,452,493,641,null,0,0,0,1]
["39020011",null,null,3,90,200,11,11.5,0,26,30,46.5,2390.88,4422.7050634086982,4820.649682883678,6269.9,1.5,1.1000000000000001,1.1000000000000001,1.1000000000000001,2391,4423,4821,6270,206,380,415,539,0.53680533991146306,1.6745484974017948,1.9734656930316881,3.2154295434805311,3.969E-4,1.7345999999999999,4,5.7428799999999995E-4,{"$f":"AK929*IF($G1321=10,1,IF($G1321=15,1,IF($G1321=20,1,(1-(($E1321-50)*0.005)))))","v":592.80000000000007},645.6,840,0.95,0.95,0.95,593,646,840,255,278,361,0.79741142286378819,0.93612628458550773,1.5219412146633173,2.7,13.4,14.8,24,null,3516,null,0.68,null,null,0,10.7,12.5,21.85,null,1,1,1,593,646,840,null,0,0,0,1]
["39020015",null,null,3,90,200,15,16.5,0,26,30,47.1,3392,3875.4624109054007,4083.4735576056296,5893.16,1.5,1.08,1.08,1.08,3392,3875,4083,5893,292,333,351,507,0.52074604065276109,0.67100385450414035,0.7427948904408519,1.5124900662854772,2.0829999999999999E-4,1.724,2,4.6182900000000003E-4,{"$f":"AK930*IF($G1322=10,1,IF($G1322=15,1,IF($G1322=20,1,(1-(($E1322-50)*0.005)))))","v":529.01617838795164},557.41053504066974,804.44,1.01,1.01,1.01,529,557,804,227,240,346,0.3205762003800503,0.35685612106712633,0.72249739815889857,2,13.2,14.7,23.5,null,4240,null,0.8,null,null,0,10,11.4,21.85,null,1,1,1,529,557,804,null,0,0,0,1]
["39020016",null,null,3,90,200,16,16.5,0,26,30,47.1,3530.5600000000004,5667.1755761695722,5971.3549398587584,8617.7000000000007,1.5,1.1000000000000001,1.1000000000000001,1.1000000000000001,3531,5667,5971,8618,304,487,514,741,1.5505092287131501,3.8886229634946341,4.3210309689101214,8.8377623616344323,2.0829999999999999E-4,1.724,4,1.392796E-3,{"$f":"AK931*IF($G1323=10,1,IF($G1323=15,1,IF($G1323=20,1,(1-(($E1323-50)*0.005)))))","v":694.40000000000009},731.2,1056,0.95,0.95,0.95,694,731,1056,298,314,454,1.491441462445297,1.6514513925414656,3.3905483017623261,4,13.2,14.7,23.5,null,5192,null,0.68,null,null,0,10,11.4,21.85,null,1,1,1,694,731,1056,null,0,0,0,1]
["39020020",null,null,3,90,200,20,21.5,0,26,30,47.1,4731.2,5214.8121821672385,5684.028740747025,7392.84,1.5,1.08,1.08,1.08,4731,5215,5684,7393,407,448,489,636,0.75596766316937036,0.91133281879191153,1.0808827382560606,1.804767358434455,1.2760000000000001E-4,1.7219,2,3.76611E-4,{"$f":"AK932*IF($G1324=10,1,IF($G1324=15,1,IF($G1324=20,1,(1-(($E1324-50)*0.005)))))","v":644.46964929787134},702.45751547390614,913.64,{"$f":"IF($G1324=10,0.98,IF($G1324=11,0.95,IF($G1324=15,1.01,IF($G1324=16,0.95,IF($G1324=20,0.95,IF($G1324=21,0.85))))))","v":0.95},0.95,0.95,644,702,914,277,302,393,0.35773067054432378,0.42311312971539766,0.70617331390652549,2.7,13.2,14.7,23.5,null,5914,null,0.8,null,null,0,10,11.4,21.85,null,1,1,1,644,702,914,null,0,0,0,1]
["39020021",null,null,3,90,200,21,21.5,0,26,30,47.1,6032,7298.5082710627348,7690.2476078687869,11098.36,1.5,1.05,1.05,1.05,6032,7299,7690,11098,519,628,661,954,1.7968583539166012,2.5976371030133358,2.8682489622749725,5.8399447479033668,1.2760000000000001E-4,1.7219,4,5.1420100000000005E-4,{"$f":"AK933*IF($G1325=10,1,IF($G1325=15,1,IF($G1325=20,1,(1-(($E1325-50)*0.005)))))","v":757.3788182893569},798.03028636591807,1151.6959999999999,0.85,0.85,0.85,757,798,1152,326,343,495,0.73288688786693268,0.80824929999896877,1.6398162021031533,5.3,13.2,14.7,23.5,null,7540,null,0.8,null,null,0,10,11.4,21.85,null,1,1,1,757,798,1152,null,0,0,0,1]
["39022010",null,null,3,90,220,10,11.5,0,26,30,46.9,2710.8,3560.7045070849035,3890.5075371280445,5128.78,1.5,1.08,1.08,1.08,2711,3561,3891,5129,233,306,335,441,0.39979100622530295,0.66495285135759441,0.7876316236324602,1.3181530375289372,3.969E-4,1.7345999999999999,2,3.6734700000000002E-4,{"$f":"AK934*IF($G1326=10,1,IF($G1326=15,1,IF($G1326=20,1,(1-(($E1326-50)*0.005)))))","v":493.64631212835212},539.36930014536108,711.04,0.98,0.98,0.98,494,539,711,212,232,306,0.33526766264658142,0.39659808957963044,0.66495285135759441,1.5,13.4,14.8,24,null,3012,null,0.9,null,null,0,10.5,12.3,21.85,null,1,1,1,494,539,711,null,0,0,0,1]
["39022011",null,null,3,90,220,11,11.5,0,26,30,46.9,2630.2400000000002,4831.2827990970827,5278.770565343093,6958.9,1.5,1.1000000000000001,1.1000000000000001,1.1000000000000001,2630,4831,5279,6959,226,415,454,598,0.6750952564553665,2.0816746946687235,2.4599536452154176,4.1089164306330286,3.969E-4,1.7345999999999999,4,5.7428799999999995E-4,{"$f":"AK935*IF($G1327=10,1,IF($G1327=15,1,IF($G1327=20,1,(1-(($E1327-50)*0.005)))))","v":647.34982295013458},707.30928678153032,932.43200000000002,0.95,0.95,0.95,647,707,932,278,304,401,0.99013169422170477,1.1684294283659524,1.9530959353824595,2.9,13.4,14.8,24,null,3868,null,0.68,null,null,0,10.5,12.3,21.85,null,1,1,1,647,707,932,null,0,0,0,1]
["39022015",null,null,3,90,220,15,16.5,0,26,30,47.8,3731.2000000000003,4302.5567439745028,4481.7988603493422,6540.76,1.5,1.08,1.08,1.08,3731,4303,4482,6541,321,370,385,563,0.64222225829221102,0.84427064665866536,0.91145906255959874,1.8978591317759046,2.0829999999999999E-4,1.724,2,4.6182900000000003E-4,{"$f":"AK936*IF($G1328=10,1,IF($G1328=15,1,IF($G1328=20,1,(1-(($E1328-50)*0.005)))))","v":587.31626956044784},611.78353807115786,892.84,1.01,1.01,1.01,587,612,893,252,263,384,0.40328748590288432,0.43778400702821296,0.90690223440245954,2.2000000000000002,15.5,16.8,27.5,null,4664,null,0.8,null,null,0,10,11.1,21.85,null,1,1,1,587,612,893,null,0,0,0,1]
["39022016",null,null,3,90,220,16,16.5,0,26,30,47.8,3883.4800000000005,6291.7251954043459,6553.83496101116,9564.7000000000007,1.5,1.1000000000000001,1.1000000000000001,1.1000000000000001,3883,6292,6554,9565,334,541,564,823,1.8993220216730373,4.8599490065570379,5.2712218393505692,11.028120296891252,2.0829999999999999E-4,1.724,4,1.392796E-3,770.68650756800855,802.79287801192663,1171.6000000000001,0.95,0.95,0.95,771,803,1172,332,345,504,1.8772611674531099,2.0229091641039956,4.2327428666784401,4.4000000000000004,15.5,16.8,27.5,null,5711,null,0.68,null,null,0,10,11.1,21.85,null,1,1,1,771,803,1172,null,0,0,0,1]
["39022020",null,null,3,90,220,20,21.5,0,26,30,47.8,5204,5696.5662496175182,6224.1991397456159,8205.24,1.5,1.08,1.08,1.08,5204,5697,6224,8205,448,490,535,706,0.92971395501828136,1.1066428651103115,1.3128927046129348,2.2531321307295649,1.2760000000000001E-4,1.7219,2,3.76611E-4,{"$f":"AK938*IF($G1330=10,1,IF($G1330=15,1,IF($G1330=20,1,(1-(($E1330-50)*0.005)))))","v":704.00695650122941},769.21417236639559,1014.04,0.95,0.95,0.95,704,769,1014,303,331,436,0.43521399990720622,0.5165738484716168,0.88193136480825907,2.9,15.5,16.8,27.5,null,6505,null,0.8,null,null,0,10,11.1,21.85,null,1,1,1,704,769,1014,null,0,0,0,{"$f":"IF(SUM(BV1330:BX1330)=0,1,0)","v":1}]
["39022021",null,null,3,90,220,21,21.5,0,26,30,47.8,6635.2000000000007,8102.8384881891643,8440.3982243391856,12317.96,1.5,1.05,1.05,1.05,6635,8103,8440,12318,571,697,726,1059,2.2168433769809317,3.2570253321888645,3.523799431798829,7.3137051488079097,1.2760000000000001E-4,1.7219,4,5.1420100000000005E-4,{"$f":"AK939*IF($G1331=10,1,IF($G1331=15,1,IF($G1331=20,1,(1-(($E1331-50)*0.005)))))","v":840.84555515350985},875.87471242404683,1278.2560000000001,0.85,0.85,0.85,841,876,1278,362,377,550,0.92217135208938283,0.99698948336525617,2.062358887776655,5.9,15.5,16.8,27.5,null,8294,null,0.8,null,null,0,10,11.1,21.85,null,1,1,1,841,876,1278,null,0,0,0,1]
["39024010",null,null,3,90,240,10,11.5,0,26,30,47.2,2957.4,3860.4188735925432,4228.9855673527691,5636.58,1.5,1.08,1.08,1.08,2957,3860,4229,5637,254,332,364,485,0.49269352714939763,0.81122806847196882,0.96312721192929007,1.6465778870546586,3.969E-4,1.7345999999999999,2,3.6734700000000002E-4,{"$f":"AK940*IF($G1332=10,1,IF($G1332=15,1,IF($G1332=20,1,(1-(($E1332-50)*0.005)))))","v":535.19789031294818},586.29496640731588,781.44,0.98,0.98,0.98,535,586,781,230,252,336,0.40968486620571454,0.48550351822928639,0.82954646870937465,1.6,14.8,16.600000000000001,28,null,3286,null,0.9,null,null,0,10.4,12.2,21.85,null,1,1,1,535,586,781,null,0,0,0,1]
["39024011",null,null,3,90,240,11,11.5,0,26,30,47.2,2868.92,5237.9452617275747,5738.028861571599,7647.9,1.5,1.1000000000000001,1.1000000000000001,1.1000000000000001,2869,5238,5738,7648,247,450,493,658,0.83958473975956283,2.5443263605089523,3.0134634241110767,5.1519252843624956,3.969E-4,1.7345999999999999,4,5.7428799999999995E-4,{"$f":"AK941*IF($G1333=10,1,IF($G1333=15,1,IF($G1333=20,1,(1-(($E1333-50)*0.005)))))","v":701.6},768.80000000000007,1024.8,0.95,0.95,0.95,702,769,1025,302,331,441,1.2165749768913829,1.4411293029196479,2.450823677113505,3.2,14.8,16.600000000000001,28,null,4219,null,0.68,null,null,0,10.4,12.2,21.85,null,1,1,1,702,769,1025,null,0,0,0,1]
["39024015",null,null,3,90,240,15,16.5,0,26,30,48.1,4070.4,4729.715265656896,4901.7743245246338,7188.36,1.5,1.08,1.08,1.08,4070,4730,4902,7188,350,407,422,618,0.77843073140564156,1.0402677068624975,1.1152542227427753,2.3255236596425677,2.0829999999999999E-4,1.724,2,4.6182900000000003E-4,{"$f":"AK942*IF($G1334=10,1,IF($G1334=15,1,IF($G1334=20,1,(1-(($E1334-50)*0.005)))))","v":645.62512273636446},669.11187505864359,981.24,1.01,1.01,1.01,646,669,981,278,288,422,0.50037899202077363,0.5354561461459616,1.1152542227427753,2.4,16.399999999999999,17.7,29.7,null,5088,null,0.8,null,null,0,10,10.9,21.85,null,1,1,1,646,669,981,null,0,0,0,1]
["39024016",null,null,3,90,240,16,16.5,0,26,30,48.1,4236.4000000000005,6916.3686790875245,7167.9744986485921,10511.7,1.5,1.1000000000000001,1.1000000000000001,1.1000000000000001,4236,6916,7168,10512,364,595,616,904,2.2878415447981948,5.9505892618562521,6.3666227323503541,13.454619784961755,2.0829999999999999E-4,1.724,4,1.392796E-3,{"$f":"AK943*IF($G1335=10,1,IF($G1335=15,1,IF($G1335=20,1,(1-(($E1335-50)*0.005)))))","v":847.2},878.40000000000009,1288,0.95,0.95,0.95,847,878,1288,364,378,554,2.2878415447981948,2.4618571409756229,5.1780577671725734,4.8,16.399999999999999,17.7,29.7,null,6230,null,0.68,null,null,0,10,10.9,21.85,null,1,1,1,847,878,1288,null,0,0,0,1]
["39024020",null,null,3,90,240,20,21.5,0,26,30,48.1,5677.6,6176.0620183272586,6765.7106634844222,9017.64,1.5,1.08,1.08,1.08,5678,6176,6766,9018,488,531,582,776,1.119173777467787,1.3184926701217123,1.5755203313321131,2.756451557337142,1.2760000000000001E-4,1.7219,2,3.76611E-4,{"$f":"AK944*IF($G1336=10,1,IF($G1336=15,1,IF($G1336=20,1,(1-(($E1336-50)*0.005)))))","v":763.26517311676128},836.13657141043336,1114.44,0.95,0.95,0.95,763,836,1114,328,359,479,0.51827708039997999,0.61727233073709142,1.0794747424565225,3.2,16.399999999999999,17.7,29.7,null,7097,null,0.8,null,null,0,10,10.9,21.85,null,1,1,1,763,836,1114,null,0,0,0,1]
["39024021",null,null,3,90,240,21,21.5,0,26,30,48.1,7238.4000000000005,8907.2895892451361,9231.3217513746804,13537.56,1.5,1.05,1.05,1.05,7238,8907,9231,13538,622,766,794,1164,2.6792055426010766,4.0010729190713317,4.2877786386288861,8.9740973699602584,1.2760000000000001E-4,1.7219,4,5.1420100000000005E-4,{"$f":"AK945*IF($G1337=10,1,IF($G1337=15,1,IF($G1337=20,1,(1-(($E1337-50)*0.005)))))","v":924.3248363519715},957.9502138848635,1404.816,0.85,0.85,0.85,924,958,1405,397,412,604,1.1309883683073365,1.2143464412684668,2.532024482622266,6.4,16.399999999999999,17.7,29.7,null,9048,null,0.8,null,null,0,10,10.9,21.85,null,1,1,1,924,958,1405,null,0,0,0,1]
["39026010",null,null,3,90,260,10,11.5,0,26,30,47.8,3203.1,4178.1784000000007,4608.2849999999999,6144.38,1.5,1.08,1.08,1.08,3203,4178,4608,6144,275,359,396,528,0.59766089099899167,0.98066442194259407,1.1770680299869807,2.0125184153009763,3.969E-4,1.7345999999999999,2,3.6734700000000002E-4,{"$f":"AK946*IF($G1338=10,1,IF($G1338=15,1,IF($G1338=20,1,(1-(($E1338-50)*0.005)))))","v":579.25120000000004},638.88,851.84,0.98,0.98,0.98,579,639,852,249,275,366,0.4971168110898011,0.59766089099899167,1.0165350975712137,1.7,16.2,18.600000000000001,31.4,null,3559,null,0.9,null,null,0,10.199999999999999,11.9,21.85,null,1,1,1,579,639,852,null,0,0,0,1]
["39026011",null,null,3,90,260,11,11.5,0,26,30,47.8,3108.28,5669.0920000000006,6252.6749999999993,8336.9,1.5,1.1000000000000001,1.1000000000000001,1.1000000000000001,3108,5669,6253,8337,267,488,538,717,1.0195484300261703,3.1003441376081904,3.7135384223781238,6.3239752846398876,3.969E-4,1.7345999999999999,4,5.7428799999999995E-4,759.60896000000002,837.80399999999997,1117.0719999999999,0.95,0.95,0.95,760,838,1117,327,360,480,1.4806797755162824,1.7677753648891372,3.0070132280708757,3.5,16.2,18.600000000000001,31.4,null,4571,null,0.68,null,null,0,10.199999999999999,11.9,21.85,null,1,1,1,760,838,1117,null,0,0,0,1]
["39026015",null,null,3,90,260,15,16.5,0,26,30,48.1,4409.6000000000004,4942.1733310961072,5121.9619484404784,7511.2599999999993,1.5,1.08,1.08,1.08,4410,4942,5122,7511,379,425,440,646,0.92984385368912836,1.1583081112063738,1.2380335504785773,2.5902194067464457,2.0829999999999999E-4,1.724,2,4.6182900000000003E-4,{"$f":"AK948*IF($G1340=10,1,IF($G1340=15,1,IF($G1340=20,1,(1-(($E1340-50)*0.005)))))","v":653.91552727192982},677.70396216321694,993.84,1.01,1.01,1.01,654,678,994,281,292,427,0.52438185580177876,0.5643390276130934,1.1687899905071639,2.6,16.399999999999999,17.7,29.7,null,5512,null,0.8,null,null,0,10,10.9,21.85,null,1,1,1,654,678,994,null,0,0,0,1]
["39026016",null,null,3,90,260,16,16.5,0,26,30,48.1,4590,7342.4691534710291,7609.5768181679023,11159.300000000001,1.5,1.1000000000000001,1.1000000000000001,1.1000000000000001,4590,7342,7610,11159,395,631,654,960,2.730457676480484,6.7819280650427034,7.2711118135096351,15.356693366889139,2.0829999999999999E-4,1.724,4,1.392796E-3,{"$f":"AK949*IF($G1341=10,1,IF($G1341=15,1,IF($G1341=20,1,(1-(($E1341-50)*0.005)))))","v":855.09601066831692},886.20308020135712,1299.6000000000001,0.95,0.95,0.95,855,886,1300,368,381,559,2.3802282979902296,2.5459313981957901,5.3584842219212074,5.2,16.399999999999999,17.7,29.7,null,6750,null,0.68,null,null,0,10,10.9,21.85,null,1,1,1,855,886,1300,null,0,0,0,1]
["39026020",null,null,3,90,260,20,21.5,0,26,30,48.1,6150.4000000000005,6444.5232000000005,7107.93,9477.24,1.5,1.08,1.08,1.08,6150,6445,7108,9477,529,554,611,815,1.3333399440046141,1.4581371213480712,1.7629893390377123,3.0840089604891157,1.2760000000000001E-4,1.7219,2,3.76611E-4,{"$f":"AK950*IF($G1342=10,1,IF($G1342=15,1,IF($G1342=20,1,(1-(($E1342-50)*0.005)))))","v":768.42720000000008},847.53,1130.04,0.95,0.95,0.95,768,848,1130,330,365,486,0.53526796134941879,0.65032127694667174,1.1314386418343181,3.5,16.399999999999999,17.7,29.7,null,7688,null,0.8,null,null,0,10,10.9,21.85,null,{"$f":"IF((237.3*LN(($AQ$1*EXP(17.27*($AM$3/($AM$3+237.3))))))/(17.27-LN(($AQ$1*EXP(17.27*($AM$3/($AM$3+237.3))))))<(($AM$1+$AM$2)/2),1,IF(1/(1+((2258*((0.622/((101325/(1*611*EXP(17.27*((($AM$1+$AM$2)/2)/((($AM$1+$AM$2)/2)+237.3))))))-1)*1000-(0.622/((101325/($AQ$1*611*EXP(17.27*($AM$3/($AM$3+237.3))))))-1)*1000))/(1005*((($AM$1+$AM$2)/2)-$AM$3))))>1,1,1/(1+((2258*((0.622/((101325/(1*611*EXP(17.27*((($AM$1+$AM$2)/2)/((($AM$1+$AM$2)/2)+237.3))))))-1)*1000-(0.622/((101325/($AQ$1*611*EXP(17.27*($AM$3/($AM$3+237.3))))))-1)*1000))/(1005*((($AM$1+$AM$2)/2)-$AM$3))))))","v":1},1,1,768,848,1130,null,0,0,0,1]
["39026021",null,null,3,90,260,21,21.5,0,26,30,48.1,7841.6,9234.8263652613623,9570.7750567366256,14035.359999999999,1.5,1.05,1.05,1.05,7842,9235,9571,14035,674,794,823,1207,3.2012573591184923,4.3862630877952062,4.6996233793878117,9.8287737597437417,1.2760000000000001E-4,1.7219,4,5.1420100000000005E-4,{"$f":"AK951*IF($G1343=10,1,IF($G1343=15,1,IF($G1343=20,1,(1-(($E1343-50)*0.005)))))","v":934.01013434907657},967.98797757518753,1419.5360000000001,0.85,0.85,0.85,934,968,1420,402,416,611,1.1889622202851386,1.2694165220620492,2.651509402413625,6.9,16.399999999999999,17.7,29.7,null,9802,null,0.8,null,null,0,10,10.9,21.85,null,1,1,1,934,968,1420,null,0,0,0,1]
["39028010",null,null,3,90,280,10,11.5,0,26,30,47.8,3449.7000000000003,4331.3824000000004,4782.2249168521384,6369.68,1.5,1.08,1.08,1.08,3450,4331,4782,6370,297,372,411,548,0.71972144060136589,1.0925143603098122,1.3146532792613241,2.2448293163328641,3.969E-4,1.7345999999999999,2,3.6734700000000002E-4,{"$f":"AK952*IF($G1344=10,1,IF($G1344=15,1,IF($G1344=20,1,(1-(($E1344-50)*0.005)))))","v":587.68320000000006},648.85364133524638,864.24,0.98,0.98,0.98,588,{"$f":"ROUND(AL1344*POWER(CF_cool,AO1344),0)","v":649},{"$f":"ROUND(AM1344*POWER(CF_cool,AP1344),0)","v":864},253,279,372,0.53495403421136267,0.64106400571541289,1.0925143603098122,1.9,16.2,18.600000000000001,31.4,null,3833,null,0.9,null,null,0,10.199999999999999,11.9,21.85,null,1,1,1,588,649,864,null,0,0,0,1]
["39028011",null,null,3,90,280,11,11.5,0,26,30,47.8,3346.96,5976.8600000000006,6598.9760720588583,8789.5,1.5,1.1000000000000001,1.1000000000000001,1.1000000000000001,3347,5977,6599,8790,288,514,568,756,1.2293415875272564,3.5696256833176774,4.2925175377176981,7.2836639593144552,3.969E-4,1.7345999999999999,4,5.7428799999999995E-4,764.80000000000007,844.80000000000007,1124.8,0.95,0.95,0.95,765,845,1125,329,363,484,1.5697399936932146,1.8808232580881712,3.1948091479955543,3.7,16.2,18.600000000000001,31.4,null,4922,null,0.68,null,null,0,10.199999999999999,11.9,21.85,null,1,1,1,765,845,1125,null,0,0,0,1]
["39028015",null,null,3,90,280,15,16.5,0,26,30,48.9,4748.8,5583.9635634029,5708.9475468201636,8483.56,1.5,1.08,1.08,1.08,4749,5584,5709,8484,408,480,491,730,1.0969230553422198,1.4973769906672623,1.5638277222676435,3.3484388456827587,2.0829999999999999E-4,1.724,2,4.6182900000000003E-4,{"$f":"AK954*IF($G1346=10,1,IF($G1346=15,1,IF($G1346=20,1,(1-(($E1346-50)*0.005)))))","v":762.23344503523219},779.29426056038062,1158.04,1.01,1.01,1.01,762,779,1158,328,335,498,0.72271492130345638,0.75246226647382841,1.6068391234938044,2.8,19.3,20.399999999999999,34.5,null,5936,null,0.8,null,null,0,10,10.6,21.85,null,1,1,1,762,779,1158,null,0,0,0,1]
["39028016",null,null,3,90,280,16,16.5,0,26,30,48.9,4942.92,8165.5551181941737,8348.321999442087,12405.7,1.5,1.1000000000000001,1.1000000000000001,1.1000000000000001,4943,8166,8348,12406,425,702,718,1067,3.202556136483818,8.4774891611896983,8.8569732543318711,19.143477613141926,{"$f":"IF($G1347=$CO$103,CP$103,IF($G1347=$CO$104,CP$104,IF($G1347=$CO$105,CP$105,IF($G1347=$CO$107,CP$107,IF($G1347=$CO$108,CP$108,IF($G1347=$CO$109,CP$109,IF($G1347=$CO$111,CP$111,IF($G1347=$CO$112,CP$112,IF($G1347=$CO$113,CP$113,IF($G1347=$CO$115,CP$115,IF($G1347=$CO$116,CP$116,IF($G1347=$CO$117,CP$117,IF($G1347=$CO$119,CP$119,IF($G1347=$CO$120,CP$120,))))))))))))))","v":2.0829999999999999E-4},{"$f":"IF($G1347=$CO$103,CQ$103,IF($G1347=$CO$104,CQ$104,IF($G1347=$CO$105,CQ$105,IF($G1347=$CO$107,CQ$107,IF($G1347=$CO$108,CQ$108,IF($G1347=$CO$109,CQ$109,IF($G1347=$CO$111,CQ$111,IF($G1347=$CO$112,CQ$112,IF($G1347=$CO$113,CQ$113,IF($G1347=$CO$115,CQ$115,IF($G1347=$CO$116,CQ$116,IF($G1347=$CO$117,CQ$117,IF($G1347=$CO$119,CQ$119,IF($G1347=$CO$120,CQ$120,))))))))))))))","v":1.724},{"$f":"IF($G1347=$CO$103,CR$103,IF($G1347=$CO$104,CR$104,IF($G1347=$CO$105,CR$105,IF($G1347=$CO$107,CR$107,IF($G1347=$CO$108,CR$108,IF($G1347=$CO$109,CR$109,IF($G1347=$CO$111,CR$111,IF($G1347=$CO$112,CR$112,IF($G1347=$CO$113,CR$113,IF($G1347=$CO$115,CR$115,IF($G1347=$CO$116,CR$116,IF($G1347=$CO$117,CR$117,IF($G1347=$CO$119,CR$119,IF($G1347=$CO$120,CR$120,))))))))))))))","v":4},{"$f":"IF($G1347=$CO$103,CS$103,IF($G1347=$CO$104,CS$104,IF($G1347=$CO$105,CS$105,IF($G1347=$CO$107,CS$107,IF($G1347=$CO$108,CS$108,IF($G1347=$CO$109,CS$109,IF($G1347=$CO$111,CS$111,IF($G1347=$CO$112,CS$112,IF($G1347=$CO$113,CS$113,IF($G1347=$CO$115,CS$115,IF($G1347=$CO$116,CS$116,IF($G1347=$CO$117,CS$117,IF($G1347=$CO$119,CS$119,IF($G1347=$CO$120,CS$120,))))))))))))))","v":1.392796E-3},{"$f":"AK955*IF($G1347=10,1,IF($G1347=15,1,IF($G1347=20,1,(1-(($E1347-50)*0.005)))))","v":1000},1022.4000000000001,1520,0.95,0.95,0.95,1000,1022,1520,430,439,654,3.2759217230813951,3.4100192093921895,7.3878092647259885,5.6,19.3,20.399999999999999,34.5,null,7269,null,0.68,null,null,0,10,10.6,21.85,null,1,1,1,1000,1022,1520,null,0,0,0,1]
["39028020",null,null,3,90,280,20,21.5,0,26,30,48.9,6624,7236.8592000000008,7990.1253664397382,10642.44,1.5,1.08,1.08,1.08,6624,7237,7990,10642,570,622,687,915,1.5686891037836328,1.8574060664841625,2.2516092472705127,3.9248647156049832,1.2760000000000001E-4,1.7219,2,3.76611E-4,{"$f":"AK956*IF($G1348=10,1,IF($G1348=15,1,IF($G1348=20,1,(1-(($E1348-50)*0.005)))))","v":894.36320000000012},987.455178225689,1315.24,0.95,0.95,0.95,894,987,1315,384,424,565,0.73142402444564503,0.88553710556508203,1.5421797125957473,3.7,19.3,20.399999999999999,34.5,null,8280,null,0.8,null,null,0,10,10.6,21.85,null,1,1,1,894,987,1315,null,0,0,0,1]
["39028021",null,null,3,90,280,21,21.5,0,26,30,48.1,8444.8000000000011,10516.06232539558,10751.439821034392,15976.76,1.5,1.05,1.05,1.05,8445,10516,10751,15977,726,904,925,1374,3.7770408628184868,5.75336682600242,6.0128744748590695,12.875842236012033,1.2760000000000001E-4,1.7219,4,5.1420100000000005E-4,{"$f":"AK957*IF($G1349=10,1,IF($G1349=15,1,IF($G1349=20,1,(1-(($E1349-50)*0.005)))))","v":1009.4247165541242},1032.0183313946002,1533.5908000000002,0.85,0.85,0.85,1009,1032,1534,434,444,660,1.4113881312092658,1.4741232801294537,3.1464062142245934,7.5,19.3,20.399999999999999,34.5,null,10556,null,0.8,null,null,0,10,10.6,21.85,null,1,1,1,1009,1032,1534,null,0,0,0,1]
["39030010",null,null,3,90,300,10,11.5,0,26,30,47.8,3696.3,4485,4951,6595,1.5,1.08,1.08,1.08,3696,4485,4951,6595,318,386,426,567,0.85090798634402054,1.2177662073499145,1.4617936773822127,2.4849401227056913,3.969E-4,1.7345999999999999,2,3.6734700000000002E-4,{"$f":"AK958*IF($G1350=10,1,IF($G1350=15,1,IF($G1350=20,1,(1-(($E1350-50)*0.005)))))","v":595},658,877,0.98,0.98,0.98,595,658,877,256,283,377,0.57014654745249982,0.68602826252827387,1.1657237163109904,2,16.2,18.600000000000001,31.4,null,4107,null,0.9,null,null,0,10.199999999999999,11.9,21.85,null,1,1,1,595,658,877,null,0,0,0,1]
["39030011",null,null,3,90,300,11,11.5,0,26,30,47.8,3586.32,6285,6939,9242,1.5,1.1000000000000001,1.1000000000000001,1.1000000000000001,3586,6285,6939,9242,308,541,597,795,1.4551211370898052,4.0947526705547128,4.9094354217626668,8.3290701456325671,3.969E-4,1.7345999999999999,4,5.7428799999999995E-4,770.40000000000009,850.40000000000009,1132.8,0.95,0.95,0.95,770,850,1133,331,366,487,1.660415882907214,1.9965311467222049,3.3742426451719707,4,16.2,18.600000000000001,31.4,null,5274,null,0.68,null,null,0,10.199999999999999,11.9,21.85,null,1,1,1,770,850,1133,null,0,0,0,1]
["39030015",null,null,3,90,300,15,16.5,0,26,30,48.9,5088,5796,5926,8806,1.5,1.08,1.08,1.08,5088,5796,5926,8806,438,498,510,757,1.28572183047255,1.6433144110086391,1.7198862695364554,3.6657492733438,2.0829999999999999E-4,1.724,2,4.6182900000000003E-4,{"$f":"AK960*IF($G1352=10,1,IF($G1352=15,1,IF($G1352=20,1,(1-(($E1352-50)*0.005)))))","v":771},788,1171,1.01,1.01,1.01,{"$f":"ROUND(AK1352*POWER(CF_cool,AN1352),0)","v":771},{"$f":"ROUND(AL1352*POWER(CF_cool,AO1352),0)","v":788},{"$f":"ROUND(AM1352*POWER(CF_cool,AP1352),0)","v":1171},{"$f":"ROUND(AQ1352*3600/(4186*ABS($AM$1-$AM$2)),0)","v":332},{"$f":"ROUND(AR1352*3600/(4186*ABS($AM$1-$AM$2)),0)","v":339},{"$f":"ROUND(AS1352*3600/(4186*ABS($AM$1-$AM$2)),0)","v":504},{"$f":"(($AG1352*(AT1352^$AH1352)*((($F1352-14.4)*$AI1352)/100))+($AJ1352*(AT1352^2)))*0.0098","v":0.75777354700053923},{"$f":"(($AG1352*(AU1352^$AH1352)*((($F1352-14.4)*$AI1352)/100))+($AJ1352*(AU1352^2)))*0.0098","v":0.78851465813358146},{"$f":"(($AG1352*(AV1352^$AH1352)*((($F1352-14.4)*$AI1352)/100))+($AJ1352*(AV1352^2)))*0.0098","v":1.6813903761483546},{"$f":"ROUND(IF(G1352=10,$CO$92*F1352,IF(G1352=11,$CO$93*F1352,IF(G1352=15,$CO$94*F1352,IF(G1352=16,$CO$95*F1352,IF(G1352=20,$CO$96*F1352,IF(G1352=21,$CO$97*F1352,)))))),1)","v":3},19.3,20.399999999999999,34.5,null,6360,null,0.8,null,null,0,10,10.6,21.85,null,1,1,1,771,788,1171,null,0,0,0,1]
["39030016",null,null,3,90,300,16,16.5,0,26,30,48.9,5295.84,8592,8784,13053,1.5,1.1000000000000001,1.1000000000000001,1.1000000000000001,5296,8592,8784,13053,455,739,755,1123,3.7173161404498076,9.5114245858474273,{"$f":"(($AG1353*(AA1353^$AH1353)*((($F1353-14.4)*$AI1353)/100))+($AJ1353*(AA1353^2)))*0.0098","v":9.9150877945044034},{"$f":"(($AG1353*(AB1353^$AH1353)*((($F1353-14.4)*$AI1353)/100))+($AJ1353*(AB1353^2)))*0.0098","v":21.446070132548112},2.0829999999999999E-4,1.724,4,1.392796E-3,{"$f":"AK961*IF($G1353=10,1,IF($G1353=15,1,IF($G1353=20,1,(1-(($E1353-50)*0.005)))))","v":1008},1030.4000000000001,1532,0.95,0.95,0.95,1008,1030,1532,433,443,659,3.3776501812465103,3.5300810973147945,7.6161401652641372,6,19.3,20.399999999999999,34.5,null,7788,null,0.68,null,null,0,10,10.6,21.85,null,1,1,1,1008,1030,1532,null,{"$f":"BR1353-AQ1353","v":0},{"$f":"BS1353-AR1353","v":0},{"$f":"BT1353-AS1353","v":0},{"$f":"IF(SUM(BV1353:BX1353)=0,1,0)","v":1}]
["39030020",null,null,3,90,300,20,21.5,0,26,30,48.9,{"$f":"IF($N1354-($BE1354*$BG1354)>100,$BE1354*$BG1354,$N1354-95)","v":7096.8},7549,8335,11102,1.5,1.08,1.08,1.08,7097,7549,8335,11102,610,649,717,955,1.8199479741755478,2.0514636214383453,2.4873001829268433,4.3324369681618959,1.2760000000000001E-4,1.7219,2,3.76611E-4,{"$f":"AK962*IF($G1354=10,1,IF($G1354=15,1,IF($G1354=20,1,(1-(($E1354-50)*0.005)))))","v":905},999,1331,0.95,0.95,0.95,905,999,1331,389,430,572,0.76431919512798108,0.92701417801356134,1.6073504963383516,4,19.3,20.399999999999999,34.5,null,8871,null,0.8,null,null,0,10,10.6,21.85,null,1,1,1,905,999,1331,null,{"$f":"BR1354-AQ1354","v":0},{"$f":"BS1354-AR1354","v":0},{"$f":"BT1354-AS1354","v":0},{"$f":"IF(SUM(BV1354:BX1354)=0,1,0)","v":1}]
["39030021",null,null,3,90,300,21,21.5,0,26,30,48.1,9048,10844,11086,16475,1.5,1.05,1.05,1.05,9048,10844,11086,16475,778,933,953,1417,4.4080442498571832,6.2432094291838682,6.5023476533141213,13.930846770207117,1.2760000000000001E-4,1.7219,4,5.1420100000000005E-4,{"$f":"AK963*IF($G1355=10,1,IF($G1355=15,1,IF($G1355=20,1,(1-(($E1355-50)*0.005)))))","v":1174.4000000000001},1200.8,1784.8000000000002,0.85,0.85,0.85,1174,1201,1785,505,516,768,1.9303113215184844,2.0112953501156037,4.3002243713529822,8,19.3,20.399999999999999,34.5,null,11310,null,0.8,null,null,0,10,10.6,21.85,null,1,1,1,1174,1201,1785,null,0,0,0,1]
["5285111",null,null,5,28,51,11,13,0,26,30,41,1553,1648,1770,2136,1.5,1.1000000000000001,1.1000000000000001,1.1000000000000001,{"$f":"ROUND(M1356*POWER(CF_heat,Q1356),0)","v":1553},{"$f":"ROUND(N1356*POWER(CF_heat,R1356),0)","v":1648},{"$f":"ROUND(O1356*POWER(CF_heat,S1356),0)","v":1770},{"$f":"ROUND(P1356*POWER(CF_heat,T1356),0)","v":2136},{"$f":"ROUND(U1356*3600/(4186*ABS($O$1-$O$2)),0)","v":134},{"$f":"ROUND(V1356*3600/(4186*ABS($O$1-$O$2)),0)","v":142},{"$f":"ROUND(W1356*3600/(4186*ABS($O$1-$O$2)),0)","v":152},{"$f":"ROUND(X1356*3600/(4186*ABS($O$1-$O$2)),0)","v":184},0.12892595303732884,0.14430166810021147,0.16470943426960433,0.23884834529311233,3.969E-4,1.7345999999999999,4,5.7428799999999995E-4,276,{"$f":"AL964*IF($G1356=10,1,IF($G1356=15,1,IF($G1356=20,1,(1-(($E1356-50)*0.005)))))","v":106.92436785072525},125.03040000000001,0.95,0.95,0.95,276,107,125,119,46,54,0.10238098218786036,1.6270717875639384E-2,2.2171790585869017E-2,0.7,0,0,0,null,99999,null,0.68,null,null,null,null,null,null,null,1,1,1,276,107,125,null,0,0,0,1]
["5285116",null,null,5,28,51,16,18,0,26,30,null,1945,2040,2188,2936,1.5,{"$f":"IF($G1357=10,1.08,IF($G1357=11,1.1,IF($G1357=15,1.08,IF($G1357=16,1.1,IF($G1357=20,1.08,IF($G1357=21,1.05))))))","v":1.1000000000000001},1.1000000000000001,1.1000000000000001,1945,2040,2188,2936,167,175,188,252,0.40096456719841589,0.44001448701576529,0.50731898759425154,0.908046012951086,2.0829999999999999E-4,1.724,4,1.392796E-3,{"$f":"AK965*IF($G1357=10,1,IF($G1357=15,1,IF($G1357=20,1,(1-(($E1357-50)*0.005)))))","v":163.79314138148936},175.27090980076269,204.9504,{"$f":"IF($G1357=10,0.98,IF($G1357=11,0.95,IF($G1357=15,1.01,IF($G1357=16,0.95,IF($G1357=20,0.95,IF($G1357=21,0.85))))))","v":0.95},0.95,0.95,164,175,205,71,75,88,7.3452058312775501E-2,8.1883658825672959E-2,0.11242676909132529,1,0,0,0,null,99999,null,0.68,null,null,null,null,null,null,null,1,1,1,164,175,205,null,0,0,0,1]
["5288111",null,null,5,28,81,11,13,0,26,30,41.8,592.28000000000009,1648,1770,2136,1.5,1.1000000000000001,1.1000000000000001,1.1000000000000001,592,1648,1770,2136,51,142,152,184,2.4131248919514427E-2,0.16956250779415535,0.19313533979419806,0.27844344276746674,3.969E-4,1.7345999999999999,4,5.7428799999999995E-4,276,296,358,0.95,0.95,0.95,276,296,358,119,127,154,0.12097324200872951,0.13698047496903293,0.1980269424915517,1.1000000000000001,6.3,6.8,9.1,null,871,null,0.68,null,null,null,null,null,null,null,1,1,1,276,296,358,null,0,0,0,1]
["5288116",null,null,5,28,81,16,18,0,26,30,42.4,779.28000000000009,2040,2188,2936,1.5,1.1000000000000001,1.1000000000000001,1.1000000000000001,779,2040,2188,2936,67,175,188,252,6.8921122589937545E-2,0.45804857514344177,0.52772436933117894,0.94186114782640251,2.0829999999999999E-4,1.724,4,1.392796E-3,312,335,450,0.95,0.95,0.95,312,335,450,134,144,194,0.27035706958500194,0.31164059205815997,0.56152996908092701,1.6,6,6.7,9,null,1146,null,0.68,null,null,null,null,null,null,null,1,1,1,312,335,450,null,0,0,0,1]
["52810111",null,null,5,28,101,11,13,0,26,30,43,740.5200000000001,2136,2301,2825,1.5,1.1000000000000001,1.1000000000000001,1.1000000000000001,741,2136,2301,2825,64,184,198,243,4.1353801985584422E-2,0.30484017441703631,0.35044272500676599,0.5174935833371983,3.969E-4,1.7345999999999999,4,5.7428799999999995E-4,358,385,473,0.95,0.95,0.95,358,385,473,154,166,203,0.21741215668168737,0.250691652963562,0.36746523875009007,1.3,7.8,8.6999999999999993,12.2,null,1089,null,0.68,null,null,null,null,null,null,null,1,1,1,358,385,473,null,0,0,0,1]
["52810116",null,null,5,28,101,16,18,0,26,30,44.1,974.44,2630,2817,3883,1.5,1.1000000000000001,1.1000000000000001,1.1000000000000001,974,2630,2817,3883,84,226,242,334,0.11099776804233262,0.77806194724689259,0.89039484515065881,1.6813196556352927,2.0829999999999999E-4,1.724,4,1.392796E-3,403,431,595,0.95,0.95,0.95,403,431,595,173,185,256,0.4595498663082167,0.52444317844234534,0.99482666804509001,2,7,7.7,10.7,null,1433,null,{"$f":"IF(G1361=10,0.9,IF(G1361=11,0.68,IF(G1361=15,0.8,IF(G1361=16,0.68,IF(G1361=20,0.8,IF(G1361=21,0.8))))))","v":0.68},null,null,null,null,null,null,null,1,1,1,403,431,595,null,0,0,0,1]
["52812111",null,null,5,28,121,11,13,0,26,30,44,888.7600000000001,2612,2822,3514,1.5,1.1000000000000001,1.1000000000000001,1.1000000000000001,889,2612,2822,3514,76,225,243,302,6.2859199793135784E-2,0.48436226240768993,0.56025674468583531,0.84560892277483957,3.969E-4,1.7345999999999999,4,5.7428799999999995E-4,437,473,589,0.95,0.95,0.95,437,473,589,188,203,253,0.34495909410522269,0.39876779386983369,0.60468687279644651,1.6,8.9,9.9,14.8,null,1307,null,0.68,null,null,null,null,null,null,null,1,1,1,437,473,589,null,0,0,0,1]
["52812116",null,null,5,28,121,16,18,0,26,30,44.8,1169.6000000000001,3242,3472,4830,1.5,1.1000000000000001,1.1000000000000001,1.1000000000000001,1170,3242,3472,4830,101,279,299,415,0.16407931062408154,1.2056866908493991,1.3816277718309136,2.6347217059329786,2.0829999999999999E-4,1.724,4,1.392796E-3,496,532,740,0.95,0.95,0.95,496,532,740,213,229,318,0.70918021973751644,0.81766822193879252,1.5597210297280768,2.4,8.6999999999999993,9.8000000000000007,14.3,null,1720,null,0.68,null,null,null,null,null,null,null,1,1,1,496,532,740,null,0,0,0,1]
["52814111",null,null,5,28,141,11,13,0,26,30,44.8,1037,3077,3333,4203,1.5,1.1000000000000001,1.1000000000000001,1.1000000000000001,1037,3077,3333,4203,89,265,287,361,9.1983323952873328E-2,0.70983109389185839,0.82485365321547055,1.271289217136905,3.969E-4,1.7345999999999999,4,5.7428799999999995E-4,515,558,704,0.95,0.95,0.95,515,558,704,221,240,303,0.50448449412013996,0.58909442275597346,0.91363066902004775,1.9,10.1,11.2,17.5,null,1525,null,0.68,null,null,null,null,null,null,null,1,1,1,515,558,704,null,0,0,0,1]
["52814116",null,null,5,28,141,16,18,0,26,30,45.4,1364.0800000000002,3844,4117,5777,1.5,1.1000000000000001,1.1000000000000001,1.1000000000000001,1364,3844,4117,5777,117,331,354,497,0.22486221419682453,1.7237875255103219,1.9668721615553901,3.8317045424093488,2.0829999999999999E-4,1.724,4,1.392796E-3,589,630,885,0.95,0.95,0.95,589,630,885,253,271,381,1.0173620151694787,1.1641770634565047,2.2723812487195203,2.8,9.6,10.5,14.4,null,2006,null,0.68,null,null,null,null,null,null,null,1,1,1,589,630,885,null,0,0,0,1]
["52818111",null,null,5,28,181,11,13,0,26,30,46,1332.8000000000002,4031,4376,5581,1.5,1.1000000000000001,1.1000000000000001,1.1000000000000001,1333,4031,4376,5581,115,347,376,480,0.17173413540045096,1.3385065994864653,1.5552288915959547,2.4568705875914008,3.969E-4,1.7345999999999999,4,5.7428799999999995E-4,675,733,935,0.95,0.95,0.95,675,733,935,290,315,402,0.95739734173118929,1.1171829492513321,1.7624788066717196,2.4,12.2,13.7,22,null,1960,null,0.68,null,null,null,null,null,null,null,1,1,1,675,733,935,null,0,0,0,1]
["52818116",null,null,5,28,181,16,18,0,26,30,46.4,1753.72,4843,5171,7371,1.5,1.1000000000000001,1.1000000000000001,1.1000000000000001,1754,4843,5171,7371,151,417,445,634,0.3888816336781849,2.820951653956719,3.2034443879383052,6.4078670486484679,2.0829999999999999E-4,1.724,4,1.392796E-3,686,733,1045,0.95,0.95,0.95,686,733,1045,295,315,449,1.434229338383451,1.6302529185316981,3.2600362638548401,3.6,11.5,12.8,19.600000000000001,null,2579,null,0.68,null,null,null,null,null,null,null,1,1,1,686,733,1045,null,0,0,0,1]
["52824111",null,null,5,28,241,11,13,0,26,30,47.2,1777.5200000000002,5238,5738,7648,1.5,1.1000000000000001,1.1000000000000001,1.1000000000000001,{"$f":"ROUND(M1368*POWER(CF_heat,Q1368),0)","v":1778},5238,5738,7648,153,450,493,658,{"$f":"(($AG1368*(Y1368^$AH1368)*((($F1368-14.4)*$AI1368)/100))+($AJ1368*(Y1368^2)))*0.0098","v":0.34891287402434723},2.550552654057308,3.0207576537556404,5.1639607196194506,3.969E-4,1.7345999999999999,4,5.7428799999999995E-4,877,961,1281,0.95,0.95,0.95,877,961,1281,377,413,551,1.8377891015174121,2.1757434547770229,3.713277423478428,3.2,14.8,16.600000000000001,28,null,2614,null,0.68,null,null,null,null,null,null,null,1,1,1,877,961,1281,null,0,0,0,1]
["52824116",null,null,5,28,241,16,18,0,26,30,48.1,2338.52,6916,7168,10512,1.5,1.1000000000000001,1.1000000000000001,1.1000000000000001,2339,6916,7168,10512,201,595,616,904,0.72440927002484767,5.9555465319964842,6.3718854792580917,13.46481531271348,2.0829999999999999E-4,1.724,4,1.392796E-3,1059,1098,1610,0.95,0.95,0.95,1059,1098,1610,455,472,692,3.5331376129639578,3.7944166745679446,7.9936045980317889,4.8,16.399999999999999,17.7,29.7,null,3439,null,0.68,null,null,null,null,null,null,null,1,1,1,1059,1098,1610,null,0,0,0,1]
[""]
[""]
[""]
[{"$f":"CONCATENATE(D1373,E1373,F1373,G1373)","v":""}]
[""]
[""]
[""]
[""]
[""]
[""]
[""]
[""]
[""]
[""]
[""]
[""]
[""]
[""]
[""]
[""]
[""]
[""]
[""]
[""]

{"sheet":"NL","index":2,"n_rows":22,"n_cols":10,"rows_kept":22,"cut":false,"hidden":true,"merged":[[15,0,17,0],[0,1,0,5],[8,4,8,6],[9,4,9,6],[10,4,10,6],[12,2,12,3],[12,4,12,5],[12,9,13,9],[12,8,13,8],[12,6,13,6],[12,7,13,7],[14,0,14,1]]}
[null,"Selectiontool Strada Hybrid"]
[]
[null,"Lengte",null,"mm","Invulformulier","Statisch toestel","rel. vocht.","Unit","Kopieer alle data"]
[null,"Hoogte",null,{"$f":"D3","v":"mm"},"Uitvoering","Hybrid toestel","Eenheidsstelsel","DBH set","SI-eenheden"]
[null,"Type",null,null,"Temperaturen","DBH rail type","Toestel",null,"Imperiale-eenheden"]
[null,"Diepte",null,{"$f":"D3","v":"mm"},"Indien de ventilatoren uitgeschakeld zijn, is de afgifte een indicatieve waarde.","Waterzijdig drukverlies"]
[]
[null,"Verwarmen:",null,null,null,null,"Koelen:"]
[null,"Water aanvoer",null,null,{"$f":"B9","v":"Water aanvoer"},null,null,null,{"$f":"D9","v":0}]
[null,"Water retour",null,{"$f":"D9","v":0},{"$f":"B10","v":"Water retour"},null,null,null,{"$f":"D9","v":0}]
[null,"Ruimte (droge bol)",null,{"$f":"D9","v":0},{"$f":"B11","v":"Ruimte (droge bol)"},null,null,null,{"$f":"D9","v":0}]
[]
[null,null,{"$f":"CONCATENATE(B8,\" \",C9,\"/\",C10,\"/\",C11)","v":"Verwarmen: //"},null,{"$f":"CONCATENATE(G8,\" \",H9,\"/\",H10,\"/\",H11)","v":"Koelen: //"},null,"Watervolume","Elektrisch verbruik [W]","Geluidsdrukniveau [dB(A)]****","Geluidsvermogen [dB(A)]****"]
[null,null,"Verwarmvermogen","Waterdebiet","Koelvermogen",{"$f":"D14","v":"Waterdebiet"}]
["Statisch (indicatieve waarde)"]
["EN16430","Ventilatorsnelheid "]
[null,"Ventilatorsnelheid 2"]
[null,"Ventilatorsnelheid 3"]
[null,"Stuurspanning [v]"]
["*","Koelvermogen is berekend volgens EN16430 met de ventilatoren naar boven blazend voor alle types."]
["**","Wanneer het watervolume in gallons wordt gegeven, zijn dit imperial gallons."]
["***","Geluidsvermogen volgens ISO 3741:2010, Voor het geluidsdrukniveau is er een aangenomen kamerdemping van 8 dB(A)."]

{"sheet":"EN","index":3,"n_rows":22,"n_cols":10,"rows_kept":22,"cut":false,"hidden":true,"merged":[[15,0,17,0],[0,1,0,5],[8,4,8,6],[9,4,9,6],[10,4,10,6],[12,2,12,3],[12,4,12,5],[12,9,13,9],[12,8,13,8],[12,7,13,7],[12,6,13,6],[14,0,14,1]]}
[null,"Selectiontool Strada Hybrid"]
[]
[null,"Length",null,"mm","Formulary","Static device","rel. humid.","Unit","Copy all data"]
[null,"Heigth",null,{"$f":"D3","v":"mm"},"Version","Hybrid device","Unit conversion","DBH set","SI-units"]
[null,"Type",null,null,"Temperatures","DBH rail type","Device",null,"Imperial-units"]
[null,"Depth",null,{"$f":"D3","v":"mm"},"If the fans are switched off, the output is an indicative value.","Water side pressure loss "]
[]
[null,"Heating:",null,null,null,null,"Cooling:"]
[null,"Supply water",null,null,{"$f":"B9","v":"Supply water"},null,null,null,{"$f":"D9","v":0}]
[null,"Return water",null,{"$f":"D9","v":0},{"$f":"B10","v":"Return water"},null,null,null,{"$f":"D9","v":0}]
[null,"Entering air (dry bulb)",null,{"$f":"D9","v":0},{"$f":"B11","v":"Entering air (dry bulb)"},null,null,null,{"$f":"D9","v":0}]
[]
[null,null,{"$f":"CONCATENATE(B8,\" \",C9,\"/\",C10,\"/\",C11)","v":"Heating: //"},null,{"$f":"CONCATENATE(G8,\" \",H9,\"/\",H10,\"/\",H11)","v":"Cooling: //"},null,"Water volume","Electrical consumption [W]","Sound pressure level [dB(A)]****","Sound power [dB(A)]****"]
[null,null,"Heating capacity","Water flow","Cooling capacity",{"$f":"D14","v":"Water flow"}]
["Fans off (indicative value)"]
["EN16430","Fan speed"]
[null,"Fan speed selection 2"]
[null,"Fan speed selection 3"]
[null,"Fan voltage [V]"]
["*","Cooling power is calcullated according EN16430 with fans blowing up for all heights."]
["**","When the water volume is given in gallons, the units are specifically imperial gallons."]
["***","Soundpower according to ISO 3741:2010, sound pressure level with assumed room damping of 8 dB(A)."]

{"sheet":"FR","index":4,"n_rows":22,"n_cols":10,"rows_kept":22,"cut":false,"hidden":true,"merged":[[15,0,17,0],[0,1,0,5],[8,4,8,6],[9,4,9,6],[10,4,10,6],[12,2,12,3],[12,4,12,5],[12,9,13,9],[12,8,13,8],[12,7,13,7],[12,6,13,6],[14,0,14,1]]}
[null,"Selectiontool Strada Hybrid"]
[]
[null,"Longeur",null,"mm","Formulaire","Appareil statique","hum. rel.","Unité","Copier toutes des données"]
[null,"Hauteur",null,{"$f":"D3","v":"mm"},"Version","Appareil Hybrid","Système unitaire","DBH set","Unités-SI"]
[null,"Type",null,null,"Températures","DBH rail type","Appareil",null,"Unités-Impériales"]
[null,"Profondeur",null,{"$f":"D3","v":"mm"},"Si les ventilateurs sont éteints, la sortie est une valeur indicative.","Perte de charge"]
[]
[null,"Chauffer:",null,null,null,null,"Refroidir:"]
[null,"Entrée de l'eau",null,null,{"$f":"B9","v":"Entrée de l'eau"},null,null,null,{"$f":"D9","v":0}]
[null,"Retour de l'eau",null,{"$f":"D9","v":0},{"$f":"B10","v":"Retour de l'eau"},null,null,null,{"$f":"D9","v":0}]
[null,"Ambiante (bulbe sec)",null,{"$f":"D9","v":0},{"$f":"B11","v":"Ambiante (bulbe sec)"},null,null,null,{"$f":"D9","v":0}]
[]
[null,null,{"$f":"CONCATENATE(B8,\" \",C9,\"/\",C10,\"/\",C11)","v":"Chauffer: //"},null,{"$f":"CONCATENATE(G8,\" \",H9,\"/\",H10,\"/\",H11)","v":"Refroidir: //"},null,"Volume d'eau","Puissance absorbée elec. [W]","Pression sonore [dB(A)]****","Puissance sonore [dB(A)]****"]
[null,null,"Puissance de chauffer","Débit d'eau","Puissance de refroidir",{"$f":"D14","v":"Débit d'eau"}]
["Ventilateur éteint (indicative)"]
["EN16430","Vitesse ventilateur "]
[null,"Vitesse du ventilateur 2"]
[null,"Vitesse du ventilateur 3"]
[null,"Tension ventilateur [V]"]
["*","La puissance de refroidissement est calculée selon EN 16430 avec des ventilateurs qui soufflent pour toutes les hauteurs."]
["**","Lorsque le volume d'eau est donné en gallons, ce sont des gallons impérial."]
["***","Puissance acoustique selon ISO 3741: 2010, niveau de pression acoustique avec un amortissement de la pièce supposé de 8 dB(A)."]

{"sheet":"DE","index":5,"n_rows":22,"n_cols":10,"rows_kept":22,"cut":false,"hidden":true,"merged":[[15,0,17,0],[0,1,0,5],[8,4,8,6],[9,4,9,6],[10,4,10,6],[12,2,12,3],[12,4,12,5],[12,9,13,9],[12,8,13,8],[12,7,13,7],[12,6,13,6],[14,0,14,1]]}
[null,"Selectiontool Strada Hybrid"]
[]
[null,"Länge",null,"mm","Eingabefelder","Statisches Gerät","rel. Luftf.","Unit","Kopieren Sie alle daten"]
[null,"Höhe",null,{"$f":"D3","v":"mm"},"Ausführung","Hybrid Gerät","Einheiten","DBH set","SI-einheiten"]
[null,"Typ",null,null,"Temperaturen","DBH rail typ","Gerät",null,"Imperiale-einheiten"]
[null,"Tiefe",null,{"$f":"D3","v":"mm"},"Wenn die Lüfter ausgeschaltet sind, ist der Ausgang ein Richtwert.","zug. wassers. Druckverlust"]
[]
[null,"Heizen:",null,null,null,null,"Kühlen:"]
[null,"Vorlauf wasser",null,null,{"$f":"B9","v":"Vorlauf wasser"},null,null,null,{"$f":"D9","v":0}]
[null,"Rücklauf wasser",null,{"$f":"D9","v":0},{"$f":"B10","v":"Rücklauf wasser"},null,null,null,{"$f":"D9","v":0}]
[null,"Raum (trocken)",null,{"$f":"D9","v":0},{"$f":"B11","v":"Raum (trocken)"},null,null,null,{"$f":"D9","v":0}]
[]
[null,null,{"$f":"CONCATENATE(B8,\" \",C9,\"/\",C10,\"/\",C11)","v":"Heizen: //"},null,{"$f":"CONCATENATE(G8,\" \",H9,\"/\",H10,\"/\",H11)","v":"Kühlen: //"},null,"Wasservolumen","Elektr. Leistung [W]","Schalldruckpegel [dB(A)]****","Schallleistungspegel [dB(A)]****"]
[null,null,"Heizleistung","Heizmittelstrom","Kühlleistung","Kühlmittelstrom"]
["Lüfter aus (richtwert)"]
["EN16430","Auslegungsstufe "]
[null,"Auslegungsstufe 2"]
[null,"Auslegungsstufe 3"]
[null,"Lufterspannung [V]"]
["*","Die Kühlleistung wird nach EN 16430 berechnet, wobei die Lüfter für alle Höhen hochgehen."]
["**","Wenn das Wasservolumen in Gallonen angegeben ist, sind dies imperiale Gallonen."]
["***","Schallleistung nach ISO 3741: 2010, Schalldruckpegel bei angenommener Raumdämpfung von 8 dB(A)."]

{"sheet":"NR","index":6,"n_rows":22,"n_cols":10,"rows_kept":22,"cut":false,"hidden":true,"merged":[[12,7,13,7],[12,8,13,8],[12,9,13,9],[14,0,14,1],[15,0,17,0],[0,1,0,5],[8,4,8,6],[9,4,9,6],[10,4,10,6],[12,2,12,3],[12,4,12,5],[12,6,13,6]]}
[null,"Selectiontool Strada Hybrid"]
[]
[null,"Lengde",null,"mm","Inngangsskjema","Statisk modell","rel. fuktighet","Unit","Kopier alle data"]
[null,"Høyde",null,{"$f":"D3","v":"mm"},"Versjon","Hybrid modell","Enhetssystem","DBH set","SI-enheter"]
[null,"Type",null,null,"Temperaturer","DBH rail type","Modell",null,"Imperiale-enheter"]
[null,"Bredde",null,{"$f":"D3","v":"mm"},"Hvis viftene er slått av, er utgangen en indikativ verdi.","Trykktap"]
[]
[null,"Varme:",null,null,null,null,"Kjøling:"]
[null,"Tur vann",null,null,{"$f":"B9","v":"Tur vann"},null,null,null,{"$f":"D9","v":0}]
[null,"Retur vann",null,0,{"$f":"B10","v":"Retur vann"},null,null,null,{"$f":"D9","v":0}]
[null,"Rom (tørr pære)",null,0,{"$f":"B11","v":"Rom (tørr pære)"},null,null,null,{"$f":"D9","v":0}]
[]
[null,null,{"$f":"CONCATENATE(B8,\" \",C9,\"/\",C10,\"/\",C11)","v":"Varme: //"},null,{"$f":"CONCATENATE(G8,\" \",H9,\"/\",H10,\"/\",H11)","v":"Kjøling: //"},null,"Vannvolum","Elektrisk effekt [W]","Lydtrykk [dB(A)]****","Lydeffekt [dB(A)]****"]
[null,null,"Varme effekt","Vannmengde","Kjøle effekt",{"$f":"D14","v":"Vannmengde"}]
["Lüfter aus (richtwert)"]
["EN16430","Styresignal"]
[null,"Auslegungsstufe 2"]
[null,"Auslegungsstufe 3"]
[null,"Viftespenning [V]"]
["*","Kjølekapasitet beregnes i henhold til EN16430 med viftene som blåser oppover for alle typer."]
["**","Når vannvolumet er gitt i gallon, er dette imperial gallons."]
["***","Lydeffekt i henhold til ISO 3741: 2010. For lydtrykknivået er det en antatt romdemping på 8 dB (A)."]

{"sheet":"SP","index":7,"n_rows":22,"n_cols":10,"rows_kept":22,"cut":false,"hidden":true,"merged":[[12,7,13,7],[12,8,13,8],[12,9,13,9],[14,0,14,1],[15,0,17,0],[0,1,0,5],[8,4,8,6],[9,4,9,6],[10,4,10,6],[12,2,12,3],[12,4,12,5],[12,6,13,6]]}
[null,"Selectiontool Strada Hybrid"]
[]
[null,"Longitud",null,"mm","Formulary","Dispositivo estático","Hum. Relativa","Unit","Copiar todos los datos"]
[null,"Altura",null,{"$f":"D3","v":"mm"},"Versión","Dispositivo Hybrid","Convers. de unidades","DBH set","Unidades-SI"]
[null,"Tipo",null,null,"Temperaturas","tipo de riel DBH","Despositivo",null,"Unidades-Imperial"]
[null,"Profund.",null,{"$f":"D3","v":"mm"},"La velocidad del ventilador en \"0\" tiene una emisión indicativa.","Pérdida de carga del agua"]
[]
[null,"Calefacción:",null,null,null,null,"Enfriamiento:"]
[null,"Agua impulsión",null,null,{"$f":"B9","v":"Agua impulsión"},null,null,null,{"$f":"D9","v":0}]
[null,"Agua retorno",null,{"$f":"D9","v":0},{"$f":"B10","v":"Agua retorno"},null,null,null,{"$f":"D9","v":0}]
[null,"Ambiente (bulbo seco)",null,{"$f":"D9","v":0},{"$f":"B11","v":"Ambiente (bulbo seco)"},null,null,null,{"$f":"D9","v":0}]
[]
[null,null,{"$f":"CONCATENATE(B8,\" \",C9,\"/\",C10,\"/\",C11)","v":"Calefacción: //"},null,{"$f":"CONCATENATE(G8,\" \",H9,\"/\",H10,\"/\",H11)","v":"Enfriamiento: //"},null,"Volumen de agua","Potencia eléctrica absorbida [W]","Presión sonora [dB(A)]****","Potencia sonora [dB(A)]****"]
[null,null,"Emisión calefacción","Caudal de agua, calefacción","Emisión sensible Frío",{"$f":"D14","v":"Caudal de agua, calefacción"}]
["Fans off (indicative value)"]
["EN16430","Velocidad del ventilador"]
[null,"Fan speed selection 2"]
[null,"Fan speed selection 3"]
[null," Voltaje control [V]"]
["*","La potencia de enfriamiento se calcula según la norma EN 16430 con ventiladores de todas las alturas."]
["**","Cuando el volumen de agua se da en galones, las unidades son específicamente galones imperiales."]
["***","Potencia sonora según ISO 3741: 2010, nivel de presión acústica con una amortiguación ambiental supuesta de 8 dB (A)."]

{"sheet":"SW","index":8,"n_rows":22,"n_cols":10,"rows_kept":22,"cut":false,"hidden":true,"merged":[[12,7,13,7],[12,8,13,8],[12,9,13,9],[14,0,14,1],[15,0,17,0],[0,1,0,5],[8,4,8,6],[9,4,9,6],[10,4,10,6],[12,2,12,3],[12,4,12,5],[12,6,13,6]]}
[null,"Selectiontool Strada Hybrid"]
[]
[null,"Längd",null,"mm","Inngangsskjema","Statisk modell","rel. Fuktighet","Unit","Kopiera all data"]
[null,"Höjd",null,{"$f":"D3","v":"mm"},"Storlek","Hybrid modell","Enhetssystem","DBH set","SI-enheter"]
[null,"Typ",null,null,"Temperaturer","DBH rail typ","Modell",null,"Imperiella-enheter"]
[null,"Djup",null,{"$f":"D3","v":"mm"},"Om fläktarna är avstängda är utgången ett indikationsvärde.","Tryckfall, vatten"]
[]
[null,"Värme:",null,null,null,null,"Kyla:"]
[null,"Tillopp",null,null,{"$f":"B9","v":"Tillopp"},null,null,null,{"$f":"D9","v":0}]
[null,"Retur",null,0,{"$f":"B10","v":"Retur"},null,null,null,{"$f":"D9","v":0}]
[null,"Rum (torr)",null,0,{"$f":"B11","v":"Rum (torr)"},null,null,null,{"$f":"D9","v":0}]
[]
[null,null,{"$f":"CONCATENATE(B8,\" \",C9,\"/\",C10,\"/\",C11)","v":"Värme: //"},null,{"$f":"CONCATENATE(G8,\" \",H9,\"/\",H10,\"/\",H11)","v":"Kyla: //"},null,"Vattenvolym","Effektförbrukning [W]","Ljudtryck [dB(A)]****","Ljudeffekt [dB(A)]****"]
[null,null,"Effekt","Vattenflöde","Kyleffekt",{"$f":"D14","v":"Vattenflöde"}]
["Fans off (indicative value)"]
["EN16430","Fläkthastighet"]
[null,"Fan speed selection 2"]
[null,"Fan speed selection 3"]
[null,"Spänning, Fläkt [V]"]
["*","Kyleffekt är beräknad enligt EN16430 med fläktar blåsandes i riktning uppåt för alla höjder"]
["**","När vattenvolymen är given i gallon avser det Imperiella gallon."]
["***","Ljudeffekt enligt ISO 3741:2010 ljudtryck med antagen ljudreduktion från rummet på 8 dB(A)"]

{"sheet":"TS","index":9,"n_rows":22,"n_cols":10,"rows_kept":22,"cut":false,"hidden":true,"merged":[[12,7,13,7],[12,8,13,8],[12,9,13,9],[14,0,14,1],[15,0,17,0],[0,1,0,5],[8,4,8,6],[9,4,9,6],[10,4,10,6],[12,2,12,3],[12,4,12,5],[12,6,13,6]]}
[null,"Selectiontool Strada Hybrid"]
[]
[null,"Délka",null,"mm","Formulary","Statická jednotka","Relativní vlhkost","Jednotka","Kopírovat všechna data"]
[null,"Výška",null,{"$f":"D3","v":"mm"},"Verze","Hybridní jednotka","Převod jednotek","DBH sada","Mezinárodní (Sl)"]
[null,"Typ",null,null,"Teploty","DBH rail type","Device",null,"Imperiální"]
[null,"Hloubka",null,{"$f":"D3","v":"mm"},"Pokud jsou ventilátory vypnuté, je výkon pouze orientační.","Tlaková ztráta"]
[]
[null,"Topení:",null,null,null,null,"Chlazení:"]
[null,"Voda na přívodu",null,null,{"$f":"B9","v":"Voda na přívodu"},null,null,null,{"$f":"D9","v":0}]
[null,"Voda na zpátečce",null,{"$f":"D9","v":0},{"$f":"B10","v":"Voda na zpátečce"},null,null,null,{"$f":"D9","v":0}]
[null,"\"Suchá\" teplota vzduchu",null,{"$f":"D9","v":0},{"$f":"B11","v":"\"Suchá\" teplota vzduchu"},null,null,null,{"$f":"D9","v":0}]
[]
[null,null,{"$f":"CONCATENATE(B8,\" \",C9,\"/\",C10,\"/\",C11)","v":"Topení: //"},null,{"$f":"CONCATENATE(G8,\" \",H9,\"/\",H10,\"/\",H11)","v":"Chlazení: //"},null,"Objem vody","Elektrický výkon [W]","Akustický tlak [dB(A)]****","Akustický výkon [dB(A)]****"]
[null,null,"Výkon Topení","Průtok vody","Výkon Chlazení","Průtok vody"]
["Fans off (indicative value)"]
["EN16430","Rychlost otáček ventilátoru"]
[null,"Fan speed selection 2"]
[null,"Fan speed selection 3"]
[null,"Napětí ventilárotu [V]"]
["*","Chladicí výkon vypočítán podle EN 16430  s ventilátory, které u všech typů - výšek foukají nahoru."]
["**","Když je objem vody uveden v galonech, jednotky jsou konkrétně imperiální galony. "]
["***","Akustický výkon podle ISO 3741: 2010, hladina akustického tlaku s předpokládaným útlumem místnosti o 8 dB (A)."]

{"sheet":"ExtraTaal1","index":10,"n_rows":22,"n_cols":10,"rows_kept":22,"cut":false,"hidden":true,"merged":[[12,7,13,7],[12,8,13,8],[12,9,13,9],[14,0,14,1],[15,0,17,0],[0,1,0,5],[8,4,8,6],[9,4,9,6],[10,4,10,6],[12,2,12,3],[12,4,12,5],[12,6,13,6]]}
[null,"Selectiontool Strada Hybrid"]
[]
[null,"Length",null,"mm","Formulary","Static device","rel. humid.","Unit","Copy all data"]
[null,"Heigth",null,{"$f":"D3","v":"mm"},"Version","Hybrid device","Unit conversion","DBH set","SI-units"]
[null,"Type",null,null,"Temperatures","DBH rail type","Device",null,"Imperial-units"]
[null,"Depth",null,{"$f":"D3","v":"mm"},"If the fans are switched off, the output is an indicative value.","Water side pressure loss "]
[]
[null,"Heating:",null,null,null,null,"Cooling:"]
[null,"Supply water",null,null,{"$f":"B9","v":"Supply water"},null,null,null,{"$f":"D9","v":0}]
[null,"Return water",null,{"$f":"D9","v":0},{"$f":"B10","v":"Return water"},null,null,null,{"$f":"D9","v":0}]
[null,"Entering air (dry bulb)",null,{"$f":"D9","v":0},{"$f":"B11","v":"Entering air (dry bulb)"},null,null,null,{"$f":"D9","v":0}]
[]
[null,null,{"$f":"CONCATENATE(B8,\" \",C9,\"/\",C10,\"/\",C11)","v":"Heating: //"},null,{"$f":"CONCATENATE(G8,\" \",H9,\"/\",H10,\"/\",H11)","v":"Cooling: //"},null,"Water volume","Electrical consumption [W]","Sound pressure level [dB(A)]****","Sound power [dB(A)]****"]
[null,null,"Heating capacity","Water flow","Cooling capacity",{"$f":"D14","v":"Water flow"}]
["Fans off (indicative value)"]
["EN16430","Fan speed"]
[null,"Fan speed selection 2"]
[null,"Fan speed selection 3"]
[null,"Fan voltage [V]"]
["*","Cooling power is calcullated according EN16430 with fans blowing up for all heights."]
["**","When the water volume is given in gallons, the units are specifically imperial gallons."]
["***","Soundpower according to ISO 3741:2010, sound pressure level with assumed room damping of 8 dB(A)."]

{"sheet":"ExtraTaal2","index":11,"n_rows":22,"n_cols":10,"rows_kept":22,"cut":false,"hidden":true,"merged":[[12,7,13,7],[12,8,13,8],[12,9,13,9],[14,0,14,1],[15,0,17,0],[0,1,0,5],[8,4,8,6],[9,4,9,6],[10,4,10,6],[12,2,12,3],[12,4,12,5],[12,6,13,6]]}
[null,"Selectiontool Strada Hybrid"]
[]
[null,"Length",null,"mm","Formulary","Static device","rel. humid.","Unit","Copy all data"]
[null,"Heigth",null,{"$f":"D3","v":"mm"},"Version","Hybrid device","Unit conversion","DBH set","SI-units"]
[null,"Type",null,null,"Temperatures","DBH rail type","Device",null,"Imperial-units"]
[null,"Depth",null,{"$f":"D3","v":"mm"},"If the fans are switched off, the output is an indicative value.","Water side pressure loss "]
[]
[null,"Heating:",null,null,null,null,"Cooling:"]
[null,"Supply water",null,null,{"$f":"B9","v":"Supply water"},null,null,null,{"$f":"D9","v":0}]
[null,"Return water",null,{"$f":"D9","v":0},{"$f":"B10","v":"Return water"},null,null,null,{"$f":"D9","v":0}]
[null,"Entering air (dry bulb)",null,{"$f":"D9","v":0},{"$f":"B11","v":"Entering air (dry bulb)"},null,null,null,{"$f":"D9","v":0}]
[]
[null,null,{"$f":"CONCATENATE(B8,\" \",C9,\"/\",C10,\"/\",C11)","v":"Heating: //"},null,{"$f":"CONCATENATE(G8,\" \",H9,\"/\",H10,\"/\",H11)","v":"Cooling: //"},null,"Water volume","Electrical consumption [W]","Sound pressure level [dB(A)]****","Sound power [dB(A)]****"]
[null,null,"Heating capacity","Water flow","Cooling capacity",{"$f":"D14","v":"Water flow"}]
["Fans off (indicative value)"]
["EN16430","Fan speed"]
[null,"Fan speed selection 2"]
[null,"Fan speed selection 3"]
[null,"Fan voltage [V]"]
["*","Cooling power is calcullated according EN16430 with fans blowing up for all heights."]
["**","When the water volume is given in gallons, the units are specifically imperial gallons."]
["***","Soundpower according to ISO 3741:2010, sound pressure level with assumed room damping of 8 dB(A)."]

{"sheet":"ExtraTaal3","index":12,"n_rows":22,"n_cols":10,"rows_kept":22,"cut":false,"hidden":true,"merged":[[12,7,13,7],[12,8,13,8],[12,9,13,9],[14,0,14,1],[15,0,17,0],[0,1,0,5],[8,4,8,6],[9,4,9,6],[10,4,10,6],[12,2,12,3],[12,4,12,5],[12,6,13,6]]}
[null,"Selectiontool Strada Hybrid"]
[]
[null,"Length",null,"mm","Formulary","Static device","rel. humid.","Unit","Copy all data"]
[null,"Heigth",null,{"$f":"D3","v":"mm"},"Version","Hybrid device","Unit conversion","DBH set","SI-units"]
[null,"Type",null,null,"Temperatures","DBH rail type","Device",null,"Imperial-units"]
[null,"Depth",null,{"$f":"D3","v":"mm"},"If the fans are switched off, the output is an indicative value.","Water side pressure loss "]
[]
[null,"Heating:",null,null,null,null,"Cooling:"]
[null,"Supply water",null,null,{"$f":"B9","v":"Supply water"},null,null,null,{"$f":"D9","v":0}]
[null,"Return water",null,{"$f":"D9","v":0},{"$f":"B10","v":"Return water"},null,null,null,{"$f":"D9","v":0}]
[null,"Entering air (dry bulb)",null,{"$f":"D9","v":0},{"$f":"B11","v":"Entering air (dry bulb)"},null,null,null,{"$f":"D9","v":0}]
[]
[null,null,{"$f":"CONCATENATE(B8,\" \",C9,\"/\",C10,\"/\",C11)","v":"Heating: //"},null,{"$f":"CONCATENATE(G8,\" \",H9,\"/\",H10,\"/\",H11)","v":"Cooling: //"},null,"Water volume","Electrical consumption [W]","Sound pressure level [dB(A)]****","Sound power [dB(A)]****"]
[null,null,"Heating capacity","Water flow","Cooling capacity",{"$f":"D14","v":"Water flow"}]
["Fans off (indicative value)"]
["EN16430","Fan speed"]
[null,"Fan speed selection 2"]
[null,"Fan speed selection 3"]
[null,"Fan voltage [V]"]
["*","Cooling power is calcullated according EN16430 with fans blowing up for all heights."]
["**","When the water volume is given in gallons, the units are specifically imperial gallons."]
["***","Soundpower according to ISO 3741:2010, sound pressure level with assumed room damping of 8 dB(A)."]